{"text_format":"1","workbook":"xlsx","n_sheets":9,"sheets":["menu","preenchimento_mensal","questionario","aux_1.3.2","dados_exp","novos produtos","aux_cadastros","con_def","habilitando"],"not_rendered":{"charts":2,"images":12,"macros":1,"external_links":0,"defined_names":3,"comments":0,"pivot_tables":2},"unopened":[],"bounds":{"document_bytes":16777216,"sheet_cells":100000,"rows_first":2000,"rows_last":500,"rows_between":2000,"halvings":0,"cell_chars":16384,"cell_head_chars":4096},"cells_cut":0,"cells_raw":0,"read":"whole","date_system":"1900"}

{"sheet":"menu","index":0,"n_rows":0,"n_cols":0,"rows_kept":0,"cut":false,"hidden":false,"merged":[]}

{"sheet":"preenchimento_mensal","index":1,"n_rows":140,"n_cols":45,"rows_kept":140,"cut":false,"hidden":true,"merged":[]}
[]
[null,null,null,null,null,null,null,null,null,null,null,null,"Inserir Linhas nas tabelas abaixo"]
[]
[]
[]
[]
[]
[]
[null,null,"Produto","Unidade de Medida","Ano","Jan","Fev","Mar","Abr","Mai","Jun","Jul","Ago","Set","Out","Nov","Dez","Total Ano",null,null,null,null,null,null,null,null,null,null,null,null,null,null,null,null,null,null,null,null,null,null,null,null,null,"Rótulos de Linha","produto 1.1.1"]
[{"$f":"C10&E10","v":""},{"$f":"IF(C10=\"\",0,1)","v":0},null,{"$f":"IF(C10<>\"\",\"R$\",\"\")","v":""},null,null,null,null,null,null,null,null,null,null,null,null,null,{"$f":"IF(C10=\"\",\"\",(SUM(F10:Q10)))","v":""},null,null,null,null,null,null,null,null,null,null,null,null,null,null,null,null,null,null,null,null,null,null,null,null,null,"(vazio)",{"$f":"IF(OR(AR10=\"(vazio)\",AR10=\"Total Geral\",AR10=\"\"),\"\",AR10)","v":""}]
[{"$f":"C11&E11","v":""},{"$f":"IF(C11=\"\",0,1)","v":0},null,"",null,null,null,null,null,null,null,null,null,null,null,null,null,"",null,null,null,null,null,null,null,null,null,null,null,null,null,null,null,null,null,null,null,null,null,null,null,null,null,"Total Geral",{"$f":"IF(OR(AR11=\"(vazio)\",AR11=\"Total Geral\",AR11=\"\"),\"\",AR11)","v":""}]
["",0,null,"",null,null,null,null,null,null,null,null,null,null,null,null,null,"",null,null,null,null,null,null,null,null,null,null,null,null,null,null,null,null,null,null,null,null,null,null,null,null,null,null,""]
["",0,null,"",null,null,null,null,null,null,null,null,null,null,null,null,null,"",null,null,null,null,null,null,null,null,null,null,null,null,null,null,null,null,null,null,null,null,null,null,null,null,null,null,""]
["",0,null,"",null,null,null,null,null,null,null,null,null,null,null,null,null,"",null,null,null,null,null,null,null,null,null,null,null,null,null,null,null,null,null,null,null,null,null,null,null,null,null,null,""]
["",0,null,"",null,null,null,null,null,null,null,null,null,null,null,null,null,"",null,null,null,null,null,null,null,null,null,null,null,null,null,null,null,null,null,null,null,null,null,null,null,null,null,null,""]
["",0,null,"",null,null,null,null,null,null,null,null,null,null,null,null,null,"",null,null,null,null,null,null,null,null,null,null,null,null,null,null,null,null,null,null,null,null,null,null,null,null,null,null,""]
["",0,null,"",null,null,null,null,null,null,null,null,null,null,null,null,null,"",null,null,null,null,null,null,null,null,null,null,null,null,null,null,null,null,null,null,null,null,null,null,null,null,null,null,""]
["",0,null,"",null,null,null,null,null,null,null,null,null,null,null,null,null,"",null,null,null,null,null,null,null,null,null,null,null,null,null,null,null,null,null,null,null,null,null,null,null,null,null,null,""]
["",0,null,"",null,null,null,null,null,null,null,null,null,null,null,null,null,"",null,null,null,null,null,null,null,null,null,null,null,null,null,null,null,null,null,null,null,null,null,null,null,null,null,null,""]
["",{"$f":"IF(C20=\"\",0,1)","v":0},null,"",null,null,null,null,null,null,null,null,null,null,null,null,null,"",null,null,null,null,null,null,null,null,null,null,null,null,null,null,null,null,null,null,null,null,null,null,null,null,null,null,""]
["",0,null,"",null,null,null,null,null,null,null,null,null,null,null,null,null,"",null,null,null,null,null,null,null,null,null,null,null,null,null,null,null,null,null,null,null,null,null,null,null,null,null,null,""]
["",0,null,"",null,null,null,null,null,null,null,null,null,null,null,null,null,"",null,null,null,null,null,null,null,null,null,null,null,null,null,null,null,null,null,null,null,null,null,null,null,null,null,null,""]
["",0,null,"",null,null,null,null,null,null,null,null,null,null,null,null,null,"",null,null,null,null,null,null,null,null,null,null,null,null,null,null,null,null,null,null,null,null,null,null,null,null,null,null,""]
["",0,null,"",null,null,null,null,null,null,null,null,null,null,null,null,null,"",null,null,null,null,null,null,null,null,null,null,null,null,null,null,null,null,null,null,null,null,null,null,null,null,null,null,""]
["",0,null,"",null,null,null,null,null,null,null,null,null,null,null,null,null,"",null,null,null,null,null,null,null,null,null,null,null,null,null,null,null,null,null,null,null,null,null,null,null,null,null,null,""]
["",0,null,"",null,null,null,null,null,null,null,null,null,null,null,null,null,"",null,null,null,null,null,null,null,null,null,null,null,null,null,null,null,null,null,null,null,null,null,null,null,null,null,null,""]
["",0,null,"",null,null,null,null,null,null,null,null,null,null,null,null,null,"",null,null,null,null,null,null,null,null,null,null,null,null,null,null,null,null,null,null,null,null,null,null,null,null,null,null,""]
["",0,null,"",null,null,null,null,null,null,null,null,null,null,null,null,null,"",null,null,null,null,null,null,null,null,null,null,null,null,null,null,null,null,null,null,null,null,null,null,null,null,null,null,""]
["",0,null,"",null,null,null,null,null,null,null,null,null,null,null,null,null,"",null,null,null,null,null,null,null,null,null,null,null,null,null,null,null,null,null,null,null,null,null,null,null,null,null,null,""]
["",{"$f":"IF(C30=\"\",0,1)","v":0},null,"",null,null,null,null,null,null,null,null,null,null,null,null,null,"",null,null,null,null,null,null,null,null,null,null,null,null,null,null,null,null,null,null,null,null,null,null,null,null,null,null,""]
[{"$f":"C31&E31","v":""},{"$f":"IF(C31=\"\",0,1)","v":0},null,{"$f":"IF(C31<>\"\",\"R$\",\"\")","v":""},null,null,null,null,null,null,null,null,null,null,null,null,null,{"$f":"IF(C31=\"\",\"\",(SUM(F31:Q31)))","v":""},null,null,null,null,null,null,null,null,null,null,null,null,null,null,null,null,null,null,null,null,null,null,null,null,null,null,{"$f":"IF(OR(AR31=\"(vazio)\",AR31=\"Total Geral\",AR31=\"\"),\"\",AR31)","v":""}]
["",{"$f":"IF(C32=\"\",0,1)","v":0},null,"",null,null,null,null,null,null,null,null,null,null,null,null,null,"",null,null,null,null,null,null,null,null,null,null,null,null,null,null,null,null,null,null,null,null,null,null,null,null,null,null,""]
["",{"$f":"IF(C33=\"\",0,1)","v":0},null,"",null,null,null,null,null,null,null,null,null,null,null,null,null,"",null,null,null,null,null,null,null,null,null,null,null,null,null,null,null,null,null,null,null,null,null,null,null,null,null,null,""]
["",0,null,"",null,null,null,null,null,null,null,null,null,null,null,null,null,""]
["",0,null,"",null,null,null,null,null,null,null,null,null,null,null,null,null,""]
["",0,null,"",null,null,null,null,null,null,null,null,null,null,null,null,null,""]
["",0,null,"",null,null,null,null,null,null,null,null,null,null,null,null,null,""]
["",0,null,"",null,null,null,null,null,null,null,null,null,null,null,null,null,""]
["",0,null,"",null,null,null,null,null,null,null,null,null,null,null,null,null,""]
[]
[]
[]
[null,null,"Produto","Unidade de Medida","Ano","Jan","Fev","Mar","Abr","Mai","Jun","Jul","Ago","Set","Out","Nov","Dez","Total Ano",null,null,null,null,null,null,null,null,null,null,null,null,null,null,null,null,null,null,null,null,null,null,null,null,null,"Rótulos de Linha","produto 1.1.2"]
[{"$f":"C44&E44","v":""},{"$f":"IF(C44=\"\",0,1)","v":0},null,{"$f":"IF(C44<>\"\",\"R$\",\"\")","v":""},null,null,null,null,null,null,null,null,null,null,null,null,null,{"$f":"IF(C44=\"\",\"\",(SUM(F44:Q44)))","v":""},null,null,null,null,null,null,null,null,null,null,null,null,null,null,null,null,null,null,null,null,null,null,null,null,null,"Total Geral",{"$f":"IF(OR(AR44=\"(vazio)\",AR44=\"Total Geral\",AR44=\"\"),\"\",AR44)","v":""}]
[{"$f":"C45&E45","v":""},{"$f":"IF(C45=\"\",0,1)","v":0},null,{"$f":"IF(C45<>\"\",\"R$\",\"\")","v":""},null,null,null,null,null,null,null,null,null,null,null,null,null,{"$f":"IF(C45=\"\",\"\",(SUM(F45:Q45)))","v":""},null,null,null,null,null,null,null,null,null,null,null,null,null,null,null,null,null,null,null,null,null,null,null,null,null,null,{"$f":"IF(OR(AR45=\"(vazio)\",AR45=\"Total Geral\",AR45=\"\"),\"\",AR45)","v":""}]
["",0,null,"",null,null,null,null,null,null,null,null,null,null,null,null,null,"",null,null,null,null,null,null,null,null,null,null,null,null,null,null,null,null,null,null,null,null,null,null,null,null,null,null,""]
["",0,null,"",null,null,null,null,null,null,null,null,null,null,null,null,null,"",null,null,null,null,null,null,null,null,null,null,null,null,null,null,null,null,null,null,null,null,null,null,null,null,null,null,""]
["",0,null,"",null,null,null,null,null,null,null,null,null,null,null,null,null,"",null,null,null,null,null,null,null,null,null,null,null,null,null,null,null,null,null,null,null,null,null,null,null,null,null,null,""]
["",0,null,"",null,null,null,null,null,null,null,null,null,null,null,null,null,"",null,null,null,null,null,null,null,null,null,null,null,null,null,null,null,null,null,null,null,null,null,null,null,null,null,null,""]
["",0,null,"",null,null,null,null,null,null,null,null,null,null,null,null,null,"",null,null,null,null,null,null,null,null,null,null,null,null,null,null,null,null,null,null,null,null,null,null,null,null,null,null,""]
["",0,null,"",null,null,null,null,null,null,null,null,null,null,null,null,null,"",null,null,null,null,null,null,null,null,null,null,null,null,null,null,null,null,null,null,null,null,null,null,null,null,null,null,""]
["",0,null,"",null,null,null,null,null,null,null,null,null,null,null,null,null,"",null,null,null,null,null,null,null,null,null,null,null,null,null,null,null,null,null,null,null,null,null,null,null,null,null,null,""]
["",0,null,"",null,null,null,null,null,null,null,null,null,null,null,null,null,"",null,null,null,null,null,null,null,null,null,null,null,null,null,null,null,null,null,null,null,null,null,null,null,null,null,null,""]
["",{"$f":"IF(C54=\"\",0,1)","v":0},null,{"$f":"IF(C54<>\"\",\"R$\",\"\")","v":""},null,null,null,null,null,null,null,null,null,null,null,null,null,{"$f":"IF(C54=\"\",\"\",(SUM(F54:Q54)))","v":""},null,null,null,null,null,null,null,null,null,null,null,null,null,null,null,null,null,null,null,null,null,null,null,null,null,null,""]
["",0,null,"",null,null,null,null,null,null,null,null,null,null,null,null,null,{"$f":"IF(C55=\"\",\"\",(SUM(F55:Q55)))","v":""},null,null,null,null,null,null,null,null,null,null,null,null,null,null,null,null,null,null,null,null,null,null,null,null,null,null,""]
["",0,null,"",null,null,null,null,null,null,null,null,null,null,null,null,null,"",null,null,null,null,null,null,null,null,null,null,null,null,null,null,null,null,null,null,null,null,null,null,null,null,null,null,""]
["",0,null,"",null,null,null,null,null,null,null,null,null,null,null,null,null,"",null,null,null,null,null,null,null,null,null,null,null,null,null,null,null,null,null,null,null,null,null,null,null,null,null,null,""]
["",0,null,"",null,null,null,null,null,null,null,null,null,null,null,null,null,"",null,null,null,null,null,null,null,null,null,null,null,null,null,null,null,null,null,null,null,null,null,null,null,null,null,null,""]
["",0,null,"",null,null,null,null,null,null,null,null,null,null,null,null,null,"",null,null,null,null,null,null,null,null,null,null,null,null,null,null,null,null,null,null,null,null,null,null,null,null,null,null,""]
["",0,null,"",null,null,null,null,null,null,null,null,null,null,null,null,null,"",null,null,null,null,null,null,null,null,null,null,null,null,null,null,null,null,null,null,null,null,null,null,null,null,null,null,""]
["",0,null,"",null,null,null,null,null,null,null,null,null,null,null,null,null,"",null,null,null,null,null,null,null,null,null,null,null,null,null,null,null,null,null,null,null,null,null,null,null,null,null,null,""]
["",0,null,"",null,null,null,null,null,null,null,null,null,null,null,null,null,"",null,null,null,null,null,null,null,null,null,null,null,null,null,null,null,null,null,null,null,null,null,null,null,null,null,null,""]
["",0,null,"",null,null,null,null,null,null,null,null,null,null,null,null,null,"",null,null,null,null,null,null,null,null,null,null,null,null,null,null,null,null,null,null,null,null,null,null,null,null,null,null,""]
[{"$f":"C64&E64","v":""},{"$f":"IF(C64=\"\",0,1)","v":0},null,{"$f":"IF(C64<>\"\",\"R$\",\"\")","v":""},null,null,null,null,null,null,null,null,null,null,null,null,null,{"$f":"IF(C64=\"\",\"\",(SUM(F64:Q64)))","v":""},null,null,null,null,null,null,null,null,null,null,null,null,null,null,null,null,null,null,null,null,null,null,null,null,null,null,{"$f":"IF(OR(AR64=\"(vazio)\",AR64=\"Total Geral\",AR64=\"\"),\"\",AR64)","v":""}]
["",{"$f":"IF(C65=\"\",0,1)","v":0},null,{"$f":"IF(C65<>\"\",\"R$\",\"\")","v":""},null,null,null,null,null,null,null,null,null,null,null,null,null,{"$f":"IF(C65=\"\",\"\",(SUM(F65:Q65)))","v":""},null,null,null,null,null,null,null,null,null,null,null,null,null,null,null,null,null,null,null,null,null,null,null,null,null,null,""]
["",{"$f":"IF(C66=\"\",0,1)","v":0},null,{"$f":"IF(C66<>\"\",\"R$\",\"\")","v":""},null,null,null,null,null,null,null,null,null,null,null,null,null,{"$f":"IF(C66=\"\",\"\",(SUM(F66:Q66)))","v":""},null,null,null,null,null,null,null,null,null,null,null,null,null,null,null,null,null,null,null,null,null,null,null,null,null,null,""]
["",0,null,"",null,null,null,null,null,null,null,null,null,null,null,null,null,{"$f":"IF(C67=\"\",\"\",(SUM(F67:Q67)))","v":""}]
["",0,null,"",null,null,null,null,null,null,null,null,null,null,null,null,null,""]
["",0,null,"",null,null,null,null,null,null,null,null,null,null,null,null,null,""]
["",0,null,"",null,null,null,null,null,null,null,null,null,null,null,null,null,""]
["",0,null,"",null,null,null,null,null,null,null,null,null,null,null,null,null,""]
["",0,null,"",null,null,null,null,null,null,null,null,null,null,null,null,null,""]
["",0,null,"",null,null,null,null,null,null,null,null,null,null,null,null,null,""]
[]
[]
[]
[null,null,"Produto","Unidade de Medida","Ano","Jan","Fev","Mar","Abr","Mai","Jun","Jul","Ago","Set","Out","Nov","Dez","Total Ano"]
[{"$f":"C78&E78","v":""},{"$f":"IF(C78=\"\",0,1)","v":0},{"$f":"IF(C10=\"\",\"\",C10)","v":""},null,{"$f":"IF(E10=\"\",\"\",E10)","v":""},null,null,null,null,null,null,null,null,null,null,null,null,{"$f":"IF(C78=\"\",\"\",(SUM(F78:Q78)))","v":""}]
[{"$f":"C79&E79","v":""},{"$f":"IF(C79=\"\",0,1)","v":0},"",null,"",null,null,null,null,null,null,null,null,null,null,null,null,{"$f":"IF(C79=\"\",\"\",(SUM(F79:Q79)))","v":""}]
["",0,"",null,"",null,null,null,null,null,null,null,null,null,null,null,null,""]
["",0,"",null,"",null,null,null,null,null,null,null,null,null,null,null,null,""]
["",0,"",null,"",null,null,null,null,null,null,null,null,null,null,null,null,""]
["",0,"",null,"",null,null,null,null,null,null,null,null,null,null,null,null,""]
["",0,"",null,"",null,null,null,null,null,null,null,null,null,null,null,null,""]
["",0,"",null,"",null,null,null,null,null,null,null,null,null,null,null,null,""]
["",0,"",null,"",null,null,null,null,null,null,null,null,null,null,null,null,""]
["",0,"",null,"",null,null,null,null,null,null,null,null,null,null,null,null,""]
["",0,"",null,"",null,null,null,null,null,null,null,null,null,null,null,null,""]
["",0,"",null,"",null,null,null,null,null,null,null,null,null,null,null,null,""]
["",0,"",null,"",null,null,null,null,null,null,null,null,null,null,null,null,""]
["",0,"",null,"",null,null,null,null,null,null,null,null,null,null,null,null,""]
["",0,"",null,"",null,null,null,null,null,null,null,null,null,null,null,null,""]
["",0,"",null,"",null,null,null,null,null,null,null,null,null,null,null,null,""]
["",0,"",null,"",null,null,null,null,null,null,null,null,null,null,null,null,""]
["",0,"",null,"",null,null,null,null,null,null,null,null,null,null,null,null,""]
["",0,"",null,"",null,null,null,null,null,null,null,null,null,null,null,null,""]
["",0,"",null,"",null,null,null,null,null,null,null,null,null,null,null,null,""]
["",0,{"$f":"IF(C33=\"\",\"\",C33)","v":""},null,{"$f":"IF(E33=\"\",\"\",E33)","v":""},null,null,null,null,null,null,null,null,null,null,null,null,""]
[{"$f":"C99&E99","v":""},{"$f":"IF(C99=\"\",0,1)","v":0},{"$f":"IF(C33=\"\",\"\",C33)","v":""},null,{"$f":"IF(E33=\"\",\"\",E33)","v":""},null,null,null,null,null,null,null,null,null,null,null,null,{"$f":"IF(C99=\"\",\"\",(SUM(F99:Q99)))","v":""}]
["",0,{"$f":"IF(C34=\"\",\"\",C34)","v":""},null,{"$f":"IF(E34=\"\",\"\",E34)","v":""},null,null,null,null,null,null,null,null,null,null,null,null,""]
["",0,{"$f":"IF(C35=\"\",\"\",C35)","v":""},null,{"$f":"IF(E35=\"\",\"\",E35)","v":""},null,null,null,null,null,null,null,null,null,null,null,null,""]
["",0,{"$f":"IF(C36=\"\",\"\",C36)","v":""},null,{"$f":"IF(E36=\"\",\"\",E36)","v":""},null,null,null,null,null,null,null,null,null,null,null,null,""]
["",0,{"$f":"IF(C37=\"\",\"\",C37)","v":""},null,{"$f":"IF(E37=\"\",\"\",E37)","v":""},null,null,null,null,null,null,null,null,null,null,null,null,{"$f":"IF(C103=\"\",\"\",(SUM(F103:Q103)))","v":""}]
["",0,"",null,"",null,null,null,null,null,null,null,null,null,null,null,null,""]
["",0,{"$f":"IF(C37=\"\",\"\",C37)","v":""},null,{"$f":"IF(E37=\"\",\"\",E37)","v":""},null,null,null,null,null,null,null,null,null,null,null,null,""]
["",0,{"$f":"IF(C38=\"\",\"\",C38)","v":""},null,{"$f":"IF(E38=\"\",\"\",E38)","v":""},null,null,null,null,null,null,null,null,null,null,null,null,""]
["",0,{"$f":"IF(C39=\"\",\"\",C39)","v":""},null,{"$f":"IF(E39=\"\",\"\",E39)","v":""},null,null,null,null,null,null,null,null,null,null,null,null,""]
[]
[]
[]
[null,null,"Produto","Unidade de Medida","Ano","Jan","Fev","Mar","Abr","Mai","Jun","Jul","Ago","Set","Out","Nov","Dez","Total Ano"]
[{"$f":"C112&E112","v":""},{"$f":"IF(C112=\"\",0,1)","v":0},{"$f":"IF(C44=\"\",\"\",C44)","v":""},null,{"$f":"IF(E44=\"\",\"\",E44)","v":""},null,null,null,null,null,null,null,null,null,null,null,null,{"$f":"IF(C112=\"\",\"\",(SUM(F112:Q112)))","v":""}]
[{"$f":"C113&E113","v":""},{"$f":"IF(C113=\"\",0,1)","v":0},"",null,"",null,null,null,null,null,null,null,null,null,null,null,null,{"$f":"IF(C113=\"\",\"\",(SUM(F113:Q113)))","v":""}]
["",0,"",null,"",null,null,null,null,null,null,null,null,null,null,null,null,""]
["",0,"",null,"",null,null,null,null,null,null,null,null,null,null,null,null,""]
["",0,"",null,"",null,null,null,null,null,null,null,null,null,null,null,null,""]
["",0,"",null,"",null,null,null,null,null,null,null,null,null,null,null,null,""]
["",0,"",null,"",null,null,null,null,null,null,null,null,null,null,null,null,""]
["",0,"",null,"",null,null,null,null,null,null,null,null,null,null,null,null,""]
["",0,"",null,"",null,null,null,null,null,null,null,null,null,null,null,null,""]
["",0,"",null,"",null,null,null,null,null,null,null,null,null,null,null,null,""]
["",0,"",null,"",null,null,null,null,null,null,null,null,null,null,null,null,""]
["",0,"",null,"",null,null,null,null,null,null,null,null,null,null,null,null,""]
["",0,"",null,"",null,null,null,null,null,null,null,null,null,null,null,null,""]
["",0,"",null,"",null,null,null,null,null,null,null,null,null,null,null,null,""]
["",0,"",null,"",null,null,null,null,null,null,null,null,null,null,null,null,""]
["",0,"",null,"",null,null,null,null,null,null,null,null,null,null,null,null,""]
["",0,"",null,"",null,null,null,null,null,null,null,null,null,null,null,null,""]
["",0,"",null,"",null,null,null,null,null,null,null,null,null,null,null,null,""]
["",0,"",null,"",null,null,null,null,null,null,null,null,null,null,null,null,""]
["",0,"",null,"",null,null,null,null,null,null,null,null,null,null,null,null,""]
["",0,{"$f":"IF(C66=\"\",\"\",C66)","v":""},null,{"$f":"IF(E66=\"\",\"\",E66)","v":""},null,null,null,null,null,null,null,null,null,null,null,null,""]
["",0,{"$f":"IF(C67=\"\",\"\",C67)","v":""},null,{"$f":"IF(E67=\"\",\"\",E67)","v":""},null,null,null,null,null,null,null,null,null,null,null,null,""]
[{"$f":"C134&E134","v":""},{"$f":"IF(C134=\"\",0,1)","v":0},{"$f":"IF(C67=\"\",\"\",C67)","v":""},null,{"$f":"IF(E67=\"\",\"\",E67)","v":""},null,null,null,null,null,null,null,null,null,null,null,null,{"$f":"IF(C134=\"\",\"\",(SUM(F134:Q134)))","v":""}]
["",0,"",null,"",null,null,null,null,null,null,null,null,null,null,null,null,""]
["",0,"",null,"",null,null,null,null,null,null,null,null,null,null,null,null,""]
["",0,"",null,"",null,null,null,null,null,null,null,null,null,null,null,null,""]
["",0,"",null,"",null,null,null,null,null,null,null,null,null,null,null,null,""]
["",0,"",null,"",null,null,null,null,null,null,null,null,null,null,null,null,""]
["",0,"",null,"",null,null,null,null,null,null,null,null,null,null,null,null,""]

{"sheet":"questionario","index":2,"n_rows":171,"n_cols":29,"rows_kept":171,"cut":false,"hidden":false,"merged":[[169,2,169,5],[170,2,170,5],[140,2,140,5],[142,2,142,5],[131,2,131,10],[136,2,136,10],[138,2,138,5],[115,2,115,3],[116,2,116,3],[153,2,154,2],[158,2,159,2],[168,2,168,5],[124,2,124,3],[124,4,124,8],[126,2,126,10],[119,1,119,18],[4,1,4,21],[17,1,17,28],[4,22,4,28],[10,11,10,12],[7,2,7,9],[10,2,10,9],[7,11,7,18],[12,2,12,5],[14,2,14,9],[113,2,113,3],[114,2,114,3],[20,2,20,13],[69,3,69,6],[69,7,69,11],[69,13,69,22],[88,3,88,6],[88,7,88,11],[88,13,88,22],[20,16,20,27],[44,16,44,27],[44,2,44,13]]}
["."]
[]
[]
[]
[null,"Identificação",null,null,null,null,null,null,null,null,null,null,null,null,null,null,null,null,null,null,null,null,"Inserções de Produtos e Unidades de Medidas"]
[]
[null,null,"Nome do Projeto",null,null,null,null,null,null,null,null,"Nome de quem preencheu o formulário"]
[]
[]
[null,null,"Nome da instituição executora do Projeto",null,null,null,null,null,null,null,null,"Data de preenchimento"]
[]
[]
[null,{"$f":"IF(G13=\"SIM\",1,0)","v":0},"Você representa uma Organização parceira aglutinada?"]
[]
[]
[]
[]
[null,"1.1 Atividades econômicas de uso sustentável da floresta e da biodiversidade identificadas e desenvolvidas;  1.2 Cadeias dos produtos agroflorestais e da biodiversidade com valor agregado ampliado."]
[]
[]
[null,null,"ANO: O primeiro ano a ser preenchido é o ano anterior à implementação das ações apoiadas por produto, por exemplo, se um produto começou a ser apoiado em 2018 deve-se começar o preenchimento com dados de 2017",null,null,null,null,null,null,null,null,null,null,null,null,null,"ANO: O primeiro ano a ser preenchido é o ano anterior à implementação das ações apoiadas por produto, por exemplo, se um produto começou a ser apoiado em 2018 deve-se começar o preenchimento com dados de 2017"]
[null,null,"Produto","Unidade de Medida",2017,2018,2019,2020,2021,2022,2023,2024,2025,2026,null,null,"Produto","Unidade de Medida",2017,2018,2019,2020,2021,2022,2023,2024,2025,2026]
[{"$f":"C23&D23","v":""},{"$f":"IF(AND(E23=\"\",F23<>\"\"),$F$22,IF(AND(E23=\"\",F23=\"\",G23<>\"\"),$G$22,IF(AND(E23=\"\",F23=\"\",G23=\"\",H23<>\"\"),$H$22,IF(AND(E23=\"\",F23=\"\",G23=\"\",H23=\"\",I23<>\"\"),$I$22,IF(AND(E23=\"\",F23=\"\",G23=\"\",H23=\"\",I23=\"\",J23<>\"\"),$J$22,IF(AND(E23=\"\",F23=\"\",G23=\"\",H23=\"\",I23=\"\",J23=\"\",K23<>\"\"),$K$22,IF(AND(E23=\"\",F23=\"\",G23=\"\",H23=\"\",I23=\"\",J23=\"\",K23=\"\",L23<>\"\"),$L$22,IF(AND(E23=\"\",F23=\"\",G23=\"\",H23=\"\",I23=\"\",J23=\"\",K23=\"\",L23=\"\",M23<>\"\"),$M$22,IF(AND(E23=\"\",F23=\"\",G23=\"\",H23=\"\",I23=\"\",J23=\"\",K23=\"\",L23=\"\",M23=\"\",N23<>\"\"),$N$22,$E$22)))))))))","v":2017},{"$f":"IF(preenchimento_mensal!AS10=\"\",\"\",preenchimento_mensal!AS10)","v":""},{"$f":"IF(C23<>\"\",\"R$\",\"\")","v":""},{"$f":"IFERROR((VLOOKUP(($C23&E$22),preenchimento_mensal!$A$10:$R$39,18,0)),\"\")","v":""},{"$f":"IFERROR((VLOOKUP(($C23&F$22),preenchimento_mensal!$A$10:$R$39,18,0)),\"\")","v":""},{"$f":"IFERROR((VLOOKUP(($C23&G$22),preenchimento_mensal!$A$10:$R$39,18,0)),\"\")","v":""},{"$f":"IFERROR((VLOOKUP(($C23&H$22),preenchimento_mensal!$A$10:$R$39,18,0)),\"\")","v":""},{"$f":"IFERROR((VLOOKUP(($C23&I$22),preenchimento_mensal!$A$10:$R$39,18,0)),\"\")","v":""},{"$f":"IFERROR((VLOOKUP(($C23&J$22),preenchimento_mensal!$A$10:$R$39,18,0)),\"\")","v":""},{"$f":"IFERROR((VLOOKUP(($C23&K$22),preenchimento_mensal!$A$10:$R$39,18,0)),\"\")","v":""},{"$f":"IFERROR((VLOOKUP(($C23&L$22),preenchimento_mensal!$A$10:$R$39,18,0)),\"\")","v":""},{"$f":"IFERROR((VLOOKUP(($C23&M$22),preenchimento_mensal!$A$10:$R$39,18,0)),\"\")","v":""},{"$f":"IFERROR((VLOOKUP(($C23&N$22),preenchimento_mensal!$A$10:$R$39,18,0)),\"\")","v":""},{"$f":"IF(AND(S23=\"\",T23<>\"\"),$T$22,IF(AND(S23=\"\",T23=\"\",U23<>\"\"),$U$22,IF(AND(S23=\"\",T23=\"\",U23=\"\",V23<>\"\"),$V$22,IF(AND(S23=\"\",T23=\"\",U23=\"\",V23=\"\",W23<>\"\"),$W$22,IF(AND(S23=\"\",T23=\"\",U23=\"\",V23=\"\",W23=\"\",X23<>\"\"),$X$22,IF(AND(S23=\"\",T23=\"\",U23=\"\",V23=\"\",W23=\"\",X23=\"\",Y23<>\"\"),$Y$22,IF(AND(S23=\"\",T23=\"\",U23=\"\",V23=\"\",W23=\"\",X23=\"\",Y23=\"\",Z23<>\"\"),$Z$22,IF(AND(S23=\"\",T23=\"\",U23=\"\",V23=\"\",W23=\"\",X23=\"\",Y23=\"\",Z23=\"\",AA23<>\"\"),$AA$22,IF(AND(S23=\"\",T23=\"\",U23=\"\",V23=\"\",W23=\"\",X23=\"\",Y23=\"\",Z23=\"\",AA23=\"\",AB23<>\"\"),$AB$22,$S$22)))))))))","v":2017},{"$f":"(B23-1)+(COUNTIF(E23:N23,\">0\"))","v":2016},{"$f":"IF(preenchimento_mensal!AS44=\"\",\"\",preenchimento_mensal!AS44)","v":""},{"$f":"IF(Q23<>\"\",\"R$\",\"\")","v":""},{"$f":"IFERROR((VLOOKUP(($Q23&S$22),preenchimento_mensal!$A$44:$R$73,18,0)),\"\")","v":""},{"$f":"IFERROR((VLOOKUP(($Q23&T$22),preenchimento_mensal!$A$44:$R$73,18,0)),\"\")","v":""},{"$f":"IFERROR((VLOOKUP(($Q23&U$22),preenchimento_mensal!$A$44:$R$73,18,0)),\"\")","v":""},{"$f":"IFERROR((VLOOKUP(($Q23&V$22),preenchimento_mensal!$A$44:$R$73,18,0)),\"\")","v":""},{"$f":"IFERROR((VLOOKUP(($Q23&W$22),preenchimento_mensal!$A$44:$R$73,18,0)),\"\")","v":""},{"$f":"IFERROR((VLOOKUP(($Q23&X$22),preenchimento_mensal!$A$44:$R$73,18,0)),\"\")","v":""},{"$f":"IFERROR((VLOOKUP(($Q23&Y$22),preenchimento_mensal!$A$44:$R$73,18,0)),\"\")","v":""},{"$f":"IFERROR((VLOOKUP(($Q23&Z$22),preenchimento_mensal!$A$44:$R$73,18,0)),\"\")","v":""},{"$f":"IFERROR((VLOOKUP(($Q23&AA$22),preenchimento_mensal!$A$44:$R$73,18,0)),\"\")","v":""},{"$f":"IFERROR((VLOOKUP(($Q23&AB$22),preenchimento_mensal!$A$44:$R$73,18,0)),\"\")","v":""},{"$f":"(O23-1)+(COUNTIF(S23:AB23,\">0\"))","v":2016}]
[{"$f":"C24&D24","v":""},{"$f":"IF(AND(E24=\"\",F24<>\"\"),$F$22,IF(AND(E24=\"\",F24=\"\",G24<>\"\"),$G$22,IF(AND(E24=\"\",F24=\"\",G24=\"\",H24<>\"\"),$H$22,IF(AND(E24=\"\",F24=\"\",G24=\"\",H24=\"\",I24<>\"\"),$I$22,IF(AND(E24=\"\",F24=\"\",G24=\"\",H24=\"\",I24=\"\",J24<>\"\"),$J$22,IF(AND(E24=\"\",F24=\"\",G24=\"\",H24=\"\",I24=\"\",J24=\"\",K24<>\"\"),$K$22,IF(AND(E24=\"\",F24=\"\",G24=\"\",H24=\"\",I24=\"\",J24=\"\",K24=\"\",L24<>\"\"),$L$22,IF(AND(E24=\"\",F24=\"\",G24=\"\",H24=\"\",I24=\"\",J24=\"\",K24=\"\",L24=\"\",M24<>\"\"),$M$22,IF(AND(E24=\"\",F24=\"\",G24=\"\",H24=\"\",I24=\"\",J24=\"\",K24=\"\",L24=\"\",M24=\"\",N24<>\"\"),$N$22,$E$22)))))))))","v":2017},{"$f":"IF(preenchimento_mensal!AS11=\"\",\"\",preenchimento_mensal!AS11)","v":""},{"$f":"IF(C24<>\"\",\"R$\",\"\")","v":""},{"$f":"IFERROR((VLOOKUP(($C24&E$22),preenchimento_mensal!$A$10:$R$39,18,0)),\"\")","v":""},{"$f":"IFERROR((VLOOKUP(($C24&F$22),preenchimento_mensal!$A$10:$R$39,18,0)),\"\")","v":""},{"$f":"IFERROR((VLOOKUP(($C24&G$22),preenchimento_mensal!$A$10:$R$39,18,0)),\"\")","v":""},{"$f":"IFERROR((VLOOKUP(($C24&H$22),preenchimento_mensal!$A$10:$R$39,18,0)),\"\")","v":""},{"$f":"IFERROR((VLOOKUP(($C24&I$22),preenchimento_mensal!$A$10:$R$39,18,0)),\"\")","v":""},{"$f":"IFERROR((VLOOKUP(($C24&J$22),preenchimento_mensal!$A$10:$R$39,18,0)),\"\")","v":""},{"$f":"IFERROR((VLOOKUP(($C24&K$22),preenchimento_mensal!$A$10:$R$39,18,0)),\"\")","v":""},{"$f":"IFERROR((VLOOKUP(($C24&L$22),preenchimento_mensal!$A$10:$R$39,18,0)),\"\")","v":""},{"$f":"IFERROR((VLOOKUP(($C24&M$22),preenchimento_mensal!$A$10:$R$39,18,0)),\"\")","v":""},{"$f":"IFERROR((VLOOKUP(($C24&N$22),preenchimento_mensal!$A$10:$R$39,18,0)),\"\")","v":""},{"$f":"IF(AND(S24=\"\",T24<>\"\"),$T$22,IF(AND(S24=\"\",T24=\"\",U24<>\"\"),$U$22,IF(AND(S24=\"\",T24=\"\",U24=\"\",V24<>\"\"),$V$22,IF(AND(S24=\"\",T24=\"\",U24=\"\",V24=\"\",W24<>\"\"),$W$22,IF(AND(S24=\"\",T24=\"\",U24=\"\",V24=\"\",W24=\"\",X24<>\"\"),$X$22,IF(AND(S24=\"\",T24=\"\",U24=\"\",V24=\"\",W24=\"\",X24=\"\",Y24<>\"\"),$Y$22,IF(AND(S24=\"\",T24=\"\",U24=\"\",V24=\"\",W24=\"\",X24=\"\",Y24=\"\",Z24<>\"\"),$Z$22,IF(AND(S24=\"\",T24=\"\",U24=\"\",V24=\"\",W24=\"\",X24=\"\",Y24=\"\",Z24=\"\",AA24<>\"\"),$AA$22,IF(AND(S24=\"\",T24=\"\",U24=\"\",V24=\"\",W24=\"\",X24=\"\",Y24=\"\",Z24=\"\",AA24=\"\",AB24<>\"\"),$AB$22,$S$22)))))))))","v":2017},{"$f":"(B24-1)+(COUNTIF(E24:N24,\">0\"))","v":2016},{"$f":"IF(preenchimento_mensal!AS45=\"\",\"\",preenchimento_mensal!AS45)","v":""},{"$f":"IF(Q24<>\"\",\"R$\",\"\")","v":""},{"$f":"IFERROR((VLOOKUP(($Q24&S$22),preenchimento_mensal!$A$44:$R$73,18,0)),\"\")","v":""},{"$f":"IFERROR((VLOOKUP(($Q24&T$22),preenchimento_mensal!$A$44:$R$73,18,0)),\"\")","v":""},{"$f":"IFERROR((VLOOKUP(($Q24&U$22),preenchimento_mensal!$A$44:$R$73,18,0)),\"\")","v":""},{"$f":"IFERROR((VLOOKUP(($Q24&V$22),preenchimento_mensal!$A$44:$R$73,18,0)),\"\")","v":""},{"$f":"IFERROR((VLOOKUP(($Q24&W$22),preenchimento_mensal!$A$44:$R$73,18,0)),\"\")","v":""},{"$f":"IFERROR((VLOOKUP(($Q24&X$22),preenchimento_mensal!$A$44:$R$73,18,0)),\"\")","v":""},{"$f":"IFERROR((VLOOKUP(($Q24&Y$22),preenchimento_mensal!$A$44:$R$73,18,0)),\"\")","v":""},{"$f":"IFERROR((VLOOKUP(($Q24&Z$22),preenchimento_mensal!$A$44:$R$73,18,0)),\"\")","v":""},{"$f":"IFERROR((VLOOKUP(($Q24&AA$22),preenchimento_mensal!$A$44:$R$73,18,0)),\"\")","v":""},{"$f":"IFERROR((VLOOKUP(($Q24&AB$22),preenchimento_mensal!$A$44:$R$73,18,0)),\"\")","v":""},{"$f":"(O24-1)+(COUNTIF(S24:AB24,\">0\"))","v":2016}]
["",2017,{"$f":"IF(preenchimento_mensal!AS12=\"\",\"\",preenchimento_mensal!AS12)","v":""},"",{"$f":"IFERROR((VLOOKUP(($C25&E$22),preenchimento_mensal!$A$10:$R$39,18,0)),\"\")","v":""},{"$f":"IFERROR((VLOOKUP(($C25&F$22),preenchimento_mensal!$A$10:$R$39,18,0)),\"\")","v":""},{"$f":"IFERROR((VLOOKUP(($C25&G$22),preenchimento_mensal!$A$10:$R$39,18,0)),\"\")","v":""},{"$f":"IFERROR((VLOOKUP(($C25&H$22),preenchimento_mensal!$A$10:$R$39,18,0)),\"\")","v":""},{"$f":"IFERROR((VLOOKUP(($C25&I$22),preenchimento_mensal!$A$10:$R$39,18,0)),\"\")","v":""},{"$f":"IFERROR((VLOOKUP(($C25&J$22),preenchimento_mensal!$A$10:$R$39,18,0)),\"\")","v":""},{"$f":"IFERROR((VLOOKUP(($C25&K$22),preenchimento_mensal!$A$10:$R$39,18,0)),\"\")","v":""},{"$f":"IFERROR((VLOOKUP(($C25&L$22),preenchimento_mensal!$A$10:$R$39,18,0)),\"\")","v":""},{"$f":"IFERROR((VLOOKUP(($C25&M$22),preenchimento_mensal!$A$10:$R$39,18,0)),\"\")","v":""},{"$f":"IFERROR((VLOOKUP(($C25&N$22),preenchimento_mensal!$A$10:$R$39,18,0)),\"\")","v":""},2017,2016,{"$f":"IF(preenchimento_mensal!AS46=\"\",\"\",preenchimento_mensal!AS46)","v":""},"",{"$f":"IFERROR((VLOOKUP(($Q25&S$22),preenchimento_mensal!$A$44:$R$73,18,0)),\"\")","v":""},{"$f":"IFERROR((VLOOKUP(($Q25&T$22),preenchimento_mensal!$A$44:$R$73,18,0)),\"\")","v":""},{"$f":"IFERROR((VLOOKUP(($Q25&U$22),preenchimento_mensal!$A$44:$R$73,18,0)),\"\")","v":""},{"$f":"IFERROR((VLOOKUP(($Q25&V$22),preenchimento_mensal!$A$44:$R$73,18,0)),\"\")","v":""},{"$f":"IFERROR((VLOOKUP(($Q25&W$22),preenchimento_mensal!$A$44:$R$73,18,0)),\"\")","v":""},{"$f":"IFERROR((VLOOKUP(($Q25&X$22),preenchimento_mensal!$A$44:$R$73,18,0)),\"\")","v":""},{"$f":"IFERROR((VLOOKUP(($Q25&Y$22),preenchimento_mensal!$A$44:$R$73,18,0)),\"\")","v":""},{"$f":"IFERROR((VLOOKUP(($Q25&Z$22),preenchimento_mensal!$A$44:$R$73,18,0)),\"\")","v":""},{"$f":"IFERROR((VLOOKUP(($Q25&AA$22),preenchimento_mensal!$A$44:$R$73,18,0)),\"\")","v":""},{"$f":"IFERROR((VLOOKUP(($Q25&AB$22),preenchimento_mensal!$A$44:$R$73,18,0)),\"\")","v":""},2016]
["",2017,{"$f":"IF(preenchimento_mensal!AS13=\"\",\"\",preenchimento_mensal!AS13)","v":""},"",{"$f":"IFERROR((VLOOKUP(($C26&E$22),preenchimento_mensal!$A$10:$R$39,18,0)),\"\")","v":""},{"$f":"IFERROR((VLOOKUP(($C26&F$22),preenchimento_mensal!$A$10:$R$39,18,0)),\"\")","v":""},{"$f":"IFERROR((VLOOKUP(($C26&G$22),preenchimento_mensal!$A$10:$R$39,18,0)),\"\")","v":""},{"$f":"IFERROR((VLOOKUP(($C26&H$22),preenchimento_mensal!$A$10:$R$39,18,0)),\"\")","v":""},{"$f":"IFERROR((VLOOKUP(($C26&I$22),preenchimento_mensal!$A$10:$R$39,18,0)),\"\")","v":""},{"$f":"IFERROR((VLOOKUP(($C26&J$22),preenchimento_mensal!$A$10:$R$39,18,0)),\"\")","v":""},{"$f":"IFERROR((VLOOKUP(($C26&K$22),preenchimento_mensal!$A$10:$R$39,18,0)),\"\")","v":""},{"$f":"IFERROR((VLOOKUP(($C26&L$22),preenchimento_mensal!$A$10:$R$39,18,0)),\"\")","v":""},{"$f":"IFERROR((VLOOKUP(($C26&M$22),preenchimento_mensal!$A$10:$R$39,18,0)),\"\")","v":""},{"$f":"IFERROR((VLOOKUP(($C26&N$22),preenchimento_mensal!$A$10:$R$39,18,0)),\"\")","v":""},2017,2016,{"$f":"IF(preenchimento_mensal!AS47=\"\",\"\",preenchimento_mensal!AS47)","v":""},"",{"$f":"IFERROR((VLOOKUP(($Q26&S$22),preenchimento_mensal!$A$44:$R$73,18,0)),\"\")","v":""},{"$f":"IFERROR((VLOOKUP(($Q26&T$22),preenchimento_mensal!$A$44:$R$73,18,0)),\"\")","v":""},{"$f":"IFERROR((VLOOKUP(($Q26&U$22),preenchimento_mensal!$A$44:$R$73,18,0)),\"\")","v":""},{"$f":"IFERROR((VLOOKUP(($Q26&V$22),preenchimento_mensal!$A$44:$R$73,18,0)),\"\")","v":""},{"$f":"IFERROR((VLOOKUP(($Q26&W$22),preenchimento_mensal!$A$44:$R$73,18,0)),\"\")","v":""},{"$f":"IFERROR((VLOOKUP(($Q26&X$22),preenchimento_mensal!$A$44:$R$73,18,0)),\"\")","v":""},{"$f":"IFERROR((VLOOKUP(($Q26&Y$22),preenchimento_mensal!$A$44:$R$73,18,0)),\"\")","v":""},{"$f":"IFERROR((VLOOKUP(($Q26&Z$22),preenchimento_mensal!$A$44:$R$73,18,0)),\"\")","v":""},{"$f":"IFERROR((VLOOKUP(($Q26&AA$22),preenchimento_mensal!$A$44:$R$73,18,0)),\"\")","v":""},{"$f":"IFERROR((VLOOKUP(($Q26&AB$22),preenchimento_mensal!$A$44:$R$73,18,0)),\"\")","v":""},2016]
["",2017,{"$f":"IF(preenchimento_mensal!AS14=\"\",\"\",preenchimento_mensal!AS14)","v":""},"",{"$f":"IFERROR((VLOOKUP(($C27&E$22),preenchimento_mensal!$A$10:$R$39,18,0)),\"\")","v":""},{"$f":"IFERROR((VLOOKUP(($C27&F$22),preenchimento_mensal!$A$10:$R$39,18,0)),\"\")","v":""},{"$f":"IFERROR((VLOOKUP(($C27&G$22),preenchimento_mensal!$A$10:$R$39,18,0)),\"\")","v":""},{"$f":"IFERROR((VLOOKUP(($C27&H$22),preenchimento_mensal!$A$10:$R$39,18,0)),\"\")","v":""},{"$f":"IFERROR((VLOOKUP(($C27&I$22),preenchimento_mensal!$A$10:$R$39,18,0)),\"\")","v":""},{"$f":"IFERROR((VLOOKUP(($C27&J$22),preenchimento_mensal!$A$10:$R$39,18,0)),\"\")","v":""},{"$f":"IFERROR((VLOOKUP(($C27&K$22),preenchimento_mensal!$A$10:$R$39,18,0)),\"\")","v":""},{"$f":"IFERROR((VLOOKUP(($C27&L$22),preenchimento_mensal!$A$10:$R$39,18,0)),\"\")","v":""},{"$f":"IFERROR((VLOOKUP(($C27&M$22),preenchimento_mensal!$A$10:$R$39,18,0)),\"\")","v":""},{"$f":"IFERROR((VLOOKUP(($C27&N$22),preenchimento_mensal!$A$10:$R$39,18,0)),\"\")","v":""},2017,2016,{"$f":"IF(preenchimento_mensal!AS48=\"\",\"\",preenchimento_mensal!AS48)","v":""},"",{"$f":"IFERROR((VLOOKUP(($Q27&S$22),preenchimento_mensal!$A$44:$R$73,18,0)),\"\")","v":""},{"$f":"IFERROR((VLOOKUP(($Q27&T$22),preenchimento_mensal!$A$44:$R$73,18,0)),\"\")","v":""},{"$f":"IFERROR((VLOOKUP(($Q27&U$22),preenchimento_mensal!$A$44:$R$73,18,0)),\"\")","v":""},{"$f":"IFERROR((VLOOKUP(($Q27&V$22),preenchimento_mensal!$A$44:$R$73,18,0)),\"\")","v":""},{"$f":"IFERROR((VLOOKUP(($Q27&W$22),preenchimento_mensal!$A$44:$R$73,18,0)),\"\")","v":""},{"$f":"IFERROR((VLOOKUP(($Q27&X$22),preenchimento_mensal!$A$44:$R$73,18,0)),\"\")","v":""},{"$f":"IFERROR((VLOOKUP(($Q27&Y$22),preenchimento_mensal!$A$44:$R$73,18,0)),\"\")","v":""},{"$f":"IFERROR((VLOOKUP(($Q27&Z$22),preenchimento_mensal!$A$44:$R$73,18,0)),\"\")","v":""},{"$f":"IFERROR((VLOOKUP(($Q27&AA$22),preenchimento_mensal!$A$44:$R$73,18,0)),\"\")","v":""},{"$f":"IFERROR((VLOOKUP(($Q27&AB$22),preenchimento_mensal!$A$44:$R$73,18,0)),\"\")","v":""},2016]
["",2017,{"$f":"IF(preenchimento_mensal!AS15=\"\",\"\",preenchimento_mensal!AS15)","v":""},"",{"$f":"IFERROR((VLOOKUP(($C28&E$22),preenchimento_mensal!$A$10:$R$39,18,0)),\"\")","v":""},{"$f":"IFERROR((VLOOKUP(($C28&F$22),preenchimento_mensal!$A$10:$R$39,18,0)),\"\")","v":""},{"$f":"IFERROR((VLOOKUP(($C28&G$22),preenchimento_mensal!$A$10:$R$39,18,0)),\"\")","v":""},{"$f":"IFERROR((VLOOKUP(($C28&H$22),preenchimento_mensal!$A$10:$R$39,18,0)),\"\")","v":""},{"$f":"IFERROR((VLOOKUP(($C28&I$22),preenchimento_mensal!$A$10:$R$39,18,0)),\"\")","v":""},{"$f":"IFERROR((VLOOKUP(($C28&J$22),preenchimento_mensal!$A$10:$R$39,18,0)),\"\")","v":""},{"$f":"IFERROR((VLOOKUP(($C28&K$22),preenchimento_mensal!$A$10:$R$39,18,0)),\"\")","v":""},{"$f":"IFERROR((VLOOKUP(($C28&L$22),preenchimento_mensal!$A$10:$R$39,18,0)),\"\")","v":""},{"$f":"IFERROR((VLOOKUP(($C28&M$22),preenchimento_mensal!$A$10:$R$39,18,0)),\"\")","v":""},{"$f":"IFERROR((VLOOKUP(($C28&N$22),preenchimento_mensal!$A$10:$R$39,18,0)),\"\")","v":""},2017,2016,{"$f":"IF(preenchimento_mensal!AS49=\"\",\"\",preenchimento_mensal!AS49)","v":""},"",{"$f":"IFERROR((VLOOKUP(($Q28&S$22),preenchimento_mensal!$A$44:$R$73,18,0)),\"\")","v":""},{"$f":"IFERROR((VLOOKUP(($Q28&T$22),preenchimento_mensal!$A$44:$R$73,18,0)),\"\")","v":""},{"$f":"IFERROR((VLOOKUP(($Q28&U$22),preenchimento_mensal!$A$44:$R$73,18,0)),\"\")","v":""},{"$f":"IFERROR((VLOOKUP(($Q28&V$22),preenchimento_mensal!$A$44:$R$73,18,0)),\"\")","v":""},{"$f":"IFERROR((VLOOKUP(($Q28&W$22),preenchimento_mensal!$A$44:$R$73,18,0)),\"\")","v":""},{"$f":"IFERROR((VLOOKUP(($Q28&X$22),preenchimento_mensal!$A$44:$R$73,18,0)),\"\")","v":""},{"$f":"IFERROR((VLOOKUP(($Q28&Y$22),preenchimento_mensal!$A$44:$R$73,18,0)),\"\")","v":""},{"$f":"IFERROR((VLOOKUP(($Q28&Z$22),preenchimento_mensal!$A$44:$R$73,18,0)),\"\")","v":""},{"$f":"IFERROR((VLOOKUP(($Q28&AA$22),preenchimento_mensal!$A$44:$R$73,18,0)),\"\")","v":""},{"$f":"IFERROR((VLOOKUP(($Q28&AB$22),preenchimento_mensal!$A$44:$R$73,18,0)),\"\")","v":""},2016]
["",2017,{"$f":"IF(preenchimento_mensal!AS16=\"\",\"\",preenchimento_mensal!AS16)","v":""},"",{"$f":"IFERROR((VLOOKUP(($C29&E$22),preenchimento_mensal!$A$10:$R$39,18,0)),\"\")","v":""},{"$f":"IFERROR((VLOOKUP(($C29&F$22),preenchimento_mensal!$A$10:$R$39,18,0)),\"\")","v":""},{"$f":"IFERROR((VLOOKUP(($C29&G$22),preenchimento_mensal!$A$10:$R$39,18,0)),\"\")","v":""},{"$f":"IFERROR((VLOOKUP(($C29&H$22),preenchimento_mensal!$A$10:$R$39,18,0)),\"\")","v":""},{"$f":"IFERROR((VLOOKUP(($C29&I$22),preenchimento_mensal!$A$10:$R$39,18,0)),\"\")","v":""},{"$f":"IFERROR((VLOOKUP(($C29&J$22),preenchimento_mensal!$A$10:$R$39,18,0)),\"\")","v":""},{"$f":"IFERROR((VLOOKUP(($C29&K$22),preenchimento_mensal!$A$10:$R$39,18,0)),\"\")","v":""},{"$f":"IFERROR((VLOOKUP(($C29&L$22),preenchimento_mensal!$A$10:$R$39,18,0)),\"\")","v":""},{"$f":"IFERROR((VLOOKUP(($C29&M$22),preenchimento_mensal!$A$10:$R$39,18,0)),\"\")","v":""},{"$f":"IFERROR((VLOOKUP(($C29&N$22),preenchimento_mensal!$A$10:$R$39,18,0)),\"\")","v":""},2017,2016,{"$f":"IF(preenchimento_mensal!AS50=\"\",\"\",preenchimento_mensal!AS50)","v":""},"",{"$f":"IFERROR((VLOOKUP(($Q29&S$22),preenchimento_mensal!$A$44:$R$73,18,0)),\"\")","v":""},{"$f":"IFERROR((VLOOKUP(($Q29&T$22),preenchimento_mensal!$A$44:$R$73,18,0)),\"\")","v":""},{"$f":"IFERROR((VLOOKUP(($Q29&U$22),preenchimento_mensal!$A$44:$R$73,18,0)),\"\")","v":""},{"$f":"IFERROR((VLOOKUP(($Q29&V$22),preenchimento_mensal!$A$44:$R$73,18,0)),\"\")","v":""},{"$f":"IFERROR((VLOOKUP(($Q29&W$22),preenchimento_mensal!$A$44:$R$73,18,0)),\"\")","v":""},{"$f":"IFERROR((VLOOKUP(($Q29&X$22),preenchimento_mensal!$A$44:$R$73,18,0)),\"\")","v":""},{"$f":"IFERROR((VLOOKUP(($Q29&Y$22),preenchimento_mensal!$A$44:$R$73,18,0)),\"\")","v":""},{"$f":"IFERROR((VLOOKUP(($Q29&Z$22),preenchimento_mensal!$A$44:$R$73,18,0)),\"\")","v":""},{"$f":"IFERROR((VLOOKUP(($Q29&AA$22),preenchimento_mensal!$A$44:$R$73,18,0)),\"\")","v":""},{"$f":"IFERROR((VLOOKUP(($Q29&AB$22),preenchimento_mensal!$A$44:$R$73,18,0)),\"\")","v":""},2016]
["",2017,{"$f":"IF(preenchimento_mensal!AS17=\"\",\"\",preenchimento_mensal!AS17)","v":""},"",{"$f":"IFERROR((VLOOKUP(($C30&E$22),preenchimento_mensal!$A$10:$R$39,18,0)),\"\")","v":""},{"$f":"IFERROR((VLOOKUP(($C30&F$22),preenchimento_mensal!$A$10:$R$39,18,0)),\"\")","v":""},{"$f":"IFERROR((VLOOKUP(($C30&G$22),preenchimento_mensal!$A$10:$R$39,18,0)),\"\")","v":""},{"$f":"IFERROR((VLOOKUP(($C30&H$22),preenchimento_mensal!$A$10:$R$39,18,0)),\"\")","v":""},{"$f":"IFERROR((VLOOKUP(($C30&I$22),preenchimento_mensal!$A$10:$R$39,18,0)),\"\")","v":""},{"$f":"IFERROR((VLOOKUP(($C30&J$22),preenchimento_mensal!$A$10:$R$39,18,0)),\"\")","v":""},{"$f":"IFERROR((VLOOKUP(($C30&K$22),preenchimento_mensal!$A$10:$R$39,18,0)),\"\")","v":""},{"$f":"IFERROR((VLOOKUP(($C30&L$22),preenchimento_mensal!$A$10:$R$39,18,0)),\"\")","v":""},{"$f":"IFERROR((VLOOKUP(($C30&M$22),preenchimento_mensal!$A$10:$R$39,18,0)),\"\")","v":""},{"$f":"IFERROR((VLOOKUP(($C30&N$22),preenchimento_mensal!$A$10:$R$39,18,0)),\"\")","v":""},2017,2016,{"$f":"IF(preenchimento_mensal!AS51=\"\",\"\",preenchimento_mensal!AS51)","v":""},"",{"$f":"IFERROR((VLOOKUP(($Q30&S$22),preenchimento_mensal!$A$44:$R$73,18,0)),\"\")","v":""},{"$f":"IFERROR((VLOOKUP(($Q30&T$22),preenchimento_mensal!$A$44:$R$73,18,0)),\"\")","v":""},{"$f":"IFERROR((VLOOKUP(($Q30&U$22),preenchimento_mensal!$A$44:$R$73,18,0)),\"\")","v":""},{"$f":"IFERROR((VLOOKUP(($Q30&V$22),preenchimento_mensal!$A$44:$R$73,18,0)),\"\")","v":""},{"$f":"IFERROR((VLOOKUP(($Q30&W$22),preenchimento_mensal!$A$44:$R$73,18,0)),\"\")","v":""},{"$f":"IFERROR((VLOOKUP(($Q30&X$22),preenchimento_mensal!$A$44:$R$73,18,0)),\"\")","v":""},{"$f":"IFERROR((VLOOKUP(($Q30&Y$22),preenchimento_mensal!$A$44:$R$73,18,0)),\"\")","v":""},{"$f":"IFERROR((VLOOKUP(($Q30&Z$22),preenchimento_mensal!$A$44:$R$73,18,0)),\"\")","v":""},{"$f":"IFERROR((VLOOKUP(($Q30&AA$22),preenchimento_mensal!$A$44:$R$73,18,0)),\"\")","v":""},{"$f":"IFERROR((VLOOKUP(($Q30&AB$22),preenchimento_mensal!$A$44:$R$73,18,0)),\"\")","v":""},2016]
["",2017,{"$f":"IF(preenchimento_mensal!AS18=\"\",\"\",preenchimento_mensal!AS18)","v":""},"",{"$f":"IFERROR((VLOOKUP(($C31&E$22),preenchimento_mensal!$A$10:$R$39,18,0)),\"\")","v":""},{"$f":"IFERROR((VLOOKUP(($C31&F$22),preenchimento_mensal!$A$10:$R$39,18,0)),\"\")","v":""},{"$f":"IFERROR((VLOOKUP(($C31&G$22),preenchimento_mensal!$A$10:$R$39,18,0)),\"\")","v":""},{"$f":"IFERROR((VLOOKUP(($C31&H$22),preenchimento_mensal!$A$10:$R$39,18,0)),\"\")","v":""},{"$f":"IFERROR((VLOOKUP(($C31&I$22),preenchimento_mensal!$A$10:$R$39,18,0)),\"\")","v":""},{"$f":"IFERROR((VLOOKUP(($C31&J$22),preenchimento_mensal!$A$10:$R$39,18,0)),\"\")","v":""},{"$f":"IFERROR((VLOOKUP(($C31&K$22),preenchimento_mensal!$A$10:$R$39,18,0)),\"\")","v":""},{"$f":"IFERROR((VLOOKUP(($C31&L$22),preenchimento_mensal!$A$10:$R$39,18,0)),\"\")","v":""},{"$f":"IFERROR((VLOOKUP(($C31&M$22),preenchimento_mensal!$A$10:$R$39,18,0)),\"\")","v":""},{"$f":"IFERROR((VLOOKUP(($C31&N$22),preenchimento_mensal!$A$10:$R$39,18,0)),\"\")","v":""},2017,2016,{"$f":"IF(preenchimento_mensal!AS52=\"\",\"\",preenchimento_mensal!AS52)","v":""},"",{"$f":"IFERROR((VLOOKUP(($Q31&S$22),preenchimento_mensal!$A$44:$R$73,18,0)),\"\")","v":""},{"$f":"IFERROR((VLOOKUP(($Q31&T$22),preenchimento_mensal!$A$44:$R$73,18,0)),\"\")","v":""},{"$f":"IFERROR((VLOOKUP(($Q31&U$22),preenchimento_mensal!$A$44:$R$73,18,0)),\"\")","v":""},{"$f":"IFERROR((VLOOKUP(($Q31&V$22),preenchimento_mensal!$A$44:$R$73,18,0)),\"\")","v":""},{"$f":"IFERROR((VLOOKUP(($Q31&W$22),preenchimento_mensal!$A$44:$R$73,18,0)),\"\")","v":""},{"$f":"IFERROR((VLOOKUP(($Q31&X$22),preenchimento_mensal!$A$44:$R$73,18,0)),\"\")","v":""},{"$f":"IFERROR((VLOOKUP(($Q31&Y$22),preenchimento_mensal!$A$44:$R$73,18,0)),\"\")","v":""},{"$f":"IFERROR((VLOOKUP(($Q31&Z$22),preenchimento_mensal!$A$44:$R$73,18,0)),\"\")","v":""},{"$f":"IFERROR((VLOOKUP(($Q31&AA$22),preenchimento_mensal!$A$44:$R$73,18,0)),\"\")","v":""},{"$f":"IFERROR((VLOOKUP(($Q31&AB$22),preenchimento_mensal!$A$44:$R$73,18,0)),\"\")","v":""},2016]
["",2017,{"$f":"IF(preenchimento_mensal!AS19=\"\",\"\",preenchimento_mensal!AS19)","v":""},"",{"$f":"IFERROR((VLOOKUP(($C32&E$22),preenchimento_mensal!$A$10:$R$39,18,0)),\"\")","v":""},{"$f":"IFERROR((VLOOKUP(($C32&F$22),preenchimento_mensal!$A$10:$R$39,18,0)),\"\")","v":""},{"$f":"IFERROR((VLOOKUP(($C32&G$22),preenchimento_mensal!$A$10:$R$39,18,0)),\"\")","v":""},{"$f":"IFERROR((VLOOKUP(($C32&H$22),preenchimento_mensal!$A$10:$R$39,18,0)),\"\")","v":""},{"$f":"IFERROR((VLOOKUP(($C32&I$22),preenchimento_mensal!$A$10:$R$39,18,0)),\"\")","v":""},{"$f":"IFERROR((VLOOKUP(($C32&J$22),preenchimento_mensal!$A$10:$R$39,18,0)),\"\")","v":""},{"$f":"IFERROR((VLOOKUP(($C32&K$22),preenchimento_mensal!$A$10:$R$39,18,0)),\"\")","v":""},{"$f":"IFERROR((VLOOKUP(($C32&L$22),preenchimento_mensal!$A$10:$R$39,18,0)),\"\")","v":""},{"$f":"IFERROR((VLOOKUP(($C32&M$22),preenchimento_mensal!$A$10:$R$39,18,0)),\"\")","v":""},{"$f":"IFERROR((VLOOKUP(($C32&N$22),preenchimento_mensal!$A$10:$R$39,18,0)),\"\")","v":""},2017,2016,{"$f":"IF(preenchimento_mensal!AS53=\"\",\"\",preenchimento_mensal!AS53)","v":""},"",{"$f":"IFERROR((VLOOKUP(($Q32&S$22),preenchimento_mensal!$A$44:$R$73,18,0)),\"\")","v":""},{"$f":"IFERROR((VLOOKUP(($Q32&T$22),preenchimento_mensal!$A$44:$R$73,18,0)),\"\")","v":""},{"$f":"IFERROR((VLOOKUP(($Q32&U$22),preenchimento_mensal!$A$44:$R$73,18,0)),\"\")","v":""},{"$f":"IFERROR((VLOOKUP(($Q32&V$22),preenchimento_mensal!$A$44:$R$73,18,0)),\"\")","v":""},{"$f":"IFERROR((VLOOKUP(($Q32&W$22),preenchimento_mensal!$A$44:$R$73,18,0)),\"\")","v":""},{"$f":"IFERROR((VLOOKUP(($Q32&X$22),preenchimento_mensal!$A$44:$R$73,18,0)),\"\")","v":""},{"$f":"IFERROR((VLOOKUP(($Q32&Y$22),preenchimento_mensal!$A$44:$R$73,18,0)),\"\")","v":""},{"$f":"IFERROR((VLOOKUP(($Q32&Z$22),preenchimento_mensal!$A$44:$R$73,18,0)),\"\")","v":""},{"$f":"IFERROR((VLOOKUP(($Q32&AA$22),preenchimento_mensal!$A$44:$R$73,18,0)),\"\")","v":""},{"$f":"IFERROR((VLOOKUP(($Q32&AB$22),preenchimento_mensal!$A$44:$R$73,18,0)),\"\")","v":""},2016]
["",2017,{"$f":"IF(preenchimento_mensal!AS20=\"\",\"\",preenchimento_mensal!AS20)","v":""},"",{"$f":"IFERROR((VLOOKUP(($C33&E$22),preenchimento_mensal!$A$10:$R$39,18,0)),\"\")","v":""},{"$f":"IFERROR((VLOOKUP(($C33&F$22),preenchimento_mensal!$A$10:$R$39,18,0)),\"\")","v":""},{"$f":"IFERROR((VLOOKUP(($C33&G$22),preenchimento_mensal!$A$10:$R$39,18,0)),\"\")","v":""},{"$f":"IFERROR((VLOOKUP(($C33&H$22),preenchimento_mensal!$A$10:$R$39,18,0)),\"\")","v":""},{"$f":"IFERROR((VLOOKUP(($C33&I$22),preenchimento_mensal!$A$10:$R$39,18,0)),\"\")","v":""},{"$f":"IFERROR((VLOOKUP(($C33&J$22),preenchimento_mensal!$A$10:$R$39,18,0)),\"\")","v":""},{"$f":"IFERROR((VLOOKUP(($C33&K$22),preenchimento_mensal!$A$10:$R$39,18,0)),\"\")","v":""},{"$f":"IFERROR((VLOOKUP(($C33&L$22),preenchimento_mensal!$A$10:$R$39,18,0)),\"\")","v":""},{"$f":"IFERROR((VLOOKUP(($C33&M$22),preenchimento_mensal!$A$10:$R$39,18,0)),\"\")","v":""},{"$f":"IFERROR((VLOOKUP(($C33&N$22),preenchimento_mensal!$A$10:$R$39,18,0)),\"\")","v":""},2017,2016,{"$f":"IF(preenchimento_mensal!AS54=\"\",\"\",preenchimento_mensal!AS54)","v":""},"",{"$f":"IFERROR((VLOOKUP(($Q33&S$22),preenchimento_mensal!$A$44:$R$73,18,0)),\"\")","v":""},{"$f":"IFERROR((VLOOKUP(($Q33&T$22),preenchimento_mensal!$A$44:$R$73,18,0)),\"\")","v":""},{"$f":"IFERROR((VLOOKUP(($Q33&U$22),preenchimento_mensal!$A$44:$R$73,18,0)),\"\")","v":""},{"$f":"IFERROR((VLOOKUP(($Q33&V$22),preenchimento_mensal!$A$44:$R$73,18,0)),\"\")","v":""},{"$f":"IFERROR((VLOOKUP(($Q33&W$22),preenchimento_mensal!$A$44:$R$73,18,0)),\"\")","v":""},{"$f":"IFERROR((VLOOKUP(($Q33&X$22),preenchimento_mensal!$A$44:$R$73,18,0)),\"\")","v":""},{"$f":"IFERROR((VLOOKUP(($Q33&Y$22),preenchimento_mensal!$A$44:$R$73,18,0)),\"\")","v":""},{"$f":"IFERROR((VLOOKUP(($Q33&Z$22),preenchimento_mensal!$A$44:$R$73,18,0)),\"\")","v":""},{"$f":"IFERROR((VLOOKUP(($Q33&AA$22),preenchimento_mensal!$A$44:$R$73,18,0)),\"\")","v":""},{"$f":"IFERROR((VLOOKUP(($Q33&AB$22),preenchimento_mensal!$A$44:$R$73,18,0)),\"\")","v":""},2016]
["",2017,{"$f":"IF(preenchimento_mensal!AS21=\"\",\"\",preenchimento_mensal!AS21)","v":""},"",{"$f":"IFERROR((VLOOKUP(($C34&E$22),preenchimento_mensal!$A$10:$R$39,18,0)),\"\")","v":""},{"$f":"IFERROR((VLOOKUP(($C34&F$22),preenchimento_mensal!$A$10:$R$39,18,0)),\"\")","v":""},{"$f":"IFERROR((VLOOKUP(($C34&G$22),preenchimento_mensal!$A$10:$R$39,18,0)),\"\")","v":""},{"$f":"IFERROR((VLOOKUP(($C34&H$22),preenchimento_mensal!$A$10:$R$39,18,0)),\"\")","v":""},{"$f":"IFERROR((VLOOKUP(($C34&I$22),preenchimento_mensal!$A$10:$R$39,18,0)),\"\")","v":""},{"$f":"IFERROR((VLOOKUP(($C34&J$22),preenchimento_mensal!$A$10:$R$39,18,0)),\"\")","v":""},{"$f":"IFERROR((VLOOKUP(($C34&K$22),preenchimento_mensal!$A$10:$R$39,18,0)),\"\")","v":""},{"$f":"IFERROR((VLOOKUP(($C34&L$22),preenchimento_mensal!$A$10:$R$39,18,0)),\"\")","v":""},{"$f":"IFERROR((VLOOKUP(($C34&M$22),preenchimento_mensal!$A$10:$R$39,18,0)),\"\")","v":""},{"$f":"IFERROR((VLOOKUP(($C34&N$22),preenchimento_mensal!$A$10:$R$39,18,0)),\"\")","v":""},2017,2016,{"$f":"IF(preenchimento_mensal!AS55=\"\",\"\",preenchimento_mensal!AS55)","v":""},"",{"$f":"IFERROR((VLOOKUP(($Q34&S$22),preenchimento_mensal!$A$44:$R$73,18,0)),\"\")","v":""},{"$f":"IFERROR((VLOOKUP(($Q34&T$22),preenchimento_mensal!$A$44:$R$73,18,0)),\"\")","v":""},{"$f":"IFERROR((VLOOKUP(($Q34&U$22),preenchimento_mensal!$A$44:$R$73,18,0)),\"\")","v":""},{"$f":"IFERROR((VLOOKUP(($Q34&V$22),preenchimento_mensal!$A$44:$R$73,18,0)),\"\")","v":""},{"$f":"IFERROR((VLOOKUP(($Q34&W$22),preenchimento_mensal!$A$44:$R$73,18,0)),\"\")","v":""},{"$f":"IFERROR((VLOOKUP(($Q34&X$22),preenchimento_mensal!$A$44:$R$73,18,0)),\"\")","v":""},{"$f":"IFERROR((VLOOKUP(($Q34&Y$22),preenchimento_mensal!$A$44:$R$73,18,0)),\"\")","v":""},{"$f":"IFERROR((VLOOKUP(($Q34&Z$22),preenchimento_mensal!$A$44:$R$73,18,0)),\"\")","v":""},{"$f":"IFERROR((VLOOKUP(($Q34&AA$22),preenchimento_mensal!$A$44:$R$73,18,0)),\"\")","v":""},{"$f":"IFERROR((VLOOKUP(($Q34&AB$22),preenchimento_mensal!$A$44:$R$73,18,0)),\"\")","v":""},2016]
["",2017,{"$f":"IF(preenchimento_mensal!AS22=\"\",\"\",preenchimento_mensal!AS22)","v":""},"",{"$f":"IFERROR((VLOOKUP(($C35&E$22),preenchimento_mensal!$A$10:$R$39,18,0)),\"\")","v":""},{"$f":"IFERROR((VLOOKUP(($C35&F$22),preenchimento_mensal!$A$10:$R$39,18,0)),\"\")","v":""},{"$f":"IFERROR((VLOOKUP(($C35&G$22),preenchimento_mensal!$A$10:$R$39,18,0)),\"\")","v":""},{"$f":"IFERROR((VLOOKUP(($C35&H$22),preenchimento_mensal!$A$10:$R$39,18,0)),\"\")","v":""},{"$f":"IFERROR((VLOOKUP(($C35&I$22),preenchimento_mensal!$A$10:$R$39,18,0)),\"\")","v":""},{"$f":"IFERROR((VLOOKUP(($C35&J$22),preenchimento_mensal!$A$10:$R$39,18,0)),\"\")","v":""},{"$f":"IFERROR((VLOOKUP(($C35&K$22),preenchimento_mensal!$A$10:$R$39,18,0)),\"\")","v":""},{"$f":"IFERROR((VLOOKUP(($C35&L$22),preenchimento_mensal!$A$10:$R$39,18,0)),\"\")","v":""},{"$f":"IFERROR((VLOOKUP(($C35&M$22),preenchimento_mensal!$A$10:$R$39,18,0)),\"\")","v":""},{"$f":"IFERROR((VLOOKUP(($C35&N$22),preenchimento_mensal!$A$10:$R$39,18,0)),\"\")","v":""},2017,2016,{"$f":"IF(preenchimento_mensal!AS56=\"\",\"\",preenchimento_mensal!AS56)","v":""},"",{"$f":"IFERROR((VLOOKUP(($Q35&S$22),preenchimento_mensal!$A$44:$R$73,18,0)),\"\")","v":""},{"$f":"IFERROR((VLOOKUP(($Q35&T$22),preenchimento_mensal!$A$44:$R$73,18,0)),\"\")","v":""},{"$f":"IFERROR((VLOOKUP(($Q35&U$22),preenchimento_mensal!$A$44:$R$73,18,0)),\"\")","v":""},{"$f":"IFERROR((VLOOKUP(($Q35&V$22),preenchimento_mensal!$A$44:$R$73,18,0)),\"\")","v":""},{"$f":"IFERROR((VLOOKUP(($Q35&W$22),preenchimento_mensal!$A$44:$R$73,18,0)),\"\")","v":""},{"$f":"IFERROR((VLOOKUP(($Q35&X$22),preenchimento_mensal!$A$44:$R$73,18,0)),\"\")","v":""},{"$f":"IFERROR((VLOOKUP(($Q35&Y$22),preenchimento_mensal!$A$44:$R$73,18,0)),\"\")","v":""},{"$f":"IFERROR((VLOOKUP(($Q35&Z$22),preenchimento_mensal!$A$44:$R$73,18,0)),\"\")","v":""},{"$f":"IFERROR((VLOOKUP(($Q35&AA$22),preenchimento_mensal!$A$44:$R$73,18,0)),\"\")","v":""},{"$f":"IFERROR((VLOOKUP(($Q35&AB$22),preenchimento_mensal!$A$44:$R$73,18,0)),\"\")","v":""},2016]
["",2017,{"$f":"IF(preenchimento_mensal!AS23=\"\",\"\",preenchimento_mensal!AS23)","v":""},"",{"$f":"IFERROR((VLOOKUP(($C36&E$22),preenchimento_mensal!$A$10:$R$39,18,0)),\"\")","v":""},{"$f":"IFERROR((VLOOKUP(($C36&F$22),preenchimento_mensal!$A$10:$R$39,18,0)),\"\")","v":""},{"$f":"IFERROR((VLOOKUP(($C36&G$22),preenchimento_mensal!$A$10:$R$39,18,0)),\"\")","v":""},{"$f":"IFERROR((VLOOKUP(($C36&H$22),preenchimento_mensal!$A$10:$R$39,18,0)),\"\")","v":""},{"$f":"IFERROR((VLOOKUP(($C36&I$22),preenchimento_mensal!$A$10:$R$39,18,0)),\"\")","v":""},{"$f":"IFERROR((VLOOKUP(($C36&J$22),preenchimento_mensal!$A$10:$R$39,18,0)),\"\")","v":""},{"$f":"IFERROR((VLOOKUP(($C36&K$22),preenchimento_mensal!$A$10:$R$39,18,0)),\"\")","v":""},{"$f":"IFERROR((VLOOKUP(($C36&L$22),preenchimento_mensal!$A$10:$R$39,18,0)),\"\")","v":""},{"$f":"IFERROR((VLOOKUP(($C36&M$22),preenchimento_mensal!$A$10:$R$39,18,0)),\"\")","v":""},{"$f":"IFERROR((VLOOKUP(($C36&N$22),preenchimento_mensal!$A$10:$R$39,18,0)),\"\")","v":""},2017,2016,{"$f":"IF(preenchimento_mensal!AS57=\"\",\"\",preenchimento_mensal!AS57)","v":""},"",{"$f":"IFERROR((VLOOKUP(($Q36&S$22),preenchimento_mensal!$A$44:$R$73,18,0)),\"\")","v":""},{"$f":"IFERROR((VLOOKUP(($Q36&T$22),preenchimento_mensal!$A$44:$R$73,18,0)),\"\")","v":""},{"$f":"IFERROR((VLOOKUP(($Q36&U$22),preenchimento_mensal!$A$44:$R$73,18,0)),\"\")","v":""},{"$f":"IFERROR((VLOOKUP(($Q36&V$22),preenchimento_mensal!$A$44:$R$73,18,0)),\"\")","v":""},{"$f":"IFERROR((VLOOKUP(($Q36&W$22),preenchimento_mensal!$A$44:$R$73,18,0)),\"\")","v":""},{"$f":"IFERROR((VLOOKUP(($Q36&X$22),preenchimento_mensal!$A$44:$R$73,18,0)),\"\")","v":""},{"$f":"IFERROR((VLOOKUP(($Q36&Y$22),preenchimento_mensal!$A$44:$R$73,18,0)),\"\")","v":""},{"$f":"IFERROR((VLOOKUP(($Q36&Z$22),preenchimento_mensal!$A$44:$R$73,18,0)),\"\")","v":""},{"$f":"IFERROR((VLOOKUP(($Q36&AA$22),preenchimento_mensal!$A$44:$R$73,18,0)),\"\")","v":""},{"$f":"IFERROR((VLOOKUP(($Q36&AB$22),preenchimento_mensal!$A$44:$R$73,18,0)),\"\")","v":""},2016]
["",2017,{"$f":"IF(preenchimento_mensal!AS24=\"\",\"\",preenchimento_mensal!AS24)","v":""},"",{"$f":"IFERROR((VLOOKUP(($C37&E$22),preenchimento_mensal!$A$10:$R$39,18,0)),\"\")","v":""},{"$f":"IFERROR((VLOOKUP(($C37&F$22),preenchimento_mensal!$A$10:$R$39,18,0)),\"\")","v":""},{"$f":"IFERROR((VLOOKUP(($C37&G$22),preenchimento_mensal!$A$10:$R$39,18,0)),\"\")","v":""},{"$f":"IFERROR((VLOOKUP(($C37&H$22),preenchimento_mensal!$A$10:$R$39,18,0)),\"\")","v":""},{"$f":"IFERROR((VLOOKUP(($C37&I$22),preenchimento_mensal!$A$10:$R$39,18,0)),\"\")","v":""},{"$f":"IFERROR((VLOOKUP(($C37&J$22),preenchimento_mensal!$A$10:$R$39,18,0)),\"\")","v":""},{"$f":"IFERROR((VLOOKUP(($C37&K$22),preenchimento_mensal!$A$10:$R$39,18,0)),\"\")","v":""},{"$f":"IFERROR((VLOOKUP(($C37&L$22),preenchimento_mensal!$A$10:$R$39,18,0)),\"\")","v":""},{"$f":"IFERROR((VLOOKUP(($C37&M$22),preenchimento_mensal!$A$10:$R$39,18,0)),\"\")","v":""},{"$f":"IFERROR((VLOOKUP(($C37&N$22),preenchimento_mensal!$A$10:$R$39,18,0)),\"\")","v":""},2017,2016,{"$f":"IF(preenchimento_mensal!AS58=\"\",\"\",preenchimento_mensal!AS58)","v":""},"",{"$f":"IFERROR((VLOOKUP(($Q37&S$22),preenchimento_mensal!$A$44:$R$73,18,0)),\"\")","v":""},{"$f":"IFERROR((VLOOKUP(($Q37&T$22),preenchimento_mensal!$A$44:$R$73,18,0)),\"\")","v":""},{"$f":"IFERROR((VLOOKUP(($Q37&U$22),preenchimento_mensal!$A$44:$R$73,18,0)),\"\")","v":""},{"$f":"IFERROR((VLOOKUP(($Q37&V$22),preenchimento_mensal!$A$44:$R$73,18,0)),\"\")","v":""},{"$f":"IFERROR((VLOOKUP(($Q37&W$22),preenchimento_mensal!$A$44:$R$73,18,0)),\"\")","v":""},{"$f":"IFERROR((VLOOKUP(($Q37&X$22),preenchimento_mensal!$A$44:$R$73,18,0)),\"\")","v":""},{"$f":"IFERROR((VLOOKUP(($Q37&Y$22),preenchimento_mensal!$A$44:$R$73,18,0)),\"\")","v":""},{"$f":"IFERROR((VLOOKUP(($Q37&Z$22),preenchimento_mensal!$A$44:$R$73,18,0)),\"\")","v":""},{"$f":"IFERROR((VLOOKUP(($Q37&AA$22),preenchimento_mensal!$A$44:$R$73,18,0)),\"\")","v":""},{"$f":"IFERROR((VLOOKUP(($Q37&AB$22),preenchimento_mensal!$A$44:$R$73,18,0)),\"\")","v":""},2016]
["",2017,{"$f":"IF(preenchimento_mensal!AS25=\"\",\"\",preenchimento_mensal!AS25)","v":""},"",{"$f":"IFERROR((VLOOKUP(($C38&E$22),preenchimento_mensal!$A$10:$R$39,18,0)),\"\")","v":""},{"$f":"IFERROR((VLOOKUP(($C38&F$22),preenchimento_mensal!$A$10:$R$39,18,0)),\"\")","v":""},{"$f":"IFERROR((VLOOKUP(($C38&G$22),preenchimento_mensal!$A$10:$R$39,18,0)),\"\")","v":""},{"$f":"IFERROR((VLOOKUP(($C38&H$22),preenchimento_mensal!$A$10:$R$39,18,0)),\"\")","v":""},{"$f":"IFERROR((VLOOKUP(($C38&I$22),preenchimento_mensal!$A$10:$R$39,18,0)),\"\")","v":""},{"$f":"IFERROR((VLOOKUP(($C38&J$22),preenchimento_mensal!$A$10:$R$39,18,0)),\"\")","v":""},{"$f":"IFERROR((VLOOKUP(($C38&K$22),preenchimento_mensal!$A$10:$R$39,18,0)),\"\")","v":""},{"$f":"IFERROR((VLOOKUP(($C38&L$22),preenchimento_mensal!$A$10:$R$39,18,0)),\"\")","v":""},{"$f":"IFERROR((VLOOKUP(($C38&M$22),preenchimento_mensal!$A$10:$R$39,18,0)),\"\")","v":""},{"$f":"IFERROR((VLOOKUP(($C38&N$22),preenchimento_mensal!$A$10:$R$39,18,0)),\"\")","v":""},2017,2016,{"$f":"IF(preenchimento_mensal!AS59=\"\",\"\",preenchimento_mensal!AS59)","v":""},"",{"$f":"IFERROR((VLOOKUP(($Q38&S$22),preenchimento_mensal!$A$44:$R$73,18,0)),\"\")","v":""},{"$f":"IFERROR((VLOOKUP(($Q38&T$22),preenchimento_mensal!$A$44:$R$73,18,0)),\"\")","v":""},{"$f":"IFERROR((VLOOKUP(($Q38&U$22),preenchimento_mensal!$A$44:$R$73,18,0)),\"\")","v":""},{"$f":"IFERROR((VLOOKUP(($Q38&V$22),preenchimento_mensal!$A$44:$R$73,18,0)),\"\")","v":""},{"$f":"IFERROR((VLOOKUP(($Q38&W$22),preenchimento_mensal!$A$44:$R$73,18,0)),\"\")","v":""},{"$f":"IFERROR((VLOOKUP(($Q38&X$22),preenchimento_mensal!$A$44:$R$73,18,0)),\"\")","v":""},{"$f":"IFERROR((VLOOKUP(($Q38&Y$22),preenchimento_mensal!$A$44:$R$73,18,0)),\"\")","v":""},{"$f":"IFERROR((VLOOKUP(($Q38&Z$22),preenchimento_mensal!$A$44:$R$73,18,0)),\"\")","v":""},{"$f":"IFERROR((VLOOKUP(($Q38&AA$22),preenchimento_mensal!$A$44:$R$73,18,0)),\"\")","v":""},{"$f":"IFERROR((VLOOKUP(($Q38&AB$22),preenchimento_mensal!$A$44:$R$73,18,0)),\"\")","v":""},2016]
["",2017,{"$f":"IF(preenchimento_mensal!AS26=\"\",\"\",preenchimento_mensal!AS26)","v":""},"",{"$f":"IFERROR((VLOOKUP(($C39&E$22),preenchimento_mensal!$A$10:$R$39,18,0)),\"\")","v":""},{"$f":"IFERROR((VLOOKUP(($C39&F$22),preenchimento_mensal!$A$10:$R$39,18,0)),\"\")","v":""},{"$f":"IFERROR((VLOOKUP(($C39&G$22),preenchimento_mensal!$A$10:$R$39,18,0)),\"\")","v":""},{"$f":"IFERROR((VLOOKUP(($C39&H$22),preenchimento_mensal!$A$10:$R$39,18,0)),\"\")","v":""},{"$f":"IFERROR((VLOOKUP(($C39&I$22),preenchimento_mensal!$A$10:$R$39,18,0)),\"\")","v":""},{"$f":"IFERROR((VLOOKUP(($C39&J$22),preenchimento_mensal!$A$10:$R$39,18,0)),\"\")","v":""},{"$f":"IFERROR((VLOOKUP(($C39&K$22),preenchimento_mensal!$A$10:$R$39,18,0)),\"\")","v":""},{"$f":"IFERROR((VLOOKUP(($C39&L$22),preenchimento_mensal!$A$10:$R$39,18,0)),\"\")","v":""},{"$f":"IFERROR((VLOOKUP(($C39&M$22),preenchimento_mensal!$A$10:$R$39,18,0)),\"\")","v":""},{"$f":"IFERROR((VLOOKUP(($C39&N$22),preenchimento_mensal!$A$10:$R$39,18,0)),\"\")","v":""},2017,2016,{"$f":"IF(preenchimento_mensal!AS60=\"\",\"\",preenchimento_mensal!AS60)","v":""},"",{"$f":"IFERROR((VLOOKUP(($Q39&S$22),preenchimento_mensal!$A$44:$R$73,18,0)),\"\")","v":""},{"$f":"IFERROR((VLOOKUP(($Q39&T$22),preenchimento_mensal!$A$44:$R$73,18,0)),\"\")","v":""},{"$f":"IFERROR((VLOOKUP(($Q39&U$22),preenchimento_mensal!$A$44:$R$73,18,0)),\"\")","v":""},{"$f":"IFERROR((VLOOKUP(($Q39&V$22),preenchimento_mensal!$A$44:$R$73,18,0)),\"\")","v":""},{"$f":"IFERROR((VLOOKUP(($Q39&W$22),preenchimento_mensal!$A$44:$R$73,18,0)),\"\")","v":""},{"$f":"IFERROR((VLOOKUP(($Q39&X$22),preenchimento_mensal!$A$44:$R$73,18,0)),\"\")","v":""},{"$f":"IFERROR((VLOOKUP(($Q39&Y$22),preenchimento_mensal!$A$44:$R$73,18,0)),\"\")","v":""},{"$f":"IFERROR((VLOOKUP(($Q39&Z$22),preenchimento_mensal!$A$44:$R$73,18,0)),\"\")","v":""},{"$f":"IFERROR((VLOOKUP(($Q39&AA$22),preenchimento_mensal!$A$44:$R$73,18,0)),\"\")","v":""},{"$f":"IFERROR((VLOOKUP(($Q39&AB$22),preenchimento_mensal!$A$44:$R$73,18,0)),\"\")","v":""},2016]
["",2017,{"$f":"IF(preenchimento_mensal!AS27=\"\",\"\",preenchimento_mensal!AS27)","v":""},"",{"$f":"IFERROR((VLOOKUP(($C40&E$22),preenchimento_mensal!$A$10:$R$39,18,0)),\"\")","v":""},{"$f":"IFERROR((VLOOKUP(($C40&F$22),preenchimento_mensal!$A$10:$R$39,18,0)),\"\")","v":""},{"$f":"IFERROR((VLOOKUP(($C40&G$22),preenchimento_mensal!$A$10:$R$39,18,0)),\"\")","v":""},{"$f":"IFERROR((VLOOKUP(($C40&H$22),preenchimento_mensal!$A$10:$R$39,18,0)),\"\")","v":""},{"$f":"IFERROR((VLOOKUP(($C40&I$22),preenchimento_mensal!$A$10:$R$39,18,0)),\"\")","v":""},{"$f":"IFERROR((VLOOKUP(($C40&J$22),preenchimento_mensal!$A$10:$R$39,18,0)),\"\")","v":""},{"$f":"IFERROR((VLOOKUP(($C40&K$22),preenchimento_mensal!$A$10:$R$39,18,0)),\"\")","v":""},{"$f":"IFERROR((VLOOKUP(($C40&L$22),preenchimento_mensal!$A$10:$R$39,18,0)),\"\")","v":""},{"$f":"IFERROR((VLOOKUP(($C40&M$22),preenchimento_mensal!$A$10:$R$39,18,0)),\"\")","v":""},{"$f":"IFERROR((VLOOKUP(($C40&N$22),preenchimento_mensal!$A$10:$R$39,18,0)),\"\")","v":""},2017,2016,{"$f":"IF(preenchimento_mensal!AS61=\"\",\"\",preenchimento_mensal!AS61)","v":""},"",{"$f":"IFERROR((VLOOKUP(($Q40&S$22),preenchimento_mensal!$A$44:$R$73,18,0)),\"\")","v":""},{"$f":"IFERROR((VLOOKUP(($Q40&T$22),preenchimento_mensal!$A$44:$R$73,18,0)),\"\")","v":""},{"$f":"IFERROR((VLOOKUP(($Q40&U$22),preenchimento_mensal!$A$44:$R$73,18,0)),\"\")","v":""},{"$f":"IFERROR((VLOOKUP(($Q40&V$22),preenchimento_mensal!$A$44:$R$73,18,0)),\"\")","v":""},{"$f":"IFERROR((VLOOKUP(($Q40&W$22),preenchimento_mensal!$A$44:$R$73,18,0)),\"\")","v":""},{"$f":"IFERROR((VLOOKUP(($Q40&X$22),preenchimento_mensal!$A$44:$R$73,18,0)),\"\")","v":""},{"$f":"IFERROR((VLOOKUP(($Q40&Y$22),preenchimento_mensal!$A$44:$R$73,18,0)),\"\")","v":""},{"$f":"IFERROR((VLOOKUP(($Q40&Z$22),preenchimento_mensal!$A$44:$R$73,18,0)),\"\")","v":""},{"$f":"IFERROR((VLOOKUP(($Q40&AA$22),preenchimento_mensal!$A$44:$R$73,18,0)),\"\")","v":""},{"$f":"IFERROR((VLOOKUP(($Q40&AB$22),preenchimento_mensal!$A$44:$R$73,18,0)),\"\")","v":""},2016]
["",2017,{"$f":"IF(preenchimento_mensal!AS28=\"\",\"\",preenchimento_mensal!AS28)","v":""},"",{"$f":"IFERROR((VLOOKUP(($C41&E$22),preenchimento_mensal!$A$10:$R$39,18,0)),\"\")","v":""},{"$f":"IFERROR((VLOOKUP(($C41&F$22),preenchimento_mensal!$A$10:$R$39,18,0)),\"\")","v":""},{"$f":"IFERROR((VLOOKUP(($C41&G$22),preenchimento_mensal!$A$10:$R$39,18,0)),\"\")","v":""},{"$f":"IFERROR((VLOOKUP(($C41&H$22),preenchimento_mensal!$A$10:$R$39,18,0)),\"\")","v":""},{"$f":"IFERROR((VLOOKUP(($C41&I$22),preenchimento_mensal!$A$10:$R$39,18,0)),\"\")","v":""},{"$f":"IFERROR((VLOOKUP(($C41&J$22),preenchimento_mensal!$A$10:$R$39,18,0)),\"\")","v":""},{"$f":"IFERROR((VLOOKUP(($C41&K$22),preenchimento_mensal!$A$10:$R$39,18,0)),\"\")","v":""},{"$f":"IFERROR((VLOOKUP(($C41&L$22),preenchimento_mensal!$A$10:$R$39,18,0)),\"\")","v":""},{"$f":"IFERROR((VLOOKUP(($C41&M$22),preenchimento_mensal!$A$10:$R$39,18,0)),\"\")","v":""},{"$f":"IFERROR((VLOOKUP(($C41&N$22),preenchimento_mensal!$A$10:$R$39,18,0)),\"\")","v":""},2017,2016,{"$f":"IF(preenchimento_mensal!AS62=\"\",\"\",preenchimento_mensal!AS62)","v":""},"",{"$f":"IFERROR((VLOOKUP(($Q41&S$22),preenchimento_mensal!$A$44:$R$73,18,0)),\"\")","v":""},{"$f":"IFERROR((VLOOKUP(($Q41&T$22),preenchimento_mensal!$A$44:$R$73,18,0)),\"\")","v":""},{"$f":"IFERROR((VLOOKUP(($Q41&U$22),preenchimento_mensal!$A$44:$R$73,18,0)),\"\")","v":""},{"$f":"IFERROR((VLOOKUP(($Q41&V$22),preenchimento_mensal!$A$44:$R$73,18,0)),\"\")","v":""},{"$f":"IFERROR((VLOOKUP(($Q41&W$22),preenchimento_mensal!$A$44:$R$73,18,0)),\"\")","v":""},{"$f":"IFERROR((VLOOKUP(($Q41&X$22),preenchimento_mensal!$A$44:$R$73,18,0)),\"\")","v":""},{"$f":"IFERROR((VLOOKUP(($Q41&Y$22),preenchimento_mensal!$A$44:$R$73,18,0)),\"\")","v":""},{"$f":"IFERROR((VLOOKUP(($Q41&Z$22),preenchimento_mensal!$A$44:$R$73,18,0)),\"\")","v":""},{"$f":"IFERROR((VLOOKUP(($Q41&AA$22),preenchimento_mensal!$A$44:$R$73,18,0)),\"\")","v":""},{"$f":"IFERROR((VLOOKUP(($Q41&AB$22),preenchimento_mensal!$A$44:$R$73,18,0)),\"\")","v":""},2016]
["",2017,{"$f":"IF(preenchimento_mensal!AS29=\"\",\"\",preenchimento_mensal!AS29)","v":""},"",{"$f":"IFERROR((VLOOKUP(($C42&E$22),preenchimento_mensal!$A$10:$R$39,18,0)),\"\")","v":""},{"$f":"IFERROR((VLOOKUP(($C42&F$22),preenchimento_mensal!$A$10:$R$39,18,0)),\"\")","v":""},{"$f":"IFERROR((VLOOKUP(($C42&G$22),preenchimento_mensal!$A$10:$R$39,18,0)),\"\")","v":""},{"$f":"IFERROR((VLOOKUP(($C42&H$22),preenchimento_mensal!$A$10:$R$39,18,0)),\"\")","v":""},{"$f":"IFERROR((VLOOKUP(($C42&I$22),preenchimento_mensal!$A$10:$R$39,18,0)),\"\")","v":""},{"$f":"IFERROR((VLOOKUP(($C42&J$22),preenchimento_mensal!$A$10:$R$39,18,0)),\"\")","v":""},{"$f":"IFERROR((VLOOKUP(($C42&K$22),preenchimento_mensal!$A$10:$R$39,18,0)),\"\")","v":""},{"$f":"IFERROR((VLOOKUP(($C42&L$22),preenchimento_mensal!$A$10:$R$39,18,0)),\"\")","v":""},{"$f":"IFERROR((VLOOKUP(($C42&M$22),preenchimento_mensal!$A$10:$R$39,18,0)),\"\")","v":""},{"$f":"IFERROR((VLOOKUP(($C42&N$22),preenchimento_mensal!$A$10:$R$39,18,0)),\"\")","v":""},2017,2016,{"$f":"IF(preenchimento_mensal!AS63=\"\",\"\",preenchimento_mensal!AS63)","v":""},"",{"$f":"IFERROR((VLOOKUP(($Q42&S$22),preenchimento_mensal!$A$44:$R$73,18,0)),\"\")","v":""},{"$f":"IFERROR((VLOOKUP(($Q42&T$22),preenchimento_mensal!$A$44:$R$73,18,0)),\"\")","v":""},{"$f":"IFERROR((VLOOKUP(($Q42&U$22),preenchimento_mensal!$A$44:$R$73,18,0)),\"\")","v":""},{"$f":"IFERROR((VLOOKUP(($Q42&V$22),preenchimento_mensal!$A$44:$R$73,18,0)),\"\")","v":""},{"$f":"IFERROR((VLOOKUP(($Q42&W$22),preenchimento_mensal!$A$44:$R$73,18,0)),\"\")","v":""},{"$f":"IFERROR((VLOOKUP(($Q42&X$22),preenchimento_mensal!$A$44:$R$73,18,0)),\"\")","v":""},{"$f":"IFERROR((VLOOKUP(($Q42&Y$22),preenchimento_mensal!$A$44:$R$73,18,0)),\"\")","v":""},{"$f":"IFERROR((VLOOKUP(($Q42&Z$22),preenchimento_mensal!$A$44:$R$73,18,0)),\"\")","v":""},{"$f":"IFERROR((VLOOKUP(($Q42&AA$22),preenchimento_mensal!$A$44:$R$73,18,0)),\"\")","v":""},{"$f":"IFERROR((VLOOKUP(($Q42&AB$22),preenchimento_mensal!$A$44:$R$73,18,0)),\"\")","v":""},2016]
[]
[]
[null,null,"ANO: O primeiro ano a ser preenchido é o ano anterior à implementação das ações apoiadas por produto, por exemplo, se um produto começou a ser apoiado em 2018 deve-se começar o preenchimento com dados de 2017",null,null,null,null,null,null,null,null,null,null,null,null,null,"ANO: O primeiro ano a ser preenchido é o ano anterior à implementação das ações apoiadas por produto, por exemplo, se um produto começou a ser apoiado em 2018 deve-se começar o preenchimento com dados de 2017"]
[null,null,"Produto","Unidade de Medida",2017,2018,2019,2020,2021,2022,2023,2024,2025,2026,null,null,"Produto","Unidade de Medida",2017,2018,2019,2020,2021,2022,2023,2024,2025,2026]
[null,{"$f":"C47&D47","v":""},{"$f":"IF(C23=\"\",\"\",C23)","v":""},{"$f":"IF(C47=\"\",\"\",(IFERROR((VLOOKUP(C47,preenchimento_mensal!$C$78:$D$107,2,0)),\"\")))","v":""},{"$f":"IFERROR((VLOOKUP(($C47&E$46),preenchimento_mensal!$A$78:$R$107,18,0)),\"\")","v":""},{"$f":"IFERROR((VLOOKUP(($C47&F$46),preenchimento_mensal!$A$78:$R$107,18,0)),\"\")","v":""},{"$f":"IFERROR((VLOOKUP(($C47&G$46),preenchimento_mensal!$A$78:$R$107,18,0)),\"\")","v":""},{"$f":"IFERROR((VLOOKUP(($C47&H$46),preenchimento_mensal!$A$78:$R$107,18,0)),\"\")","v":""},{"$f":"IFERROR((VLOOKUP(($C47&I$46),preenchimento_mensal!$A$78:$R$107,18,0)),\"\")","v":""},{"$f":"IFERROR((VLOOKUP(($C47&J$46),preenchimento_mensal!$A$78:$R$107,18,0)),\"\")","v":""},{"$f":"IFERROR((VLOOKUP(($C47&K$46),preenchimento_mensal!$A$78:$R$107,18,0)),\"\")","v":""},{"$f":"IFERROR((VLOOKUP(($C47&L$46),preenchimento_mensal!$A$78:$R$107,18,0)),\"\")","v":""},{"$f":"IFERROR((VLOOKUP(($C47&M$46),preenchimento_mensal!$A$78:$R$107,18,0)),\"\")","v":""},{"$f":"IFERROR((VLOOKUP(($C47&N$46),preenchimento_mensal!$A$78:$R$107,18,0)),\"\")","v":""},{"$f":"Q47&R47","v":""},null,{"$f":"IF(Q23=\"\",\"\",Q23)","v":""},{"$f":"IF(Q47=\"\",\"\",(VLOOKUP(Q47,preenchimento_mensal!$C$112:$D$140,2,0)))","v":""},{"$f":"IFERROR((VLOOKUP(($Q47&S$46),preenchimento_mensal!$A$112:$R$140,18,0)),\"\")","v":""},{"$f":"IFERROR((VLOOKUP(($Q47&T$46),preenchimento_mensal!$A$112:$R$140,18,0)),\"\")","v":""},{"$f":"IFERROR((VLOOKUP(($Q47&U$46),preenchimento_mensal!$A$112:$R$140,18,0)),\"\")","v":""},{"$f":"IFERROR((VLOOKUP(($Q47&V$46),preenchimento_mensal!$A$112:$R$140,18,0)),\"\")","v":""},{"$f":"IFERROR((VLOOKUP(($Q47&W$46),preenchimento_mensal!$A$112:$R$140,18,0)),\"\")","v":""},{"$f":"IFERROR((VLOOKUP(($Q47&X$46),preenchimento_mensal!$A$112:$R$140,18,0)),\"\")","v":""},{"$f":"IFERROR((VLOOKUP(($Q47&Y$46),preenchimento_mensal!$A$112:$R$140,18,0)),\"\")","v":""},{"$f":"IFERROR((VLOOKUP(($Q47&Z$46),preenchimento_mensal!$A$112:$R$140,18,0)),\"\")","v":""},{"$f":"IFERROR((VLOOKUP(($Q47&AA$46),preenchimento_mensal!$A$112:$R$140,18,0)),\"\")","v":""},{"$f":"IFERROR((VLOOKUP(($Q47&AB$46),preenchimento_mensal!$A$112:$R$140,18,0)),\"\")","v":""}]
[null,{"$f":"C48&D48","v":""},"",{"$f":"IF(C48=\"\",\"\",(IFERROR((VLOOKUP(C48,preenchimento_mensal!$C$78:$D$107,2,0)),\"\")))","v":""},{"$f":"IFERROR((VLOOKUP(($C48&E$46),preenchimento_mensal!$A$78:$R$107,18,0)),\"\")","v":""},{"$f":"IFERROR((VLOOKUP(($C48&F$46),preenchimento_mensal!$A$78:$R$107,18,0)),\"\")","v":""},{"$f":"IFERROR((VLOOKUP(($C48&G$46),preenchimento_mensal!$A$78:$R$107,18,0)),\"\")","v":""},{"$f":"IFERROR((VLOOKUP(($C48&H$46),preenchimento_mensal!$A$78:$R$107,18,0)),\"\")","v":""},{"$f":"IFERROR((VLOOKUP(($C48&I$46),preenchimento_mensal!$A$78:$R$107,18,0)),\"\")","v":""},{"$f":"IFERROR((VLOOKUP(($C48&J$46),preenchimento_mensal!$A$78:$R$107,18,0)),\"\")","v":""},{"$f":"IFERROR((VLOOKUP(($C48&K$46),preenchimento_mensal!$A$78:$R$107,18,0)),\"\")","v":""},{"$f":"IFERROR((VLOOKUP(($C48&L$46),preenchimento_mensal!$A$78:$R$107,18,0)),\"\")","v":""},{"$f":"IFERROR((VLOOKUP(($C48&M$46),preenchimento_mensal!$A$78:$R$107,18,0)),\"\")","v":""},{"$f":"IFERROR((VLOOKUP(($C48&N$46),preenchimento_mensal!$A$78:$R$107,18,0)),\"\")","v":""},"",null,"",{"$f":"IF(Q48=\"\",\"\",(VLOOKUP(Q48,preenchimento_mensal!$C$112:$D$140,2,0)))","v":""},{"$f":"IFERROR((VLOOKUP(($Q48&S$46),preenchimento_mensal!$A$112:$R$140,18,0)),\"\")","v":""},{"$f":"IFERROR((VLOOKUP(($Q48&T$46),preenchimento_mensal!$A$112:$R$140,18,0)),\"\")","v":""},{"$f":"IFERROR((VLOOKUP(($Q48&U$46),preenchimento_mensal!$A$112:$R$140,18,0)),\"\")","v":""},{"$f":"IFERROR((VLOOKUP(($Q48&V$46),preenchimento_mensal!$A$112:$R$140,18,0)),\"\")","v":""},{"$f":"IFERROR((VLOOKUP(($Q48&W$46),preenchimento_mensal!$A$112:$R$140,18,0)),\"\")","v":""},{"$f":"IFERROR((VLOOKUP(($Q48&X$46),preenchimento_mensal!$A$112:$R$140,18,0)),\"\")","v":""},{"$f":"IFERROR((VLOOKUP(($Q48&Y$46),preenchimento_mensal!$A$112:$R$140,18,0)),\"\")","v":""},{"$f":"IFERROR((VLOOKUP(($Q48&Z$46),preenchimento_mensal!$A$112:$R$140,18,0)),\"\")","v":""},{"$f":"IFERROR((VLOOKUP(($Q48&AA$46),preenchimento_mensal!$A$112:$R$140,18,0)),\"\")","v":""},{"$f":"IFERROR((VLOOKUP(($Q48&AB$46),preenchimento_mensal!$A$112:$R$140,18,0)),\"\")","v":""}]
[null,"","",{"$f":"IF(C49=\"\",\"\",(IFERROR((VLOOKUP(C49,preenchimento_mensal!$C$78:$D$107,2,0)),\"\")))","v":""},{"$f":"IFERROR((VLOOKUP(($C49&E$46),preenchimento_mensal!$A$78:$R$107,18,0)),\"\")","v":""},{"$f":"IFERROR((VLOOKUP(($C49&F$46),preenchimento_mensal!$A$78:$R$107,18,0)),\"\")","v":""},{"$f":"IFERROR((VLOOKUP(($C49&G$46),preenchimento_mensal!$A$78:$R$107,18,0)),\"\")","v":""},{"$f":"IFERROR((VLOOKUP(($C49&H$46),preenchimento_mensal!$A$78:$R$107,18,0)),\"\")","v":""},{"$f":"IFERROR((VLOOKUP(($C49&I$46),preenchimento_mensal!$A$78:$R$107,18,0)),\"\")","v":""},{"$f":"IFERROR((VLOOKUP(($C49&J$46),preenchimento_mensal!$A$78:$R$107,18,0)),\"\")","v":""},{"$f":"IFERROR((VLOOKUP(($C49&K$46),preenchimento_mensal!$A$78:$R$107,18,0)),\"\")","v":""},{"$f":"IFERROR((VLOOKUP(($C49&L$46),preenchimento_mensal!$A$78:$R$107,18,0)),\"\")","v":""},{"$f":"IFERROR((VLOOKUP(($C49&M$46),preenchimento_mensal!$A$78:$R$107,18,0)),\"\")","v":""},{"$f":"IFERROR((VLOOKUP(($C49&N$46),preenchimento_mensal!$A$78:$R$107,18,0)),\"\")","v":""},"",null,"",{"$f":"IF(Q49=\"\",\"\",(VLOOKUP(Q49,preenchimento_mensal!$C$112:$D$140,2,0)))","v":""},{"$f":"IFERROR((VLOOKUP(($Q49&S$46),preenchimento_mensal!$A$112:$R$140,18,0)),\"\")","v":""},{"$f":"IFERROR((VLOOKUP(($Q49&T$46),preenchimento_mensal!$A$112:$R$140,18,0)),\"\")","v":""},{"$f":"IFERROR((VLOOKUP(($Q49&U$46),preenchimento_mensal!$A$112:$R$140,18,0)),\"\")","v":""},{"$f":"IFERROR((VLOOKUP(($Q49&V$46),preenchimento_mensal!$A$112:$R$140,18,0)),\"\")","v":""},{"$f":"IFERROR((VLOOKUP(($Q49&W$46),preenchimento_mensal!$A$112:$R$140,18,0)),\"\")","v":""},{"$f":"IFERROR((VLOOKUP(($Q49&X$46),preenchimento_mensal!$A$112:$R$140,18,0)),\"\")","v":""},{"$f":"IFERROR((VLOOKUP(($Q49&Y$46),preenchimento_mensal!$A$112:$R$140,18,0)),\"\")","v":""},{"$f":"IFERROR((VLOOKUP(($Q49&Z$46),preenchimento_mensal!$A$112:$R$140,18,0)),\"\")","v":""},{"$f":"IFERROR((VLOOKUP(($Q49&AA$46),preenchimento_mensal!$A$112:$R$140,18,0)),\"\")","v":""},{"$f":"IFERROR((VLOOKUP(($Q49&AB$46),preenchimento_mensal!$A$112:$R$140,18,0)),\"\")","v":""}]
[null,"","",{"$f":"IF(C50=\"\",\"\",(IFERROR((VLOOKUP(C50,preenchimento_mensal!$C$78:$D$107,2,0)),\"\")))","v":""},{"$f":"IFERROR((VLOOKUP(($C50&E$46),preenchimento_mensal!$A$78:$R$107,18,0)),\"\")","v":""},{"$f":"IFERROR((VLOOKUP(($C50&F$46),preenchimento_mensal!$A$78:$R$107,18,0)),\"\")","v":""},{"$f":"IFERROR((VLOOKUP(($C50&G$46),preenchimento_mensal!$A$78:$R$107,18,0)),\"\")","v":""},{"$f":"IFERROR((VLOOKUP(($C50&H$46),preenchimento_mensal!$A$78:$R$107,18,0)),\"\")","v":""},{"$f":"IFERROR((VLOOKUP(($C50&I$46),preenchimento_mensal!$A$78:$R$107,18,0)),\"\")","v":""},{"$f":"IFERROR((VLOOKUP(($C50&J$46),preenchimento_mensal!$A$78:$R$107,18,0)),\"\")","v":""},{"$f":"IFERROR((VLOOKUP(($C50&K$46),preenchimento_mensal!$A$78:$R$107,18,0)),\"\")","v":""},{"$f":"IFERROR((VLOOKUP(($C50&L$46),preenchimento_mensal!$A$78:$R$107,18,0)),\"\")","v":""},{"$f":"IFERROR((VLOOKUP(($C50&M$46),preenchimento_mensal!$A$78:$R$107,18,0)),\"\")","v":""},{"$f":"IFERROR((VLOOKUP(($C50&N$46),preenchimento_mensal!$A$78:$R$107,18,0)),\"\")","v":""},"",null,"",{"$f":"IF(Q50=\"\",\"\",(VLOOKUP(Q50,preenchimento_mensal!$C$112:$D$140,2,0)))","v":""},{"$f":"IFERROR((VLOOKUP(($Q50&S$46),preenchimento_mensal!$A$112:$R$140,18,0)),\"\")","v":""},{"$f":"IFERROR((VLOOKUP(($Q50&T$46),preenchimento_mensal!$A$112:$R$140,18,0)),\"\")","v":""},{"$f":"IFERROR((VLOOKUP(($Q50&U$46),preenchimento_mensal!$A$112:$R$140,18,0)),\"\")","v":""},{"$f":"IFERROR((VLOOKUP(($Q50&V$46),preenchimento_mensal!$A$112:$R$140,18,0)),\"\")","v":""},{"$f":"IFERROR((VLOOKUP(($Q50&W$46),preenchimento_mensal!$A$112:$R$140,18,0)),\"\")","v":""},{"$f":"IFERROR((VLOOKUP(($Q50&X$46),preenchimento_mensal!$A$112:$R$140,18,0)),\"\")","v":""},{"$f":"IFERROR((VLOOKUP(($Q50&Y$46),preenchimento_mensal!$A$112:$R$140,18,0)),\"\")","v":""},{"$f":"IFERROR((VLOOKUP(($Q50&Z$46),preenchimento_mensal!$A$112:$R$140,18,0)),\"\")","v":""},{"$f":"IFERROR((VLOOKUP(($Q50&AA$46),preenchimento_mensal!$A$112:$R$140,18,0)),\"\")","v":""},{"$f":"IFERROR((VLOOKUP(($Q50&AB$46),preenchimento_mensal!$A$112:$R$140,18,0)),\"\")","v":""}]
[{"$f":"C51&D51","v":""},"","",{"$f":"IF(C51=\"\",\"\",(IFERROR((VLOOKUP(C51,preenchimento_mensal!$C$78:$D$107,2,0)),\"\")))","v":""},{"$f":"IFERROR((VLOOKUP(($C51&E$46),preenchimento_mensal!$A$78:$R$107,18,0)),\"\")","v":""},{"$f":"IFERROR((VLOOKUP(($C51&F$46),preenchimento_mensal!$A$78:$R$107,18,0)),\"\")","v":""},{"$f":"IFERROR((VLOOKUP(($C51&G$46),preenchimento_mensal!$A$78:$R$107,18,0)),\"\")","v":""},{"$f":"IFERROR((VLOOKUP(($C51&H$46),preenchimento_mensal!$A$78:$R$107,18,0)),\"\")","v":""},{"$f":"IFERROR((VLOOKUP(($C51&I$46),preenchimento_mensal!$A$78:$R$107,18,0)),\"\")","v":""},{"$f":"IFERROR((VLOOKUP(($C51&J$46),preenchimento_mensal!$A$78:$R$107,18,0)),\"\")","v":""},{"$f":"IFERROR((VLOOKUP(($C51&K$46),preenchimento_mensal!$A$78:$R$107,18,0)),\"\")","v":""},{"$f":"IFERROR((VLOOKUP(($C51&L$46),preenchimento_mensal!$A$78:$R$107,18,0)),\"\")","v":""},{"$f":"IFERROR((VLOOKUP(($C51&M$46),preenchimento_mensal!$A$78:$R$107,18,0)),\"\")","v":""},{"$f":"IFERROR((VLOOKUP(($C51&N$46),preenchimento_mensal!$A$78:$R$107,18,0)),\"\")","v":""},"",null,"",{"$f":"IF(Q51=\"\",\"\",(VLOOKUP(Q51,preenchimento_mensal!$C$112:$D$140,2,0)))","v":""},{"$f":"IFERROR((VLOOKUP(($Q51&S$46),preenchimento_mensal!$A$112:$R$140,18,0)),\"\")","v":""},{"$f":"IFERROR((VLOOKUP(($Q51&T$46),preenchimento_mensal!$A$112:$R$140,18,0)),\"\")","v":""},{"$f":"IFERROR((VLOOKUP(($Q51&U$46),preenchimento_mensal!$A$112:$R$140,18,0)),\"\")","v":""},{"$f":"IFERROR((VLOOKUP(($Q51&V$46),preenchimento_mensal!$A$112:$R$140,18,0)),\"\")","v":""},{"$f":"IFERROR((VLOOKUP(($Q51&W$46),preenchimento_mensal!$A$112:$R$140,18,0)),\"\")","v":""},{"$f":"IFERROR((VLOOKUP(($Q51&X$46),preenchimento_mensal!$A$112:$R$140,18,0)),\"\")","v":""},{"$f":"IFERROR((VLOOKUP(($Q51&Y$46),preenchimento_mensal!$A$112:$R$140,18,0)),\"\")","v":""},{"$f":"IFERROR((VLOOKUP(($Q51&Z$46),preenchimento_mensal!$A$112:$R$140,18,0)),\"\")","v":""},{"$f":"IFERROR((VLOOKUP(($Q51&AA$46),preenchimento_mensal!$A$112:$R$140,18,0)),\"\")","v":""},{"$f":"IFERROR((VLOOKUP(($Q51&AB$46),preenchimento_mensal!$A$112:$R$140,18,0)),\"\")","v":""}]
["","","",{"$f":"IF(C52=\"\",\"\",(IFERROR((VLOOKUP(C52,preenchimento_mensal!$C$78:$D$107,2,0)),\"\")))","v":""},{"$f":"IFERROR((VLOOKUP(($C52&E$46),preenchimento_mensal!$A$78:$R$107,18,0)),\"\")","v":""},{"$f":"IFERROR((VLOOKUP(($C52&F$46),preenchimento_mensal!$A$78:$R$107,18,0)),\"\")","v":""},{"$f":"IFERROR((VLOOKUP(($C52&G$46),preenchimento_mensal!$A$78:$R$107,18,0)),\"\")","v":""},{"$f":"IFERROR((VLOOKUP(($C52&H$46),preenchimento_mensal!$A$78:$R$107,18,0)),\"\")","v":""},{"$f":"IFERROR((VLOOKUP(($C52&I$46),preenchimento_mensal!$A$78:$R$107,18,0)),\"\")","v":""},{"$f":"IFERROR((VLOOKUP(($C52&J$46),preenchimento_mensal!$A$78:$R$107,18,0)),\"\")","v":""},{"$f":"IFERROR((VLOOKUP(($C52&K$46),preenchimento_mensal!$A$78:$R$107,18,0)),\"\")","v":""},{"$f":"IFERROR((VLOOKUP(($C52&L$46),preenchimento_mensal!$A$78:$R$107,18,0)),\"\")","v":""},{"$f":"IFERROR((VLOOKUP(($C52&M$46),preenchimento_mensal!$A$78:$R$107,18,0)),\"\")","v":""},{"$f":"IFERROR((VLOOKUP(($C52&N$46),preenchimento_mensal!$A$78:$R$107,18,0)),\"\")","v":""},"",null,"",{"$f":"IF(Q52=\"\",\"\",(VLOOKUP(Q52,preenchimento_mensal!$C$112:$D$140,2,0)))","v":""},{"$f":"IFERROR((VLOOKUP(($Q52&S$46),preenchimento_mensal!$A$112:$R$140,18,0)),\"\")","v":""},{"$f":"IFERROR((VLOOKUP(($Q52&T$46),preenchimento_mensal!$A$112:$R$140,18,0)),\"\")","v":""},{"$f":"IFERROR((VLOOKUP(($Q52&U$46),preenchimento_mensal!$A$112:$R$140,18,0)),\"\")","v":""},{"$f":"IFERROR((VLOOKUP(($Q52&V$46),preenchimento_mensal!$A$112:$R$140,18,0)),\"\")","v":""},{"$f":"IFERROR((VLOOKUP(($Q52&W$46),preenchimento_mensal!$A$112:$R$140,18,0)),\"\")","v":""},{"$f":"IFERROR((VLOOKUP(($Q52&X$46),preenchimento_mensal!$A$112:$R$140,18,0)),\"\")","v":""},{"$f":"IFERROR((VLOOKUP(($Q52&Y$46),preenchimento_mensal!$A$112:$R$140,18,0)),\"\")","v":""},{"$f":"IFERROR((VLOOKUP(($Q52&Z$46),preenchimento_mensal!$A$112:$R$140,18,0)),\"\")","v":""},{"$f":"IFERROR((VLOOKUP(($Q52&AA$46),preenchimento_mensal!$A$112:$R$140,18,0)),\"\")","v":""},{"$f":"IFERROR((VLOOKUP(($Q52&AB$46),preenchimento_mensal!$A$112:$R$140,18,0)),\"\")","v":""}]
["","","",{"$f":"IF(C53=\"\",\"\",(IFERROR((VLOOKUP(C53,preenchimento_mensal!$C$78:$D$107,2,0)),\"\")))","v":""},{"$f":"IFERROR((VLOOKUP(($C53&E$46),preenchimento_mensal!$A$78:$R$107,18,0)),\"\")","v":""},{"$f":"IFERROR((VLOOKUP(($C53&F$46),preenchimento_mensal!$A$78:$R$107,18,0)),\"\")","v":""},{"$f":"IFERROR((VLOOKUP(($C53&G$46),preenchimento_mensal!$A$78:$R$107,18,0)),\"\")","v":""},{"$f":"IFERROR((VLOOKUP(($C53&H$46),preenchimento_mensal!$A$78:$R$107,18,0)),\"\")","v":""},{"$f":"IFERROR((VLOOKUP(($C53&I$46),preenchimento_mensal!$A$78:$R$107,18,0)),\"\")","v":""},{"$f":"IFERROR((VLOOKUP(($C53&J$46),preenchimento_mensal!$A$78:$R$107,18,0)),\"\")","v":""},{"$f":"IFERROR((VLOOKUP(($C53&K$46),preenchimento_mensal!$A$78:$R$107,18,0)),\"\")","v":""},{"$f":"IFERROR((VLOOKUP(($C53&L$46),preenchimento_mensal!$A$78:$R$107,18,0)),\"\")","v":""},{"$f":"IFERROR((VLOOKUP(($C53&M$46),preenchimento_mensal!$A$78:$R$107,18,0)),\"\")","v":""},{"$f":"IFERROR((VLOOKUP(($C53&N$46),preenchimento_mensal!$A$78:$R$107,18,0)),\"\")","v":""},"",null,"",{"$f":"IF(Q53=\"\",\"\",(VLOOKUP(Q53,preenchimento_mensal!$C$112:$D$140,2,0)))","v":""},{"$f":"IFERROR((VLOOKUP(($Q53&S$46),preenchimento_mensal!$A$112:$R$140,18,0)),\"\")","v":""},{"$f":"IFERROR((VLOOKUP(($Q53&T$46),preenchimento_mensal!$A$112:$R$140,18,0)),\"\")","v":""},{"$f":"IFERROR((VLOOKUP(($Q53&U$46),preenchimento_mensal!$A$112:$R$140,18,0)),\"\")","v":""},{"$f":"IFERROR((VLOOKUP(($Q53&V$46),preenchimento_mensal!$A$112:$R$140,18,0)),\"\")","v":""},{"$f":"IFERROR((VLOOKUP(($Q53&W$46),preenchimento_mensal!$A$112:$R$140,18,0)),\"\")","v":""},{"$f":"IFERROR((VLOOKUP(($Q53&X$46),preenchimento_mensal!$A$112:$R$140,18,0)),\"\")","v":""},{"$f":"IFERROR((VLOOKUP(($Q53&Y$46),preenchimento_mensal!$A$112:$R$140,18,0)),\"\")","v":""},{"$f":"IFERROR((VLOOKUP(($Q53&Z$46),preenchimento_mensal!$A$112:$R$140,18,0)),\"\")","v":""},{"$f":"IFERROR((VLOOKUP(($Q53&AA$46),preenchimento_mensal!$A$112:$R$140,18,0)),\"\")","v":""},{"$f":"IFERROR((VLOOKUP(($Q53&AB$46),preenchimento_mensal!$A$112:$R$140,18,0)),\"\")","v":""}]
["","","",{"$f":"IF(C54=\"\",\"\",(IFERROR((VLOOKUP(C54,preenchimento_mensal!$C$78:$D$107,2,0)),\"\")))","v":""},{"$f":"IFERROR((VLOOKUP(($C54&E$46),preenchimento_mensal!$A$78:$R$107,18,0)),\"\")","v":""},{"$f":"IFERROR((VLOOKUP(($C54&F$46),preenchimento_mensal!$A$78:$R$107,18,0)),\"\")","v":""},{"$f":"IFERROR((VLOOKUP(($C54&G$46),preenchimento_mensal!$A$78:$R$107,18,0)),\"\")","v":""},{"$f":"IFERROR((VLOOKUP(($C54&H$46),preenchimento_mensal!$A$78:$R$107,18,0)),\"\")","v":""},{"$f":"IFERROR((VLOOKUP(($C54&I$46),preenchimento_mensal!$A$78:$R$107,18,0)),\"\")","v":""},{"$f":"IFERROR((VLOOKUP(($C54&J$46),preenchimento_mensal!$A$78:$R$107,18,0)),\"\")","v":""},{"$f":"IFERROR((VLOOKUP(($C54&K$46),preenchimento_mensal!$A$78:$R$107,18,0)),\"\")","v":""},{"$f":"IFERROR((VLOOKUP(($C54&L$46),preenchimento_mensal!$A$78:$R$107,18,0)),\"\")","v":""},{"$f":"IFERROR((VLOOKUP(($C54&M$46),preenchimento_mensal!$A$78:$R$107,18,0)),\"\")","v":""},{"$f":"IFERROR((VLOOKUP(($C54&N$46),preenchimento_mensal!$A$78:$R$107,18,0)),\"\")","v":""},"",null,"",{"$f":"IF(Q54=\"\",\"\",(VLOOKUP(Q54,preenchimento_mensal!$C$112:$D$140,2,0)))","v":""},{"$f":"IFERROR((VLOOKUP(($Q54&S$46),preenchimento_mensal!$A$112:$R$140,18,0)),\"\")","v":""},{"$f":"IFERROR((VLOOKUP(($Q54&T$46),preenchimento_mensal!$A$112:$R$140,18,0)),\"\")","v":""},{"$f":"IFERROR((VLOOKUP(($Q54&U$46),preenchimento_mensal!$A$112:$R$140,18,0)),\"\")","v":""},{"$f":"IFERROR((VLOOKUP(($Q54&V$46),preenchimento_mensal!$A$112:$R$140,18,0)),\"\")","v":""},{"$f":"IFERROR((VLOOKUP(($Q54&W$46),preenchimento_mensal!$A$112:$R$140,18,0)),\"\")","v":""},{"$f":"IFERROR((VLOOKUP(($Q54&X$46),preenchimento_mensal!$A$112:$R$140,18,0)),\"\")","v":""},{"$f":"IFERROR((VLOOKUP(($Q54&Y$46),preenchimento_mensal!$A$112:$R$140,18,0)),\"\")","v":""},{"$f":"IFERROR((VLOOKUP(($Q54&Z$46),preenchimento_mensal!$A$112:$R$140,18,0)),\"\")","v":""},{"$f":"IFERROR((VLOOKUP(($Q54&AA$46),preenchimento_mensal!$A$112:$R$140,18,0)),\"\")","v":""},{"$f":"IFERROR((VLOOKUP(($Q54&AB$46),preenchimento_mensal!$A$112:$R$140,18,0)),\"\")","v":""}]
["","","",{"$f":"IF(C55=\"\",\"\",(IFERROR((VLOOKUP(C55,preenchimento_mensal!$C$78:$D$107,2,0)),\"\")))","v":""},{"$f":"IFERROR((VLOOKUP(($C55&E$46),preenchimento_mensal!$A$78:$R$107,18,0)),\"\")","v":""},{"$f":"IFERROR((VLOOKUP(($C55&F$46),preenchimento_mensal!$A$78:$R$107,18,0)),\"\")","v":""},{"$f":"IFERROR((VLOOKUP(($C55&G$46),preenchimento_mensal!$A$78:$R$107,18,0)),\"\")","v":""},{"$f":"IFERROR((VLOOKUP(($C55&H$46),preenchimento_mensal!$A$78:$R$107,18,0)),\"\")","v":""},{"$f":"IFERROR((VLOOKUP(($C55&I$46),preenchimento_mensal!$A$78:$R$107,18,0)),\"\")","v":""},{"$f":"IFERROR((VLOOKUP(($C55&J$46),preenchimento_mensal!$A$78:$R$107,18,0)),\"\")","v":""},{"$f":"IFERROR((VLOOKUP(($C55&K$46),preenchimento_mensal!$A$78:$R$107,18,0)),\"\")","v":""},{"$f":"IFERROR((VLOOKUP(($C55&L$46),preenchimento_mensal!$A$78:$R$107,18,0)),\"\")","v":""},{"$f":"IFERROR((VLOOKUP(($C55&M$46),preenchimento_mensal!$A$78:$R$107,18,0)),\"\")","v":""},{"$f":"IFERROR((VLOOKUP(($C55&N$46),preenchimento_mensal!$A$78:$R$107,18,0)),\"\")","v":""},"",null,"",{"$f":"IF(Q55=\"\",\"\",(VLOOKUP(Q55,preenchimento_mensal!$C$112:$D$140,2,0)))","v":""},{"$f":"IFERROR((VLOOKUP(($Q55&S$46),preenchimento_mensal!$A$112:$R$140,18,0)),\"\")","v":""},{"$f":"IFERROR((VLOOKUP(($Q55&T$46),preenchimento_mensal!$A$112:$R$140,18,0)),\"\")","v":""},{"$f":"IFERROR((VLOOKUP(($Q55&U$46),preenchimento_mensal!$A$112:$R$140,18,0)),\"\")","v":""},{"$f":"IFERROR((VLOOKUP(($Q55&V$46),preenchimento_mensal!$A$112:$R$140,18,0)),\"\")","v":""},{"$f":"IFERROR((VLOOKUP(($Q55&W$46),preenchimento_mensal!$A$112:$R$140,18,0)),\"\")","v":""},{"$f":"IFERROR((VLOOKUP(($Q55&X$46),preenchimento_mensal!$A$112:$R$140,18,0)),\"\")","v":""},{"$f":"IFERROR((VLOOKUP(($Q55&Y$46),preenchimento_mensal!$A$112:$R$140,18,0)),\"\")","v":""},{"$f":"IFERROR((VLOOKUP(($Q55&Z$46),preenchimento_mensal!$A$112:$R$140,18,0)),\"\")","v":""},{"$f":"IFERROR((VLOOKUP(($Q55&AA$46),preenchimento_mensal!$A$112:$R$140,18,0)),\"\")","v":""},{"$f":"IFERROR((VLOOKUP(($Q55&AB$46),preenchimento_mensal!$A$112:$R$140,18,0)),\"\")","v":""}]
["","",null,{"$f":"IF(C56=\"\",\"\",(IFERROR((VLOOKUP(C56,preenchimento_mensal!$C$78:$D$107,2,0)),\"\")))","v":""},{"$f":"IFERROR((VLOOKUP(($C56&E$46),preenchimento_mensal!$A$78:$R$107,18,0)),\"\")","v":""},{"$f":"IFERROR((VLOOKUP(($C56&F$46),preenchimento_mensal!$A$78:$R$107,18,0)),\"\")","v":""},{"$f":"IFERROR((VLOOKUP(($C56&G$46),preenchimento_mensal!$A$78:$R$107,18,0)),\"\")","v":""},{"$f":"IFERROR((VLOOKUP(($C56&H$46),preenchimento_mensal!$A$78:$R$107,18,0)),\"\")","v":""},{"$f":"IFERROR((VLOOKUP(($C56&I$46),preenchimento_mensal!$A$78:$R$107,18,0)),\"\")","v":""},{"$f":"IFERROR((VLOOKUP(($C56&J$46),preenchimento_mensal!$A$78:$R$107,18,0)),\"\")","v":""},{"$f":"IFERROR((VLOOKUP(($C56&K$46),preenchimento_mensal!$A$78:$R$107,18,0)),\"\")","v":""},{"$f":"IFERROR((VLOOKUP(($C56&L$46),preenchimento_mensal!$A$78:$R$107,18,0)),\"\")","v":""},{"$f":"IFERROR((VLOOKUP(($C56&M$46),preenchimento_mensal!$A$78:$R$107,18,0)),\"\")","v":""},{"$f":"IFERROR((VLOOKUP(($C56&N$46),preenchimento_mensal!$A$78:$R$107,18,0)),\"\")","v":""},"",null,null,{"$f":"IF(Q56=\"\",\"\",(VLOOKUP(Q56,preenchimento_mensal!$C$112:$D$140,2,0)))","v":""},{"$f":"IFERROR((VLOOKUP(($Q56&S$46),preenchimento_mensal!$A$112:$R$140,18,0)),\"\")","v":""},{"$f":"IFERROR((VLOOKUP(($Q56&T$46),preenchimento_mensal!$A$112:$R$140,18,0)),\"\")","v":""},{"$f":"IFERROR((VLOOKUP(($Q56&U$46),preenchimento_mensal!$A$112:$R$140,18,0)),\"\")","v":""},{"$f":"IFERROR((VLOOKUP(($Q56&V$46),preenchimento_mensal!$A$112:$R$140,18,0)),\"\")","v":""},{"$f":"IFERROR((VLOOKUP(($Q56&W$46),preenchimento_mensal!$A$112:$R$140,18,0)),\"\")","v":""},{"$f":"IFERROR((VLOOKUP(($Q56&X$46),preenchimento_mensal!$A$112:$R$140,18,0)),\"\")","v":""},{"$f":"IFERROR((VLOOKUP(($Q56&Y$46),preenchimento_mensal!$A$112:$R$140,18,0)),\"\")","v":""},{"$f":"IFERROR((VLOOKUP(($Q56&Z$46),preenchimento_mensal!$A$112:$R$140,18,0)),\"\")","v":""},{"$f":"IFERROR((VLOOKUP(($Q56&AA$46),preenchimento_mensal!$A$112:$R$140,18,0)),\"\")","v":""},{"$f":"IFERROR((VLOOKUP(($Q56&AB$46),preenchimento_mensal!$A$112:$R$140,18,0)),\"\")","v":""}]
["","",null,{"$f":"IF(C57=\"\",\"\",(IFERROR((VLOOKUP(C57,preenchimento_mensal!$C$78:$D$107,2,0)),\"\")))","v":""},{"$f":"IFERROR((VLOOKUP(($C57&E$46),preenchimento_mensal!$A$78:$R$107,18,0)),\"\")","v":""},{"$f":"IFERROR((VLOOKUP(($C57&F$46),preenchimento_mensal!$A$78:$R$107,18,0)),\"\")","v":""},{"$f":"IFERROR((VLOOKUP(($C57&G$46),preenchimento_mensal!$A$78:$R$107,18,0)),\"\")","v":""},{"$f":"IFERROR((VLOOKUP(($C57&H$46),preenchimento_mensal!$A$78:$R$107,18,0)),\"\")","v":""},{"$f":"IFERROR((VLOOKUP(($C57&I$46),preenchimento_mensal!$A$78:$R$107,18,0)),\"\")","v":""},{"$f":"IFERROR((VLOOKUP(($C57&J$46),preenchimento_mensal!$A$78:$R$107,18,0)),\"\")","v":""},{"$f":"IFERROR((VLOOKUP(($C57&K$46),preenchimento_mensal!$A$78:$R$107,18,0)),\"\")","v":""},{"$f":"IFERROR((VLOOKUP(($C57&L$46),preenchimento_mensal!$A$78:$R$107,18,0)),\"\")","v":""},{"$f":"IFERROR((VLOOKUP(($C57&M$46),preenchimento_mensal!$A$78:$R$107,18,0)),\"\")","v":""},{"$f":"IFERROR((VLOOKUP(($C57&N$46),preenchimento_mensal!$A$78:$R$107,18,0)),\"\")","v":""},"",null,null,{"$f":"IF(Q57=\"\",\"\",(VLOOKUP(Q57,preenchimento_mensal!$C$112:$D$140,2,0)))","v":""},{"$f":"IFERROR((VLOOKUP(($Q57&S$46),preenchimento_mensal!$A$112:$R$140,18,0)),\"\")","v":""},{"$f":"IFERROR((VLOOKUP(($Q57&T$46),preenchimento_mensal!$A$112:$R$140,18,0)),\"\")","v":""},{"$f":"IFERROR((VLOOKUP(($Q57&U$46),preenchimento_mensal!$A$112:$R$140,18,0)),\"\")","v":""},{"$f":"IFERROR((VLOOKUP(($Q57&V$46),preenchimento_mensal!$A$112:$R$140,18,0)),\"\")","v":""},{"$f":"IFERROR((VLOOKUP(($Q57&W$46),preenchimento_mensal!$A$112:$R$140,18,0)),\"\")","v":""},{"$f":"IFERROR((VLOOKUP(($Q57&X$46),preenchimento_mensal!$A$112:$R$140,18,0)),\"\")","v":""},{"$f":"IFERROR((VLOOKUP(($Q57&Y$46),preenchimento_mensal!$A$112:$R$140,18,0)),\"\")","v":""},{"$f":"IFERROR((VLOOKUP(($Q57&Z$46),preenchimento_mensal!$A$112:$R$140,18,0)),\"\")","v":""},{"$f":"IFERROR((VLOOKUP(($Q57&AA$46),preenchimento_mensal!$A$112:$R$140,18,0)),\"\")","v":""},{"$f":"IFERROR((VLOOKUP(($Q57&AB$46),preenchimento_mensal!$A$112:$R$140,18,0)),\"\")","v":""}]
["","",null,{"$f":"IF(C58=\"\",\"\",(IFERROR((VLOOKUP(C58,preenchimento_mensal!$C$78:$D$107,2,0)),\"\")))","v":""},{"$f":"IFERROR((VLOOKUP(($C58&E$46),preenchimento_mensal!$A$78:$R$107,18,0)),\"\")","v":""},{"$f":"IFERROR((VLOOKUP(($C58&F$46),preenchimento_mensal!$A$78:$R$107,18,0)),\"\")","v":""},{"$f":"IFERROR((VLOOKUP(($C58&G$46),preenchimento_mensal!$A$78:$R$107,18,0)),\"\")","v":""},{"$f":"IFERROR((VLOOKUP(($C58&H$46),preenchimento_mensal!$A$78:$R$107,18,0)),\"\")","v":""},{"$f":"IFERROR((VLOOKUP(($C58&I$46),preenchimento_mensal!$A$78:$R$107,18,0)),\"\")","v":""},{"$f":"IFERROR((VLOOKUP(($C58&J$46),preenchimento_mensal!$A$78:$R$107,18,0)),\"\")","v":""},{"$f":"IFERROR((VLOOKUP(($C58&K$46),preenchimento_mensal!$A$78:$R$107,18,0)),\"\")","v":""},{"$f":"IFERROR((VLOOKUP(($C58&L$46),preenchimento_mensal!$A$78:$R$107,18,0)),\"\")","v":""},{"$f":"IFERROR((VLOOKUP(($C58&M$46),preenchimento_mensal!$A$78:$R$107,18,0)),\"\")","v":""},{"$f":"IFERROR((VLOOKUP(($C58&N$46),preenchimento_mensal!$A$78:$R$107,18,0)),\"\")","v":""},"",null,null,{"$f":"IF(Q58=\"\",\"\",(VLOOKUP(Q58,preenchimento_mensal!$C$112:$D$140,2,0)))","v":""},{"$f":"IFERROR((VLOOKUP(($Q58&S$46),preenchimento_mensal!$A$112:$R$140,18,0)),\"\")","v":""},{"$f":"IFERROR((VLOOKUP(($Q58&T$46),preenchimento_mensal!$A$112:$R$140,18,0)),\"\")","v":""},{"$f":"IFERROR((VLOOKUP(($Q58&U$46),preenchimento_mensal!$A$112:$R$140,18,0)),\"\")","v":""},{"$f":"IFERROR((VLOOKUP(($Q58&V$46),preenchimento_mensal!$A$112:$R$140,18,0)),\"\")","v":""},{"$f":"IFERROR((VLOOKUP(($Q58&W$46),preenchimento_mensal!$A$112:$R$140,18,0)),\"\")","v":""},{"$f":"IFERROR((VLOOKUP(($Q58&X$46),preenchimento_mensal!$A$112:$R$140,18,0)),\"\")","v":""},{"$f":"IFERROR((VLOOKUP(($Q58&Y$46),preenchimento_mensal!$A$112:$R$140,18,0)),\"\")","v":""},{"$f":"IFERROR((VLOOKUP(($Q58&Z$46),preenchimento_mensal!$A$112:$R$140,18,0)),\"\")","v":""},{"$f":"IFERROR((VLOOKUP(($Q58&AA$46),preenchimento_mensal!$A$112:$R$140,18,0)),\"\")","v":""},{"$f":"IFERROR((VLOOKUP(($Q58&AB$46),preenchimento_mensal!$A$112:$R$140,18,0)),\"\")","v":""}]
["","",null,{"$f":"IF(C59=\"\",\"\",(IFERROR((VLOOKUP(C59,preenchimento_mensal!$C$78:$D$107,2,0)),\"\")))","v":""},{"$f":"IFERROR((VLOOKUP(($C59&E$46),preenchimento_mensal!$A$78:$R$107,18,0)),\"\")","v":""},{"$f":"IFERROR((VLOOKUP(($C59&F$46),preenchimento_mensal!$A$78:$R$107,18,0)),\"\")","v":""},{"$f":"IFERROR((VLOOKUP(($C59&G$46),preenchimento_mensal!$A$78:$R$107,18,0)),\"\")","v":""},{"$f":"IFERROR((VLOOKUP(($C59&H$46),preenchimento_mensal!$A$78:$R$107,18,0)),\"\")","v":""},{"$f":"IFERROR((VLOOKUP(($C59&I$46),preenchimento_mensal!$A$78:$R$107,18,0)),\"\")","v":""},{"$f":"IFERROR((VLOOKUP(($C59&J$46),preenchimento_mensal!$A$78:$R$107,18,0)),\"\")","v":""},{"$f":"IFERROR((VLOOKUP(($C59&K$46),preenchimento_mensal!$A$78:$R$107,18,0)),\"\")","v":""},{"$f":"IFERROR((VLOOKUP(($C59&L$46),preenchimento_mensal!$A$78:$R$107,18,0)),\"\")","v":""},{"$f":"IFERROR((VLOOKUP(($C59&M$46),preenchimento_mensal!$A$78:$R$107,18,0)),\"\")","v":""},{"$f":"IFERROR((VLOOKUP(($C59&N$46),preenchimento_mensal!$A$78:$R$107,18,0)),\"\")","v":""},"",null,null,{"$f":"IF(Q59=\"\",\"\",(VLOOKUP(Q59,preenchimento_mensal!$C$112:$D$140,2,0)))","v":""},{"$f":"IFERROR((VLOOKUP(($Q59&S$46),preenchimento_mensal!$A$112:$R$140,18,0)),\"\")","v":""},{"$f":"IFERROR((VLOOKUP(($Q59&T$46),preenchimento_mensal!$A$112:$R$140,18,0)),\"\")","v":""},{"$f":"IFERROR((VLOOKUP(($Q59&U$46),preenchimento_mensal!$A$112:$R$140,18,0)),\"\")","v":""},{"$f":"IFERROR((VLOOKUP(($Q59&V$46),preenchimento_mensal!$A$112:$R$140,18,0)),\"\")","v":""},{"$f":"IFERROR((VLOOKUP(($Q59&W$46),preenchimento_mensal!$A$112:$R$140,18,0)),\"\")","v":""},{"$f":"IFERROR((VLOOKUP(($Q59&X$46),preenchimento_mensal!$A$112:$R$140,18,0)),\"\")","v":""},{"$f":"IFERROR((VLOOKUP(($Q59&Y$46),preenchimento_mensal!$A$112:$R$140,18,0)),\"\")","v":""},{"$f":"IFERROR((VLOOKUP(($Q59&Z$46),preenchimento_mensal!$A$112:$R$140,18,0)),\"\")","v":""},{"$f":"IFERROR((VLOOKUP(($Q59&AA$46),preenchimento_mensal!$A$112:$R$140,18,0)),\"\")","v":""},{"$f":"IFERROR((VLOOKUP(($Q59&AB$46),preenchimento_mensal!$A$112:$R$140,18,0)),\"\")","v":""}]
["","",null,{"$f":"IF(C60=\"\",\"\",(IFERROR((VLOOKUP(C60,preenchimento_mensal!$C$78:$D$107,2,0)),\"\")))","v":""},{"$f":"IFERROR((VLOOKUP(($C60&E$46),preenchimento_mensal!$A$78:$R$107,18,0)),\"\")","v":""},{"$f":"IFERROR((VLOOKUP(($C60&F$46),preenchimento_mensal!$A$78:$R$107,18,0)),\"\")","v":""},{"$f":"IFERROR((VLOOKUP(($C60&G$46),preenchimento_mensal!$A$78:$R$107,18,0)),\"\")","v":""},{"$f":"IFERROR((VLOOKUP(($C60&H$46),preenchimento_mensal!$A$78:$R$107,18,0)),\"\")","v":""},{"$f":"IFERROR((VLOOKUP(($C60&I$46),preenchimento_mensal!$A$78:$R$107,18,0)),\"\")","v":""},{"$f":"IFERROR((VLOOKUP(($C60&J$46),preenchimento_mensal!$A$78:$R$107,18,0)),\"\")","v":""},{"$f":"IFERROR((VLOOKUP(($C60&K$46),preenchimento_mensal!$A$78:$R$107,18,0)),\"\")","v":""},{"$f":"IFERROR((VLOOKUP(($C60&L$46),preenchimento_mensal!$A$78:$R$107,18,0)),\"\")","v":""},{"$f":"IFERROR((VLOOKUP(($C60&M$46),preenchimento_mensal!$A$78:$R$107,18,0)),\"\")","v":""},{"$f":"IFERROR((VLOOKUP(($C60&N$46),preenchimento_mensal!$A$78:$R$107,18,0)),\"\")","v":""},"",null,null,{"$f":"IF(Q60=\"\",\"\",(VLOOKUP(Q60,preenchimento_mensal!$C$112:$D$140,2,0)))","v":""},{"$f":"IFERROR((VLOOKUP(($Q60&S$46),preenchimento_mensal!$A$112:$R$140,18,0)),\"\")","v":""},{"$f":"IFERROR((VLOOKUP(($Q60&T$46),preenchimento_mensal!$A$112:$R$140,18,0)),\"\")","v":""},{"$f":"IFERROR((VLOOKUP(($Q60&U$46),preenchimento_mensal!$A$112:$R$140,18,0)),\"\")","v":""},{"$f":"IFERROR((VLOOKUP(($Q60&V$46),preenchimento_mensal!$A$112:$R$140,18,0)),\"\")","v":""},{"$f":"IFERROR((VLOOKUP(($Q60&W$46),preenchimento_mensal!$A$112:$R$140,18,0)),\"\")","v":""},{"$f":"IFERROR((VLOOKUP(($Q60&X$46),preenchimento_mensal!$A$112:$R$140,18,0)),\"\")","v":""},{"$f":"IFERROR((VLOOKUP(($Q60&Y$46),preenchimento_mensal!$A$112:$R$140,18,0)),\"\")","v":""},{"$f":"IFERROR((VLOOKUP(($Q60&Z$46),preenchimento_mensal!$A$112:$R$140,18,0)),\"\")","v":""},{"$f":"IFERROR((VLOOKUP(($Q60&AA$46),preenchimento_mensal!$A$112:$R$140,18,0)),\"\")","v":""},{"$f":"IFERROR((VLOOKUP(($Q60&AB$46),preenchimento_mensal!$A$112:$R$140,18,0)),\"\")","v":""}]
["","",null,{"$f":"IF(C61=\"\",\"\",(IFERROR((VLOOKUP(C61,preenchimento_mensal!$C$78:$D$107,2,0)),\"\")))","v":""},{"$f":"IFERROR((VLOOKUP(($C61&E$46),preenchimento_mensal!$A$78:$R$107,18,0)),\"\")","v":""},{"$f":"IFERROR((VLOOKUP(($C61&F$46),preenchimento_mensal!$A$78:$R$107,18,0)),\"\")","v":""},{"$f":"IFERROR((VLOOKUP(($C61&G$46),preenchimento_mensal!$A$78:$R$107,18,0)),\"\")","v":""},{"$f":"IFERROR((VLOOKUP(($C61&H$46),preenchimento_mensal!$A$78:$R$107,18,0)),\"\")","v":""},{"$f":"IFERROR((VLOOKUP(($C61&I$46),preenchimento_mensal!$A$78:$R$107,18,0)),\"\")","v":""},{"$f":"IFERROR((VLOOKUP(($C61&J$46),preenchimento_mensal!$A$78:$R$107,18,0)),\"\")","v":""},{"$f":"IFERROR((VLOOKUP(($C61&K$46),preenchimento_mensal!$A$78:$R$107,18,0)),\"\")","v":""},{"$f":"IFERROR((VLOOKUP(($C61&L$46),preenchimento_mensal!$A$78:$R$107,18,0)),\"\")","v":""},{"$f":"IFERROR((VLOOKUP(($C61&M$46),preenchimento_mensal!$A$78:$R$107,18,0)),\"\")","v":""},{"$f":"IFERROR((VLOOKUP(($C61&N$46),preenchimento_mensal!$A$78:$R$107,18,0)),\"\")","v":""},"",null,null,{"$f":"IF(Q61=\"\",\"\",(VLOOKUP(Q61,preenchimento_mensal!$C$112:$D$140,2,0)))","v":""},{"$f":"IFERROR((VLOOKUP(($Q61&S$46),preenchimento_mensal!$A$112:$R$140,18,0)),\"\")","v":""},{"$f":"IFERROR((VLOOKUP(($Q61&T$46),preenchimento_mensal!$A$112:$R$140,18,0)),\"\")","v":""},{"$f":"IFERROR((VLOOKUP(($Q61&U$46),preenchimento_mensal!$A$112:$R$140,18,0)),\"\")","v":""},{"$f":"IFERROR((VLOOKUP(($Q61&V$46),preenchimento_mensal!$A$112:$R$140,18,0)),\"\")","v":""},{"$f":"IFERROR((VLOOKUP(($Q61&W$46),preenchimento_mensal!$A$112:$R$140,18,0)),\"\")","v":""},{"$f":"IFERROR((VLOOKUP(($Q61&X$46),preenchimento_mensal!$A$112:$R$140,18,0)),\"\")","v":""},{"$f":"IFERROR((VLOOKUP(($Q61&Y$46),preenchimento_mensal!$A$112:$R$140,18,0)),\"\")","v":""},{"$f":"IFERROR((VLOOKUP(($Q61&Z$46),preenchimento_mensal!$A$112:$R$140,18,0)),\"\")","v":""},{"$f":"IFERROR((VLOOKUP(($Q61&AA$46),preenchimento_mensal!$A$112:$R$140,18,0)),\"\")","v":""},{"$f":"IFERROR((VLOOKUP(($Q61&AB$46),preenchimento_mensal!$A$112:$R$140,18,0)),\"\")","v":""}]
["","",null,{"$f":"IF(C62=\"\",\"\",(IFERROR((VLOOKUP(C62,preenchimento_mensal!$C$78:$D$107,2,0)),\"\")))","v":""},{"$f":"IFERROR((VLOOKUP(($C62&E$46),preenchimento_mensal!$A$78:$R$107,18,0)),\"\")","v":""},{"$f":"IFERROR((VLOOKUP(($C62&F$46),preenchimento_mensal!$A$78:$R$107,18,0)),\"\")","v":""},{"$f":"IFERROR((VLOOKUP(($C62&G$46),preenchimento_mensal!$A$78:$R$107,18,0)),\"\")","v":""},{"$f":"IFERROR((VLOOKUP(($C62&H$46),preenchimento_mensal!$A$78:$R$107,18,0)),\"\")","v":""},{"$f":"IFERROR((VLOOKUP(($C62&I$46),preenchimento_mensal!$A$78:$R$107,18,0)),\"\")","v":""},{"$f":"IFERROR((VLOOKUP(($C62&J$46),preenchimento_mensal!$A$78:$R$107,18,0)),\"\")","v":""},{"$f":"IFERROR((VLOOKUP(($C62&K$46),preenchimento_mensal!$A$78:$R$107,18,0)),\"\")","v":""},{"$f":"IFERROR((VLOOKUP(($C62&L$46),preenchimento_mensal!$A$78:$R$107,18,0)),\"\")","v":""},{"$f":"IFERROR((VLOOKUP(($C62&M$46),preenchimento_mensal!$A$78:$R$107,18,0)),\"\")","v":""},{"$f":"IFERROR((VLOOKUP(($C62&N$46),preenchimento_mensal!$A$78:$R$107,18,0)),\"\")","v":""},"",null,null,{"$f":"IF(Q62=\"\",\"\",(VLOOKUP(Q62,preenchimento_mensal!$C$112:$D$140,2,0)))","v":""},{"$f":"IFERROR((VLOOKUP(($Q62&S$46),preenchimento_mensal!$A$112:$R$140,18,0)),\"\")","v":""},{"$f":"IFERROR((VLOOKUP(($Q62&T$46),preenchimento_mensal!$A$112:$R$140,18,0)),\"\")","v":""},{"$f":"IFERROR((VLOOKUP(($Q62&U$46),preenchimento_mensal!$A$112:$R$140,18,0)),\"\")","v":""},{"$f":"IFERROR((VLOOKUP(($Q62&V$46),preenchimento_mensal!$A$112:$R$140,18,0)),\"\")","v":""},{"$f":"IFERROR((VLOOKUP(($Q62&W$46),preenchimento_mensal!$A$112:$R$140,18,0)),\"\")","v":""},{"$f":"IFERROR((VLOOKUP(($Q62&X$46),preenchimento_mensal!$A$112:$R$140,18,0)),\"\")","v":""},{"$f":"IFERROR((VLOOKUP(($Q62&Y$46),preenchimento_mensal!$A$112:$R$140,18,0)),\"\")","v":""},{"$f":"IFERROR((VLOOKUP(($Q62&Z$46),preenchimento_mensal!$A$112:$R$140,18,0)),\"\")","v":""},{"$f":"IFERROR((VLOOKUP(($Q62&AA$46),preenchimento_mensal!$A$112:$R$140,18,0)),\"\")","v":""},{"$f":"IFERROR((VLOOKUP(($Q62&AB$46),preenchimento_mensal!$A$112:$R$140,18,0)),\"\")","v":""}]
["","",null,{"$f":"IF(C63=\"\",\"\",(IFERROR((VLOOKUP(C63,preenchimento_mensal!$C$78:$D$107,2,0)),\"\")))","v":""},{"$f":"IFERROR((VLOOKUP(($C63&E$46),preenchimento_mensal!$A$78:$R$107,18,0)),\"\")","v":""},{"$f":"IFERROR((VLOOKUP(($C63&F$46),preenchimento_mensal!$A$78:$R$107,18,0)),\"\")","v":""},{"$f":"IFERROR((VLOOKUP(($C63&G$46),preenchimento_mensal!$A$78:$R$107,18,0)),\"\")","v":""},{"$f":"IFERROR((VLOOKUP(($C63&H$46),preenchimento_mensal!$A$78:$R$107,18,0)),\"\")","v":""},{"$f":"IFERROR((VLOOKUP(($C63&I$46),preenchimento_mensal!$A$78:$R$107,18,0)),\"\")","v":""},{"$f":"IFERROR((VLOOKUP(($C63&J$46),preenchimento_mensal!$A$78:$R$107,18,0)),\"\")","v":""},{"$f":"IFERROR((VLOOKUP(($C63&K$46),preenchimento_mensal!$A$78:$R$107,18,0)),\"\")","v":""},{"$f":"IFERROR((VLOOKUP(($C63&L$46),preenchimento_mensal!$A$78:$R$107,18,0)),\"\")","v":""},{"$f":"IFERROR((VLOOKUP(($C63&M$46),preenchimento_mensal!$A$78:$R$107,18,0)),\"\")","v":""},{"$f":"IFERROR((VLOOKUP(($C63&N$46),preenchimento_mensal!$A$78:$R$107,18,0)),\"\")","v":""},"",null,null,{"$f":"IF(Q63=\"\",\"\",(VLOOKUP(Q63,preenchimento_mensal!$C$112:$D$140,2,0)))","v":""},{"$f":"IFERROR((VLOOKUP(($Q63&S$46),preenchimento_mensal!$A$112:$R$140,18,0)),\"\")","v":""},{"$f":"IFERROR((VLOOKUP(($Q63&T$46),preenchimento_mensal!$A$112:$R$140,18,0)),\"\")","v":""},{"$f":"IFERROR((VLOOKUP(($Q63&U$46),preenchimento_mensal!$A$112:$R$140,18,0)),\"\")","v":""},{"$f":"IFERROR((VLOOKUP(($Q63&V$46),preenchimento_mensal!$A$112:$R$140,18,0)),\"\")","v":""},{"$f":"IFERROR((VLOOKUP(($Q63&W$46),preenchimento_mensal!$A$112:$R$140,18,0)),\"\")","v":""},{"$f":"IFERROR((VLOOKUP(($Q63&X$46),preenchimento_mensal!$A$112:$R$140,18,0)),\"\")","v":""},{"$f":"IFERROR((VLOOKUP(($Q63&Y$46),preenchimento_mensal!$A$112:$R$140,18,0)),\"\")","v":""},{"$f":"IFERROR((VLOOKUP(($Q63&Z$46),preenchimento_mensal!$A$112:$R$140,18,0)),\"\")","v":""},{"$f":"IFERROR((VLOOKUP(($Q63&AA$46),preenchimento_mensal!$A$112:$R$140,18,0)),\"\")","v":""},{"$f":"IFERROR((VLOOKUP(($Q63&AB$46),preenchimento_mensal!$A$112:$R$140,18,0)),\"\")","v":""}]
["","",null,{"$f":"IF(C64=\"\",\"\",(IFERROR((VLOOKUP(C64,preenchimento_mensal!$C$78:$D$107,2,0)),\"\")))","v":""},{"$f":"IFERROR((VLOOKUP(($C64&E$46),preenchimento_mensal!$A$78:$R$107,18,0)),\"\")","v":""},{"$f":"IFERROR((VLOOKUP(($C64&F$46),preenchimento_mensal!$A$78:$R$107,18,0)),\"\")","v":""},{"$f":"IFERROR((VLOOKUP(($C64&G$46),preenchimento_mensal!$A$78:$R$107,18,0)),\"\")","v":""},{"$f":"IFERROR((VLOOKUP(($C64&H$46),preenchimento_mensal!$A$78:$R$107,18,0)),\"\")","v":""},{"$f":"IFERROR((VLOOKUP(($C64&I$46),preenchimento_mensal!$A$78:$R$107,18,0)),\"\")","v":""},{"$f":"IFERROR((VLOOKUP(($C64&J$46),preenchimento_mensal!$A$78:$R$107,18,0)),\"\")","v":""},{"$f":"IFERROR((VLOOKUP(($C64&K$46),preenchimento_mensal!$A$78:$R$107,18,0)),\"\")","v":""},{"$f":"IFERROR((VLOOKUP(($C64&L$46),preenchimento_mensal!$A$78:$R$107,18,0)),\"\")","v":""},{"$f":"IFERROR((VLOOKUP(($C64&M$46),preenchimento_mensal!$A$78:$R$107,18,0)),\"\")","v":""},{"$f":"IFERROR((VLOOKUP(($C64&N$46),preenchimento_mensal!$A$78:$R$107,18,0)),\"\")","v":""},"",null,null,{"$f":"IF(Q64=\"\",\"\",(VLOOKUP(Q64,preenchimento_mensal!$C$112:$D$140,2,0)))","v":""},{"$f":"IFERROR((VLOOKUP(($Q64&S$46),preenchimento_mensal!$A$112:$R$140,18,0)),\"\")","v":""},{"$f":"IFERROR((VLOOKUP(($Q64&T$46),preenchimento_mensal!$A$112:$R$140,18,0)),\"\")","v":""},{"$f":"IFERROR((VLOOKUP(($Q64&U$46),preenchimento_mensal!$A$112:$R$140,18,0)),\"\")","v":""},{"$f":"IFERROR((VLOOKUP(($Q64&V$46),preenchimento_mensal!$A$112:$R$140,18,0)),\"\")","v":""},{"$f":"IFERROR((VLOOKUP(($Q64&W$46),preenchimento_mensal!$A$112:$R$140,18,0)),\"\")","v":""},{"$f":"IFERROR((VLOOKUP(($Q64&X$46),preenchimento_mensal!$A$112:$R$140,18,0)),\"\")","v":""},{"$f":"IFERROR((VLOOKUP(($Q64&Y$46),preenchimento_mensal!$A$112:$R$140,18,0)),\"\")","v":""},{"$f":"IFERROR((VLOOKUP(($Q64&Z$46),preenchimento_mensal!$A$112:$R$140,18,0)),\"\")","v":""},{"$f":"IFERROR((VLOOKUP(($Q64&AA$46),preenchimento_mensal!$A$112:$R$140,18,0)),\"\")","v":""},{"$f":"IFERROR((VLOOKUP(($Q64&AB$46),preenchimento_mensal!$A$112:$R$140,18,0)),\"\")","v":""}]
["","",null,{"$f":"IF(C65=\"\",\"\",(IFERROR((VLOOKUP(C65,preenchimento_mensal!$C$78:$D$107,2,0)),\"\")))","v":""},{"$f":"IFERROR((VLOOKUP(($C65&E$46),preenchimento_mensal!$A$78:$R$107,18,0)),\"\")","v":""},{"$f":"IFERROR((VLOOKUP(($C65&F$46),preenchimento_mensal!$A$78:$R$107,18,0)),\"\")","v":""},{"$f":"IFERROR((VLOOKUP(($C65&G$46),preenchimento_mensal!$A$78:$R$107,18,0)),\"\")","v":""},{"$f":"IFERROR((VLOOKUP(($C65&H$46),preenchimento_mensal!$A$78:$R$107,18,0)),\"\")","v":""},{"$f":"IFERROR((VLOOKUP(($C65&I$46),preenchimento_mensal!$A$78:$R$107,18,0)),\"\")","v":""},{"$f":"IFERROR((VLOOKUP(($C65&J$46),preenchimento_mensal!$A$78:$R$107,18,0)),\"\")","v":""},{"$f":"IFERROR((VLOOKUP(($C65&K$46),preenchimento_mensal!$A$78:$R$107,18,0)),\"\")","v":""},{"$f":"IFERROR((VLOOKUP(($C65&L$46),preenchimento_mensal!$A$78:$R$107,18,0)),\"\")","v":""},{"$f":"IFERROR((VLOOKUP(($C65&M$46),preenchimento_mensal!$A$78:$R$107,18,0)),\"\")","v":""},{"$f":"IFERROR((VLOOKUP(($C65&N$46),preenchimento_mensal!$A$78:$R$107,18,0)),\"\")","v":""},"",null,null,{"$f":"IF(Q65=\"\",\"\",(VLOOKUP(Q65,preenchimento_mensal!$C$112:$D$140,2,0)))","v":""},{"$f":"IFERROR((VLOOKUP(($Q65&S$46),preenchimento_mensal!$A$112:$R$140,18,0)),\"\")","v":""},{"$f":"IFERROR((VLOOKUP(($Q65&T$46),preenchimento_mensal!$A$112:$R$140,18,0)),\"\")","v":""},{"$f":"IFERROR((VLOOKUP(($Q65&U$46),preenchimento_mensal!$A$112:$R$140,18,0)),\"\")","v":""},{"$f":"IFERROR((VLOOKUP(($Q65&V$46),preenchimento_mensal!$A$112:$R$140,18,0)),\"\")","v":""},{"$f":"IFERROR((VLOOKUP(($Q65&W$46),preenchimento_mensal!$A$112:$R$140,18,0)),\"\")","v":""},{"$f":"IFERROR((VLOOKUP(($Q65&X$46),preenchimento_mensal!$A$112:$R$140,18,0)),\"\")","v":""},{"$f":"IFERROR((VLOOKUP(($Q65&Y$46),preenchimento_mensal!$A$112:$R$140,18,0)),\"\")","v":""},{"$f":"IFERROR((VLOOKUP(($Q65&Z$46),preenchimento_mensal!$A$112:$R$140,18,0)),\"\")","v":""},{"$f":"IFERROR((VLOOKUP(($Q65&AA$46),preenchimento_mensal!$A$112:$R$140,18,0)),\"\")","v":""},{"$f":"IFERROR((VLOOKUP(($Q65&AB$46),preenchimento_mensal!$A$112:$R$140,18,0)),\"\")","v":""}]
["","",{"$f":"IF(C42=\"\",\"\",C42)","v":""},{"$f":"IF(C66=\"\",\"\",(IFERROR((VLOOKUP(C66,preenchimento_mensal!$C$78:$D$107,2,0)),\"\")))","v":""},{"$f":"IFERROR((VLOOKUP(($C66&E$46),preenchimento_mensal!$A$78:$R$107,18,0)),\"\")","v":""},{"$f":"IFERROR((VLOOKUP(($C66&F$46),preenchimento_mensal!$A$78:$R$107,18,0)),\"\")","v":""},{"$f":"IFERROR((VLOOKUP(($C66&G$46),preenchimento_mensal!$A$78:$R$107,18,0)),\"\")","v":""},{"$f":"IFERROR((VLOOKUP(($C66&H$46),preenchimento_mensal!$A$78:$R$107,18,0)),\"\")","v":""},{"$f":"IFERROR((VLOOKUP(($C66&I$46),preenchimento_mensal!$A$78:$R$107,18,0)),\"\")","v":""},{"$f":"IFERROR((VLOOKUP(($C66&J$46),preenchimento_mensal!$A$78:$R$107,18,0)),\"\")","v":""},{"$f":"IFERROR((VLOOKUP(($C66&K$46),preenchimento_mensal!$A$78:$R$107,18,0)),\"\")","v":""},{"$f":"IFERROR((VLOOKUP(($C66&L$46),preenchimento_mensal!$A$78:$R$107,18,0)),\"\")","v":""},{"$f":"IFERROR((VLOOKUP(($C66&M$46),preenchimento_mensal!$A$78:$R$107,18,0)),\"\")","v":""},{"$f":"IFERROR((VLOOKUP(($C66&N$46),preenchimento_mensal!$A$78:$R$107,18,0)),\"\")","v":""},"",null,{"$f":"IF(Q42=\"\",\"\",Q42)","v":""},{"$f":"IF(Q66=\"\",\"\",(VLOOKUP(Q66,preenchimento_mensal!$C$112:$D$140,2,0)))","v":""},{"$f":"IFERROR((VLOOKUP(($Q66&S$46),preenchimento_mensal!$A$112:$R$140,18,0)),\"\")","v":""},{"$f":"IFERROR((VLOOKUP(($Q66&T$46),preenchimento_mensal!$A$112:$R$140,18,0)),\"\")","v":""},{"$f":"IFERROR((VLOOKUP(($Q66&U$46),preenchimento_mensal!$A$112:$R$140,18,0)),\"\")","v":""},{"$f":"IFERROR((VLOOKUP(($Q66&V$46),preenchimento_mensal!$A$112:$R$140,18,0)),\"\")","v":""},{"$f":"IFERROR((VLOOKUP(($Q66&W$46),preenchimento_mensal!$A$112:$R$140,18,0)),\"\")","v":""},{"$f":"IFERROR((VLOOKUP(($Q66&X$46),preenchimento_mensal!$A$112:$R$140,18,0)),\"\")","v":""},{"$f":"IFERROR((VLOOKUP(($Q66&Y$46),preenchimento_mensal!$A$112:$R$140,18,0)),\"\")","v":""},{"$f":"IFERROR((VLOOKUP(($Q66&Z$46),preenchimento_mensal!$A$112:$R$140,18,0)),\"\")","v":""},{"$f":"IFERROR((VLOOKUP(($Q66&AA$46),preenchimento_mensal!$A$112:$R$140,18,0)),\"\")","v":""},{"$f":"IFERROR((VLOOKUP(($Q66&AB$46),preenchimento_mensal!$A$112:$R$140,18,0)),\"\")","v":""}]
[]
[]
[]
[null,null,null,"RECEITA TOTAL em R$ (Produtos in natura)",null,null,null,"VOLUME PRODUÇÃO TOTAL (Produtos in natura)",null,null,null,null,null,"FATURAMENTO POR PRODUTO (in natura)"]
[]
[null,null,"Produtos in natura","Ano Base","Último Ano","Variação (%)","Receita Acumulada","Unidade Medida","Ano Base","Último Ano","Variação (%)","Produção Acumulada"]
[null,null,{"$f":"IF(C23=\"\",\"\",C23)","v":""},{"$f":"IF(C73=\"\",\"\",(SUMIF(dados_exp!$F$2:$L$301,(questionario!C23&questionario!B23),dados_exp!$K$2:$K$301))+(SUMIF(dados_exp!$F$2:$L$301,(questionario!C23&questionario!B23),dados_exp!$L$2:$L$301)))","v":""},{"$f":"IF(C73=\"\",\"\",(SUMIF(dados_exp!$F$2:$L$301,(questionario!C23&questionario!P23),dados_exp!$K$2:$K$301))+(SUMIF(dados_exp!$F$2:$L$301,(questionario!C23&questionario!P23),dados_exp!$L$2:$L$301)))","v":""},{"$f":"IF(C73=\"\",\"\",((E73-D73)/E73))","v":""},{"$f":"IF(C73=\"\",\"\",(SUMIF(dados_exp!$G$2:$L$301,questionario!C73,dados_exp!$K$2:$K$301)+SUMIF(dados_exp!$G$2:$L$301,questionario!C73,dados_exp!$L$2:$L$301)))","v":""},{"$f":"IF(D47=\"\",\"\",D47)","v":""},{"$f":"IF(C73=\"\",\"\",(SUMIF(dados_exp!$F$2:$N$301,(questionario!C23&questionario!B23),dados_exp!$M$2:$M$301))+(SUMIF(dados_exp!$F$2:$N$301,(questionario!C23&questionario!B23),dados_exp!$N$2:$N$301)))","v":""},{"$f":"IF(C73=\"\",\"\",(SUMIF(dados_exp!$F$2:$N$301,(questionario!C23&questionario!P23),dados_exp!$M$2:$M$301))+(SUMIF(dados_exp!$F$2:$N$301,(questionario!C23&questionario!P23),dados_exp!$N$2:$N$301)))","v":""},{"$f":"IF(G73=\"\",\"\",((J73-I73)/J73))","v":""},{"$f":"IF(C73=\"\",\"\",(SUMIF(dados_exp!$G$2:$N$301,questionario!C73,dados_exp!$M$2:$M$301)+SUMIF(dados_exp!$G$2:$N$301,questionario!C73,dados_exp!$N$2:$N$301)))","v":""}]
[null,null,{"$f":"IF(C24=\"\",\"\",C24)","v":""},{"$f":"IF(C74=\"\",\"\",(SUMIF(dados_exp!$F$2:$L$301,(questionario!C24&questionario!B24),dados_exp!$K$2:$K$301))+(SUMIF(dados_exp!$F$2:$L$301,(questionario!C24&questionario!B24),dados_exp!$L$2:$L$301)))","v":""},{"$f":"IF(C74=\"\",\"\",(SUMIF(dados_exp!$F$2:$L$301,(questionario!C24&questionario!P24),dados_exp!$K$2:$K$301))+(SUMIF(dados_exp!$F$2:$L$301,(questionario!C24&questionario!P24),dados_exp!$L$2:$L$301)))","v":""},"",{"$f":"IF(C74=\"\",\"\",(SUMIF(dados_exp!$G$2:$L$301,questionario!C74,dados_exp!$K$2:$K$301)+SUMIF(dados_exp!$G$2:$L$301,questionario!C74,dados_exp!$L$2:$L$301)))","v":""},{"$f":"IF(D48=\"\",\"\",D48)","v":""},{"$f":"IF(C74=\"\",\"\",(SUMIF(dados_exp!$F$2:$N$301,(questionario!C24&questionario!B24),dados_exp!$M$2:$M$301))+(SUMIF(dados_exp!$F$2:$N$301,(questionario!C24&questionario!B24),dados_exp!$N$2:$N$301)))","v":""},{"$f":"IF(C74=\"\",\"\",(SUMIF(dados_exp!$F$2:$N$301,(questionario!C24&questionario!P24),dados_exp!$M$2:$M$301))+(SUMIF(dados_exp!$F$2:$N$301,(questionario!C24&questionario!P24),dados_exp!$N$2:$N$301)))","v":""},{"$f":"IF(G74=\"\",\"\",((J74-I74)/J74))","v":""},{"$f":"IF(C74=\"\",\"\",(SUMIF(dados_exp!$G$2:$N$301,questionario!C74,dados_exp!$M$2:$M$301)+SUMIF(dados_exp!$G$2:$N$301,questionario!C74,dados_exp!$N$2:$N$301)))","v":""}]
[null,null,"",{"$f":"IF(C75=\"\",\"\",(SUMIF(dados_exp!$F$2:$L$301,(questionario!C25&questionario!B25),dados_exp!$K$2:$K$301))+(SUMIF(dados_exp!$F$2:$L$301,(questionario!C25&questionario!B25),dados_exp!$L$2:$L$301)))","v":""},{"$f":"IF(C75=\"\",\"\",(SUMIF(dados_exp!$F$2:$L$301,(questionario!C25&questionario!P25),dados_exp!$K$2:$K$301))+(SUMIF(dados_exp!$F$2:$L$301,(questionario!C25&questionario!P25),dados_exp!$L$2:$L$301)))","v":""},"",{"$f":"IF(C75=\"\",\"\",(SUMIF(dados_exp!$G$2:$L$301,questionario!C75,dados_exp!$K$2:$K$301)+SUMIF(dados_exp!$G$2:$L$301,questionario!C75,dados_exp!$L$2:$L$301)))","v":""},"",{"$f":"IF(C75=\"\",\"\",(SUMIF(dados_exp!$F$2:$N$301,(questionario!C25&questionario!B25),dados_exp!$M$2:$M$301))+(SUMIF(dados_exp!$F$2:$N$301,(questionario!C25&questionario!B25),dados_exp!$N$2:$N$301)))","v":""},{"$f":"IF(C75=\"\",\"\",(SUMIF(dados_exp!$F$2:$N$301,(questionario!C25&questionario!P25),dados_exp!$M$2:$M$301))+(SUMIF(dados_exp!$F$2:$N$301,(questionario!C25&questionario!P25),dados_exp!$N$2:$N$301)))","v":""},"",{"$f":"IF(C75=\"\",\"\",(SUMIF(dados_exp!$G$2:$N$301,questionario!C75,dados_exp!$M$2:$M$301)+SUMIF(dados_exp!$G$2:$N$301,questionario!C75,dados_exp!$N$2:$N$301)))","v":""}]
[null,null,"",{"$f":"IF(C76=\"\",\"\",(SUMIF(dados_exp!$F$2:$L$301,(questionario!C26&questionario!B26),dados_exp!$K$2:$K$301))+(SUMIF(dados_exp!$F$2:$L$301,(questionario!C26&questionario!B26),dados_exp!$L$2:$L$301)))","v":""},{"$f":"IF(C76=\"\",\"\",(SUMIF(dados_exp!$F$2:$L$301,(questionario!C26&questionario!P26),dados_exp!$K$2:$K$301))+(SUMIF(dados_exp!$F$2:$L$301,(questionario!C26&questionario!P26),dados_exp!$L$2:$L$301)))","v":""},"",{"$f":"IF(C76=\"\",\"\",(SUMIF(dados_exp!$G$2:$L$301,questionario!C76,dados_exp!$K$2:$K$301)+SUMIF(dados_exp!$G$2:$L$301,questionario!C76,dados_exp!$L$2:$L$301)))","v":""},"",{"$f":"IF(C76=\"\",\"\",(SUMIF(dados_exp!$F$2:$N$301,(questionario!C26&questionario!B26),dados_exp!$M$2:$M$301))+(SUMIF(dados_exp!$F$2:$N$301,(questionario!C26&questionario!B26),dados_exp!$N$2:$N$301)))","v":""},{"$f":"IF(C76=\"\",\"\",(SUMIF(dados_exp!$F$2:$N$301,(questionario!C26&questionario!P26),dados_exp!$M$2:$M$301))+(SUMIF(dados_exp!$F$2:$N$301,(questionario!C26&questionario!P26),dados_exp!$N$2:$N$301)))","v":""},"",{"$f":"IF(C76=\"\",\"\",(SUMIF(dados_exp!$G$2:$N$301,questionario!C76,dados_exp!$M$2:$M$301)+SUMIF(dados_exp!$G$2:$N$301,questionario!C76,dados_exp!$N$2:$N$301)))","v":""}]
[null,null,"",{"$f":"IF(C77=\"\",\"\",(SUMIF(dados_exp!$F$2:$L$301,(questionario!C27&questionario!B27),dados_exp!$K$2:$K$301))+(SUMIF(dados_exp!$F$2:$L$301,(questionario!C27&questionario!B27),dados_exp!$L$2:$L$301)))","v":""},{"$f":"IF(C77=\"\",\"\",(SUMIF(dados_exp!$F$2:$L$301,(questionario!C27&questionario!P27),dados_exp!$K$2:$K$301))+(SUMIF(dados_exp!$F$2:$L$301,(questionario!C27&questionario!P27),dados_exp!$L$2:$L$301)))","v":""},"",{"$f":"IF(C77=\"\",\"\",(SUMIF(dados_exp!$G$2:$L$301,questionario!C77,dados_exp!$K$2:$K$301)+SUMIF(dados_exp!$G$2:$L$301,questionario!C77,dados_exp!$L$2:$L$301)))","v":""},"",{"$f":"IF(C77=\"\",\"\",(SUMIF(dados_exp!$F$2:$N$301,(questionario!C27&questionario!B27),dados_exp!$M$2:$M$301))+(SUMIF(dados_exp!$F$2:$N$301,(questionario!C27&questionario!B27),dados_exp!$N$2:$N$301)))","v":""},{"$f":"IF(C77=\"\",\"\",(SUMIF(dados_exp!$F$2:$N$301,(questionario!C27&questionario!P27),dados_exp!$M$2:$M$301))+(SUMIF(dados_exp!$F$2:$N$301,(questionario!C27&questionario!P27),dados_exp!$N$2:$N$301)))","v":""},"",{"$f":"IF(C77=\"\",\"\",(SUMIF(dados_exp!$G$2:$N$301,questionario!C77,dados_exp!$M$2:$M$301)+SUMIF(dados_exp!$G$2:$N$301,questionario!C77,dados_exp!$N$2:$N$301)))","v":""}]
[null,null,"",{"$f":"IF(C78=\"\",\"\",(SUMIF(dados_exp!$F$2:$L$301,(questionario!C28&questionario!B28),dados_exp!$K$2:$K$301))+(SUMIF(dados_exp!$F$2:$L$301,(questionario!C28&questionario!B28),dados_exp!$L$2:$L$301)))","v":""},{"$f":"IF(C78=\"\",\"\",(SUMIF(dados_exp!$F$2:$L$301,(questionario!C28&questionario!P28),dados_exp!$K$2:$K$301))+(SUMIF(dados_exp!$F$2:$L$301,(questionario!C28&questionario!P28),dados_exp!$L$2:$L$301)))","v":""},"",{"$f":"IF(C78=\"\",\"\",(SUMIF(dados_exp!$G$2:$L$301,questionario!C78,dados_exp!$K$2:$K$301)+SUMIF(dados_exp!$G$2:$L$301,questionario!C78,dados_exp!$L$2:$L$301)))","v":""},"",{"$f":"IF(C78=\"\",\"\",(SUMIF(dados_exp!$F$2:$N$301,(questionario!C28&questionario!B28),dados_exp!$M$2:$M$301))+(SUMIF(dados_exp!$F$2:$N$301,(questionario!C28&questionario!B28),dados_exp!$N$2:$N$301)))","v":""},{"$f":"IF(C78=\"\",\"\",(SUMIF(dados_exp!$F$2:$N$301,(questionario!C28&questionario!P28),dados_exp!$M$2:$M$301))+(SUMIF(dados_exp!$F$2:$N$301,(questionario!C28&questionario!P28),dados_exp!$N$2:$N$301)))","v":""},"",{"$f":"IF(C78=\"\",\"\",(SUMIF(dados_exp!$G$2:$N$301,questionario!C78,dados_exp!$M$2:$M$301)+SUMIF(dados_exp!$G$2:$N$301,questionario!C78,dados_exp!$N$2:$N$301)))","v":""}]
[null,null,"",{"$f":"IF(C79=\"\",\"\",(SUMIF(dados_exp!$F$2:$L$301,(questionario!C29&questionario!B29),dados_exp!$K$2:$K$301))+(SUMIF(dados_exp!$F$2:$L$301,(questionario!C29&questionario!B29),dados_exp!$L$2:$L$301)))","v":""},{"$f":"IF(C79=\"\",\"\",(SUMIF(dados_exp!$F$2:$L$301,(questionario!C29&questionario!P29),dados_exp!$K$2:$K$301))+(SUMIF(dados_exp!$F$2:$L$301,(questionario!C29&questionario!P29),dados_exp!$L$2:$L$301)))","v":""},"",{"$f":"IF(C79=\"\",\"\",(SUMIF(dados_exp!$G$2:$L$301,questionario!C79,dados_exp!$K$2:$K$301)+SUMIF(dados_exp!$G$2:$L$301,questionario!C79,dados_exp!$L$2:$L$301)))","v":""},"",{"$f":"IF(C79=\"\",\"\",(SUMIF(dados_exp!$F$2:$N$301,(questionario!C29&questionario!B29),dados_exp!$M$2:$M$301))+(SUMIF(dados_exp!$F$2:$N$301,(questionario!C29&questionario!B29),dados_exp!$N$2:$N$301)))","v":""},{"$f":"IF(C79=\"\",\"\",(SUMIF(dados_exp!$F$2:$N$301,(questionario!C29&questionario!P29),dados_exp!$M$2:$M$301))+(SUMIF(dados_exp!$F$2:$N$301,(questionario!C29&questionario!P29),dados_exp!$N$2:$N$301)))","v":""},"",{"$f":"IF(C79=\"\",\"\",(SUMIF(dados_exp!$G$2:$N$301,questionario!C79,dados_exp!$M$2:$M$301)+SUMIF(dados_exp!$G$2:$N$301,questionario!C79,dados_exp!$N$2:$N$301)))","v":""}]
[null,null,"",{"$f":"IF(C80=\"\",\"\",(SUMIF(dados_exp!$F$2:$L$301,(questionario!C30&questionario!B30),dados_exp!$K$2:$K$301))+(SUMIF(dados_exp!$F$2:$L$301,(questionario!C30&questionario!B30),dados_exp!$L$2:$L$301)))","v":""},{"$f":"IF(C80=\"\",\"\",(SUMIF(dados_exp!$F$2:$L$301,(questionario!C30&questionario!P30),dados_exp!$K$2:$K$301))+(SUMIF(dados_exp!$F$2:$L$301,(questionario!C30&questionario!P30),dados_exp!$L$2:$L$301)))","v":""},"",{"$f":"IF(C80=\"\",\"\",(SUMIF(dados_exp!$G$2:$L$301,questionario!C80,dados_exp!$K$2:$K$301)+SUMIF(dados_exp!$G$2:$L$301,questionario!C80,dados_exp!$L$2:$L$301)))","v":""},"",{"$f":"IF(C80=\"\",\"\",(SUMIF(dados_exp!$F$2:$N$301,(questionario!C30&questionario!B30),dados_exp!$M$2:$M$301))+(SUMIF(dados_exp!$F$2:$N$301,(questionario!C30&questionario!B30),dados_exp!$N$2:$N$301)))","v":""},{"$f":"IF(C80=\"\",\"\",(SUMIF(dados_exp!$F$2:$N$301,(questionario!C30&questionario!P30),dados_exp!$M$2:$M$301))+(SUMIF(dados_exp!$F$2:$N$301,(questionario!C30&questionario!P30),dados_exp!$N$2:$N$301)))","v":""},"",{"$f":"IF(C80=\"\",\"\",(SUMIF(dados_exp!$G$2:$N$301,questionario!C80,dados_exp!$M$2:$M$301)+SUMIF(dados_exp!$G$2:$N$301,questionario!C80,dados_exp!$N$2:$N$301)))","v":""}]
[null,null,"",{"$f":"IF(C81=\"\",\"\",(SUMIF(dados_exp!$F$2:$L$301,(questionario!C31&questionario!B31),dados_exp!$K$2:$K$301))+(SUMIF(dados_exp!$F$2:$L$301,(questionario!C31&questionario!B31),dados_exp!$L$2:$L$301)))","v":""},{"$f":"IF(C81=\"\",\"\",(SUMIF(dados_exp!$F$2:$L$301,(questionario!C31&questionario!P31),dados_exp!$K$2:$K$301))+(SUMIF(dados_exp!$F$2:$L$301,(questionario!C31&questionario!P31),dados_exp!$L$2:$L$301)))","v":""},"",{"$f":"IF(C81=\"\",\"\",(SUMIF(dados_exp!$G$2:$L$301,questionario!C81,dados_exp!$K$2:$K$301)+SUMIF(dados_exp!$G$2:$L$301,questionario!C81,dados_exp!$L$2:$L$301)))","v":""},"",{"$f":"IF(C81=\"\",\"\",(SUMIF(dados_exp!$F$2:$N$301,(questionario!C31&questionario!B31),dados_exp!$M$2:$M$301))+(SUMIF(dados_exp!$F$2:$N$301,(questionario!C31&questionario!B31),dados_exp!$N$2:$N$301)))","v":""},{"$f":"IF(C81=\"\",\"\",(SUMIF(dados_exp!$F$2:$N$301,(questionario!C31&questionario!P31),dados_exp!$M$2:$M$301))+(SUMIF(dados_exp!$F$2:$N$301,(questionario!C31&questionario!P31),dados_exp!$N$2:$N$301)))","v":""},"",{"$f":"IF(C81=\"\",\"\",(SUMIF(dados_exp!$G$2:$N$301,questionario!C81,dados_exp!$M$2:$M$301)+SUMIF(dados_exp!$G$2:$N$301,questionario!C81,dados_exp!$N$2:$N$301)))","v":""}]
[null,null,"",{"$f":"IF(C82=\"\",\"\",(SUMIF(dados_exp!$F$2:$L$301,(questionario!C32&questionario!B32),dados_exp!$K$2:$K$301))+(SUMIF(dados_exp!$F$2:$L$301,(questionario!C32&questionario!B32),dados_exp!$L$2:$L$301)))","v":""},{"$f":"IF(C82=\"\",\"\",(SUMIF(dados_exp!$F$2:$L$301,(questionario!C32&questionario!P32),dados_exp!$K$2:$K$301))+(SUMIF(dados_exp!$F$2:$L$301,(questionario!C32&questionario!P32),dados_exp!$L$2:$L$301)))","v":""},"",{"$f":"IF(C82=\"\",\"\",(SUMIF(dados_exp!$G$2:$L$301,questionario!C82,dados_exp!$K$2:$K$301)+SUMIF(dados_exp!$G$2:$L$301,questionario!C82,dados_exp!$L$2:$L$301)))","v":""},"",{"$f":"IF(C82=\"\",\"\",(SUMIF(dados_exp!$F$2:$N$301,(questionario!C32&questionario!B32),dados_exp!$M$2:$M$301))+(SUMIF(dados_exp!$F$2:$N$301,(questionario!C32&questionario!B32),dados_exp!$N$2:$N$301)))","v":""},{"$f":"IF(C82=\"\",\"\",(SUMIF(dados_exp!$F$2:$N$301,(questionario!C32&questionario!P32),dados_exp!$M$2:$M$301))+(SUMIF(dados_exp!$F$2:$N$301,(questionario!C32&questionario!P32),dados_exp!$N$2:$N$301)))","v":""},"",{"$f":"IF(C82=\"\",\"\",(SUMIF(dados_exp!$G$2:$N$301,questionario!C82,dados_exp!$M$2:$M$301)+SUMIF(dados_exp!$G$2:$N$301,questionario!C82,dados_exp!$N$2:$N$301)))","v":""}]
[null,null,"",{"$f":"IF(C83=\"\",\"\",(SUMIF(dados_exp!$F$2:$L$301,(questionario!C33&questionario!B33),dados_exp!$K$2:$K$301))+(SUMIF(dados_exp!$F$2:$L$301,(questionario!C33&questionario!B33),dados_exp!$L$2:$L$301)))","v":""},{"$f":"IF(C83=\"\",\"\",(SUMIF(dados_exp!$F$2:$L$301,(questionario!C33&questionario!P33),dados_exp!$K$2:$K$301))+(SUMIF(dados_exp!$F$2:$L$301,(questionario!C33&questionario!P33),dados_exp!$L$2:$L$301)))","v":""},"",{"$f":"IF(C83=\"\",\"\",(SUMIF(dados_exp!$G$2:$L$301,questionario!C83,dados_exp!$K$2:$K$301)+SUMIF(dados_exp!$G$2:$L$301,questionario!C83,dados_exp!$L$2:$L$301)))","v":""},"",{"$f":"IF(C83=\"\",\"\",(SUMIF(dados_exp!$F$2:$N$301,(questionario!C33&questionario!B33),dados_exp!$M$2:$M$301))+(SUMIF(dados_exp!$F$2:$N$301,(questionario!C33&questionario!B33),dados_exp!$N$2:$N$301)))","v":""},{"$f":"IF(C83=\"\",\"\",(SUMIF(dados_exp!$F$2:$N$301,(questionario!C33&questionario!P33),dados_exp!$M$2:$M$301))+(SUMIF(dados_exp!$F$2:$N$301,(questionario!C33&questionario!P33),dados_exp!$N$2:$N$301)))","v":""},"",{"$f":"IF(C83=\"\",\"\",(SUMIF(dados_exp!$G$2:$N$301,questionario!C83,dados_exp!$M$2:$M$301)+SUMIF(dados_exp!$G$2:$N$301,questionario!C83,dados_exp!$N$2:$N$301)))","v":""}]
[null,null,"",{"$f":"IF(C84=\"\",\"\",(SUMIF(dados_exp!$F$2:$L$301,(questionario!C34&questionario!B34),dados_exp!$K$2:$K$301))+(SUMIF(dados_exp!$F$2:$L$301,(questionario!C34&questionario!B34),dados_exp!$L$2:$L$301)))","v":""},{"$f":"IF(C84=\"\",\"\",(SUMIF(dados_exp!$F$2:$L$301,(questionario!C34&questionario!P34),dados_exp!$K$2:$K$301))+(SUMIF(dados_exp!$F$2:$L$301,(questionario!C34&questionario!P34),dados_exp!$L$2:$L$301)))","v":""},"",{"$f":"IF(C84=\"\",\"\",(SUMIF(dados_exp!$G$2:$L$301,questionario!C84,dados_exp!$K$2:$K$301)+SUMIF(dados_exp!$G$2:$L$301,questionario!C84,dados_exp!$L$2:$L$301)))","v":""},"",{"$f":"IF(C84=\"\",\"\",(SUMIF(dados_exp!$F$2:$N$301,(questionario!C34&questionario!B34),dados_exp!$M$2:$M$301))+(SUMIF(dados_exp!$F$2:$N$301,(questionario!C34&questionario!B34),dados_exp!$N$2:$N$301)))","v":""},{"$f":"IF(C84=\"\",\"\",(SUMIF(dados_exp!$F$2:$N$301,(questionario!C34&questionario!P34),dados_exp!$M$2:$M$301))+(SUMIF(dados_exp!$F$2:$N$301,(questionario!C34&questionario!P34),dados_exp!$N$2:$N$301)))","v":""},"",{"$f":"IF(C84=\"\",\"\",(SUMIF(dados_exp!$G$2:$N$301,questionario!C84,dados_exp!$M$2:$M$301)+SUMIF(dados_exp!$G$2:$N$301,questionario!C84,dados_exp!$N$2:$N$301)))","v":""}]
[null,null,"",{"$f":"IF(C85=\"\",\"\",(SUMIF(dados_exp!$F$2:$L$301,(questionario!C35&questionario!B35),dados_exp!$K$2:$K$301))+(SUMIF(dados_exp!$F$2:$L$301,(questionario!C35&questionario!B35),dados_exp!$L$2:$L$301)))","v":""},{"$f":"IF(C85=\"\",\"\",(SUMIF(dados_exp!$F$2:$L$301,(questionario!C35&questionario!P35),dados_exp!$K$2:$K$301))+(SUMIF(dados_exp!$F$2:$L$301,(questionario!C35&questionario!P35),dados_exp!$L$2:$L$301)))","v":""},"",{"$f":"IF(C85=\"\",\"\",(SUMIF(dados_exp!$G$2:$L$301,questionario!C85,dados_exp!$K$2:$K$301)+SUMIF(dados_exp!$G$2:$L$301,questionario!C85,dados_exp!$L$2:$L$301)))","v":""},"",{"$f":"IF(C85=\"\",\"\",(SUMIF(dados_exp!$F$2:$N$301,(questionario!C35&questionario!B35),dados_exp!$M$2:$M$301))+(SUMIF(dados_exp!$F$2:$N$301,(questionario!C35&questionario!B35),dados_exp!$N$2:$N$301)))","v":""},{"$f":"IF(C85=\"\",\"\",(SUMIF(dados_exp!$F$2:$N$301,(questionario!C35&questionario!P35),dados_exp!$M$2:$M$301))+(SUMIF(dados_exp!$F$2:$N$301,(questionario!C35&questionario!P35),dados_exp!$N$2:$N$301)))","v":""},"",{"$f":"IF(C85=\"\",\"\",(SUMIF(dados_exp!$G$2:$N$301,questionario!C85,dados_exp!$M$2:$M$301)+SUMIF(dados_exp!$G$2:$N$301,questionario!C85,dados_exp!$N$2:$N$301)))","v":""}]
[null,null,"",{"$f":"IF(C86=\"\",\"\",(SUMIF(dados_exp!$F$2:$L$301,(questionario!C36&questionario!B36),dados_exp!$K$2:$K$301))+(SUMIF(dados_exp!$F$2:$L$301,(questionario!C36&questionario!B36),dados_exp!$L$2:$L$301)))","v":""},{"$f":"IF(C86=\"\",\"\",(SUMIF(dados_exp!$F$2:$L$301,(questionario!C36&questionario!P36),dados_exp!$K$2:$K$301))+(SUMIF(dados_exp!$F$2:$L$301,(questionario!C36&questionario!P36),dados_exp!$L$2:$L$301)))","v":""},"",{"$f":"IF(C86=\"\",\"\",(SUMIF(dados_exp!$G$2:$L$301,questionario!C86,dados_exp!$K$2:$K$301)+SUMIF(dados_exp!$G$2:$L$301,questionario!C86,dados_exp!$L$2:$L$301)))","v":""},"",{"$f":"IF(C86=\"\",\"\",(SUMIF(dados_exp!$F$2:$N$301,(questionario!C36&questionario!B36),dados_exp!$M$2:$M$301))+(SUMIF(dados_exp!$F$2:$N$301,(questionario!C36&questionario!B36),dados_exp!$N$2:$N$301)))","v":""},{"$f":"IF(C86=\"\",\"\",(SUMIF(dados_exp!$F$2:$N$301,(questionario!C36&questionario!P36),dados_exp!$M$2:$M$301))+(SUMIF(dados_exp!$F$2:$N$301,(questionario!C36&questionario!P36),dados_exp!$N$2:$N$301)))","v":""},"",{"$f":"IF(C86=\"\",\"\",(SUMIF(dados_exp!$G$2:$N$301,questionario!C86,dados_exp!$M$2:$M$301)+SUMIF(dados_exp!$G$2:$N$301,questionario!C86,dados_exp!$N$2:$N$301)))","v":""}]
[null,null,"",{"$f":"IF(C87=\"\",\"\",(SUMIF(dados_exp!$F$2:$L$301,(questionario!C37&questionario!B37),dados_exp!$K$2:$K$301))+(SUMIF(dados_exp!$F$2:$L$301,(questionario!C37&questionario!B37),dados_exp!$L$2:$L$301)))","v":""},{"$f":"IF(C87=\"\",\"\",(SUMIF(dados_exp!$F$2:$L$301,(questionario!C37&questionario!P37),dados_exp!$K$2:$K$301))+(SUMIF(dados_exp!$F$2:$L$301,(questionario!C37&questionario!P37),dados_exp!$L$2:$L$301)))","v":""},"",{"$f":"IF(C87=\"\",\"\",(SUMIF(dados_exp!$G$2:$L$301,questionario!C87,dados_exp!$K$2:$K$301)+SUMIF(dados_exp!$G$2:$L$301,questionario!C87,dados_exp!$L$2:$L$301)))","v":""},"",{"$f":"IF(C87=\"\",\"\",(SUMIF(dados_exp!$F$2:$N$301,(questionario!C37&questionario!B37),dados_exp!$M$2:$M$301))+(SUMIF(dados_exp!$F$2:$N$301,(questionario!C37&questionario!B37),dados_exp!$N$2:$N$301)))","v":""},{"$f":"IF(C87=\"\",\"\",(SUMIF(dados_exp!$F$2:$N$301,(questionario!C37&questionario!P37),dados_exp!$M$2:$M$301))+(SUMIF(dados_exp!$F$2:$N$301,(questionario!C37&questionario!P37),dados_exp!$N$2:$N$301)))","v":""},"",{"$f":"IF(C87=\"\",\"\",(SUMIF(dados_exp!$G$2:$N$301,questionario!C87,dados_exp!$M$2:$M$301)+SUMIF(dados_exp!$G$2:$N$301,questionario!C87,dados_exp!$N$2:$N$301)))","v":""}]
[]
[null,null,null,"RECEITA TOTAL em R$ (Produtos Beneficiados)",null,null,null,"VOLUME PRODUÇÃO TOTAL (Produtos Beneficiados)",null,null,null,null,null,"FATURAMENTO POR PRODUTO (Beneficiados)"]
[]
[null,null,"Produtos Beneficiados","Ano Base","Último Ano","Variação (%)","Receita Acumulada","Unidade Medida","Ano Base","Último Ano","Variação (%)","Produção Acumulada"]
[null,null,{"$f":"IF(Q23=\"\",\"\",Q23)","v":""},{"$f":"IF(C92=\"\",\"\",(SUMIF(dados_exp!$F$2:$L$301,(questionario!Q23&questionario!O23),dados_exp!$K$2:$K$301))+(SUMIF(dados_exp!$F$2:$L$301,(questionario!Q23&questionario!O23),dados_exp!$L$2:$L$301)))","v":""},{"$f":"IF(C92=\"\",\"\",(SUMIF(dados_exp!$F$2:$L$301,(questionario!Q23&questionario!AC23),dados_exp!$K$2:$K$301))+(SUMIF(dados_exp!$F$2:$L$301,(questionario!Q23&questionario!AC23),dados_exp!$L$2:$L$301)))","v":""},{"$f":"IF(C92=\"\",\"\",((E92-D92)/E92))","v":""},{"$f":"IF(C92=\"\",\"\",(SUMIF(dados_exp!$G$2:$L$301,questionario!C92,dados_exp!$K$2:$K$301)+SUMIF(dados_exp!$G$2:$L$301,questionario!C92,dados_exp!$L$2:$L$301)))","v":""},{"$f":"IF(R47=\"\",\"\",R47)","v":""},{"$f":"IF(C92=\"\",\"\",(SUMIF(dados_exp!$F$2:$N$301,(questionario!Q23&questionario!O23),dados_exp!$M$2:$M$301))+(SUMIF(dados_exp!$F$2:$N$301,(questionario!Q23&questionario!O23),dados_exp!$N$2:$N$301)))","v":""},{"$f":"IF(C92=\"\",\"\",(SUMIF(dados_exp!$F$2:$N$301,(questionario!Q23&questionario!AC23),dados_exp!$M$2:$M$301))+(SUMIF(dados_exp!$F$2:$N$301,(questionario!Q23&questionario!AC23),dados_exp!$N$2:$N$301)))","v":""},{"$f":"IF(G92=\"\",\"\",((J92-I92)/J92))","v":""},{"$f":"IF(C92=\"\",\"\",(SUMIF(dados_exp!$G$2:$N$301,questionario!C92,dados_exp!$M$2:$M$301)+SUMIF(dados_exp!$G$2:$N$301,questionario!C92,dados_exp!$N$2:$N$301)))","v":""}]
[null,null,{"$f":"IF(Q24=\"\",\"\",Q24)","v":""},{"$f":"IF(C93=\"\",\"\",(SUMIF(dados_exp!$F$2:$L$301,(questionario!Q24&questionario!O24),dados_exp!$K$2:$K$301))+(SUMIF(dados_exp!$F$2:$L$301,(questionario!Q24&questionario!O24),dados_exp!$L$2:$L$301)))","v":""},{"$f":"IF(C93=\"\",\"\",(SUMIF(dados_exp!$F$2:$L$301,(questionario!Q24&questionario!AC24),dados_exp!$K$2:$K$301))+(SUMIF(dados_exp!$F$2:$L$301,(questionario!Q24&questionario!AC24),dados_exp!$L$2:$L$301)))","v":""},{"$f":"IF(C93=\"\",\"\",((E93-D93)/E93))","v":""},{"$f":"IF(C93=\"\",\"\",(SUMIF(dados_exp!$G$2:$L$301,questionario!C93,dados_exp!$K$2:$K$301)+SUMIF(dados_exp!$G$2:$L$301,questionario!C93,dados_exp!$L$2:$L$301)))","v":""},{"$f":"IF(R48=\"\",\"\",R48)","v":""},{"$f":"IF(C93=\"\",\"\",(SUMIF(dados_exp!$F$2:$N$301,(questionario!Q24&questionario!O24),dados_exp!$M$2:$M$301))+(SUMIF(dados_exp!$F$2:$N$301,(questionario!Q24&questionario!O24),dados_exp!$N$2:$N$301)))","v":""},{"$f":"IF(C93=\"\",\"\",(SUMIF(dados_exp!$F$2:$N$301,(questionario!Q24&questionario!AC24),dados_exp!$M$2:$M$301))+(SUMIF(dados_exp!$F$2:$N$301,(questionario!Q24&questionario!AC24),dados_exp!$N$2:$N$301)))","v":""},{"$f":"IF(G93=\"\",\"\",((J93-I93)/J93))","v":""},{"$f":"IF(C93=\"\",\"\",(SUMIF(dados_exp!$G$2:$N$301,questionario!C93,dados_exp!$M$2:$M$301)+SUMIF(dados_exp!$G$2:$N$301,questionario!C93,dados_exp!$N$2:$N$301)))","v":""}]
[null,null,"",{"$f":"IF(C94=\"\",\"\",(SUMIF(dados_exp!$F$2:$L$301,(questionario!Q25&questionario!O25),dados_exp!$K$2:$K$301))+(SUMIF(dados_exp!$F$2:$L$301,(questionario!Q25&questionario!O25),dados_exp!$L$2:$L$301)))","v":""},{"$f":"IF(C94=\"\",\"\",(SUMIF(dados_exp!$F$2:$L$301,(questionario!Q25&questionario!AC25),dados_exp!$K$2:$K$301))+(SUMIF(dados_exp!$F$2:$L$301,(questionario!Q25&questionario!AC25),dados_exp!$L$2:$L$301)))","v":""},"",{"$f":"IF(C94=\"\",\"\",(SUMIF(dados_exp!$G$2:$L$301,questionario!C94,dados_exp!$K$2:$K$301)+SUMIF(dados_exp!$G$2:$L$301,questionario!C94,dados_exp!$L$2:$L$301)))","v":""},"",{"$f":"IF(C94=\"\",\"\",(SUMIF(dados_exp!$F$2:$N$301,(questionario!Q25&questionario!O25),dados_exp!$M$2:$M$301))+(SUMIF(dados_exp!$F$2:$N$301,(questionario!Q25&questionario!O25),dados_exp!$N$2:$N$301)))","v":""},{"$f":"IF(C94=\"\",\"\",(SUMIF(dados_exp!$F$2:$N$301,(questionario!Q25&questionario!AC25),dados_exp!$M$2:$M$301))+(SUMIF(dados_exp!$F$2:$N$301,(questionario!Q25&questionario!AC25),dados_exp!$N$2:$N$301)))","v":""},"",{"$f":"IF(C94=\"\",\"\",(SUMIF(dados_exp!$G$2:$N$301,questionario!C94,dados_exp!$M$2:$M$301)+SUMIF(dados_exp!$G$2:$N$301,questionario!C94,dados_exp!$N$2:$N$301)))","v":""}]
[null,null,"",{"$f":"IF(C95=\"\",\"\",(SUMIF(dados_exp!$F$2:$L$301,(questionario!Q26&questionario!O26),dados_exp!$K$2:$K$301))+(SUMIF(dados_exp!$F$2:$L$301,(questionario!Q26&questionario!O26),dados_exp!$L$2:$L$301)))","v":""},{"$f":"IF(C95=\"\",\"\",(SUMIF(dados_exp!$F$2:$L$301,(questionario!Q26&questionario!AC26),dados_exp!$K$2:$K$301))+(SUMIF(dados_exp!$F$2:$L$301,(questionario!Q26&questionario!AC26),dados_exp!$L$2:$L$301)))","v":""},"",{"$f":"IF(C95=\"\",\"\",(SUMIF(dados_exp!$G$2:$L$301,questionario!C95,dados_exp!$K$2:$K$301)+SUMIF(dados_exp!$G$2:$L$301,questionario!C95,dados_exp!$L$2:$L$301)))","v":""},"",{"$f":"IF(C95=\"\",\"\",(SUMIF(dados_exp!$F$2:$N$301,(questionario!Q26&questionario!O26),dados_exp!$M$2:$M$301))+(SUMIF(dados_exp!$F$2:$N$301,(questionario!Q26&questionario!O26),dados_exp!$N$2:$N$301)))","v":""},{"$f":"IF(C95=\"\",\"\",(SUMIF(dados_exp!$F$2:$N$301,(questionario!Q26&questionario!AC26),dados_exp!$M$2:$M$301))+(SUMIF(dados_exp!$F$2:$N$301,(questionario!Q26&questionario!AC26),dados_exp!$N$2:$N$301)))","v":""},"",{"$f":"IF(C95=\"\",\"\",(SUMIF(dados_exp!$G$2:$N$301,questionario!C95,dados_exp!$M$2:$M$301)+SUMIF(dados_exp!$G$2:$N$301,questionario!C95,dados_exp!$N$2:$N$301)))","v":""}]
[null,null,"",{"$f":"IF(C96=\"\",\"\",(SUMIF(dados_exp!$F$2:$L$301,(questionario!Q27&questionario!O27),dados_exp!$K$2:$K$301))+(SUMIF(dados_exp!$F$2:$L$301,(questionario!Q27&questionario!O27),dados_exp!$L$2:$L$301)))","v":""},{"$f":"IF(C96=\"\",\"\",(SUMIF(dados_exp!$F$2:$L$301,(questionario!Q27&questionario!AC27),dados_exp!$K$2:$K$301))+(SUMIF(dados_exp!$F$2:$L$301,(questionario!Q27&questionario!AC27),dados_exp!$L$2:$L$301)))","v":""},"",{"$f":"IF(C96=\"\",\"\",(SUMIF(dados_exp!$G$2:$L$301,questionario!C96,dados_exp!$K$2:$K$301)+SUMIF(dados_exp!$G$2:$L$301,questionario!C96,dados_exp!$L$2:$L$301)))","v":""},"",{"$f":"IF(C96=\"\",\"\",(SUMIF(dados_exp!$F$2:$N$301,(questionario!Q27&questionario!O27),dados_exp!$M$2:$M$301))+(SUMIF(dados_exp!$F$2:$N$301,(questionario!Q27&questionario!O27),dados_exp!$N$2:$N$301)))","v":""},{"$f":"IF(C96=\"\",\"\",(SUMIF(dados_exp!$F$2:$N$301,(questionario!Q27&questionario!AC27),dados_exp!$M$2:$M$301))+(SUMIF(dados_exp!$F$2:$N$301,(questionario!Q27&questionario!AC27),dados_exp!$N$2:$N$301)))","v":""},"",{"$f":"IF(C96=\"\",\"\",(SUMIF(dados_exp!$G$2:$N$301,questionario!C96,dados_exp!$M$2:$M$301)+SUMIF(dados_exp!$G$2:$N$301,questionario!C96,dados_exp!$N$2:$N$301)))","v":""}]
[null,null,"",{"$f":"IF(C97=\"\",\"\",(SUMIF(dados_exp!$F$2:$L$301,(questionario!Q28&questionario!O28),dados_exp!$K$2:$K$301))+(SUMIF(dados_exp!$F$2:$L$301,(questionario!Q28&questionario!O28),dados_exp!$L$2:$L$301)))","v":""},{"$f":"IF(C97=\"\",\"\",(SUMIF(dados_exp!$F$2:$L$301,(questionario!Q28&questionario!AC28),dados_exp!$K$2:$K$301))+(SUMIF(dados_exp!$F$2:$L$301,(questionario!Q28&questionario!AC28),dados_exp!$L$2:$L$301)))","v":""},"",{"$f":"IF(C97=\"\",\"\",(SUMIF(dados_exp!$G$2:$L$301,questionario!C97,dados_exp!$K$2:$K$301)+SUMIF(dados_exp!$G$2:$L$301,questionario!C97,dados_exp!$L$2:$L$301)))","v":""},"",{"$f":"IF(C97=\"\",\"\",(SUMIF(dados_exp!$F$2:$N$301,(questionario!Q28&questionario!O28),dados_exp!$M$2:$M$301))+(SUMIF(dados_exp!$F$2:$N$301,(questionario!Q28&questionario!O28),dados_exp!$N$2:$N$301)))","v":""},{"$f":"IF(C97=\"\",\"\",(SUMIF(dados_exp!$F$2:$N$301,(questionario!Q28&questionario!AC28),dados_exp!$M$2:$M$301))+(SUMIF(dados_exp!$F$2:$N$301,(questionario!Q28&questionario!AC28),dados_exp!$N$2:$N$301)))","v":""},"",{"$f":"IF(C97=\"\",\"\",(SUMIF(dados_exp!$G$2:$N$301,questionario!C97,dados_exp!$M$2:$M$301)+SUMIF(dados_exp!$G$2:$N$301,questionario!C97,dados_exp!$N$2:$N$301)))","v":""}]
[null,null,"",{"$f":"IF(C98=\"\",\"\",(SUMIF(dados_exp!$F$2:$L$301,(questionario!Q29&questionario!O29),dados_exp!$K$2:$K$301))+(SUMIF(dados_exp!$F$2:$L$301,(questionario!Q29&questionario!O29),dados_exp!$L$2:$L$301)))","v":""},{"$f":"IF(C98=\"\",\"\",(SUMIF(dados_exp!$F$2:$L$301,(questionario!Q29&questionario!AC29),dados_exp!$K$2:$K$301))+(SUMIF(dados_exp!$F$2:$L$301,(questionario!Q29&questionario!AC29),dados_exp!$L$2:$L$301)))","v":""},"",{"$f":"IF(C98=\"\",\"\",(SUMIF(dados_exp!$G$2:$L$301,questionario!C98,dados_exp!$K$2:$K$301)+SUMIF(dados_exp!$G$2:$L$301,questionario!C98,dados_exp!$L$2:$L$301)))","v":""},"",{"$f":"IF(C98=\"\",\"\",(SUMIF(dados_exp!$F$2:$N$301,(questionario!Q29&questionario!O29),dados_exp!$M$2:$M$301))+(SUMIF(dados_exp!$F$2:$N$301,(questionario!Q29&questionario!O29),dados_exp!$N$2:$N$301)))","v":""},{"$f":"IF(C98=\"\",\"\",(SUMIF(dados_exp!$F$2:$N$301,(questionario!Q29&questionario!AC29),dados_exp!$M$2:$M$301))+(SUMIF(dados_exp!$F$2:$N$301,(questionario!Q29&questionario!AC29),dados_exp!$N$2:$N$301)))","v":""},"",{"$f":"IF(C98=\"\",\"\",(SUMIF(dados_exp!$G$2:$N$301,questionario!C98,dados_exp!$M$2:$M$301)+SUMIF(dados_exp!$G$2:$N$301,questionario!C98,dados_exp!$N$2:$N$301)))","v":""}]
[null,null,"",{"$f":"IF(C99=\"\",\"\",(SUMIF(dados_exp!$F$2:$L$301,(questionario!Q30&questionario!O30),dados_exp!$K$2:$K$301))+(SUMIF(dados_exp!$F$2:$L$301,(questionario!Q30&questionario!O30),dados_exp!$L$2:$L$301)))","v":""},{"$f":"IF(C99=\"\",\"\",(SUMIF(dados_exp!$F$2:$L$301,(questionario!Q30&questionario!AC30),dados_exp!$K$2:$K$301))+(SUMIF(dados_exp!$F$2:$L$301,(questionario!Q30&questionario!AC30),dados_exp!$L$2:$L$301)))","v":""},"",{"$f":"IF(C99=\"\",\"\",(SUMIF(dados_exp!$G$2:$L$301,questionario!C99,dados_exp!$K$2:$K$301)+SUMIF(dados_exp!$G$2:$L$301,questionario!C99,dados_exp!$L$2:$L$301)))","v":""},"",{"$f":"IF(C99=\"\",\"\",(SUMIF(dados_exp!$F$2:$N$301,(questionario!Q30&questionario!O30),dados_exp!$M$2:$M$301))+(SUMIF(dados_exp!$F$2:$N$301,(questionario!Q30&questionario!O30),dados_exp!$N$2:$N$301)))","v":""},{"$f":"IF(C99=\"\",\"\",(SUMIF(dados_exp!$F$2:$N$301,(questionario!Q30&questionario!AC30),dados_exp!$M$2:$M$301))+(SUMIF(dados_exp!$F$2:$N$301,(questionario!Q30&questionario!AC30),dados_exp!$N$2:$N$301)))","v":""},"",{"$f":"IF(C99=\"\",\"\",(SUMIF(dados_exp!$G$2:$N$301,questionario!C99,dados_exp!$M$2:$M$301)+SUMIF(dados_exp!$G$2:$N$301,questionario!C99,dados_exp!$N$2:$N$301)))","v":""}]
[null,null,"",{"$f":"IF(C100=\"\",\"\",(SUMIF(dados_exp!$F$2:$L$301,(questionario!Q31&questionario!O31),dados_exp!$K$2:$K$301))+(SUMIF(dados_exp!$F$2:$L$301,(questionario!Q31&questionario!O31),dados_exp!$L$2:$L$301)))","v":""},{"$f":"IF(C100=\"\",\"\",(SUMIF(dados_exp!$F$2:$L$301,(questionario!Q31&questionario!AC31),dados_exp!$K$2:$K$301))+(SUMIF(dados_exp!$F$2:$L$301,(questionario!Q31&questionario!AC31),dados_exp!$L$2:$L$301)))","v":""},"",{"$f":"IF(C100=\"\",\"\",(SUMIF(dados_exp!$G$2:$L$301,questionario!C100,dados_exp!$K$2:$K$301)+SUMIF(dados_exp!$G$2:$L$301,questionario!C100,dados_exp!$L$2:$L$301)))","v":""},"",{"$f":"IF(C100=\"\",\"\",(SUMIF(dados_exp!$F$2:$N$301,(questionario!Q31&questionario!O31),dados_exp!$M$2:$M$301))+(SUMIF(dados_exp!$F$2:$N$301,(questionario!Q31&questionario!O31),dados_exp!$N$2:$N$301)))","v":""},{"$f":"IF(C100=\"\",\"\",(SUMIF(dados_exp!$F$2:$N$301,(questionario!Q31&questionario!AC31),dados_exp!$M$2:$M$301))+(SUMIF(dados_exp!$F$2:$N$301,(questionario!Q31&questionario!AC31),dados_exp!$N$2:$N$301)))","v":""},"",{"$f":"IF(C100=\"\",\"\",(SUMIF(dados_exp!$G$2:$N$301,questionario!C100,dados_exp!$M$2:$M$301)+SUMIF(dados_exp!$G$2:$N$301,questionario!C100,dados_exp!$N$2:$N$301)))","v":""}]
[null,null,"",{"$f":"IF(C101=\"\",\"\",(SUMIF(dados_exp!$F$2:$L$301,(questionario!Q32&questionario!O32),dados_exp!$K$2:$K$301))+(SUMIF(dados_exp!$F$2:$L$301,(questionario!Q32&questionario!O32),dados_exp!$L$2:$L$301)))","v":""},{"$f":"IF(C101=\"\",\"\",(SUMIF(dados_exp!$F$2:$L$301,(questionario!Q32&questionario!AC32),dados_exp!$K$2:$K$301))+(SUMIF(dados_exp!$F$2:$L$301,(questionario!Q32&questionario!AC32),dados_exp!$L$2:$L$301)))","v":""},"",{"$f":"IF(C101=\"\",\"\",(SUMIF(dados_exp!$G$2:$L$301,questionario!C101,dados_exp!$K$2:$K$301)+SUMIF(dados_exp!$G$2:$L$301,questionario!C101,dados_exp!$L$2:$L$301)))","v":""},"",{"$f":"IF(C101=\"\",\"\",(SUMIF(dados_exp!$F$2:$N$301,(questionario!Q32&questionario!O32),dados_exp!$M$2:$M$301))+(SUMIF(dados_exp!$F$2:$N$301,(questionario!Q32&questionario!O32),dados_exp!$N$2:$N$301)))","v":""},{"$f":"IF(C101=\"\",\"\",(SUMIF(dados_exp!$F$2:$N$301,(questionario!Q32&questionario!AC32),dados_exp!$M$2:$M$301))+(SUMIF(dados_exp!$F$2:$N$301,(questionario!Q32&questionario!AC32),dados_exp!$N$2:$N$301)))","v":""},"",{"$f":"IF(C101=\"\",\"\",(SUMIF(dados_exp!$G$2:$N$301,questionario!C101,dados_exp!$M$2:$M$301)+SUMIF(dados_exp!$G$2:$N$301,questionario!C101,dados_exp!$N$2:$N$301)))","v":""}]
[null,null,"",{"$f":"IF(C102=\"\",\"\",(SUMIF(dados_exp!$F$2:$L$301,(questionario!Q33&questionario!O33),dados_exp!$K$2:$K$301))+(SUMIF(dados_exp!$F$2:$L$301,(questionario!Q33&questionario!O33),dados_exp!$L$2:$L$301)))","v":""},{"$f":"IF(C102=\"\",\"\",(SUMIF(dados_exp!$F$2:$L$301,(questionario!Q33&questionario!AC33),dados_exp!$K$2:$K$301))+(SUMIF(dados_exp!$F$2:$L$301,(questionario!Q33&questionario!AC33),dados_exp!$L$2:$L$301)))","v":""},"",{"$f":"IF(C102=\"\",\"\",(SUMIF(dados_exp!$G$2:$L$301,questionario!C102,dados_exp!$K$2:$K$301)+SUMIF(dados_exp!$G$2:$L$301,questionario!C102,dados_exp!$L$2:$L$301)))","v":""},"",{"$f":"IF(C102=\"\",\"\",(SUMIF(dados_exp!$F$2:$N$301,(questionario!Q33&questionario!O33),dados_exp!$M$2:$M$301))+(SUMIF(dados_exp!$F$2:$N$301,(questionario!Q33&questionario!O33),dados_exp!$N$2:$N$301)))","v":""},{"$f":"IF(C102=\"\",\"\",(SUMIF(dados_exp!$F$2:$N$301,(questionario!Q33&questionario!AC33),dados_exp!$M$2:$M$301))+(SUMIF(dados_exp!$F$2:$N$301,(questionario!Q33&questionario!AC33),dados_exp!$N$2:$N$301)))","v":""},"",{"$f":"IF(C102=\"\",\"\",(SUMIF(dados_exp!$G$2:$N$301,questionario!C102,dados_exp!$M$2:$M$301)+SUMIF(dados_exp!$G$2:$N$301,questionario!C102,dados_exp!$N$2:$N$301)))","v":""}]
[null,null,"",{"$f":"IF(C103=\"\",\"\",(SUMIF(dados_exp!$F$2:$L$301,(questionario!Q34&questionario!O34),dados_exp!$K$2:$K$301))+(SUMIF(dados_exp!$F$2:$L$301,(questionario!Q34&questionario!O34),dados_exp!$L$2:$L$301)))","v":""},{"$f":"IF(C103=\"\",\"\",(SUMIF(dados_exp!$F$2:$L$301,(questionario!Q34&questionario!AC34),dados_exp!$K$2:$K$301))+(SUMIF(dados_exp!$F$2:$L$301,(questionario!Q34&questionario!AC34),dados_exp!$L$2:$L$301)))","v":""},"",{"$f":"IF(C103=\"\",\"\",(SUMIF(dados_exp!$G$2:$L$301,questionario!C103,dados_exp!$K$2:$K$301)+SUMIF(dados_exp!$G$2:$L$301,questionario!C103,dados_exp!$L$2:$L$301)))","v":""},"",{"$f":"IF(C103=\"\",\"\",(SUMIF(dados_exp!$F$2:$N$301,(questionario!Q34&questionario!O34),dados_exp!$M$2:$M$301))+(SUMIF(dados_exp!$F$2:$N$301,(questionario!Q34&questionario!O34),dados_exp!$N$2:$N$301)))","v":""},{"$f":"IF(C103=\"\",\"\",(SUMIF(dados_exp!$F$2:$N$301,(questionario!Q34&questionario!AC34),dados_exp!$M$2:$M$301))+(SUMIF(dados_exp!$F$2:$N$301,(questionario!Q34&questionario!AC34),dados_exp!$N$2:$N$301)))","v":""},"",{"$f":"IF(C103=\"\",\"\",(SUMIF(dados_exp!$G$2:$N$301,questionario!C103,dados_exp!$M$2:$M$301)+SUMIF(dados_exp!$G$2:$N$301,questionario!C103,dados_exp!$N$2:$N$301)))","v":""}]
[null,null,"",{"$f":"IF(C104=\"\",\"\",(SUMIF(dados_exp!$F$2:$L$301,(questionario!Q35&questionario!O35),dados_exp!$K$2:$K$301))+(SUMIF(dados_exp!$F$2:$L$301,(questionario!Q35&questionario!O35),dados_exp!$L$2:$L$301)))","v":""},{"$f":"IF(C104=\"\",\"\",(SUMIF(dados_exp!$F$2:$L$301,(questionario!Q35&questionario!AC35),dados_exp!$K$2:$K$301))+(SUMIF(dados_exp!$F$2:$L$301,(questionario!Q35&questionario!AC35),dados_exp!$L$2:$L$301)))","v":""},"",{"$f":"IF(C104=\"\",\"\",(SUMIF(dados_exp!$G$2:$L$301,questionario!C104,dados_exp!$K$2:$K$301)+SUMIF(dados_exp!$G$2:$L$301,questionario!C104,dados_exp!$L$2:$L$301)))","v":""},"",{"$f":"IF(C104=\"\",\"\",(SUMIF(dados_exp!$F$2:$N$301,(questionario!Q35&questionario!O35),dados_exp!$M$2:$M$301))+(SUMIF(dados_exp!$F$2:$N$301,(questionario!Q35&questionario!O35),dados_exp!$N$2:$N$301)))","v":""},{"$f":"IF(C104=\"\",\"\",(SUMIF(dados_exp!$F$2:$N$301,(questionario!Q35&questionario!AC35),dados_exp!$M$2:$M$301))+(SUMIF(dados_exp!$F$2:$N$301,(questionario!Q35&questionario!AC35),dados_exp!$N$2:$N$301)))","v":""},"",{"$f":"IF(C104=\"\",\"\",(SUMIF(dados_exp!$G$2:$N$301,questionario!C104,dados_exp!$M$2:$M$301)+SUMIF(dados_exp!$G$2:$N$301,questionario!C104,dados_exp!$N$2:$N$301)))","v":""}]
[null,null,"",{"$f":"IF(C105=\"\",\"\",(SUMIF(dados_exp!$F$2:$L$301,(questionario!Q36&questionario!O36),dados_exp!$K$2:$K$301))+(SUMIF(dados_exp!$F$2:$L$301,(questionario!Q36&questionario!O36),dados_exp!$L$2:$L$301)))","v":""},{"$f":"IF(C105=\"\",\"\",(SUMIF(dados_exp!$F$2:$L$301,(questionario!Q36&questionario!AC36),dados_exp!$K$2:$K$301))+(SUMIF(dados_exp!$F$2:$L$301,(questionario!Q36&questionario!AC36),dados_exp!$L$2:$L$301)))","v":""},"",{"$f":"IF(C105=\"\",\"\",(SUMIF(dados_exp!$G$2:$L$301,questionario!C105,dados_exp!$K$2:$K$301)+SUMIF(dados_exp!$G$2:$L$301,questionario!C105,dados_exp!$L$2:$L$301)))","v":""},"",{"$f":"IF(C105=\"\",\"\",(SUMIF(dados_exp!$F$2:$N$301,(questionario!Q36&questionario!O36),dados_exp!$M$2:$M$301))+(SUMIF(dados_exp!$F$2:$N$301,(questionario!Q36&questionario!O36),dados_exp!$N$2:$N$301)))","v":""},{"$f":"IF(C105=\"\",\"\",(SUMIF(dados_exp!$F$2:$N$301,(questionario!Q36&questionario!AC36),dados_exp!$M$2:$M$301))+(SUMIF(dados_exp!$F$2:$N$301,(questionario!Q36&questionario!AC36),dados_exp!$N$2:$N$301)))","v":""},"",{"$f":"IF(C105=\"\",\"\",(SUMIF(dados_exp!$G$2:$N$301,questionario!C105,dados_exp!$M$2:$M$301)+SUMIF(dados_exp!$G$2:$N$301,questionario!C105,dados_exp!$N$2:$N$301)))","v":""}]
[null,null,"",{"$f":"IF(C106=\"\",\"\",(SUMIF(dados_exp!$F$2:$L$301,(questionario!Q37&questionario!O37),dados_exp!$K$2:$K$301))+(SUMIF(dados_exp!$F$2:$L$301,(questionario!Q37&questionario!O37),dados_exp!$L$2:$L$301)))","v":""},{"$f":"IF(C106=\"\",\"\",(SUMIF(dados_exp!$F$2:$L$301,(questionario!Q37&questionario!AC37),dados_exp!$K$2:$K$301))+(SUMIF(dados_exp!$F$2:$L$301,(questionario!Q37&questionario!AC37),dados_exp!$L$2:$L$301)))","v":""},"",{"$f":"IF(C106=\"\",\"\",(SUMIF(dados_exp!$G$2:$L$301,questionario!C106,dados_exp!$K$2:$K$301)+SUMIF(dados_exp!$G$2:$L$301,questionario!C106,dados_exp!$L$2:$L$301)))","v":""},"",{"$f":"IF(C106=\"\",\"\",(SUMIF(dados_exp!$F$2:$N$301,(questionario!Q37&questionario!O37),dados_exp!$M$2:$M$301))+(SUMIF(dados_exp!$F$2:$N$301,(questionario!Q37&questionario!O37),dados_exp!$N$2:$N$301)))","v":""},{"$f":"IF(C106=\"\",\"\",(SUMIF(dados_exp!$F$2:$N$301,(questionario!Q37&questionario!AC37),dados_exp!$M$2:$M$301))+(SUMIF(dados_exp!$F$2:$N$301,(questionario!Q37&questionario!AC37),dados_exp!$N$2:$N$301)))","v":""},"",{"$f":"IF(C106=\"\",\"\",(SUMIF(dados_exp!$G$2:$N$301,questionario!C106,dados_exp!$M$2:$M$301)+SUMIF(dados_exp!$G$2:$N$301,questionario!C106,dados_exp!$N$2:$N$301)))","v":""}]
[]
[]
[]
[]
[]
[]
[]
[null,null,"Tipo de Manejo",null,2009,2010,2011,2012,2013,2014,2015,2016,2017,2018]
[null,null,"Madeireiro"]
[null,null,"Não Madeireiro"]
[null,null,"Total da Área da floresta manejada (ha)",null,{"$f":"IF(AND(E115=\"\",E116=\"\"),\"\",E116+E115)","v":""},{"$f":"IF(AND(F115=\"\",F116=\"\"),\"\",F116+F115)","v":""},"","","","","","","",""]
[]
[]
[null,"1.3 Capacidade gerencial e técnica ampliadas "]
[]
[]
[]
[]
[null,null,"Informe a capacitação Realizada",null,"Gestão de unidades de beneficiamento de pirarucu"]
[]
[null,null,"Indique o número de participantes da capacitação, com total de indivíduos, mulheres (incluindo mulheres indígenas) e indígenas (incluindo mulheres indígenas)"]
[]
[null,null,null,"TOTAL",10,null,"MULHERES",5,null,null,"INDÍGENAS",2]
[]
[]
[null,null,"Nos últimos 6 meses, quantas pessoas relataram utilizar os conhecimentos adquiridos na capacitação?  "]
[]
[null,null,null,"TOTAL",8,null,"MULHERES",4,null,null,"INDÍGENAS",2]
[]
[]
[null,null,"Quantas pessoas alegaram que os conhecimentos adquiridos lhes serviram para:"]
[]
[null,null,"Melhorar sua técnica de produção"]
[]
[null,null,"Saber melhor onde e/ou com quem procurar mais informações úteis"]
[]
[null,null,"Impactar no aumento de sua receita"]
[]
[]
[]
[]
[]
[]
[]
[]
[null,null,null,2017,2018,2019,2020,2021,2022,2023,2024,2025,2026]
[{"$f":"IF(AND(D153=\"\",E153<>\"\"),$F$22,IF(AND(D153=\"\",E153=\"\",F153<>\"\"),$G$22,IF(AND(D153=\"\",E153=\"\",F153=\"\",G153<>\"\"),$H$22,IF(AND(D153=\"\",E153=\"\",F153=\"\",G153=\"\",H153<>\"\"),$I$22,IF(AND(D153=\"\",E153=\"\",F153=\"\",G153=\"\",H153=\"\",I153<>\"\"),$J$22,IF(AND(D153=\"\",E153=\"\",F153=\"\",G153=\"\",H153=\"\",I153=\"\",J153<>\"\"),$K$22,IF(AND(D153=\"\",E153=\"\",F153=\"\",G153=\"\",H153=\"\",I153=\"\",J153=\"\",K153<>\"\"),$L$22,IF(AND(D153=\"\",E153=\"\",F153=\"\",G153=\"\",H153=\"\",I153=\"\",J153=\"\",K153=\"\",L153<>\"\"),$M$22,IF(AND(D153=\"\",E153=\"\",F153=\"\",G153=\"\",H153=\"\",I153=\"\",J153=\"\",K153=\"\",L153=\"\",M153<>\"\"),$N$22,$E$22)))))))))","v":2017},null,"PONTUAÇÃO TOTAL",{"$f":"IF(aux_1.3.2!L29=\"\",\"\",aux_1.3.2!L29)","v":""},{"$f":"IF(aux_1.3.2!N29=\"\",\"\",aux_1.3.2!N29)","v":""},{"$f":"IF(aux_1.3.2!P29=\"\",\"\",aux_1.3.2!P29)","v":""},{"$f":"IF(aux_1.3.2!R29=\"\",\"\",aux_1.3.2!R29)","v":""},{"$f":"IF(aux_1.3.2!T29=\"\",\"\",aux_1.3.2!T29)","v":""},{"$f":"IF(aux_1.3.2!V29=\"\",\"\",aux_1.3.2!V29)","v":""},{"$f":"IF(aux_1.3.2!X29=\"\",\"\",aux_1.3.2!X29)","v":""},{"$f":"IF(aux_1.3.2!Z29=\"\",\"\",aux_1.3.2!Z29)","v":""},{"$f":"IF(aux_1.3.2!AB29=\"\",\"\",aux_1.3.2!AB29)","v":""},{"$f":"IF(aux_1.3.2!AD29=\"\",\"\",aux_1.3.2!AD29)","v":""},null,{"$f":"(A153-1)+(COUNTIF(D153:M153,\">0\"))","v":2016}]
[null,null,"NÍVEL",{"$f":"IF(aux_1.3.2!L31=\"\",\"\",aux_1.3.2!L31)","v":""},{"$f":"IF(aux_1.3.2!N31=\"\",\"\",aux_1.3.2!N31)","v":""},{"$f":"IF(aux_1.3.2!P31=\"\",\"\",aux_1.3.2!P31)","v":""},{"$f":"IF(aux_1.3.2!R31=\"\",\"\",aux_1.3.2!R31)","v":""},{"$f":"IF(aux_1.3.2!T31=\"\",\"\",aux_1.3.2!T31)","v":""},{"$f":"IF(aux_1.3.2!V31=\"\",\"\",aux_1.3.2!V31)","v":""},{"$f":"IF(aux_1.3.2!X31=\"\",\"\",aux_1.3.2!X31)","v":""},{"$f":"IF(aux_1.3.2!Z31=\"\",\"\",aux_1.3.2!Z31)","v":""},{"$f":"IF(aux_1.3.2!AB31=\"\",\"\",aux_1.3.2!AB31)","v":""},{"$f":"IF(aux_1.3.2!AD31=\"\",\"\",aux_1.3.2!AD31)","v":""}]
[null,null,null,{"$f":"IF(aux_1.3.2!M31=\"\",\"\",aux_1.3.2!M31)","v":""},{"$f":"IF(aux_1.3.2!O31=\"\",\"\",aux_1.3.2!O31)","v":""},{"$f":"IF(aux_1.3.2!Q31=\"\",\"\",aux_1.3.2!Q31)","v":""},{"$f":"IF(aux_1.3.2!S31=\"\",\"\",aux_1.3.2!S31)","v":""},{"$f":"IF(aux_1.3.2!U31=\"\",\"\",aux_1.3.2!U31)","v":""},{"$f":"IF(aux_1.3.2!W31=\"\",\"\",aux_1.3.2!W31)","v":""},{"$f":"IF(aux_1.3.2!Y31=\"\",\"\",aux_1.3.2!Y31)","v":""},{"$f":"IF(aux_1.3.2!AA31=\"\",\"\",aux_1.3.2!AA31)","v":""},{"$f":"IF(aux_1.3.2!AC31=\"\",\"\",aux_1.3.2!AC31)","v":""},{"$f":"IF(aux_1.3.2!AE31=\"\",\"\",aux_1.3.2!AE31)","v":""}]
[]
[null,null,null,"Ano Base","Último Ano"]
[null,null,"PONTUAÇÃO TOTAL",{"$f":"INDEX($D$152:$M$155,2,(MATCH($A$153,$D$152:$M$152,0)))","v":""},{"$f":"IFERROR((INDEX($D$152:$M$155,2,(MATCH($O$153,$D$152:$M$152,0)))),\"\")","v":""}]
[null,null,"NÍVEL",{"$f":"INDEX($D$152:$M$155,3,(MATCH($A$153,$D$152:$M$152,0)))","v":""},{"$f":"IFERROR((INDEX($D$152:$M$155,3,(MATCH($O$153,$D$152:$M$152,0)))),\"\")","v":""}]
[null,null,null,{"$f":"INDEX($D$152:$M$155,4,(MATCH($A$153,$D$152:$M$152,0)))","v":""},{"$f":"IFERROR((INDEX($D$152:$M$155,4,(MATCH($O$153,$D$152:$M$152,0)))),\"\")","v":""}]
[]
[]
[]
[null,"1.4  Áreas desmatadas e degradadas recuperadas e utilizadas para fins econômicos e de conservação ecológica (com + de 2 anos de recuperação)"]
[]
[]
[]
[]
[null,null,"Área",null,null,null,"Unidade de Medida",2009,2010,2011,2012,2013,2014,2015,2016,2017,2018]
[null,null,"Área reflorestada  / Outro",null,null,null,{"$f":"IF(C170=\"\",\"\",\"Hectares\")","v":"Hectares"}]
[null,null,"Área recuperada para fins econômicos / Outro",null,null,null,{"$f":"IF(C171=\"\",\"\",\"Hectares\")","v":"Hectares"}]

{"sheet":"aux_1.3.2","index":3,"n_rows":33,"n_cols":82,"rows_kept":33,"cut":false,"hidden":false,"merged":[[32,4,32,10],[8,2,12,2],[8,4,8,10],[12,4,12,10],[16,2,20,2],[16,4,16,10],[18,4,18,10],[19,4,19,10],[20,4,20,10],[9,4,9,10],[15,4,15,10],[17,4,17,10],[10,4,10,10],[11,4,11,10],[24,2,26,2],[23,4,23,10],[30,4,30,10],[7,13,7,14],[14,13,14,14],[22,13,22,14],[28,13,28,14],[7,11,7,12],[14,11,14,12],[22,11,22,12],[28,4,28,10],[28,11,28,12],[24,4,24,10],[25,4,25,10],[26,4,26,10],[28,15,28,16],[28,17,28,18],[7,19,7,20],[14,19,14,20],[22,19,22,20],[28,19,28,20],[7,15,7,16],[7,17,7,18],[14,15,14,16],[14,17,14,18],[22,15,22,16],[22,17,22,18],[7,21,7,22],[14,21,14,22],[22,21,22,22],[28,21,28,22],[7,23,7,24],[14,23,14,24],[22,23,22,24],[28,23,28,24],[7,29,7,30],[14,29,14,30],[22,29,22,30],[28,29,28,30],[7,25,7,26],[14,25,14,26],[22,25,22,26],[28,25,28,26],[7,27,7,28],[14,27,14,28],[22,27,22,28],[28,27,28,28]]}
[".",null,null,null,null,null,null,null,null,null,null,null,null,null,null,null,null,null,null,null,null,null,null,null,null,null,null,null,null,null,null,null,null,null,null,null,null,null,null,null,null,null,null,null,null,null,null,null,null,null,null,null,null,null,null,null,null,null,null,null,null,null,null,null,"Resp","Resp2","Resp3","Resp4","Resp5",null,null,"Resps","pontos",null,"nivel","descrição","Linf","Lsup",null,null,"pontos","nivel"]
[null,null,null,null,null,null,null,null,null,null,null,null,null,null,null,null,null,null,null,null,null,null,null,null,null,null,null,null,null,null,null,null,null,null,null,null,null,null,null,null,null,null,null,null,null,null,null,null,null,null,null,null,null,null,null,null,null,null,null,null,null,null,null,null,"SIM","Responda a pergunta acima!","SIM","SIM","Não aconteceram",null,null,"SIM",2,null,0,"Inexistente",0,0,null,null,0,0]
[null,null,null,null,null,null,null,null,null,null,null,null,null,null,null,null,null,null,null,null,null,null,null,null,null,null,null,null,null,null,null,null,null,null,null,null,null,null,null,null,null,null,null,null,null,null,null,null,null,null,null,null,null,null,null,null,null,null,null,null,null,null,null,null,"NÃO","Como, onde e o que aplicou?","NÃO","Não, têm acontecido muitos atrasos nos pagamentos","Uma ou duas vezes",null,null,"NÃO",0,null,1,"Baixo",1,8,null,null,1,1]
[null,null,null,null,null,null,null,null,null,null,null,null,null,null,null,null,null,null,null,null,null,null,null,null,null,null,null,null,null,null,null,null,null,null,null,null,null,null,null,null,null,null,null,null,null,null,null,null,null,null,null,null,null,null,null,null,null,null,null,null,null,null,null,null,null,"Qual o motivo provável para não ter aplicado?","EM PARTE","Em parte, apenas alguns pagamentos têm sido feitos com atraso","Mais de duas vezes",null,null,"EM PARTE",1,null,2,"Médio",9,17,null,null,2,1]
[null,null,null,null,null,null,null,null,null,null,null,null,null,null,null,null,null,null,null,null,null,null,null,null,null,null,null,null,null,null,null,null,null,null,null,null,null,null,null,null,null,null,null,null,null,null,null,null,null,null,null,null,null,null,null,null,null,null,null,null,null,null,null,null,null,null,null,null,null,null,null,"Não, têm acontecido muitos atrasos nos pagamentos",0,null,3,"Alto",18,24,null,null,3,1]
[null,null,null,null,null,null,null,null,null,null,null,null,null,null,null,null,null,null,null,null,null,null,null,null,null,null,null,null,null,null,null,null,null,null,null,null,null,null,null,null,null,null,null,null,null,null,null,null,null,null,null,null,null,null,null,null,null,null,null,null,null,null,null,null,null,null,null,null,null,null,null,"Em parte, apenas alguns pagamentos têm sido feitos com atraso",1,null,null,null,null,null,null,null,4,1]
[null,null,null,null,null,null,null,null,null,null,null,null,null,null,null,null,null,null,null,null,null,null,null,null,null,null,null,null,null,null,null,null,null,null,null,null,null,null,null,null,null,null,null,null,null,null,null,null,null,null,null,null,null,null,null,null,null,null,null,null,null,null,null,null,null,null,null,null,null,null,null,"Não aconteceram",0,null,null,null,null,null,null,null,5,1]
[null,null,null,null,null,null,null,null,null,null,null,2017,null,2018,null,2019,null,2020,null,2021,null,2022,null,2023,null,2024,null,2025,null,2026,null,null,null,null,null,null,null,null,null,null,null,null,null,null,null,null,null,null,null,null,null,null,null,null,null,null,null,null,null,null,null,null,null,null,null,null,null,null,null,null,null,"Uma ou duas vezes",1,null,null,null,null,null,null,null,6,1]
[null,null,"Na sua organização, em relação às FORMAS DE PLANEJAMENTO",null,"Perguntas",null,null,null,null,null,null,"Respostas","Pontuação","Respostas","Pontuação","Respostas","Pontuação","Respostas","Pontuação","Respostas","Pontuação","Respostas","Pontuação","Respostas","Pontuação","Respostas","Pontuação","Respostas","Pontuação","Respostas","Pontuação",null,null,null,null,null,null,null,null,null,null,null,null,null,null,null,null,null,null,null,null,null,null,null,null,null,null,null,null,null,null,null,null,null,null,null,null,null,null,null,null,"Mais de duas vezes",2,null,null,null,null,null,null,null,7,1]
[null,null,null,null,"1. Existe uma previsão orçamentária para o ano corrente?",null,null,null,null,null,null,null,{"$f":"IF(L10=0,\"\",(VLOOKUP(L10,$BT:$BU,2,0)))","v":""},null,{"$f":"IF(N10=0,\"\",(VLOOKUP(N10,$BT:$BU,2,0)))","v":""},null,{"$f":"IF(P10=0,\"\",(VLOOKUP(P10,$BT:$BU,2,0)))","v":""},null,{"$f":"IF(R10=0,\"\",(VLOOKUP(R10,$BT:$BU,2,0)))","v":""},null,{"$f":"IF(T10=0,\"\",(VLOOKUP(T10,$BT:$BU,2,0)))","v":""},null,{"$f":"IF(V10=0,\"\",(VLOOKUP(V10,$BT:$BU,2,0)))","v":""},null,{"$f":"IF(X10=0,\"\",(VLOOKUP(X10,$BT:$BU,2,0)))","v":""},null,{"$f":"IF(Z10=0,\"\",(VLOOKUP(Z10,$BT:$BU,2,0)))","v":""},null,{"$f":"IF(AB10=0,\"\",(VLOOKUP(AB10,$BT:$BU,2,0)))","v":""},null,{"$f":"IF(AD10=0,\"\",(VLOOKUP(AD10,$BT:$BU,2,0)))","v":""},null,null,null,null,null,null,null,null,null,null,null,null,null,null,null,null,null,null,null,null,null,null,null,null,null,null,null,null,null,null,null,null,null,null,null,null,null,null,null,null,null,null,null,null,null,null,null,null,null,8,1]
[null,null,null,null,"2. Existe um plano anual de trabalho com objetivos, ações e responsáveis?",null,null,null,null,null,null,null,{"$f":"IF(L11=0,\"\",(VLOOKUP(L11,$BT:$BU,2,0)))","v":""},null,{"$f":"IF(N11=0,\"\",(VLOOKUP(N11,$BT:$BU,2,0)))","v":""},null,{"$f":"IF(P11=0,\"\",(VLOOKUP(P11,$BT:$BU,2,0)))","v":""},null,{"$f":"IF(R11=0,\"\",(VLOOKUP(R11,$BT:$BU,2,0)))","v":""},null,{"$f":"IF(T11=0,\"\",(VLOOKUP(T11,$BT:$BU,2,0)))","v":""},null,{"$f":"IF(V11=0,\"\",(VLOOKUP(V11,$BT:$BU,2,0)))","v":""},null,{"$f":"IF(X11=0,\"\",(VLOOKUP(X11,$BT:$BU,2,0)))","v":""},null,{"$f":"IF(Z11=0,\"\",(VLOOKUP(Z11,$BT:$BU,2,0)))","v":""},null,{"$f":"IF(AB11=0,\"\",(VLOOKUP(AB11,$BT:$BU,2,0)))","v":""},null,{"$f":"IF(AD11=0,\"\",(VLOOKUP(AD11,$BT:$BU,2,0)))","v":""},null,null,null,null,null,null,null,null,null,null,null,null,null,null,null,null,null,null,null,null,null,null,null,null,null,null,null,null,null,null,null,null,null,null,null,null,null,null,null,null,null,null,null,null,null,null,null,null,null,9,2]
[null,null,null,null,"3. Existe um plano ou estratégia definida para 3 anos ou mais?",null,null,null,null,null,null,null,{"$f":"IF(L12=0,\"\",(VLOOKUP(L12,$BT:$BU,2,0)))","v":""},null,{"$f":"IF(N12=0,\"\",(VLOOKUP(N12,$BT:$BU,2,0)))","v":""},null,{"$f":"IF(P12=0,\"\",(VLOOKUP(P12,$BT:$BU,2,0)))","v":""},null,{"$f":"IF(R12=0,\"\",(VLOOKUP(R12,$BT:$BU,2,0)))","v":""},null,{"$f":"IF(T12=0,\"\",(VLOOKUP(T12,$BT:$BU,2,0)))","v":""},null,{"$f":"IF(V12=0,\"\",(VLOOKUP(V12,$BT:$BU,2,0)))","v":""},null,{"$f":"IF(X12=0,\"\",(VLOOKUP(X12,$BT:$BU,2,0)))","v":""},null,{"$f":"IF(Z12=0,\"\",(VLOOKUP(Z12,$BT:$BU,2,0)))","v":""},null,{"$f":"IF(AB12=0,\"\",(VLOOKUP(AB12,$BT:$BU,2,0)))","v":""},null,{"$f":"IF(AD12=0,\"\",(VLOOKUP(AD12,$BT:$BU,2,0)))","v":""},null,null,null,null,null,null,null,null,null,null,null,null,null,null,null,null,null,null,null,null,null,null,null,null,null,null,null,null,null,null,null,null,null,null,null,null,null,null,null,null,null,null,null,null,null,null,null,null,null,10,2]
[null,null,null,null,"4. Está sendo monitorado, pelo menos uma vez ao ano, se o que foi planejado está sendo colocado em prática?",null,null,null,null,null,null,null,{"$f":"IF(L13=0,\"\",(VLOOKUP(L13,$BT:$BU,2,0)))","v":""},null,{"$f":"IF(N13=0,\"\",(VLOOKUP(N13,$BT:$BU,2,0)))","v":""},null,{"$f":"IF(P13=0,\"\",(VLOOKUP(P13,$BT:$BU,2,0)))","v":""},null,{"$f":"IF(R13=0,\"\",(VLOOKUP(R13,$BT:$BU,2,0)))","v":""},null,{"$f":"IF(T13=0,\"\",(VLOOKUP(T13,$BT:$BU,2,0)))","v":""},null,{"$f":"IF(V13=0,\"\",(VLOOKUP(V13,$BT:$BU,2,0)))","v":""},null,{"$f":"IF(X13=0,\"\",(VLOOKUP(X13,$BT:$BU,2,0)))","v":""},null,{"$f":"IF(Z13=0,\"\",(VLOOKUP(Z13,$BT:$BU,2,0)))","v":""},null,{"$f":"IF(AB13=0,\"\",(VLOOKUP(AB13,$BT:$BU,2,0)))","v":""},null,{"$f":"IF(AD13=0,\"\",(VLOOKUP(AD13,$BT:$BU,2,0)))","v":""},null,null,null,null,null,null,null,null,null,null,null,null,null,null,null,null,null,null,null,null,null,null,null,null,null,null,null,null,null,null,null,null,null,null,null,null,null,null,null,null,null,null,null,null,null,null,null,null,null,11,2]
[null,null,null,null,null,null,null,null,null,null,null,null,null,null,null,null,null,null,null,null,null,null,null,null,null,null,null,null,null,null,null,null,null,null,null,null,null,null,null,null,null,null,null,null,null,null,null,null,null,null,null,null,null,null,null,null,null,null,null,null,null,null,null,null,null,null,null,null,null,null,null,null,null,null,null,null,null,null,null,null,12,2]
[null,null,null,null,null,null,null,null,null,null,null,2017,null,2018,null,2019,null,2020,null,2021,null,2022,null,2023,null,2024,null,2025,null,2026,null,null,null,null,null,null,null,null,null,null,null,null,null,null,null,null,null,null,null,null,null,null,null,null,null,null,null,null,null,null,null,null,null,null,null,null,null,null,null,null,null,null,null,null,null,null,null,null,null,null,13,2]
[null,null,null,null,"Perguntas",null,null,null,null,null,null,"Respostas","Pontuação","Respostas","Pontuação","Respostas","Pontuação","Respostas","Pontuação","Respostas","Pontuação","Respostas","Pontuação","Respostas","Pontuação","Respostas","Pontuação","Respostas","Pontuação","Respostas","Pontuação",null,null,null,null,null,null,null,null,null,null,null,null,null,null,null,null,null,null,null,null,null,null,null,null,null,null,null,null,null,null,null,null,null,null,null,null,null,null,null,null,null,null,null,null,null,null,null,null,null,14,2]
[null,null,"Na sua organização, em relação à PRESTAÇÃO DE CONTAS",null,"5. Os documentos financeiros e fiscais do grupo/organização estão organizados e arquivados?",null,null,null,null,null,null,null,{"$f":"IF(L17=0,\"\",(VLOOKUP(L17,$BT:$BU,2,0)))","v":""},null,{"$f":"IF(N17=0,\"\",(VLOOKUP(N17,$BT:$BU,2,0)))","v":""},null,{"$f":"IF(P17=0,\"\",(VLOOKUP(P17,$BT:$BU,2,0)))","v":""},null,{"$f":"IF(R17=0,\"\",(VLOOKUP(R17,$BT:$BU,2,0)))","v":""},null,{"$f":"IF(T17=0,\"\",(VLOOKUP(T17,$BT:$BU,2,0)))","v":""},null,{"$f":"IF(V17=0,\"\",(VLOOKUP(V17,$BT:$BU,2,0)))","v":""},null,{"$f":"IF(X17=0,\"\",(VLOOKUP(X17,$BT:$BU,2,0)))","v":""},null,{"$f":"IF(Z17=0,\"\",(VLOOKUP(Z17,$BT:$BU,2,0)))","v":""},null,{"$f":"IF(AB17=0,\"\",(VLOOKUP(AB17,$BT:$BU,2,0)))","v":""},null,{"$f":"IF(AD17=0,\"\",(VLOOKUP(AD17,$BT:$BU,2,0)))","v":""},null,null,null,null,null,null,null,null,null,null,null,null,null,null,null,null,null,null,null,null,null,null,null,null,null,null,null,null,null,null,null,null,null,null,null,null,null,null,null,null,null,null,null,null,null,null,null,null,null,15,2]
[null,null,null,null,"6. Os registros financeiros de receitas e despesas foram atualizados até 2 meses atrás?",null,null,null,null,null,null,null,{"$f":"IF(L18=0,\"\",(VLOOKUP(L18,$BT:$BU,2,0)))","v":""},null,{"$f":"IF(N18=0,\"\",(VLOOKUP(N18,$BT:$BU,2,0)))","v":""},null,{"$f":"IF(P18=0,\"\",(VLOOKUP(P18,$BT:$BU,2,0)))","v":""},null,{"$f":"IF(R18=0,\"\",(VLOOKUP(R18,$BT:$BU,2,0)))","v":""},null,{"$f":"IF(T18=0,\"\",(VLOOKUP(T18,$BT:$BU,2,0)))","v":""},null,{"$f":"IF(V18=0,\"\",(VLOOKUP(V18,$BT:$BU,2,0)))","v":""},null,{"$f":"IF(X18=0,\"\",(VLOOKUP(X18,$BT:$BU,2,0)))","v":""},null,{"$f":"IF(Z18=0,\"\",(VLOOKUP(Z18,$BT:$BU,2,0)))","v":""},null,{"$f":"IF(AB18=0,\"\",(VLOOKUP(AB18,$BT:$BU,2,0)))","v":""},null,{"$f":"IF(AD18=0,\"\",(VLOOKUP(AD18,$BT:$BU,2,0)))","v":""},null,null,null,null,null,null,null,null,null,null,null,null,null,null,null,null,null,null,null,null,null,null,null,null,null,null,null,null,null,null,null,null,null,null,null,null,null,null,null,null,null,null,null,null,null,null,null,null,null,16,2]
[null,null,null,null,"7. A organização está atualmente sem dívidas comerciais ou trabalistas que impedem a movimentação bancária ou a obtenção de crédito junto a bancos/fornecedores ou que bloquearam na justiça algum bem da organização?",null,null,null,null,null,null,null,{"$f":"IF(L19=0,\"\",(VLOOKUP(L19,$BT:$BU,2,0)))","v":""},null,{"$f":"IF(N19=0,\"\",(VLOOKUP(N19,$BT:$BU,2,0)))","v":""},null,{"$f":"IF(P19=0,\"\",(VLOOKUP(P19,$BT:$BU,2,0)))","v":""},null,{"$f":"IF(R19=0,\"\",(VLOOKUP(R19,$BT:$BU,2,0)))","v":""},null,{"$f":"IF(T19=0,\"\",(VLOOKUP(T19,$BT:$BU,2,0)))","v":""},null,{"$f":"IF(V19=0,\"\",(VLOOKUP(V19,$BT:$BU,2,0)))","v":""},null,{"$f":"IF(X19=0,\"\",(VLOOKUP(X19,$BT:$BU,2,0)))","v":""},null,{"$f":"IF(Z19=0,\"\",(VLOOKUP(Z19,$BT:$BU,2,0)))","v":""},null,{"$f":"IF(AB19=0,\"\",(VLOOKUP(AB19,$BT:$BU,2,0)))","v":""},null,{"$f":"IF(AD19=0,\"\",(VLOOKUP(AD19,$BT:$BU,2,0)))","v":""},null,null,null,null,null,null,null,null,null,null,null,null,null,null,null,null,null,null,null,null,null,null,null,null,null,null,null,null,null,null,null,null,null,null,null,null,null,null,null,null,null,null,null,null,null,null,null,null,null,17,2]
[null,null,null,null,"8. O pagamento de fornecedores e membros/associados vem sendo feito no prazo previsto?",null,null,null,null,null,null,null,{"$f":"IF(L20=0,\"\",(VLOOKUP(L20,$BT:$BU,2,0)))","v":""},null,{"$f":"IF(N20=0,\"\",(VLOOKUP(N20,$BT:$BU,2,0)))","v":""},null,{"$f":"IF(P20=0,\"\",(VLOOKUP(P20,$BT:$BU,2,0)))","v":""},null,{"$f":"IF(R20=0,\"\",(VLOOKUP(R20,$BT:$BU,2,0)))","v":""},null,{"$f":"IF(T20=0,\"\",(VLOOKUP(T20,$BT:$BU,2,0)))","v":""},null,{"$f":"IF(V20=0,\"\",(VLOOKUP(V20,$BT:$BU,2,0)))","v":""},null,{"$f":"IF(X20=0,\"\",(VLOOKUP(X20,$BT:$BU,2,0)))","v":""},null,{"$f":"IF(Z20=0,\"\",(VLOOKUP(Z20,$BT:$BU,2,0)))","v":""},null,{"$f":"IF(AB20=0,\"\",(VLOOKUP(AB20,$BT:$BU,2,0)))","v":""},null,{"$f":"IF(AD20=0,\"\",(VLOOKUP(AD20,$BT:$BU,2,0)))","v":""},null,null,null,null,null,null,null,null,null,null,null,null,null,null,null,null,null,null,null,null,null,null,null,null,null,null,null,null,null,null,null,null,null,null,null,null,null,null,null,null,null,null,null,null,null,null,null,null,null,18,3]
[null,null,null,null,"9. O último relatório anual financeiro foi entregue no prazo?",null,null,null,null,null,null,null,{"$f":"IF(L21=0,\"\",(VLOOKUP(L21,$BT:$BU,2,0)))","v":""},null,{"$f":"IF(N21=0,\"\",(VLOOKUP(N21,$BT:$BU,2,0)))","v":""},null,{"$f":"IF(P21=0,\"\",(VLOOKUP(P21,$BT:$BU,2,0)))","v":""},null,{"$f":"IF(R21=0,\"\",(VLOOKUP(R21,$BT:$BU,2,0)))","v":""},null,{"$f":"IF(T21=0,\"\",(VLOOKUP(T21,$BT:$BU,2,0)))","v":""},null,{"$f":"IF(V21=0,\"\",(VLOOKUP(V21,$BT:$BU,2,0)))","v":""},null,{"$f":"IF(X21=0,\"\",(VLOOKUP(X21,$BT:$BU,2,0)))","v":""},null,{"$f":"IF(Z21=0,\"\",(VLOOKUP(Z21,$BT:$BU,2,0)))","v":""},null,{"$f":"IF(AB21=0,\"\",(VLOOKUP(AB21,$BT:$BU,2,0)))","v":""},null,{"$f":"IF(AD21=0,\"\",(VLOOKUP(AD21,$BT:$BU,2,0)))","v":""},null,null,null,null,null,null,null,null,null,null,null,null,null,null,null,null,null,null,null,null,null,null,null,null,null,null,null,null,null,null,null,null,null,null,null,null,null,null,null,null,null,null,null,null,null,null,null,null,null,19,3]
[null,null,null,null,null,null,null,null,null,null,null,null,null,null,null,null,null,null,null,null,null,null,null,null,null,null,null,null,null,null,null,null,null,null,null,null,null,null,null,null,null,null,null,null,null,null,null,null,null,null,null,null,null,null,null,null,null,null,null,null,null,null,null,null,null,null,null,null,null,null,null,null,null,null,null,null,null,null,null,null,20,3]
[null,null,null,null,null,null,null,null,null,null,null,2017,null,2018,null,2019,null,2020,null,2021,null,2022,null,2023,null,2024,null,2025,null,2026,null,null,null,null,null,null,null,null,null,null,null,null,null,null,null,null,null,null,null,null,null,null,null,null,null,null,null,null,null,null,null,null,null,null,null,null,null,null,null,null,null,null,null,null,null,null,null,null,null,null,21,3]
[null,null,null,null,"Perguntas",null,null,null,null,null,null,"Respostas","Pontuação","Respostas","Pontuação","Respostas","Pontuação","Respostas","Pontuação","Respostas","Pontuação","Respostas","Pontuação","Respostas","Pontuação","Respostas","Pontuação","Respostas","Pontuação","Respostas","Pontuação",null,null,null,null,null,null,null,null,null,null,null,null,null,null,null,null,null,null,null,null,null,null,null,null,null,null,null,null,null,null,null,null,null,null,null,null,null,null,null,null,null,null,null,null,null,null,null,null,null,22,3]
[null,null,"Na sua organização, em relação à GOVERNANÇA",null,"10. As instâncias e os papeis de coordenação estão claramente definidos e escritos em algum regimento interno ou estatuto?",null,null,null,null,null,null,null,{"$f":"IF(L25=0,\"\",(VLOOKUP(L25,$BT:$BU,2,0)))","v":""},null,{"$f":"IF(N25=0,\"\",(VLOOKUP(N25,$BT:$BU,2,0)))","v":""},null,{"$f":"IF(P25=0,\"\",(VLOOKUP(P25,$BT:$BU,2,0)))","v":""},null,{"$f":"IF(R25=0,\"\",(VLOOKUP(R25,$BT:$BU,2,0)))","v":""},null,{"$f":"IF(T25=0,\"\",(VLOOKUP(T25,$BT:$BU,2,0)))","v":""},null,{"$f":"IF(V25=0,\"\",(VLOOKUP(V25,$BT:$BU,2,0)))","v":""},null,{"$f":"IF(X25=0,\"\",(VLOOKUP(X25,$BT:$BU,2,0)))","v":""},null,{"$f":"IF(Z25=0,\"\",(VLOOKUP(Z25,$BT:$BU,2,0)))","v":""},null,{"$f":"IF(AB25=0,\"\",(VLOOKUP(AB25,$BT:$BU,2,0)))","v":""},null,{"$f":"IF(AD25=0,\"\",(VLOOKUP(AD25,$BT:$BU,2,0)))","v":""},null,null,null,null,null,null,null,null,null,null,null,null,null,null,null,null,null,null,null,null,null,null,null,null,null,null,null,null,null,null,null,null,null,null,null,null,null,null,null,null,null,null,null,null,null,null,null,null,null,23,3]
[null,null,null,null,"11. Houve a apresentação de alguma prestação de contas da organização para o coletivo/membros nos últimos 6 meses?",null,null,null,null,null,null,null,{"$f":"IF(L26=0,\"\",(VLOOKUP(L26,$BT:$BU,2,0)))","v":""},null,{"$f":"IF(N26=0,\"\",(VLOOKUP(N26,$BT:$BU,2,0)))","v":""},null,{"$f":"IF(P26=0,\"\",(VLOOKUP(P26,$BT:$BU,2,0)))","v":""},null,{"$f":"IF(R26=0,\"\",(VLOOKUP(R26,$BT:$BU,2,0)))","v":""},null,{"$f":"IF(T26=0,\"\",(VLOOKUP(T26,$BT:$BU,2,0)))","v":""},null,{"$f":"IF(V26=0,\"\",(VLOOKUP(V26,$BT:$BU,2,0)))","v":""},null,{"$f":"IF(X26=0,\"\",(VLOOKUP(X26,$BT:$BU,2,0)))","v":""},null,{"$f":"IF(Z26=0,\"\",(VLOOKUP(Z26,$BT:$BU,2,0)))","v":""},null,{"$f":"IF(AB26=0,\"\",(VLOOKUP(AB26,$BT:$BU,2,0)))","v":""},null,{"$f":"IF(AD26=0,\"\",(VLOOKUP(AD26,$BT:$BU,2,0)))","v":""},null,null,null,null,null,null,null,null,null,null,null,null,null,null,null,null,null,null,null,null,null,null,null,null,null,null,null,null,null,null,null,null,null,null,null,null,null,null,null,null,null,null,null,null,null,null,null,null,null,24,3]
[null,null,null,null,"12. Com que frequência aconteceram reuniões ou assembleias no último ano, envolvendo todos os membros da organização para informação e tomada de decisões?",null,null,null,null,null,null,null,{"$f":"IF(L27=0,\"\",(VLOOKUP(L27,$BT:$BU,2,0)))","v":""},null,{"$f":"IF(N27=0,\"\",(VLOOKUP(N27,$BT:$BU,2,0)))","v":""},null,{"$f":"IF(P27=0,\"\",(VLOOKUP(P27,$BT:$BU,2,0)))","v":""},null,{"$f":"IF(R27=0,\"\",(VLOOKUP(R27,$BT:$BU,2,0)))","v":""},null,{"$f":"IF(T27=0,\"\",(VLOOKUP(T27,$BT:$BU,2,0)))","v":""},null,{"$f":"IF(V27=0,\"\",(VLOOKUP(V27,$BT:$BU,2,0)))","v":""},null,{"$f":"IF(X27=0,\"\",(VLOOKUP(X27,$BT:$BU,2,0)))","v":""},null,{"$f":"IF(Z27=0,\"\",(VLOOKUP(Z27,$BT:$BU,2,0)))","v":""},null,{"$f":"IF(AB27=0,\"\",(VLOOKUP(AB27,$BT:$BU,2,0)))","v":""},null,{"$f":"IF(AD27=0,\"\",(VLOOKUP(AD27,$BT:$BU,2,0)))","v":""}]
[]
[null,null,null,null,"Pontuação Total",null,null,null,null,null,null,{"$f":"IF(M10=\"\",\"\",(SUM(M10:M13,M17:M21,M25:M27)))","v":""},null,{"$f":"IF(O10=\"\",\"\",(SUM(O10:O13,O17:O21,O25:O27)))","v":""},null,{"$f":"IF(Q10=\"\",\"\",(SUM(Q10:Q13,Q17:Q21,Q25:Q27)))","v":""},null,{"$f":"IF(S10=\"\",\"\",(SUM(S10:S13,S17:S21,S25:S27)))","v":""},null,{"$f":"IF(U10=\"\",\"\",(SUM(U10:U13,U17:U21,U25:U27)))","v":""},null,{"$f":"IF(W10=\"\",\"\",(SUM(W10:W13,W17:W21,W25:W27)))","v":""},null,{"$f":"IF(Y10=\"\",\"\",(SUM(Y10:Y13,Y17:Y21,Y25:Y27)))","v":""},null,{"$f":"IF(AA10=\"\",\"\",(SUM(AA10:AA13,AA17:AA21,AA25:AA27)))","v":""},null,{"$f":"IF(AC10=\"\",\"\",(SUM(AC10:AC13,AC17:AC21,AC25:AC27)))","v":""},null,{"$f":"IF(AE10=\"\",\"\",(SUM(AE10:AE13,AE17:AE21,AE25:AE27)))","v":""}]
[]
[null,null,null,null,"Nível*",null,null,null,null,null,null,{"$f":"IF(L29=\"\",\"\",(IF(L29>24,4,(VLOOKUP(L29,$CC:$CD,2,0)))))","v":""},{"$f":"IFERROR((VLOOKUP(L31,$BW:$BX,2,0)),\"\")","v":""},{"$f":"IF(N29=\"\",\"\",(IF(N29>24,4,(VLOOKUP(N29,$CC:$CD,2,0)))))","v":""},{"$f":"IFERROR((VLOOKUP(N31,$BW:$BX,2,0)),\"\")","v":""},{"$f":"IF(P29=\"\",\"\",(IF(P29>24,4,(VLOOKUP(P29,$CC:$CD,2,0)))))","v":""},{"$f":"IFERROR((VLOOKUP(P31,$BW:$BX,2,0)),\"\")","v":""},{"$f":"IF(R29=\"\",\"\",(IF(R29>24,4,(VLOOKUP(R29,$CC:$CD,2,0)))))","v":""},{"$f":"IFERROR((VLOOKUP(R31,$BW:$BX,2,0)),\"\")","v":""},{"$f":"IF(T29=\"\",\"\",(IF(T29>24,4,(VLOOKUP(T29,$CC:$CD,2,0)))))","v":""},{"$f":"IFERROR((VLOOKUP(T31,$BW:$BX,2,0)),\"\")","v":""},{"$f":"IF(V29=\"\",\"\",(IF(V29>24,4,(VLOOKUP(V29,$CC:$CD,2,0)))))","v":""},{"$f":"IFERROR((VLOOKUP(V31,$BW:$BX,2,0)),\"\")","v":""},{"$f":"IF(X29=\"\",\"\",(IF(X29>24,4,(VLOOKUP(X29,$CC:$CD,2,0)))))","v":""},{"$f":"IFERROR((VLOOKUP(X31,$BW:$BX,2,0)),\"\")","v":""},{"$f":"IF(Z29=\"\",\"\",(IF(Z29>24,4,(VLOOKUP(Z29,$CC:$CD,2,0)))))","v":""},{"$f":"IFERROR((VLOOKUP(Z31,$BW:$BX,2,0)),\"\")","v":""},{"$f":"IF(AB29=\"\",\"\",(IF(AB29>24,4,(VLOOKUP(AB29,$CC:$CD,2,0)))))","v":""},{"$f":"IFERROR((VLOOKUP(AB31,$BW:$BX,2,0)),\"\")","v":""},{"$f":"IF(AD29=\"\",\"\",(IF(AD29>24,4,(VLOOKUP(AD29,$CC:$CD,2,0)))))","v":""},{"$f":"IFERROR((VLOOKUP(AD31,$BW:$BX,2,0)),\"\")","v":""}]
[]
[null,null,null,null,"*Foram definidos três níveis de qualidade gerencial e governança com uma pontuação que depende das respostas dadas em relação às 12 variáveis pré-definidas: \n1. Baixo (1-8, nível 1); \n2. Médio (9-17, nível 2); e\n3. Alto (18-24, nível 3). "]

{"sheet":"dados_exp","index":4,"n_rows":301,"n_cols":36,"rows_kept":301,"cut":false,"hidden":true,"merged":[]}
["projeto","subprojeto","nome","data","X","ID","produto","unid_med_in","unid_med_benef","ano","receita_in","receita_benef","volume_in","volume_benef","X","tipo_manejo","area_manejo","ano_manejo","X","total_individuos","mulheres_incl_ mulh_ind","ind_incl_mulh_ind","X","capacitacao","cap_perg_1","cap_perg_2","cap_perg_3","cap_perg_4","X","perg","pts_perg","resp_perg","X","tipo_area1","area_reflo","ano_reflo"]
[{"$f":"IF(G2=\"\",\"\",(IF(questionario!$C$8=\"\",\"\",questionario!$C$8)))","v":""},{"$f":"IF(G2=\"\",\"\",(IF(questionario!$C$15=\"\",\"\",questionario!$C$15)))","v":""},{"$f":"IF(G2=\"\",\"\",(IF(questionario!$L$8=\"\",\"\",questionario!$L$8)))","v":""},{"$f":"IF(C2=\"\",\"\",(IF(questionario!$L$11=\"\",\"\",questionario!$L$11)))","v":""},"X",{"$f":"G2&J2","v":"Açaí2017"},{"$f":"IF(aux_cadastros!$A$2=\"\",\"\",aux_cadastros!$A$2)","v":"Açaí"},{"$f":"IFERROR((VLOOKUP(G2,questionario!$C$47:$D$66,2,0)),\"\")","v":""},{"$f":"IFERROR((VLOOKUP(G2,questionario!$Q$47:$R$66,2,0)),\"\")","v":""},{"$f":"questionario!$E$22","v":2017},{"$f":"IF(G2=\"\",\"\",(IFERROR((INDEX(questionario!$A$23:$N$42,(MATCH((dados_exp!$G2&\"R$\"),questionario!$A$23:$A$42,0)),(MATCH(dados_exp!$J2,questionario!$A$22:$N$22,0)))),\"\")))","v":""},{"$f":"IF(G2=\"\",\"\",(IFERROR((INDEX(questionario!$Q$22:$AB$42,(MATCH(dados_exp!$G2,questionario!$Q$22:$Q$42,0)),(MATCH(dados_exp!$J2,questionario!$Q$22:$AB$22,0)))),\"\")))","v":""},{"$f":"IFERROR((INDEX(questionario!$B$47:$N$66,(MATCH((dados_exp!$G2&dados_exp!$H2),questionario!$B$47:$B$66,0)),(MATCH(dados_exp!$J2,questionario!$B$46:$N$46,0)))),\"\")","v":""},{"$f":"IFERROR((INDEX(questionario!$O$47:$AB$66,(MATCH((dados_exp!$G2&dados_exp!$I2),questionario!$O$47:$O$66,0)),(MATCH(dados_exp!$J2,questionario!$O$46:$AB$46,0)))),\"\")","v":""},"X",{"$f":"questionario!$C$115","v":"Madeireiro"},{"$f":"IF(questionario!$E$115=\"\",\"\",questionario!$E$115)","v":""},{"$f":"questionario!$E$114","v":2009},"X",null,null,null,"X",null,null,null,null,null,"X",1,{"$f":"IF(questionario!#REF!=\"\",\"\",questionario!#REF!)","v":{"$error":"#REF!"}},{"$f":"IF(questionario!#REF!=0,\"\",questionario!#REF!)","v":{"$error":"#REF!"}},"X",{"$f":"IF(questionario!$C$170=\"\",\"\",questionario!$C$170)","v":"Área reflorestada  / Outro"},{"$f":"IF(AH2=\"\",\"\",questionario!$H$170)","v":0},{"$f":"questionario!$H$169","v":2009}]
[{"$f":"IF(G3=\"\",\"\",(IF(questionario!$C$8=\"\",\"\",questionario!$C$8)))","v":""},{"$f":"IF(G3=\"\",\"\",(IF(questionario!$C$15=\"\",\"\",questionario!$C$15)))","v":""},{"$f":"IF(G3=\"\",\"\",(IF(questionario!$L$8=\"\",\"\",questionario!$L$8)))","v":""},{"$f":"IF(C3=\"\",\"\",(IF(questionario!$L$11=\"\",\"\",questionario!$L$11)))","v":""},"X",{"$f":"G3&J3","v":"Aquicultura2017"},{"$f":"IF(aux_cadastros!$A$3=\"\",\"\",aux_cadastros!$A$3)","v":"Aquicultura"},{"$f":"IFERROR((VLOOKUP(G3,questionario!$C$47:$D$66,2,0)),\"\")","v":""},{"$f":"IFERROR((VLOOKUP(G3,questionario!$Q$47:$R$66,2,0)),\"\")","v":""},{"$f":"J2","v":2017},{"$f":"IF(G3=\"\",\"\",(IFERROR((INDEX(questionario!$A$23:$N$42,(MATCH((dados_exp!$G3&\"R$\"),questionario!$A$23:$A$42,0)),(MATCH(dados_exp!$J3,questionario!$A$22:$N$22,0)))),\"\")))","v":""},{"$f":"IF(G3=\"\",\"\",(IFERROR((INDEX(questionario!$Q$22:$AB$42,(MATCH(dados_exp!$G3,questionario!$Q$22:$Q$42,0)),(MATCH(dados_exp!$J3,questionario!$Q$22:$AB$22,0)))),\"\")))","v":""},{"$f":"IFERROR((INDEX(questionario!$B$47:$N$66,(MATCH((dados_exp!$G3&dados_exp!$H3),questionario!$B$47:$B$66,0)),(MATCH(dados_exp!$J3,questionario!$B$46:$N$46,0)))),\"\")","v":""},{"$f":"IFERROR((INDEX(questionario!$O$47:$AB$66,(MATCH((dados_exp!$G3&dados_exp!$I3),questionario!$O$47:$O$66,0)),(MATCH(dados_exp!$J3,questionario!$O$46:$AB$46,0)))),\"\")","v":""},"X",{"$f":"questionario!$C$116","v":"Não Madeireiro"},{"$f":"IF(questionario!$E$116=\"\",\"\",questionario!$E$116)","v":""},{"$f":"questionario!$E$114","v":2009},"X",null,null,null,"X",null,null,null,null,null,"X",2,{"$f":"IF(questionario!#REF!=\"\",\"\",questionario!#REF!)","v":{"$error":"#REF!"}},{"$f":"IF(questionario!#REF!=0,\"\",questionario!#REF!)","v":{"$error":"#REF!"}},"X",{"$f":"IF(questionario!$C$171=\"\",\"\",questionario!$C$171)","v":"Área recuperada para fins econômicos / Outro"},{"$f":"IF(AH3=\"\",\"\",questionario!$H$171)","v":0},{"$f":"AJ2","v":2009}]
[{"$f":"IF(G4=\"\",\"\",(IF(questionario!$C$8=\"\",\"\",questionario!$C$8)))","v":""},{"$f":"IF(G4=\"\",\"\",(IF(questionario!$C$15=\"\",\"\",questionario!$C$15)))","v":""},{"$f":"IF(G4=\"\",\"\",(IF(questionario!$L$8=\"\",\"\",questionario!$L$8)))","v":""},{"$f":"IF(C4=\"\",\"\",(IF(questionario!$L$11=\"\",\"\",questionario!$L$11)))","v":""},"X","Artesanato2017",{"$f":"IF(aux_cadastros!$A$4=\"\",\"\",aux_cadastros!$A$4)","v":"Artesanato"},{"$f":"IFERROR((VLOOKUP(G4,questionario!$C$47:$D$66,2,0)),\"\")","v":""},{"$f":"IFERROR((VLOOKUP(G4,questionario!$Q$47:$R$66,2,0)),\"\")","v":""},{"$f":"J3","v":2017},{"$f":"IF(G4=\"\",\"\",(IFERROR((INDEX(questionario!$A$23:$N$42,(MATCH((dados_exp!$G4&\"R$\"),questionario!$A$23:$A$42,0)),(MATCH(dados_exp!$J4,questionario!$A$22:$N$22,0)))),\"\")))","v":""},{"$f":"IF(G4=\"\",\"\",(IFERROR((INDEX(questionario!$Q$22:$AB$42,(MATCH(dados_exp!$G4,questionario!$Q$22:$Q$42,0)),(MATCH(dados_exp!$J4,questionario!$Q$22:$AB$22,0)))),\"\")))","v":""},{"$f":"IFERROR((INDEX(questionario!$B$47:$N$66,(MATCH((dados_exp!$G4&dados_exp!$H4),questionario!$B$47:$B$66,0)),(MATCH(dados_exp!$J4,questionario!$B$46:$N$46,0)))),\"\")","v":""},{"$f":"IFERROR((INDEX(questionario!$O$47:$AB$66,(MATCH((dados_exp!$G4&dados_exp!$I4),questionario!$O$47:$O$66,0)),(MATCH(dados_exp!$J4,questionario!$O$46:$AB$46,0)))),\"\")","v":""},"X",{"$f":"P2","v":"Madeireiro"},{"$f":"IF(questionario!$F$115=\"\",\"\",questionario!$F$115)","v":""},{"$f":"questionario!$F$114","v":2010},"X",null,null,null,"X",null,null,null,null,null,"X",3,{"$f":"IF(questionario!#REF!=\"\",\"\",questionario!#REF!)","v":{"$error":"#REF!"}},{"$f":"IF(questionario!#REF!=0,\"\",questionario!#REF!)","v":{"$error":"#REF!"}},"X",{"$f":"IF(questionario!$C$170=\"\",\"\",questionario!$C$170)","v":"Área reflorestada  / Outro"},{"$f":"IF(AH4=\"\",\"\",questionario!$I$170)","v":0},{"$f":"questionario!$I$169","v":2010}]
[{"$f":"IF(G5=\"\",\"\",(IF(questionario!$C$8=\"\",\"\",questionario!$C$8)))","v":""},{"$f":"IF(G5=\"\",\"\",(IF(questionario!$C$15=\"\",\"\",questionario!$C$15)))","v":""},{"$f":"IF(G5=\"\",\"\",(IF(questionario!$L$8=\"\",\"\",questionario!$L$8)))","v":""},{"$f":"IF(C5=\"\",\"\",(IF(questionario!$L$11=\"\",\"\",questionario!$L$11)))","v":""},"X","Babaçu2017",{"$f":"IF(aux_cadastros!$A$5=\"\",\"\",aux_cadastros!$A$5)","v":"Babaçu"},{"$f":"IFERROR((VLOOKUP(G5,questionario!$C$47:$D$66,2,0)),\"\")","v":""},{"$f":"IFERROR((VLOOKUP(G5,questionario!$Q$47:$R$66,2,0)),\"\")","v":""},2017,{"$f":"IF(G5=\"\",\"\",(IFERROR((INDEX(questionario!$A$23:$N$42,(MATCH((dados_exp!$G5&\"R$\"),questionario!$A$23:$A$42,0)),(MATCH(dados_exp!$J5,questionario!$A$22:$N$22,0)))),\"\")))","v":""},{"$f":"IF(G5=\"\",\"\",(IFERROR((INDEX(questionario!$Q$22:$AB$42,(MATCH(dados_exp!$G5,questionario!$Q$22:$Q$42,0)),(MATCH(dados_exp!$J5,questionario!$Q$22:$AB$22,0)))),\"\")))","v":""},{"$f":"IFERROR((INDEX(questionario!$B$47:$N$66,(MATCH((dados_exp!$G5&dados_exp!$H5),questionario!$B$47:$B$66,0)),(MATCH(dados_exp!$J5,questionario!$B$46:$N$46,0)))),\"\")","v":""},{"$f":"IFERROR((INDEX(questionario!$O$47:$AB$66,(MATCH((dados_exp!$G5&dados_exp!$I5),questionario!$O$47:$O$66,0)),(MATCH(dados_exp!$J5,questionario!$O$46:$AB$46,0)))),\"\")","v":""},"X",{"$f":"P3","v":"Não Madeireiro"},{"$f":"IF(questionario!$F$116=\"\",\"\",questionario!$F$116)","v":""},{"$f":"questionario!$F$114","v":2010},"X",null,null,null,"X",null,null,null,null,null,"X",4,{"$f":"IF(questionario!#REF!=\"\",\"\",questionario!#REF!)","v":{"$error":"#REF!"}},{"$f":"IF(questionario!#REF!=0,\"\",questionario!#REF!)","v":{"$error":"#REF!"}},"X",{"$f":"IF(questionario!$C$171=\"\",\"\",questionario!$C$171)","v":"Área recuperada para fins econômicos / Outro"},{"$f":"IF(AH5=\"\",\"\",questionario!$I$171)","v":0},{"$f":"AJ4","v":2010}]
[{"$f":"IF(G6=\"\",\"\",(IF(questionario!$C$8=\"\",\"\",questionario!$C$8)))","v":""},{"$f":"IF(G6=\"\",\"\",(IF(questionario!$C$15=\"\",\"\",questionario!$C$15)))","v":""},{"$f":"IF(G6=\"\",\"\",(IF(questionario!$L$8=\"\",\"\",questionario!$L$8)))","v":""},{"$f":"IF(C6=\"\",\"\",(IF(questionario!$L$11=\"\",\"\",questionario!$L$11)))","v":""},"X","Borrachas2017",{"$f":"IF(aux_cadastros!$A$6=\"\",\"\",aux_cadastros!$A$6)","v":"Borrachas"},{"$f":"IFERROR((VLOOKUP(G6,questionario!$C$47:$D$66,2,0)),\"\")","v":""},{"$f":"IFERROR((VLOOKUP(G6,questionario!$Q$47:$R$66,2,0)),\"\")","v":""},2017,{"$f":"IF(G6=\"\",\"\",(IFERROR((INDEX(questionario!$A$23:$N$42,(MATCH((dados_exp!$G6&\"R$\"),questionario!$A$23:$A$42,0)),(MATCH(dados_exp!$J6,questionario!$A$22:$N$22,0)))),\"\")))","v":""},{"$f":"IF(G6=\"\",\"\",(IFERROR((INDEX(questionario!$Q$22:$AB$42,(MATCH(dados_exp!$G6,questionario!$Q$22:$Q$42,0)),(MATCH(dados_exp!$J6,questionario!$Q$22:$AB$22,0)))),\"\")))","v":""},{"$f":"IFERROR((INDEX(questionario!$B$47:$N$66,(MATCH((dados_exp!$G6&dados_exp!$H6),questionario!$B$47:$B$66,0)),(MATCH(dados_exp!$J6,questionario!$B$46:$N$46,0)))),\"\")","v":""},{"$f":"IFERROR((INDEX(questionario!$O$47:$AB$66,(MATCH((dados_exp!$G6&dados_exp!$I6),questionario!$O$47:$O$66,0)),(MATCH(dados_exp!$J6,questionario!$O$46:$AB$46,0)))),\"\")","v":""},"X",{"$f":"P4","v":"Madeireiro"},{"$f":"IF(questionario!$G$115=\"\",\"\",questionario!$G$115)","v":""},{"$f":"questionario!$G$114","v":2011},"X",null,null,null,"X",null,null,null,null,null,"X",5,{"$f":"IF(questionario!#REF!=\"\",\"\",questionario!#REF!)","v":{"$error":"#REF!"}},{"$f":"IF(questionario!#REF!=0,\"\",questionario!#REF!)","v":{"$error":"#REF!"}},"X",{"$f":"IF(questionario!$C$170=\"\",\"\",questionario!$C$170)","v":"Área reflorestada  / Outro"},{"$f":"IF(AH6=\"\",\"\",questionario!$J$170)","v":0},{"$f":"questionario!$J$169","v":2011}]
[{"$f":"IF(G7=\"\",\"\",(IF(questionario!$C$8=\"\",\"\",questionario!$C$8)))","v":""},{"$f":"IF(G7=\"\",\"\",(IF(questionario!$C$15=\"\",\"\",questionario!$C$15)))","v":""},{"$f":"IF(G7=\"\",\"\",(IF(questionario!$L$8=\"\",\"\",questionario!$L$8)))","v":""},{"$f":"IF(C7=\"\",\"\",(IF(questionario!$L$11=\"\",\"\",questionario!$L$11)))","v":""},"X","Cacau2017",{"$f":"IF(aux_cadastros!$A$7=\"\",\"\",aux_cadastros!$A$7)","v":"Cacau"},{"$f":"IFERROR((VLOOKUP(G7,questionario!$C$47:$D$66,2,0)),\"\")","v":""},{"$f":"IFERROR((VLOOKUP(G7,questionario!$Q$47:$R$66,2,0)),\"\")","v":""},2017,{"$f":"IF(G7=\"\",\"\",(IFERROR((INDEX(questionario!$A$23:$N$42,(MATCH((dados_exp!$G7&\"R$\"),questionario!$A$23:$A$42,0)),(MATCH(dados_exp!$J7,questionario!$A$22:$N$22,0)))),\"\")))","v":""},{"$f":"IF(G7=\"\",\"\",(IFERROR((INDEX(questionario!$Q$22:$AB$42,(MATCH(dados_exp!$G7,questionario!$Q$22:$Q$42,0)),(MATCH(dados_exp!$J7,questionario!$Q$22:$AB$22,0)))),\"\")))","v":""},{"$f":"IFERROR((INDEX(questionario!$B$47:$N$66,(MATCH((dados_exp!$G7&dados_exp!$H7),questionario!$B$47:$B$66,0)),(MATCH(dados_exp!$J7,questionario!$B$46:$N$46,0)))),\"\")","v":""},{"$f":"IFERROR((INDEX(questionario!$O$47:$AB$66,(MATCH((dados_exp!$G7&dados_exp!$I7),questionario!$O$47:$O$66,0)),(MATCH(dados_exp!$J7,questionario!$O$46:$AB$46,0)))),\"\")","v":""},"X","Não Madeireiro",{"$f":"IF(questionario!$G$116=\"\",\"\",questionario!$G$116)","v":""},{"$f":"questionario!$G$114","v":2011},"X",null,null,null,"X",null,null,null,null,null,"X",6,{"$f":"IF(questionario!#REF!=\"\",\"\",questionario!#REF!)","v":{"$error":"#REF!"}},{"$f":"IF(questionario!#REF!=0,\"\",questionario!#REF!)","v":{"$error":"#REF!"}},"X",{"$f":"IF(questionario!$C$171=\"\",\"\",questionario!$C$171)","v":"Área recuperada para fins econômicos / Outro"},{"$f":"IF(AH7=\"\",\"\",questionario!$J$171)","v":0},{"$f":"AJ6","v":2011}]
[{"$f":"IF(G8=\"\",\"\",(IF(questionario!$C$8=\"\",\"\",questionario!$C$8)))","v":""},{"$f":"IF(G8=\"\",\"\",(IF(questionario!$C$15=\"\",\"\",questionario!$C$15)))","v":""},{"$f":"IF(G8=\"\",\"\",(IF(questionario!$L$8=\"\",\"\",questionario!$L$8)))","v":""},{"$f":"IF(C8=\"\",\"\",(IF(questionario!$L$11=\"\",\"\",questionario!$L$11)))","v":""},"X","Castanha2017",{"$f":"IF(aux_cadastros!$A$8=\"\",\"\",aux_cadastros!$A$8)","v":"Castanha"},{"$f":"IFERROR((VLOOKUP(G8,questionario!$C$47:$D$66,2,0)),\"\")","v":""},{"$f":"IFERROR((VLOOKUP(G8,questionario!$Q$47:$R$66,2,0)),\"\")","v":""},2017,{"$f":"IF(G8=\"\",\"\",(IFERROR((INDEX(questionario!$A$23:$N$42,(MATCH((dados_exp!$G8&\"R$\"),questionario!$A$23:$A$42,0)),(MATCH(dados_exp!$J8,questionario!$A$22:$N$22,0)))),\"\")))","v":""},{"$f":"IF(G8=\"\",\"\",(IFERROR((INDEX(questionario!$Q$22:$AB$42,(MATCH(dados_exp!$G8,questionario!$Q$22:$Q$42,0)),(MATCH(dados_exp!$J8,questionario!$Q$22:$AB$22,0)))),\"\")))","v":""},{"$f":"IFERROR((INDEX(questionario!$B$47:$N$66,(MATCH((dados_exp!$G8&dados_exp!$H8),questionario!$B$47:$B$66,0)),(MATCH(dados_exp!$J8,questionario!$B$46:$N$46,0)))),\"\")","v":""},{"$f":"IFERROR((INDEX(questionario!$O$47:$AB$66,(MATCH((dados_exp!$G8&dados_exp!$I8),questionario!$O$47:$O$66,0)),(MATCH(dados_exp!$J8,questionario!$O$46:$AB$46,0)))),\"\")","v":""},"X","Madeireiro",{"$f":"IF(questionario!$H$115=\"\",\"\",questionario!$H$115)","v":""},{"$f":"questionario!$H$114","v":2012},"X",null,null,null,"X",null,null,null,null,null,"X",7,{"$f":"IF(questionario!#REF!=\"\",\"\",questionario!#REF!)","v":{"$error":"#REF!"}},{"$f":"IF(questionario!#REF!=0,\"\",questionario!#REF!)","v":{"$error":"#REF!"}},"X",{"$f":"IF(questionario!$C$170=\"\",\"\",questionario!$C$170)","v":"Área reflorestada  / Outro"},{"$f":"IF(AH8=\"\",\"\",questionario!$K$170)","v":0},{"$f":"questionario!$K$169","v":2012}]
[{"$f":"IF(G9=\"\",\"\",(IF(questionario!$C$8=\"\",\"\",questionario!$C$8)))","v":""},{"$f":"IF(G9=\"\",\"\",(IF(questionario!$C$15=\"\",\"\",questionario!$C$15)))","v":""},{"$f":"IF(G9=\"\",\"\",(IF(questionario!$L$8=\"\",\"\",questionario!$L$8)))","v":""},{"$f":"IF(C9=\"\",\"\",(IF(questionario!$L$11=\"\",\"\",questionario!$L$11)))","v":""},"X","Copaíba2017",{"$f":"IF(aux_cadastros!$A$9=\"\",\"\",aux_cadastros!$A$9)","v":"Copaíba"},{"$f":"IFERROR((VLOOKUP(G9,questionario!$C$47:$D$66,2,0)),\"\")","v":""},{"$f":"IFERROR((VLOOKUP(G9,questionario!$Q$47:$R$66,2,0)),\"\")","v":""},2017,{"$f":"IF(G9=\"\",\"\",(IFERROR((INDEX(questionario!$A$23:$N$42,(MATCH((dados_exp!$G9&\"R$\"),questionario!$A$23:$A$42,0)),(MATCH(dados_exp!$J9,questionario!$A$22:$N$22,0)))),\"\")))","v":""},{"$f":"IF(G9=\"\",\"\",(IFERROR((INDEX(questionario!$Q$22:$AB$42,(MATCH(dados_exp!$G9,questionario!$Q$22:$Q$42,0)),(MATCH(dados_exp!$J9,questionario!$Q$22:$AB$22,0)))),\"\")))","v":""},{"$f":"IFERROR((INDEX(questionario!$B$47:$N$66,(MATCH((dados_exp!$G9&dados_exp!$H9),questionario!$B$47:$B$66,0)),(MATCH(dados_exp!$J9,questionario!$B$46:$N$46,0)))),\"\")","v":""},{"$f":"IFERROR((INDEX(questionario!$O$47:$AB$66,(MATCH((dados_exp!$G9&dados_exp!$I9),questionario!$O$47:$O$66,0)),(MATCH(dados_exp!$J9,questionario!$O$46:$AB$46,0)))),\"\")","v":""},"X","Não Madeireiro",{"$f":"IF(questionario!$H$116=\"\",\"\",questionario!$H$116)","v":""},{"$f":"questionario!$H$114","v":2012},"X",null,null,null,"X",null,null,null,null,null,"X",8,{"$f":"IF(questionario!#REF!=\"\",\"\",questionario!#REF!)","v":{"$error":"#REF!"}},{"$f":"IF(questionario!#REF!=0,\"\",questionario!#REF!)","v":{"$error":"#REF!"}},"X",{"$f":"IF(questionario!$C$171=\"\",\"\",questionario!$C$171)","v":"Área recuperada para fins econômicos / Outro"},{"$f":"IF(AH9=\"\",\"\",questionario!$K$171)","v":0},{"$f":"AJ8","v":2012}]
[{"$f":"IF(G10=\"\",\"\",(IF(questionario!$C$8=\"\",\"\",questionario!$C$8)))","v":""},{"$f":"IF(G10=\"\",\"\",(IF(questionario!$C$15=\"\",\"\",questionario!$C$15)))","v":""},{"$f":"IF(G10=\"\",\"\",(IF(questionario!$L$8=\"\",\"\",questionario!$L$8)))","v":""},{"$f":"IF(C10=\"\",\"\",(IF(questionario!$L$11=\"\",\"\",questionario!$L$11)))","v":""},"X","Fibras2017",{"$f":"IF(aux_cadastros!$A$10=\"\",\"\",aux_cadastros!$A$10)","v":"Fibras"},{"$f":"IFERROR((VLOOKUP(G10,questionario!$C$47:$D$66,2,0)),\"\")","v":""},{"$f":"IFERROR((VLOOKUP(G10,questionario!$Q$47:$R$66,2,0)),\"\")","v":""},2017,{"$f":"IF(G10=\"\",\"\",(IFERROR((INDEX(questionario!$A$23:$N$42,(MATCH((dados_exp!$G10&\"R$\"),questionario!$A$23:$A$42,0)),(MATCH(dados_exp!$J10,questionario!$A$22:$N$22,0)))),\"\")))","v":""},{"$f":"IF(G10=\"\",\"\",(IFERROR((INDEX(questionario!$Q$22:$AB$42,(MATCH(dados_exp!$G10,questionario!$Q$22:$Q$42,0)),(MATCH(dados_exp!$J10,questionario!$Q$22:$AB$22,0)))),\"\")))","v":""},{"$f":"IFERROR((INDEX(questionario!$B$47:$N$66,(MATCH((dados_exp!$G10&dados_exp!$H10),questionario!$B$47:$B$66,0)),(MATCH(dados_exp!$J10,questionario!$B$46:$N$46,0)))),\"\")","v":""},{"$f":"IFERROR((INDEX(questionario!$O$47:$AB$66,(MATCH((dados_exp!$G10&dados_exp!$I10),questionario!$O$47:$O$66,0)),(MATCH(dados_exp!$J10,questionario!$O$46:$AB$46,0)))),\"\")","v":""},"X","Madeireiro",{"$f":"IF(questionario!$I$115=\"\",\"\",questionario!$I$115)","v":""},{"$f":"questionario!$I$114","v":2013},"X",null,null,null,"X",null,null,null,null,null,"X",9,{"$f":"IF(questionario!#REF!=\"\",\"\",questionario!#REF!)","v":{"$error":"#REF!"}},{"$f":"IF(questionario!#REF!=0,\"\",questionario!#REF!)","v":{"$error":"#REF!"}},"X",{"$f":"IF(questionario!$C$170=\"\",\"\",questionario!$C$170)","v":"Área reflorestada  / Outro"},{"$f":"IF(AH10=\"\",\"\",questionario!$L$170)","v":0},{"$f":"questionario!$L$169","v":2013}]
[{"$f":"IF(G11=\"\",\"\",(IF(questionario!$C$8=\"\",\"\",questionario!$C$8)))","v":""},{"$f":"IF(G11=\"\",\"\",(IF(questionario!$C$15=\"\",\"\",questionario!$C$15)))","v":""},{"$f":"IF(G11=\"\",\"\",(IF(questionario!$L$8=\"\",\"\",questionario!$L$8)))","v":""},{"$f":"IF(C11=\"\",\"\",(IF(questionario!$L$11=\"\",\"\",questionario!$L$11)))","v":""},"X","Guaraná2017",{"$f":"IF(aux_cadastros!$A$11=\"\",\"\",aux_cadastros!$A$11)","v":"Guaraná"},{"$f":"IFERROR((VLOOKUP(G11,questionario!$C$47:$D$66,2,0)),\"\")","v":""},{"$f":"IFERROR((VLOOKUP(G11,questionario!$Q$47:$R$66,2,0)),\"\")","v":""},2017,{"$f":"IF(G11=\"\",\"\",(IFERROR((INDEX(questionario!$A$23:$N$42,(MATCH((dados_exp!$G11&\"R$\"),questionario!$A$23:$A$42,0)),(MATCH(dados_exp!$J11,questionario!$A$22:$N$22,0)))),\"\")))","v":""},{"$f":"IF(G11=\"\",\"\",(IFERROR((INDEX(questionario!$Q$22:$AB$42,(MATCH(dados_exp!$G11,questionario!$Q$22:$Q$42,0)),(MATCH(dados_exp!$J11,questionario!$Q$22:$AB$22,0)))),\"\")))","v":""},{"$f":"IFERROR((INDEX(questionario!$B$47:$N$66,(MATCH((dados_exp!$G11&dados_exp!$H11),questionario!$B$47:$B$66,0)),(MATCH(dados_exp!$J11,questionario!$B$46:$N$46,0)))),\"\")","v":""},{"$f":"IFERROR((INDEX(questionario!$O$47:$AB$66,(MATCH((dados_exp!$G11&dados_exp!$I11),questionario!$O$47:$O$66,0)),(MATCH(dados_exp!$J11,questionario!$O$46:$AB$46,0)))),\"\")","v":""},"X","Não Madeireiro",{"$f":"IF(questionario!$I$116=\"\",\"\",questionario!$I$116)","v":""},{"$f":"questionario!$I$114","v":2013},"X",null,null,null,"X",null,null,null,null,null,"X",10,{"$f":"IF(questionario!#REF!=\"\",\"\",questionario!#REF!)","v":{"$error":"#REF!"}},{"$f":"IF(questionario!#REF!=0,\"\",questionario!#REF!)","v":{"$error":"#REF!"}},"X",{"$f":"IF(questionario!$C$171=\"\",\"\",questionario!$C$171)","v":"Área recuperada para fins econômicos / Outro"},{"$f":"IF(AH11=\"\",\"\",questionario!$L$171)","v":0},{"$f":"AJ10","v":2013}]
[{"$f":"IF(G12=\"\",\"\",(IF(questionario!$C$8=\"\",\"\",questionario!$C$8)))","v":""},{"$f":"IF(G12=\"\",\"\",(IF(questionario!$C$15=\"\",\"\",questionario!$C$15)))","v":""},{"$f":"IF(G12=\"\",\"\",(IF(questionario!$L$8=\"\",\"\",questionario!$L$8)))","v":""},{"$f":"IF(C12=\"\",\"\",(IF(questionario!$L$11=\"\",\"\",questionario!$L$11)))","v":""},"X","Madeira2017",{"$f":"IF(aux_cadastros!$A$12=\"\",\"\",aux_cadastros!$A$12)","v":"Madeira"},{"$f":"IFERROR((VLOOKUP(G12,questionario!$C$47:$D$66,2,0)),\"\")","v":""},{"$f":"IFERROR((VLOOKUP(G12,questionario!$Q$47:$R$66,2,0)),\"\")","v":""},2017,{"$f":"IF(G12=\"\",\"\",(IFERROR((INDEX(questionario!$A$23:$N$42,(MATCH((dados_exp!$G12&\"R$\"),questionario!$A$23:$A$42,0)),(MATCH(dados_exp!$J12,questionario!$A$22:$N$22,0)))),\"\")))","v":""},{"$f":"IF(G12=\"\",\"\",(IFERROR((INDEX(questionario!$Q$22:$AB$42,(MATCH(dados_exp!$G12,questionario!$Q$22:$Q$42,0)),(MATCH(dados_exp!$J12,questionario!$Q$22:$AB$22,0)))),\"\")))","v":""},{"$f":"IFERROR((INDEX(questionario!$B$47:$N$66,(MATCH((dados_exp!$G12&dados_exp!$H12),questionario!$B$47:$B$66,0)),(MATCH(dados_exp!$J12,questionario!$B$46:$N$46,0)))),\"\")","v":""},{"$f":"IFERROR((INDEX(questionario!$O$47:$AB$66,(MATCH((dados_exp!$G12&dados_exp!$I12),questionario!$O$47:$O$66,0)),(MATCH(dados_exp!$J12,questionario!$O$46:$AB$46,0)))),\"\")","v":""},"X","Madeireiro",{"$f":"IF(questionario!$J$115=\"\",\"\",questionario!$J$115)","v":""},{"$f":"questionario!$J$114","v":2014},"X",null,null,null,"X",null,null,null,null,null,"X",11,{"$f":"IF(questionario!#REF!=\"\",\"\",questionario!#REF!)","v":{"$error":"#REF!"}},{"$f":"IF(questionario!#REF!=0,\"\",questionario!#REF!)","v":{"$error":"#REF!"}},"X",{"$f":"IF(questionario!$C$170=\"\",\"\",questionario!$C$170)","v":"Área reflorestada  / Outro"},{"$f":"IF(AH12=\"\",\"\",questionario!$M$170)","v":0},{"$f":"questionario!$M$169","v":2014}]
[{"$f":"IF(G13=\"\",\"\",(IF(questionario!$C$8=\"\",\"\",questionario!$C$8)))","v":""},{"$f":"IF(G13=\"\",\"\",(IF(questionario!$C$15=\"\",\"\",questionario!$C$15)))","v":""},{"$f":"IF(G13=\"\",\"\",(IF(questionario!$L$8=\"\",\"\",questionario!$L$8)))","v":""},{"$f":"IF(C13=\"\",\"\",(IF(questionario!$L$11=\"\",\"\",questionario!$L$11)))","v":""},"X","Mel2017",{"$f":"IF(aux_cadastros!$A$13=\"\",\"\",aux_cadastros!$A$13)","v":"Mel"},{"$f":"IFERROR((VLOOKUP(G13,questionario!$C$47:$D$66,2,0)),\"\")","v":""},{"$f":"IFERROR((VLOOKUP(G13,questionario!$Q$47:$R$66,2,0)),\"\")","v":""},2017,{"$f":"IF(G13=\"\",\"\",(IFERROR((INDEX(questionario!$A$23:$N$42,(MATCH((dados_exp!$G13&\"R$\"),questionario!$A$23:$A$42,0)),(MATCH(dados_exp!$J13,questionario!$A$22:$N$22,0)))),\"\")))","v":""},{"$f":"IF(G13=\"\",\"\",(IFERROR((INDEX(questionario!$Q$22:$AB$42,(MATCH(dados_exp!$G13,questionario!$Q$22:$Q$42,0)),(MATCH(dados_exp!$J13,questionario!$Q$22:$AB$22,0)))),\"\")))","v":""},{"$f":"IFERROR((INDEX(questionario!$B$47:$N$66,(MATCH((dados_exp!$G13&dados_exp!$H13),questionario!$B$47:$B$66,0)),(MATCH(dados_exp!$J13,questionario!$B$46:$N$46,0)))),\"\")","v":""},{"$f":"IFERROR((INDEX(questionario!$O$47:$AB$66,(MATCH((dados_exp!$G13&dados_exp!$I13),questionario!$O$47:$O$66,0)),(MATCH(dados_exp!$J13,questionario!$O$46:$AB$46,0)))),\"\")","v":""},"X","Não Madeireiro",{"$f":"IF(questionario!$J$116=\"\",\"\",questionario!$J$116)","v":""},{"$f":"questionario!$J$114","v":2014},"X",null,null,null,"X",null,null,null,null,null,"X",12,{"$f":"IF(questionario!#REF!=\"\",\"\",questionario!#REF!)","v":{"$error":"#REF!"}},{"$f":"IF(questionario!#REF!=0,\"\",questionario!#REF!)","v":{"$error":"#REF!"}},"X",{"$f":"IF(questionario!$C$171=\"\",\"\",questionario!$C$171)","v":"Área recuperada para fins econômicos / Outro"},{"$f":"IF(AH13=\"\",\"\",questionario!$M$171)","v":0},{"$f":"AJ12","v":2014}]
[{"$f":"IF(G14=\"\",\"\",(IF(questionario!$C$8=\"\",\"\",questionario!$C$8)))","v":""},{"$f":"IF(G14=\"\",\"\",(IF(questionario!$C$15=\"\",\"\",questionario!$C$15)))","v":""},{"$f":"IF(G14=\"\",\"\",(IF(questionario!$L$8=\"\",\"\",questionario!$L$8)))","v":""},{"$f":"IF(C14=\"\",\"\",(IF(questionario!$L$11=\"\",\"\",questionario!$L$11)))","v":""},"X","Oleaginosas2017",{"$f":"IF(aux_cadastros!$A$14=\"\",\"\",aux_cadastros!$A$14)","v":"Oleaginosas"},{"$f":"IFERROR((VLOOKUP(G14,questionario!$C$47:$D$66,2,0)),\"\")","v":""},{"$f":"IFERROR((VLOOKUP(G14,questionario!$Q$47:$R$66,2,0)),\"\")","v":""},2017,{"$f":"IF(G14=\"\",\"\",(IFERROR((INDEX(questionario!$A$23:$N$42,(MATCH((dados_exp!$G14&\"R$\"),questionario!$A$23:$A$42,0)),(MATCH(dados_exp!$J14,questionario!$A$22:$N$22,0)))),\"\")))","v":""},{"$f":"IF(G14=\"\",\"\",(IFERROR((INDEX(questionario!$Q$22:$AB$42,(MATCH(dados_exp!$G14,questionario!$Q$22:$Q$42,0)),(MATCH(dados_exp!$J14,questionario!$Q$22:$AB$22,0)))),\"\")))","v":""},{"$f":"IFERROR((INDEX(questionario!$B$47:$N$66,(MATCH((dados_exp!$G14&dados_exp!$H14),questionario!$B$47:$B$66,0)),(MATCH(dados_exp!$J14,questionario!$B$46:$N$46,0)))),\"\")","v":""},{"$f":"IFERROR((INDEX(questionario!$O$47:$AB$66,(MATCH((dados_exp!$G14&dados_exp!$I14),questionario!$O$47:$O$66,0)),(MATCH(dados_exp!$J14,questionario!$O$46:$AB$46,0)))),\"\")","v":""},"X","Madeireiro",{"$f":"IF(questionario!$K$115=\"\",\"\",questionario!$K$115)","v":""},{"$f":"questionario!$K$114","v":2015},"X",null,null,null,"X",null,null,null,null,null,"X",null,null,null,"X",{"$f":"IF(questionario!$C$170=\"\",\"\",questionario!$C$170)","v":"Área reflorestada  / Outro"},{"$f":"IF(AH14=\"\",\"\",questionario!$N$170)","v":0},{"$f":"questionario!$N$169","v":2015}]
[{"$f":"IF(G15=\"\",\"\",(IF(questionario!$C$8=\"\",\"\",questionario!$C$8)))","v":""},{"$f":"IF(G15=\"\",\"\",(IF(questionario!$C$15=\"\",\"\",questionario!$C$15)))","v":""},{"$f":"IF(G15=\"\",\"\",(IF(questionario!$L$8=\"\",\"\",questionario!$L$8)))","v":""},{"$f":"IF(C15=\"\",\"\",(IF(questionario!$L$11=\"\",\"\",questionario!$L$11)))","v":""},"X","Óleos2017",{"$f":"IF(aux_cadastros!$A$15=\"\",\"\",aux_cadastros!$A$15)","v":"Óleos"},{"$f":"IFERROR((VLOOKUP(G15,questionario!$C$47:$D$66,2,0)),\"\")","v":""},{"$f":"IFERROR((VLOOKUP(G15,questionario!$Q$47:$R$66,2,0)),\"\")","v":""},2017,{"$f":"IF(G15=\"\",\"\",(IFERROR((INDEX(questionario!$A$23:$N$42,(MATCH((dados_exp!$G15&\"R$\"),questionario!$A$23:$A$42,0)),(MATCH(dados_exp!$J15,questionario!$A$22:$N$22,0)))),\"\")))","v":""},{"$f":"IF(G15=\"\",\"\",(IFERROR((INDEX(questionario!$Q$22:$AB$42,(MATCH(dados_exp!$G15,questionario!$Q$22:$Q$42,0)),(MATCH(dados_exp!$J15,questionario!$Q$22:$AB$22,0)))),\"\")))","v":""},{"$f":"IFERROR((INDEX(questionario!$B$47:$N$66,(MATCH((dados_exp!$G15&dados_exp!$H15),questionario!$B$47:$B$66,0)),(MATCH(dados_exp!$J15,questionario!$B$46:$N$46,0)))),\"\")","v":""},{"$f":"IFERROR((INDEX(questionario!$O$47:$AB$66,(MATCH((dados_exp!$G15&dados_exp!$I15),questionario!$O$47:$O$66,0)),(MATCH(dados_exp!$J15,questionario!$O$46:$AB$46,0)))),\"\")","v":""},"X","Não Madeireiro",{"$f":"IF(questionario!$K$116=\"\",\"\",questionario!$K$116)","v":""},{"$f":"questionario!$K$114","v":2015},"X",null,null,null,"X",null,null,null,null,null,"X",null,null,null,"X",{"$f":"IF(questionario!$C$171=\"\",\"\",questionario!$C$171)","v":"Área recuperada para fins econômicos / Outro"},{"$f":"IF(AH15=\"\",\"\",questionario!$N$171)","v":0},{"$f":"AJ14","v":2015}]
[{"$f":"IF(G16=\"\",\"\",(IF(questionario!$C$8=\"\",\"\",questionario!$C$8)))","v":""},{"$f":"IF(G16=\"\",\"\",(IF(questionario!$C$15=\"\",\"\",questionario!$C$15)))","v":""},{"$f":"IF(G16=\"\",\"\",(IF(questionario!$L$8=\"\",\"\",questionario!$L$8)))","v":""},{"$f":"IF(C16=\"\",\"\",(IF(questionario!$L$11=\"\",\"\",questionario!$L$11)))","v":""},"X","Pescado2017",{"$f":"IF(aux_cadastros!$A$16=\"\",\"\",aux_cadastros!$A$16)","v":"Pescado"},{"$f":"IFERROR((VLOOKUP(G16,questionario!$C$47:$D$66,2,0)),\"\")","v":""},{"$f":"IFERROR((VLOOKUP(G16,questionario!$Q$47:$R$66,2,0)),\"\")","v":""},2017,{"$f":"IF(G16=\"\",\"\",(IFERROR((INDEX(questionario!$A$23:$N$42,(MATCH((dados_exp!$G16&\"R$\"),questionario!$A$23:$A$42,0)),(MATCH(dados_exp!$J16,questionario!$A$22:$N$22,0)))),\"\")))","v":""},{"$f":"IF(G16=\"\",\"\",(IFERROR((INDEX(questionario!$Q$22:$AB$42,(MATCH(dados_exp!$G16,questionario!$Q$22:$Q$42,0)),(MATCH(dados_exp!$J16,questionario!$Q$22:$AB$22,0)))),\"\")))","v":""},{"$f":"IFERROR((INDEX(questionario!$B$47:$N$66,(MATCH((dados_exp!$G16&dados_exp!$H16),questionario!$B$47:$B$66,0)),(MATCH(dados_exp!$J16,questionario!$B$46:$N$46,0)))),\"\")","v":""},{"$f":"IFERROR((INDEX(questionario!$O$47:$AB$66,(MATCH((dados_exp!$G16&dados_exp!$I16),questionario!$O$47:$O$66,0)),(MATCH(dados_exp!$J16,questionario!$O$46:$AB$46,0)))),\"\")","v":""},"X","Madeireiro",{"$f":"IF(questionario!$L$115=\"\",\"\",questionario!$L$115)","v":""},{"$f":"questionario!$L$114","v":2016},"X",null,null,null,"X",null,null,null,null,null,"X",null,null,null,"X",{"$f":"IF(questionario!$C$170=\"\",\"\",questionario!$C$170)","v":"Área reflorestada  / Outro"},{"$f":"IF(AH16=\"\",\"\",questionario!$O$170)","v":0},{"$f":"questionario!$O$169","v":2016}]
[{"$f":"IF(G17=\"\",\"\",(IF(questionario!$C$8=\"\",\"\",questionario!$C$8)))","v":""},{"$f":"IF(G17=\"\",\"\",(IF(questionario!$C$15=\"\",\"\",questionario!$C$15)))","v":""},{"$f":"IF(G17=\"\",\"\",(IF(questionario!$L$8=\"\",\"\",questionario!$L$8)))","v":""},{"$f":"IF(C17=\"\",\"\",(IF(questionario!$L$11=\"\",\"\",questionario!$L$11)))","v":""},"X","Turismo2017",{"$f":"IF(aux_cadastros!$A$17=\"\",\"\",aux_cadastros!$A$17)","v":"Turismo"},{"$f":"IFERROR((VLOOKUP(G17,questionario!$C$47:$D$66,2,0)),\"\")","v":""},{"$f":"IFERROR((VLOOKUP(G17,questionario!$Q$47:$R$66,2,0)),\"\")","v":""},2017,{"$f":"IF(G17=\"\",\"\",(IFERROR((INDEX(questionario!$A$23:$N$42,(MATCH((dados_exp!$G17&\"R$\"),questionario!$A$23:$A$42,0)),(MATCH(dados_exp!$J17,questionario!$A$22:$N$22,0)))),\"\")))","v":""},{"$f":"IF(G17=\"\",\"\",(IFERROR((INDEX(questionario!$Q$22:$AB$42,(MATCH(dados_exp!$G17,questionario!$Q$22:$Q$42,0)),(MATCH(dados_exp!$J17,questionario!$Q$22:$AB$22,0)))),\"\")))","v":""},{"$f":"IFERROR((INDEX(questionario!$B$47:$N$66,(MATCH((dados_exp!$G17&dados_exp!$H17),questionario!$B$47:$B$66,0)),(MATCH(dados_exp!$J17,questionario!$B$46:$N$46,0)))),\"\")","v":""},{"$f":"IFERROR((INDEX(questionario!$O$47:$AB$66,(MATCH((dados_exp!$G17&dados_exp!$I17),questionario!$O$47:$O$66,0)),(MATCH(dados_exp!$J17,questionario!$O$46:$AB$46,0)))),\"\")","v":""},"X","Não Madeireiro",{"$f":"IF(questionario!$L$116=\"\",\"\",questionario!$L$116)","v":""},{"$f":"questionario!$L$114","v":2016},"X",null,null,null,"X",null,null,null,null,null,"X",null,null,null,"X",{"$f":"IF(questionario!$C$171=\"\",\"\",questionario!$C$171)","v":"Área recuperada para fins econômicos / Outro"},{"$f":"IF(AH17=\"\",\"\",questionario!$O$171)","v":0},{"$f":"AJ16","v":2016}]
[{"$f":"IF(G18=\"\",\"\",(IF(questionario!$C$8=\"\",\"\",questionario!$C$8)))","v":""},{"$f":"IF(G18=\"\",\"\",(IF(questionario!$C$15=\"\",\"\",questionario!$C$15)))","v":""},{"$f":"IF(G18=\"\",\"\",(IF(questionario!$L$8=\"\",\"\",questionario!$L$8)))","v":""},{"$f":"IF(C18=\"\",\"\",(IF(questionario!$L$11=\"\",\"\",questionario!$L$11)))","v":""},"X","Agricultura de base familiar2017",{"$f":"IF(aux_cadastros!$A$18=\"\",\"\",aux_cadastros!$A$18)","v":"Agricultura de base familiar"},{"$f":"IFERROR((VLOOKUP(G18,questionario!$C$47:$D$66,2,0)),\"\")","v":""},{"$f":"IFERROR((VLOOKUP(G18,questionario!$Q$47:$R$66,2,0)),\"\")","v":""},2017,{"$f":"IF(G18=\"\",\"\",(IFERROR((INDEX(questionario!$A$23:$N$42,(MATCH((dados_exp!$G18&\"R$\"),questionario!$A$23:$A$42,0)),(MATCH(dados_exp!$J18,questionario!$A$22:$N$22,0)))),\"\")))","v":""},{"$f":"IF(G18=\"\",\"\",(IFERROR((INDEX(questionario!$Q$22:$AB$42,(MATCH(dados_exp!$G18,questionario!$Q$22:$Q$42,0)),(MATCH(dados_exp!$J18,questionario!$Q$22:$AB$22,0)))),\"\")))","v":""},{"$f":"IFERROR((INDEX(questionario!$B$47:$N$66,(MATCH((dados_exp!$G18&dados_exp!$H18),questionario!$B$47:$B$66,0)),(MATCH(dados_exp!$J18,questionario!$B$46:$N$46,0)))),\"\")","v":""},{"$f":"IFERROR((INDEX(questionario!$O$47:$AB$66,(MATCH((dados_exp!$G18&dados_exp!$I18),questionario!$O$47:$O$66,0)),(MATCH(dados_exp!$J18,questionario!$O$46:$AB$46,0)))),\"\")","v":""},"X","Madeireiro",{"$f":"IF(questionario!$M$115=\"\",\"\",questionario!$M$115)","v":""},{"$f":"questionario!$M$114","v":2017},"X",null,null,null,"X",null,null,null,null,null,"X",null,null,null,"X",{"$f":"IF(questionario!$C$170=\"\",\"\",questionario!$C$170)","v":"Área reflorestada  / Outro"},{"$f":"IF(AH18=\"\",\"\",questionario!$P$170)","v":0},{"$f":"questionario!$P$169","v":2017}]
[{"$f":"IF(G19=\"\",\"\",(IF(questionario!$C$8=\"\",\"\",questionario!$C$8)))","v":""},{"$f":"IF(G19=\"\",\"\",(IF(questionario!$C$15=\"\",\"\",questionario!$C$15)))","v":""},{"$f":"IF(G19=\"\",\"\",(IF(questionario!$L$8=\"\",\"\",questionario!$L$8)))","v":""},{"$f":"IF(C19=\"\",\"\",(IF(questionario!$L$11=\"\",\"\",questionario!$L$11)))","v":""},"X","Pirarucu2017",{"$f":"IF(aux_cadastros!$A$19=\"\",\"\",aux_cadastros!$A$19)","v":"Pirarucu"},{"$f":"IFERROR((VLOOKUP(G19,questionario!$C$47:$D$66,2,0)),\"\")","v":""},{"$f":"IFERROR((VLOOKUP(G19,questionario!$Q$47:$R$66,2,0)),\"\")","v":""},2017,{"$f":"IF(G19=\"\",\"\",(IFERROR((INDEX(questionario!$A$23:$N$42,(MATCH((dados_exp!$G19&\"R$\"),questionario!$A$23:$A$42,0)),(MATCH(dados_exp!$J19,questionario!$A$22:$N$22,0)))),\"\")))","v":""},{"$f":"IF(G19=\"\",\"\",(IFERROR((INDEX(questionario!$Q$22:$AB$42,(MATCH(dados_exp!$G19,questionario!$Q$22:$Q$42,0)),(MATCH(dados_exp!$J19,questionario!$Q$22:$AB$22,0)))),\"\")))","v":""},{"$f":"IFERROR((INDEX(questionario!$B$47:$N$66,(MATCH((dados_exp!$G19&dados_exp!$H19),questionario!$B$47:$B$66,0)),(MATCH(dados_exp!$J19,questionario!$B$46:$N$46,0)))),\"\")","v":""},{"$f":"IFERROR((INDEX(questionario!$O$47:$AB$66,(MATCH((dados_exp!$G19&dados_exp!$I19),questionario!$O$47:$O$66,0)),(MATCH(dados_exp!$J19,questionario!$O$46:$AB$46,0)))),\"\")","v":""},"X","Não Madeireiro",{"$f":"IF(questionario!$M$116=\"\",\"\",questionario!$M$116)","v":""},{"$f":"questionario!$M$114","v":2017},"X",null,null,null,"X",null,null,null,null,null,"X",null,null,null,"X",{"$f":"IF(questionario!$C$171=\"\",\"\",questionario!$C$171)","v":"Área recuperada para fins econômicos / Outro"},{"$f":"IF(AH19=\"\",\"\",questionario!$P$171)","v":0},{"$f":"AJ18","v":2017}]
[{"$f":"IF(G20=\"\",\"\",(IF(questionario!$C$8=\"\",\"\",questionario!$C$8)))","v":""},{"$f":"IF(G20=\"\",\"\",(IF(questionario!$C$15=\"\",\"\",questionario!$C$15)))","v":""},{"$f":"IF(G20=\"\",\"\",(IF(questionario!$L$8=\"\",\"\",questionario!$L$8)))","v":""},{"$f":"IF(C20=\"\",\"\",(IF(questionario!$L$11=\"\",\"\",questionario!$L$11)))","v":""},"X","Bacalhau de Pirarucu2017",{"$f":"IF(aux_cadastros!$A$20=\"\",\"\",aux_cadastros!$A$20)","v":"Bacalhau de Pirarucu"},{"$f":"IFERROR((VLOOKUP(G20,questionario!$C$47:$D$66,2,0)),\"\")","v":""},{"$f":"IFERROR((VLOOKUP(G20,questionario!$Q$47:$R$66,2,0)),\"\")","v":""},2017,{"$f":"IF(G20=\"\",\"\",(IFERROR((INDEX(questionario!$A$23:$N$42,(MATCH((dados_exp!$G20&\"R$\"),questionario!$A$23:$A$42,0)),(MATCH(dados_exp!$J20,questionario!$A$22:$N$22,0)))),\"\")))","v":""},{"$f":"IF(G20=\"\",\"\",(IFERROR((INDEX(questionario!$Q$22:$AB$42,(MATCH(dados_exp!$G20,questionario!$Q$22:$Q$42,0)),(MATCH(dados_exp!$J20,questionario!$Q$22:$AB$22,0)))),\"\")))","v":""},{"$f":"IFERROR((INDEX(questionario!$B$47:$N$66,(MATCH((dados_exp!$G20&dados_exp!$H20),questionario!$B$47:$B$66,0)),(MATCH(dados_exp!$J20,questionario!$B$46:$N$46,0)))),\"\")","v":""},{"$f":"IFERROR((INDEX(questionario!$O$47:$AB$66,(MATCH((dados_exp!$G20&dados_exp!$I20),questionario!$O$47:$O$66,0)),(MATCH(dados_exp!$J20,questionario!$O$46:$AB$46,0)))),\"\")","v":""},"X","Madeireiro",{"$f":"IF(questionario!$N$115=\"\",\"\",questionario!$N$115)","v":""},{"$f":"questionario!$N$114","v":2018},"X",null,null,null,"X",null,null,null,null,null,"X",null,null,null,"X",{"$f":"IF(questionario!$C$170=\"\",\"\",questionario!$C$170)","v":"Área reflorestada  / Outro"},{"$f":"IF(AH20=\"\",\"\",questionario!$Q$170)","v":0},{"$f":"questionario!$Q$169","v":2018}]
[{"$f":"IF(G21=\"\",\"\",(IF(questionario!$C$8=\"\",\"\",questionario!$C$8)))","v":""},{"$f":"IF(G21=\"\",\"\",(IF(questionario!$C$15=\"\",\"\",questionario!$C$15)))","v":""},{"$f":"IF(G21=\"\",\"\",(IF(questionario!$L$8=\"\",\"\",questionario!$L$8)))","v":""},{"$f":"IF(C21=\"\",\"\",(IF(questionario!$L$11=\"\",\"\",questionario!$L$11)))","v":""},"X","2017",{"$f":"IF(aux_cadastros!$A$21=\"\",\"\",aux_cadastros!$A$21)","v":""},{"$f":"IFERROR((VLOOKUP(G21,questionario!$C$47:$D$66,2,0)),\"\")","v":""},{"$f":"IFERROR((VLOOKUP(G21,questionario!$Q$47:$R$66,2,0)),\"\")","v":""},2017,{"$f":"IF(G21=\"\",\"\",(IFERROR((INDEX(questionario!$A$23:$N$42,(MATCH((dados_exp!$G21&\"R$\"),questionario!$A$23:$A$42,0)),(MATCH(dados_exp!$J21,questionario!$A$22:$N$22,0)))),\"\")))","v":""},{"$f":"IF(G21=\"\",\"\",(IFERROR((INDEX(questionario!$Q$22:$AB$42,(MATCH(dados_exp!$G21,questionario!$Q$22:$Q$42,0)),(MATCH(dados_exp!$J21,questionario!$Q$22:$AB$22,0)))),\"\")))","v":""},{"$f":"IFERROR((INDEX(questionario!$B$47:$N$66,(MATCH((dados_exp!$G21&dados_exp!$H21),questionario!$B$47:$B$66,0)),(MATCH(dados_exp!$J21,questionario!$B$46:$N$46,0)))),\"\")","v":""},{"$f":"IFERROR((INDEX(questionario!$O$47:$AB$66,(MATCH((dados_exp!$G21&dados_exp!$I21),questionario!$O$47:$O$66,0)),(MATCH(dados_exp!$J21,questionario!$O$46:$AB$46,0)))),\"\")","v":""},"X","Não Madeireiro",{"$f":"IF(questionario!$N$116=\"\",\"\",questionario!$N$116)","v":""},{"$f":"questionario!$N$114","v":2018},"X",null,null,null,"X",null,null,null,null,null,"X",null,null,null,"X",{"$f":"IF(questionario!$C$171=\"\",\"\",questionario!$C$171)","v":"Área recuperada para fins econômicos / Outro"},{"$f":"IF(AH21=\"\",\"\",questionario!$Q$171)","v":0},{"$f":"AJ20","v":2018}]
[{"$f":"IF(G22=\"\",\"\",(IF(questionario!$C$8=\"\",\"\",questionario!$C$8)))","v":""},{"$f":"IF(G22=\"\",\"\",(IF(questionario!$C$15=\"\",\"\",questionario!$C$15)))","v":""},{"$f":"IF(G22=\"\",\"\",(IF(questionario!$L$8=\"\",\"\",questionario!$L$8)))","v":""},{"$f":"IF(C22=\"\",\"\",(IF(questionario!$L$11=\"\",\"\",questionario!$L$11)))","v":""},"X","2017",{"$f":"IF(aux_cadastros!$A$22=\"\",\"\",aux_cadastros!$A$22)","v":""},{"$f":"IFERROR((VLOOKUP(G22,questionario!$C$47:$D$66,2,0)),\"\")","v":""},{"$f":"IFERROR((VLOOKUP(G22,questionario!$Q$47:$R$66,2,0)),\"\")","v":""},2017,{"$f":"IF(G22=\"\",\"\",(IFERROR((INDEX(questionario!$A$23:$N$42,(MATCH((dados_exp!$G22&\"R$\"),questionario!$A$23:$A$42,0)),(MATCH(dados_exp!$J22,questionario!$A$22:$N$22,0)))),\"\")))","v":""},{"$f":"IF(G22=\"\",\"\",(IFERROR((INDEX(questionario!$Q$22:$AB$42,(MATCH(dados_exp!$G22,questionario!$Q$22:$Q$42,0)),(MATCH(dados_exp!$J22,questionario!$Q$22:$AB$22,0)))),\"\")))","v":""},{"$f":"IFERROR((INDEX(questionario!$B$47:$N$66,(MATCH((dados_exp!$G22&dados_exp!$H22),questionario!$B$47:$B$66,0)),(MATCH(dados_exp!$J22,questionario!$B$46:$N$46,0)))),\"\")","v":""},{"$f":"IFERROR((INDEX(questionario!$O$47:$AB$66,(MATCH((dados_exp!$G22&dados_exp!$I22),questionario!$O$47:$O$66,0)),(MATCH(dados_exp!$J22,questionario!$O$46:$AB$46,0)))),\"\")","v":""},"X",null,null,null,"X",null,null,null,"X",null,null,null,null,null,"X",null,null,null,"X"]
[{"$f":"IF(G23=\"\",\"\",(IF(questionario!$C$8=\"\",\"\",questionario!$C$8)))","v":""},{"$f":"IF(G23=\"\",\"\",(IF(questionario!$C$15=\"\",\"\",questionario!$C$15)))","v":""},{"$f":"IF(G23=\"\",\"\",(IF(questionario!$L$8=\"\",\"\",questionario!$L$8)))","v":""},{"$f":"IF(C23=\"\",\"\",(IF(questionario!$L$11=\"\",\"\",questionario!$L$11)))","v":""},"X","2017",{"$f":"IF(aux_cadastros!$A$23=\"\",\"\",aux_cadastros!$A$23)","v":""},{"$f":"IFERROR((VLOOKUP(G23,questionario!$C$47:$D$66,2,0)),\"\")","v":""},{"$f":"IFERROR((VLOOKUP(G23,questionario!$Q$47:$R$66,2,0)),\"\")","v":""},2017,{"$f":"IF(G23=\"\",\"\",(IFERROR((INDEX(questionario!$A$23:$N$42,(MATCH((dados_exp!$G23&\"R$\"),questionario!$A$23:$A$42,0)),(MATCH(dados_exp!$J23,questionario!$A$22:$N$22,0)))),\"\")))","v":""},{"$f":"IF(G23=\"\",\"\",(IFERROR((INDEX(questionario!$Q$22:$AB$42,(MATCH(dados_exp!$G23,questionario!$Q$22:$Q$42,0)),(MATCH(dados_exp!$J23,questionario!$Q$22:$AB$22,0)))),\"\")))","v":""},{"$f":"IFERROR((INDEX(questionario!$B$47:$N$66,(MATCH((dados_exp!$G23&dados_exp!$H23),questionario!$B$47:$B$66,0)),(MATCH(dados_exp!$J23,questionario!$B$46:$N$46,0)))),\"\")","v":""},{"$f":"IFERROR((INDEX(questionario!$O$47:$AB$66,(MATCH((dados_exp!$G23&dados_exp!$I23),questionario!$O$47:$O$66,0)),(MATCH(dados_exp!$J23,questionario!$O$46:$AB$46,0)))),\"\")","v":""},"X",null,null,null,"X",null,null,null,"X",null,null,null,null,null,"X",null,null,null,"X"]
[{"$f":"IF(G24=\"\",\"\",(IF(questionario!$C$8=\"\",\"\",questionario!$C$8)))","v":""},{"$f":"IF(G24=\"\",\"\",(IF(questionario!$C$15=\"\",\"\",questionario!$C$15)))","v":""},{"$f":"IF(G24=\"\",\"\",(IF(questionario!$L$8=\"\",\"\",questionario!$L$8)))","v":""},{"$f":"IF(C24=\"\",\"\",(IF(questionario!$L$11=\"\",\"\",questionario!$L$11)))","v":""},"X","2017",{"$f":"IF(aux_cadastros!$A$24=\"\",\"\",aux_cadastros!$A$24)","v":""},{"$f":"IFERROR((VLOOKUP(G24,questionario!$C$47:$D$66,2,0)),\"\")","v":""},{"$f":"IFERROR((VLOOKUP(G24,questionario!$Q$47:$R$66,2,0)),\"\")","v":""},2017,{"$f":"IF(G24=\"\",\"\",(IFERROR((INDEX(questionario!$A$23:$N$42,(MATCH((dados_exp!$G24&\"R$\"),questionario!$A$23:$A$42,0)),(MATCH(dados_exp!$J24,questionario!$A$22:$N$22,0)))),\"\")))","v":""},{"$f":"IF(G24=\"\",\"\",(IFERROR((INDEX(questionario!$Q$22:$AB$42,(MATCH(dados_exp!$G24,questionario!$Q$22:$Q$42,0)),(MATCH(dados_exp!$J24,questionario!$Q$22:$AB$22,0)))),\"\")))","v":""},{"$f":"IFERROR((INDEX(questionario!$B$47:$N$66,(MATCH((dados_exp!$G24&dados_exp!$H24),questionario!$B$47:$B$66,0)),(MATCH(dados_exp!$J24,questionario!$B$46:$N$46,0)))),\"\")","v":""},{"$f":"IFERROR((INDEX(questionario!$O$47:$AB$66,(MATCH((dados_exp!$G24&dados_exp!$I24),questionario!$O$47:$O$66,0)),(MATCH(dados_exp!$J24,questionario!$O$46:$AB$46,0)))),\"\")","v":""},"X",null,null,null,"X",null,null,null,"X",null,null,null,null,null,"X",null,null,null,"X"]
[{"$f":"IF(G25=\"\",\"\",(IF(questionario!$C$8=\"\",\"\",questionario!$C$8)))","v":""},{"$f":"IF(G25=\"\",\"\",(IF(questionario!$C$15=\"\",\"\",questionario!$C$15)))","v":""},{"$f":"IF(G25=\"\",\"\",(IF(questionario!$L$8=\"\",\"\",questionario!$L$8)))","v":""},{"$f":"IF(C25=\"\",\"\",(IF(questionario!$L$11=\"\",\"\",questionario!$L$11)))","v":""},"X","2017",{"$f":"IF(aux_cadastros!$A$25=\"\",\"\",aux_cadastros!$A$25)","v":""},{"$f":"IFERROR((VLOOKUP(G25,questionario!$C$47:$D$66,2,0)),\"\")","v":""},{"$f":"IFERROR((VLOOKUP(G25,questionario!$Q$47:$R$66,2,0)),\"\")","v":""},2017,{"$f":"IF(G25=\"\",\"\",(IFERROR((INDEX(questionario!$A$23:$N$42,(MATCH((dados_exp!$G25&\"R$\"),questionario!$A$23:$A$42,0)),(MATCH(dados_exp!$J25,questionario!$A$22:$N$22,0)))),\"\")))","v":""},{"$f":"IF(G25=\"\",\"\",(IFERROR((INDEX(questionario!$Q$22:$AB$42,(MATCH(dados_exp!$G25,questionario!$Q$22:$Q$42,0)),(MATCH(dados_exp!$J25,questionario!$Q$22:$AB$22,0)))),\"\")))","v":""},{"$f":"IFERROR((INDEX(questionario!$B$47:$N$66,(MATCH((dados_exp!$G25&dados_exp!$H25),questionario!$B$47:$B$66,0)),(MATCH(dados_exp!$J25,questionario!$B$46:$N$46,0)))),\"\")","v":""},{"$f":"IFERROR((INDEX(questionario!$O$47:$AB$66,(MATCH((dados_exp!$G25&dados_exp!$I25),questionario!$O$47:$O$66,0)),(MATCH(dados_exp!$J25,questionario!$O$46:$AB$46,0)))),\"\")","v":""},"X",null,null,null,"X",null,null,null,"X",null,null,null,null,null,"X",null,null,null,"X"]
[{"$f":"IF(G26=\"\",\"\",(IF(questionario!$C$8=\"\",\"\",questionario!$C$8)))","v":""},{"$f":"IF(G26=\"\",\"\",(IF(questionario!$C$15=\"\",\"\",questionario!$C$15)))","v":""},{"$f":"IF(G26=\"\",\"\",(IF(questionario!$L$8=\"\",\"\",questionario!$L$8)))","v":""},{"$f":"IF(C26=\"\",\"\",(IF(questionario!$L$11=\"\",\"\",questionario!$L$11)))","v":""},"X","2017",{"$f":"IF(aux_cadastros!$A$26=\"\",\"\",aux_cadastros!$A$26)","v":""},{"$f":"IFERROR((VLOOKUP(G26,questionario!$C$47:$D$66,2,0)),\"\")","v":""},{"$f":"IFERROR((VLOOKUP(G26,questionario!$Q$47:$R$66,2,0)),\"\")","v":""},2017,{"$f":"IF(G26=\"\",\"\",(IFERROR((INDEX(questionario!$A$23:$N$42,(MATCH((dados_exp!$G26&\"R$\"),questionario!$A$23:$A$42,0)),(MATCH(dados_exp!$J26,questionario!$A$22:$N$22,0)))),\"\")))","v":""},{"$f":"IF(G26=\"\",\"\",(IFERROR((INDEX(questionario!$Q$22:$AB$42,(MATCH(dados_exp!$G26,questionario!$Q$22:$Q$42,0)),(MATCH(dados_exp!$J26,questionario!$Q$22:$AB$22,0)))),\"\")))","v":""},{"$f":"IFERROR((INDEX(questionario!$B$47:$N$66,(MATCH((dados_exp!$G26&dados_exp!$H26),questionario!$B$47:$B$66,0)),(MATCH(dados_exp!$J26,questionario!$B$46:$N$46,0)))),\"\")","v":""},{"$f":"IFERROR((INDEX(questionario!$O$47:$AB$66,(MATCH((dados_exp!$G26&dados_exp!$I26),questionario!$O$47:$O$66,0)),(MATCH(dados_exp!$J26,questionario!$O$46:$AB$46,0)))),\"\")","v":""},"X",null,null,null,"X",null,null,null,"X",null,null,null,null,null,"X",null,null,null,"X"]
[{"$f":"IF(G27=\"\",\"\",(IF(questionario!$C$8=\"\",\"\",questionario!$C$8)))","v":""},{"$f":"IF(G27=\"\",\"\",(IF(questionario!$C$15=\"\",\"\",questionario!$C$15)))","v":""},{"$f":"IF(G27=\"\",\"\",(IF(questionario!$L$8=\"\",\"\",questionario!$L$8)))","v":""},{"$f":"IF(C27=\"\",\"\",(IF(questionario!$L$11=\"\",\"\",questionario!$L$11)))","v":""},"X","2017",{"$f":"IF(aux_cadastros!$A$27=\"\",\"\",aux_cadastros!$A$27)","v":""},{"$f":"IFERROR((VLOOKUP(G27,questionario!$C$47:$D$66,2,0)),\"\")","v":""},{"$f":"IFERROR((VLOOKUP(G27,questionario!$Q$47:$R$66,2,0)),\"\")","v":""},2017,{"$f":"IF(G27=\"\",\"\",(IFERROR((INDEX(questionario!$A$23:$N$42,(MATCH((dados_exp!$G27&\"R$\"),questionario!$A$23:$A$42,0)),(MATCH(dados_exp!$J27,questionario!$A$22:$N$22,0)))),\"\")))","v":""},{"$f":"IF(G27=\"\",\"\",(IFERROR((INDEX(questionario!$Q$22:$AB$42,(MATCH(dados_exp!$G27,questionario!$Q$22:$Q$42,0)),(MATCH(dados_exp!$J27,questionario!$Q$22:$AB$22,0)))),\"\")))","v":""},{"$f":"IFERROR((INDEX(questionario!$B$47:$N$66,(MATCH((dados_exp!$G27&dados_exp!$H27),questionario!$B$47:$B$66,0)),(MATCH(dados_exp!$J27,questionario!$B$46:$N$46,0)))),\"\")","v":""},{"$f":"IFERROR((INDEX(questionario!$O$47:$AB$66,(MATCH((dados_exp!$G27&dados_exp!$I27),questionario!$O$47:$O$66,0)),(MATCH(dados_exp!$J27,questionario!$O$46:$AB$46,0)))),\"\")","v":""},"X",null,null,null,"X",null,null,null,"X",null,null,null,null,null,"X",null,null,null,"X"]
[{"$f":"IF(G28=\"\",\"\",(IF(questionario!$C$8=\"\",\"\",questionario!$C$8)))","v":""},{"$f":"IF(G28=\"\",\"\",(IF(questionario!$C$15=\"\",\"\",questionario!$C$15)))","v":""},{"$f":"IF(G28=\"\",\"\",(IF(questionario!$L$8=\"\",\"\",questionario!$L$8)))","v":""},{"$f":"IF(C28=\"\",\"\",(IF(questionario!$L$11=\"\",\"\",questionario!$L$11)))","v":""},"X","2017",{"$f":"IF(aux_cadastros!$A$28=\"\",\"\",aux_cadastros!$A$28)","v":""},{"$f":"IFERROR((VLOOKUP(G28,questionario!$C$47:$D$66,2,0)),\"\")","v":""},{"$f":"IFERROR((VLOOKUP(G28,questionario!$Q$47:$R$66,2,0)),\"\")","v":""},2017,{"$f":"IF(G28=\"\",\"\",(IFERROR((INDEX(questionario!$A$23:$N$42,(MATCH((dados_exp!$G28&\"R$\"),questionario!$A$23:$A$42,0)),(MATCH(dados_exp!$J28,questionario!$A$22:$N$22,0)))),\"\")))","v":""},{"$f":"IF(G28=\"\",\"\",(IFERROR((INDEX(questionario!$Q$22:$AB$42,(MATCH(dados_exp!$G28,questionario!$Q$22:$Q$42,0)),(MATCH(dados_exp!$J28,questionario!$Q$22:$AB$22,0)))),\"\")))","v":""},{"$f":"IFERROR((INDEX(questionario!$B$47:$N$66,(MATCH((dados_exp!$G28&dados_exp!$H28),questionario!$B$47:$B$66,0)),(MATCH(dados_exp!$J28,questionario!$B$46:$N$46,0)))),\"\")","v":""},{"$f":"IFERROR((INDEX(questionario!$O$47:$AB$66,(MATCH((dados_exp!$G28&dados_exp!$I28),questionario!$O$47:$O$66,0)),(MATCH(dados_exp!$J28,questionario!$O$46:$AB$46,0)))),\"\")","v":""},"X",null,null,null,"X",null,null,null,"X",null,null,null,null,null,"X",null,null,null,"X"]
[{"$f":"IF(G29=\"\",\"\",(IF(questionario!$C$8=\"\",\"\",questionario!$C$8)))","v":""},{"$f":"IF(G29=\"\",\"\",(IF(questionario!$C$15=\"\",\"\",questionario!$C$15)))","v":""},{"$f":"IF(G29=\"\",\"\",(IF(questionario!$L$8=\"\",\"\",questionario!$L$8)))","v":""},{"$f":"IF(C29=\"\",\"\",(IF(questionario!$L$11=\"\",\"\",questionario!$L$11)))","v":""},"X","2017",{"$f":"IF(aux_cadastros!$A$29=\"\",\"\",aux_cadastros!$A$29)","v":""},{"$f":"IFERROR((VLOOKUP(G29,questionario!$C$47:$D$66,2,0)),\"\")","v":""},{"$f":"IFERROR((VLOOKUP(G29,questionario!$Q$47:$R$66,2,0)),\"\")","v":""},2017,{"$f":"IF(G29=\"\",\"\",(IFERROR((INDEX(questionario!$A$23:$N$42,(MATCH((dados_exp!$G29&\"R$\"),questionario!$A$23:$A$42,0)),(MATCH(dados_exp!$J29,questionario!$A$22:$N$22,0)))),\"\")))","v":""},{"$f":"IF(G29=\"\",\"\",(IFERROR((INDEX(questionario!$Q$22:$AB$42,(MATCH(dados_exp!$G29,questionario!$Q$22:$Q$42,0)),(MATCH(dados_exp!$J29,questionario!$Q$22:$AB$22,0)))),\"\")))","v":""},{"$f":"IFERROR((INDEX(questionario!$B$47:$N$66,(MATCH((dados_exp!$G29&dados_exp!$H29),questionario!$B$47:$B$66,0)),(MATCH(dados_exp!$J29,questionario!$B$46:$N$46,0)))),\"\")","v":""},{"$f":"IFERROR((INDEX(questionario!$O$47:$AB$66,(MATCH((dados_exp!$G29&dados_exp!$I29),questionario!$O$47:$O$66,0)),(MATCH(dados_exp!$J29,questionario!$O$46:$AB$46,0)))),\"\")","v":""},"X",null,null,null,"X",null,null,null,"X",null,null,null,null,null,"X",null,null,null,"X"]
[{"$f":"IF(G30=\"\",\"\",(IF(questionario!$C$8=\"\",\"\",questionario!$C$8)))","v":""},{"$f":"IF(G30=\"\",\"\",(IF(questionario!$C$15=\"\",\"\",questionario!$C$15)))","v":""},{"$f":"IF(G30=\"\",\"\",(IF(questionario!$L$8=\"\",\"\",questionario!$L$8)))","v":""},{"$f":"IF(C30=\"\",\"\",(IF(questionario!$L$11=\"\",\"\",questionario!$L$11)))","v":""},"X","2017",{"$f":"IF(aux_cadastros!$A$30=\"\",\"\",aux_cadastros!$A$30)","v":""},{"$f":"IFERROR((VLOOKUP(G30,questionario!$C$47:$D$66,2,0)),\"\")","v":""},{"$f":"IFERROR((VLOOKUP(G30,questionario!$Q$47:$R$66,2,0)),\"\")","v":""},2017,{"$f":"IF(G30=\"\",\"\",(IFERROR((INDEX(questionario!$A$23:$N$42,(MATCH((dados_exp!$G30&\"R$\"),questionario!$A$23:$A$42,0)),(MATCH(dados_exp!$J30,questionario!$A$22:$N$22,0)))),\"\")))","v":""},{"$f":"IF(G30=\"\",\"\",(IFERROR((INDEX(questionario!$Q$22:$AB$42,(MATCH(dados_exp!$G30,questionario!$Q$22:$Q$42,0)),(MATCH(dados_exp!$J30,questionario!$Q$22:$AB$22,0)))),\"\")))","v":""},{"$f":"IFERROR((INDEX(questionario!$B$47:$N$66,(MATCH((dados_exp!$G30&dados_exp!$H30),questionario!$B$47:$B$66,0)),(MATCH(dados_exp!$J30,questionario!$B$46:$N$46,0)))),\"\")","v":""},{"$f":"IFERROR((INDEX(questionario!$O$47:$AB$66,(MATCH((dados_exp!$G30&dados_exp!$I30),questionario!$O$47:$O$66,0)),(MATCH(dados_exp!$J30,questionario!$O$46:$AB$46,0)))),\"\")","v":""},"X",null,null,null,"X",null,null,null,"X",null,null,null,null,null,"X",null,null,null,"X"]
[{"$f":"IF(G31=\"\",\"\",(IF(questionario!$C$8=\"\",\"\",questionario!$C$8)))","v":""},{"$f":"IF(G31=\"\",\"\",(IF(questionario!$C$15=\"\",\"\",questionario!$C$15)))","v":""},{"$f":"IF(G31=\"\",\"\",(IF(questionario!$L$8=\"\",\"\",questionario!$L$8)))","v":""},{"$f":"IF(C31=\"\",\"\",(IF(questionario!$L$11=\"\",\"\",questionario!$L$11)))","v":""},"X","2017",{"$f":"IF(aux_cadastros!$A$31=\"\",\"\",aux_cadastros!$A$31)","v":""},{"$f":"IFERROR((VLOOKUP(G31,questionario!$C$47:$D$66,2,0)),\"\")","v":""},{"$f":"IFERROR((VLOOKUP(G31,questionario!$Q$47:$R$66,2,0)),\"\")","v":""},2017,{"$f":"IF(G31=\"\",\"\",(IFERROR((INDEX(questionario!$A$23:$N$42,(MATCH((dados_exp!$G31&\"R$\"),questionario!$A$23:$A$42,0)),(MATCH(dados_exp!$J31,questionario!$A$22:$N$22,0)))),\"\")))","v":""},{"$f":"IF(G31=\"\",\"\",(IFERROR((INDEX(questionario!$Q$22:$AB$42,(MATCH(dados_exp!$G31,questionario!$Q$22:$Q$42,0)),(MATCH(dados_exp!$J31,questionario!$Q$22:$AB$22,0)))),\"\")))","v":""},{"$f":"IFERROR((INDEX(questionario!$B$47:$N$66,(MATCH((dados_exp!$G31&dados_exp!$H31),questionario!$B$47:$B$66,0)),(MATCH(dados_exp!$J31,questionario!$B$46:$N$46,0)))),\"\")","v":""},{"$f":"IFERROR((INDEX(questionario!$O$47:$AB$66,(MATCH((dados_exp!$G31&dados_exp!$I31),questionario!$O$47:$O$66,0)),(MATCH(dados_exp!$J31,questionario!$O$46:$AB$46,0)))),\"\")","v":""},"X",null,null,null,"X",null,null,null,"X",null,null,null,null,null,"X",null,null,null,"X"]
[{"$f":"IF(G32=\"\",\"\",(IF(questionario!$C$8=\"\",\"\",questionario!$C$8)))","v":""},{"$f":"IF(G32=\"\",\"\",(IF(questionario!$C$15=\"\",\"\",questionario!$C$15)))","v":""},{"$f":"IF(G32=\"\",\"\",(IF(questionario!$L$8=\"\",\"\",questionario!$L$8)))","v":""},{"$f":"IF(C32=\"\",\"\",(IF(questionario!$L$11=\"\",\"\",questionario!$L$11)))","v":""},"X","Açaí2018",{"$f":"IF(aux_cadastros!$A$2=\"\",\"\",aux_cadastros!$A$2)","v":"Açaí"},{"$f":"IFERROR((VLOOKUP(G32,questionario!$C$47:$D$66,2,0)),\"\")","v":""},{"$f":"IFERROR((VLOOKUP(G32,questionario!$Q$47:$R$66,2,0)),\"\")","v":""},{"$f":"questionario!$F$22","v":2018},{"$f":"IF(G32=\"\",\"\",(IFERROR((INDEX(questionario!$A$23:$N$42,(MATCH((dados_exp!$G32&\"R$\"),questionario!$A$23:$A$42,0)),(MATCH(dados_exp!$J32,questionario!$A$22:$N$22,0)))),\"\")))","v":""},{"$f":"IF(G32=\"\",\"\",(IFERROR((INDEX(questionario!$Q$22:$AB$42,(MATCH(dados_exp!$G32,questionario!$Q$22:$Q$42,0)),(MATCH(dados_exp!$J32,questionario!$Q$22:$AB$22,0)))),\"\")))","v":""},{"$f":"IFERROR((INDEX(questionario!$B$47:$N$66,(MATCH((dados_exp!$G32&dados_exp!$H32),questionario!$B$47:$B$66,0)),(MATCH(dados_exp!$J32,questionario!$B$46:$N$46,0)))),\"\")","v":""},{"$f":"IFERROR((INDEX(questionario!$O$47:$AB$66,(MATCH((dados_exp!$G32&dados_exp!$I32),questionario!$O$47:$O$66,0)),(MATCH(dados_exp!$J32,questionario!$O$46:$AB$46,0)))),\"\")","v":""},"X",null,null,null,"X",null,null,null,"X",null,null,null,null,null,"X",null,null,null,"X"]
[{"$f":"IF(G33=\"\",\"\",(IF(questionario!$C$8=\"\",\"\",questionario!$C$8)))","v":""},{"$f":"IF(G33=\"\",\"\",(IF(questionario!$C$15=\"\",\"\",questionario!$C$15)))","v":""},{"$f":"IF(G33=\"\",\"\",(IF(questionario!$L$8=\"\",\"\",questionario!$L$8)))","v":""},{"$f":"IF(C33=\"\",\"\",(IF(questionario!$L$11=\"\",\"\",questionario!$L$11)))","v":""},"X","Aquicultura2018",{"$f":"IF(aux_cadastros!$A$3=\"\",\"\",aux_cadastros!$A$3)","v":"Aquicultura"},{"$f":"IFERROR((VLOOKUP(G33,questionario!$C$47:$D$66,2,0)),\"\")","v":""},{"$f":"IFERROR((VLOOKUP(G33,questionario!$Q$47:$R$66,2,0)),\"\")","v":""},{"$f":"J32","v":2018},{"$f":"IF(G33=\"\",\"\",(IFERROR((INDEX(questionario!$A$23:$N$42,(MATCH((dados_exp!$G33&\"R$\"),questionario!$A$23:$A$42,0)),(MATCH(dados_exp!$J33,questionario!$A$22:$N$22,0)))),\"\")))","v":""},{"$f":"IF(G33=\"\",\"\",(IFERROR((INDEX(questionario!$Q$22:$AB$42,(MATCH(dados_exp!$G33,questionario!$Q$22:$Q$42,0)),(MATCH(dados_exp!$J33,questionario!$Q$22:$AB$22,0)))),\"\")))","v":""},{"$f":"IFERROR((INDEX(questionario!$B$47:$N$66,(MATCH((dados_exp!$G33&dados_exp!$H33),questionario!$B$47:$B$66,0)),(MATCH(dados_exp!$J33,questionario!$B$46:$N$46,0)))),\"\")","v":""},{"$f":"IFERROR((INDEX(questionario!$O$47:$AB$66,(MATCH((dados_exp!$G33&dados_exp!$I33),questionario!$O$47:$O$66,0)),(MATCH(dados_exp!$J33,questionario!$O$46:$AB$46,0)))),\"\")","v":""},"X",null,null,null,"X",null,null,null,"X",null,null,null,null,null,"X",null,null,null,"X"]
[{"$f":"IF(G34=\"\",\"\",(IF(questionario!$C$8=\"\",\"\",questionario!$C$8)))","v":""},{"$f":"IF(G34=\"\",\"\",(IF(questionario!$C$15=\"\",\"\",questionario!$C$15)))","v":""},{"$f":"IF(G34=\"\",\"\",(IF(questionario!$L$8=\"\",\"\",questionario!$L$8)))","v":""},{"$f":"IF(C34=\"\",\"\",(IF(questionario!$L$11=\"\",\"\",questionario!$L$11)))","v":""},"X","Artesanato2018",{"$f":"IF(aux_cadastros!$A$4=\"\",\"\",aux_cadastros!$A$4)","v":"Artesanato"},{"$f":"IFERROR((VLOOKUP(G34,questionario!$C$47:$D$66,2,0)),\"\")","v":""},{"$f":"IFERROR((VLOOKUP(G34,questionario!$Q$47:$R$66,2,0)),\"\")","v":""},{"$f":"J33","v":2018},{"$f":"IF(G34=\"\",\"\",(IFERROR((INDEX(questionario!$A$23:$N$42,(MATCH((dados_exp!$G34&\"R$\"),questionario!$A$23:$A$42,0)),(MATCH(dados_exp!$J34,questionario!$A$22:$N$22,0)))),\"\")))","v":""},{"$f":"IF(G34=\"\",\"\",(IFERROR((INDEX(questionario!$Q$22:$AB$42,(MATCH(dados_exp!$G34,questionario!$Q$22:$Q$42,0)),(MATCH(dados_exp!$J34,questionario!$Q$22:$AB$22,0)))),\"\")))","v":""},{"$f":"IFERROR((INDEX(questionario!$B$47:$N$66,(MATCH((dados_exp!$G34&dados_exp!$H34),questionario!$B$47:$B$66,0)),(MATCH(dados_exp!$J34,questionario!$B$46:$N$46,0)))),\"\")","v":""},{"$f":"IFERROR((INDEX(questionario!$O$47:$AB$66,(MATCH((dados_exp!$G34&dados_exp!$I34),questionario!$O$47:$O$66,0)),(MATCH(dados_exp!$J34,questionario!$O$46:$AB$46,0)))),\"\")","v":""},"X",null,null,null,"X",null,null,null,"X",null,null,null,null,null,"X",null,null,null,"X"]
[{"$f":"IF(G35=\"\",\"\",(IF(questionario!$C$8=\"\",\"\",questionario!$C$8)))","v":""},{"$f":"IF(G35=\"\",\"\",(IF(questionario!$C$15=\"\",\"\",questionario!$C$15)))","v":""},{"$f":"IF(G35=\"\",\"\",(IF(questionario!$L$8=\"\",\"\",questionario!$L$8)))","v":""},{"$f":"IF(C35=\"\",\"\",(IF(questionario!$L$11=\"\",\"\",questionario!$L$11)))","v":""},"X","Babaçu2018",{"$f":"IF(aux_cadastros!$A$5=\"\",\"\",aux_cadastros!$A$5)","v":"Babaçu"},{"$f":"IFERROR((VLOOKUP(G35,questionario!$C$47:$D$66,2,0)),\"\")","v":""},{"$f":"IFERROR((VLOOKUP(G35,questionario!$Q$47:$R$66,2,0)),\"\")","v":""},2018,{"$f":"IF(G35=\"\",\"\",(IFERROR((INDEX(questionario!$A$23:$N$42,(MATCH((dados_exp!$G35&\"R$\"),questionario!$A$23:$A$42,0)),(MATCH(dados_exp!$J35,questionario!$A$22:$N$22,0)))),\"\")))","v":""},{"$f":"IF(G35=\"\",\"\",(IFERROR((INDEX(questionario!$Q$22:$AB$42,(MATCH(dados_exp!$G35,questionario!$Q$22:$Q$42,0)),(MATCH(dados_exp!$J35,questionario!$Q$22:$AB$22,0)))),\"\")))","v":""},{"$f":"IFERROR((INDEX(questionario!$B$47:$N$66,(MATCH((dados_exp!$G35&dados_exp!$H35),questionario!$B$47:$B$66,0)),(MATCH(dados_exp!$J35,questionario!$B$46:$N$46,0)))),\"\")","v":""},{"$f":"IFERROR((INDEX(questionario!$O$47:$AB$66,(MATCH((dados_exp!$G35&dados_exp!$I35),questionario!$O$47:$O$66,0)),(MATCH(dados_exp!$J35,questionario!$O$46:$AB$46,0)))),\"\")","v":""},"X",null,null,null,"X",null,null,null,"X",null,null,null,null,null,"X",null,null,null,"X"]
[{"$f":"IF(G36=\"\",\"\",(IF(questionario!$C$8=\"\",\"\",questionario!$C$8)))","v":""},{"$f":"IF(G36=\"\",\"\",(IF(questionario!$C$15=\"\",\"\",questionario!$C$15)))","v":""},{"$f":"IF(G36=\"\",\"\",(IF(questionario!$L$8=\"\",\"\",questionario!$L$8)))","v":""},{"$f":"IF(C36=\"\",\"\",(IF(questionario!$L$11=\"\",\"\",questionario!$L$11)))","v":""},"X","Borrachas2018",{"$f":"IF(aux_cadastros!$A$6=\"\",\"\",aux_cadastros!$A$6)","v":"Borrachas"},{"$f":"IFERROR((VLOOKUP(G36,questionario!$C$47:$D$66,2,0)),\"\")","v":""},{"$f":"IFERROR((VLOOKUP(G36,questionario!$Q$47:$R$66,2,0)),\"\")","v":""},2018,{"$f":"IF(G36=\"\",\"\",(IFERROR((INDEX(questionario!$A$23:$N$42,(MATCH((dados_exp!$G36&\"R$\"),questionario!$A$23:$A$42,0)),(MATCH(dados_exp!$J36,questionario!$A$22:$N$22,0)))),\"\")))","v":""},{"$f":"IF(G36=\"\",\"\",(IFERROR((INDEX(questionario!$Q$22:$AB$42,(MATCH(dados_exp!$G36,questionario!$Q$22:$Q$42,0)),(MATCH(dados_exp!$J36,questionario!$Q$22:$AB$22,0)))),\"\")))","v":""},{"$f":"IFERROR((INDEX(questionario!$B$47:$N$66,(MATCH((dados_exp!$G36&dados_exp!$H36),questionario!$B$47:$B$66,0)),(MATCH(dados_exp!$J36,questionario!$B$46:$N$46,0)))),\"\")","v":""},{"$f":"IFERROR((INDEX(questionario!$O$47:$AB$66,(MATCH((dados_exp!$G36&dados_exp!$I36),questionario!$O$47:$O$66,0)),(MATCH(dados_exp!$J36,questionario!$O$46:$AB$46,0)))),\"\")","v":""},"X",null,null,null,"X",null,null,null,"X",null,null,null,null,null,"X",null,null,null,"X"]
[{"$f":"IF(G37=\"\",\"\",(IF(questionario!$C$8=\"\",\"\",questionario!$C$8)))","v":""},{"$f":"IF(G37=\"\",\"\",(IF(questionario!$C$15=\"\",\"\",questionario!$C$15)))","v":""},{"$f":"IF(G37=\"\",\"\",(IF(questionario!$L$8=\"\",\"\",questionario!$L$8)))","v":""},{"$f":"IF(C37=\"\",\"\",(IF(questionario!$L$11=\"\",\"\",questionario!$L$11)))","v":""},"X","Cacau2018",{"$f":"IF(aux_cadastros!$A$7=\"\",\"\",aux_cadastros!$A$7)","v":"Cacau"},{"$f":"IFERROR((VLOOKUP(G37,questionario!$C$47:$D$66,2,0)),\"\")","v":""},{"$f":"IFERROR((VLOOKUP(G37,questionario!$Q$47:$R$66,2,0)),\"\")","v":""},2018,{"$f":"IF(G37=\"\",\"\",(IFERROR((INDEX(questionario!$A$23:$N$42,(MATCH((dados_exp!$G37&\"R$\"),questionario!$A$23:$A$42,0)),(MATCH(dados_exp!$J37,questionario!$A$22:$N$22,0)))),\"\")))","v":""},{"$f":"IF(G37=\"\",\"\",(IFERROR((INDEX(questionario!$Q$22:$AB$42,(MATCH(dados_exp!$G37,questionario!$Q$22:$Q$42,0)),(MATCH(dados_exp!$J37,questionario!$Q$22:$AB$22,0)))),\"\")))","v":""},{"$f":"IFERROR((INDEX(questionario!$B$47:$N$66,(MATCH((dados_exp!$G37&dados_exp!$H37),questionario!$B$47:$B$66,0)),(MATCH(dados_exp!$J37,questionario!$B$46:$N$46,0)))),\"\")","v":""},{"$f":"IFERROR((INDEX(questionario!$O$47:$AB$66,(MATCH((dados_exp!$G37&dados_exp!$I37),questionario!$O$47:$O$66,0)),(MATCH(dados_exp!$J37,questionario!$O$46:$AB$46,0)))),\"\")","v":""},"X",null,null,null,"X",null,null,null,"X",null,null,null,null,null,"X",null,null,null,"X"]
[{"$f":"IF(G38=\"\",\"\",(IF(questionario!$C$8=\"\",\"\",questionario!$C$8)))","v":""},{"$f":"IF(G38=\"\",\"\",(IF(questionario!$C$15=\"\",\"\",questionario!$C$15)))","v":""},{"$f":"IF(G38=\"\",\"\",(IF(questionario!$L$8=\"\",\"\",questionario!$L$8)))","v":""},{"$f":"IF(C38=\"\",\"\",(IF(questionario!$L$11=\"\",\"\",questionario!$L$11)))","v":""},"X","Castanha2018",{"$f":"IF(aux_cadastros!$A$8=\"\",\"\",aux_cadastros!$A$8)","v":"Castanha"},{"$f":"IFERROR((VLOOKUP(G38,questionario!$C$47:$D$66,2,0)),\"\")","v":""},{"$f":"IFERROR((VLOOKUP(G38,questionario!$Q$47:$R$66,2,0)),\"\")","v":""},2018,{"$f":"IF(G38=\"\",\"\",(IFERROR((INDEX(questionario!$A$23:$N$42,(MATCH((dados_exp!$G38&\"R$\"),questionario!$A$23:$A$42,0)),(MATCH(dados_exp!$J38,questionario!$A$22:$N$22,0)))),\"\")))","v":""},{"$f":"IF(G38=\"\",\"\",(IFERROR((INDEX(questionario!$Q$22:$AB$42,(MATCH(dados_exp!$G38,questionario!$Q$22:$Q$42,0)),(MATCH(dados_exp!$J38,questionario!$Q$22:$AB$22,0)))),\"\")))","v":""},{"$f":"IFERROR((INDEX(questionario!$B$47:$N$66,(MATCH((dados_exp!$G38&dados_exp!$H38),questionario!$B$47:$B$66,0)),(MATCH(dados_exp!$J38,questionario!$B$46:$N$46,0)))),\"\")","v":""},{"$f":"IFERROR((INDEX(questionario!$O$47:$AB$66,(MATCH((dados_exp!$G38&dados_exp!$I38),questionario!$O$47:$O$66,0)),(MATCH(dados_exp!$J38,questionario!$O$46:$AB$46,0)))),\"\")","v":""},"X",null,null,null,"X",null,null,null,"X",null,null,null,null,null,"X",null,null,null,"X"]
[{"$f":"IF(G39=\"\",\"\",(IF(questionario!$C$8=\"\",\"\",questionario!$C$8)))","v":""},{"$f":"IF(G39=\"\",\"\",(IF(questionario!$C$15=\"\",\"\",questionario!$C$15)))","v":""},{"$f":"IF(G39=\"\",\"\",(IF(questionario!$L$8=\"\",\"\",questionario!$L$8)))","v":""},{"$f":"IF(C39=\"\",\"\",(IF(questionario!$L$11=\"\",\"\",questionario!$L$11)))","v":""},"X","Copaíba2018",{"$f":"IF(aux_cadastros!$A$9=\"\",\"\",aux_cadastros!$A$9)","v":"Copaíba"},{"$f":"IFERROR((VLOOKUP(G39,questionario!$C$47:$D$66,2,0)),\"\")","v":""},{"$f":"IFERROR((VLOOKUP(G39,questionario!$Q$47:$R$66,2,0)),\"\")","v":""},2018,{"$f":"IF(G39=\"\",\"\",(IFERROR((INDEX(questionario!$A$23:$N$42,(MATCH((dados_exp!$G39&\"R$\"),questionario!$A$23:$A$42,0)),(MATCH(dados_exp!$J39,questionario!$A$22:$N$22,0)))),\"\")))","v":""},{"$f":"IF(G39=\"\",\"\",(IFERROR((INDEX(questionario!$Q$22:$AB$42,(MATCH(dados_exp!$G39,questionario!$Q$22:$Q$42,0)),(MATCH(dados_exp!$J39,questionario!$Q$22:$AB$22,0)))),\"\")))","v":""},{"$f":"IFERROR((INDEX(questionario!$B$47:$N$66,(MATCH((dados_exp!$G39&dados_exp!$H39),questionario!$B$47:$B$66,0)),(MATCH(dados_exp!$J39,questionario!$B$46:$N$46,0)))),\"\")","v":""},{"$f":"IFERROR((INDEX(questionario!$O$47:$AB$66,(MATCH((dados_exp!$G39&dados_exp!$I39),questionario!$O$47:$O$66,0)),(MATCH(dados_exp!$J39,questionario!$O$46:$AB$46,0)))),\"\")","v":""},"X",null,null,null,"X",null,null,null,"X",null,null,null,null,null,"X",null,null,null,"X"]
[{"$f":"IF(G40=\"\",\"\",(IF(questionario!$C$8=\"\",\"\",questionario!$C$8)))","v":""},{"$f":"IF(G40=\"\",\"\",(IF(questionario!$C$15=\"\",\"\",questionario!$C$15)))","v":""},{"$f":"IF(G40=\"\",\"\",(IF(questionario!$L$8=\"\",\"\",questionario!$L$8)))","v":""},{"$f":"IF(C40=\"\",\"\",(IF(questionario!$L$11=\"\",\"\",questionario!$L$11)))","v":""},"X","Fibras2018",{"$f":"IF(aux_cadastros!$A$10=\"\",\"\",aux_cadastros!$A$10)","v":"Fibras"},{"$f":"IFERROR((VLOOKUP(G40,questionario!$C$47:$D$66,2,0)),\"\")","v":""},{"$f":"IFERROR((VLOOKUP(G40,questionario!$Q$47:$R$66,2,0)),\"\")","v":""},2018,{"$f":"IF(G40=\"\",\"\",(IFERROR((INDEX(questionario!$A$23:$N$42,(MATCH((dados_exp!$G40&\"R$\"),questionario!$A$23:$A$42,0)),(MATCH(dados_exp!$J40,questionario!$A$22:$N$22,0)))),\"\")))","v":""},{"$f":"IF(G40=\"\",\"\",(IFERROR((INDEX(questionario!$Q$22:$AB$42,(MATCH(dados_exp!$G40,questionario!$Q$22:$Q$42,0)),(MATCH(dados_exp!$J40,questionario!$Q$22:$AB$22,0)))),\"\")))","v":""},{"$f":"IFERROR((INDEX(questionario!$B$47:$N$66,(MATCH((dados_exp!$G40&dados_exp!$H40),questionario!$B$47:$B$66,0)),(MATCH(dados_exp!$J40,questionario!$B$46:$N$46,0)))),\"\")","v":""},{"$f":"IFERROR((INDEX(questionario!$O$47:$AB$66,(MATCH((dados_exp!$G40&dados_exp!$I40),questionario!$O$47:$O$66,0)),(MATCH(dados_exp!$J40,questionario!$O$46:$AB$46,0)))),\"\")","v":""},"X",null,null,null,"X",null,null,null,"X",null,null,null,null,null,"X",null,null,null,"X"]
[{"$f":"IF(G41=\"\",\"\",(IF(questionario!$C$8=\"\",\"\",questionario!$C$8)))","v":""},{"$f":"IF(G41=\"\",\"\",(IF(questionario!$C$15=\"\",\"\",questionario!$C$15)))","v":""},{"$f":"IF(G41=\"\",\"\",(IF(questionario!$L$8=\"\",\"\",questionario!$L$8)))","v":""},{"$f":"IF(C41=\"\",\"\",(IF(questionario!$L$11=\"\",\"\",questionario!$L$11)))","v":""},"X","Guaraná2018",{"$f":"IF(aux_cadastros!$A$11=\"\",\"\",aux_cadastros!$A$11)","v":"Guaraná"},{"$f":"IFERROR((VLOOKUP(G41,questionario!$C$47:$D$66,2,0)),\"\")","v":""},{"$f":"IFERROR((VLOOKUP(G41,questionario!$Q$47:$R$66,2,0)),\"\")","v":""},2018,{"$f":"IF(G41=\"\",\"\",(IFERROR((INDEX(questionario!$A$23:$N$42,(MATCH((dados_exp!$G41&\"R$\"),questionario!$A$23:$A$42,0)),(MATCH(dados_exp!$J41,questionario!$A$22:$N$22,0)))),\"\")))","v":""},{"$f":"IF(G41=\"\",\"\",(IFERROR((INDEX(questionario!$Q$22:$AB$42,(MATCH(dados_exp!$G41,questionario!$Q$22:$Q$42,0)),(MATCH(dados_exp!$J41,questionario!$Q$22:$AB$22,0)))),\"\")))","v":""},{"$f":"IFERROR((INDEX(questionario!$B$47:$N$66,(MATCH((dados_exp!$G41&dados_exp!$H41),questionario!$B$47:$B$66,0)),(MATCH(dados_exp!$J41,questionario!$B$46:$N$46,0)))),\"\")","v":""},{"$f":"IFERROR((INDEX(questionario!$O$47:$AB$66,(MATCH((dados_exp!$G41&dados_exp!$I41),questionario!$O$47:$O$66,0)),(MATCH(dados_exp!$J41,questionario!$O$46:$AB$46,0)))),\"\")","v":""},"X",null,null,null,"X",null,null,null,"X",null,null,null,null,null,"X",null,null,null,"X"]
[{"$f":"IF(G42=\"\",\"\",(IF(questionario!$C$8=\"\",\"\",questionario!$C$8)))","v":""},{"$f":"IF(G42=\"\",\"\",(IF(questionario!$C$15=\"\",\"\",questionario!$C$15)))","v":""},{"$f":"IF(G42=\"\",\"\",(IF(questionario!$L$8=\"\",\"\",questionario!$L$8)))","v":""},{"$f":"IF(C42=\"\",\"\",(IF(questionario!$L$11=\"\",\"\",questionario!$L$11)))","v":""},"X","Madeira2018",{"$f":"IF(aux_cadastros!$A$12=\"\",\"\",aux_cadastros!$A$12)","v":"Madeira"},{"$f":"IFERROR((VLOOKUP(G42,questionario!$C$47:$D$66,2,0)),\"\")","v":""},{"$f":"IFERROR((VLOOKUP(G42,questionario!$Q$47:$R$66,2,0)),\"\")","v":""},2018,{"$f":"IF(G42=\"\",\"\",(IFERROR((INDEX(questionario!$A$23:$N$42,(MATCH((dados_exp!$G42&\"R$\"),questionario!$A$23:$A$42,0)),(MATCH(dados_exp!$J42,questionario!$A$22:$N$22,0)))),\"\")))","v":""},{"$f":"IF(G42=\"\",\"\",(IFERROR((INDEX(questionario!$Q$22:$AB$42,(MATCH(dados_exp!$G42,questionario!$Q$22:$Q$42,0)),(MATCH(dados_exp!$J42,questionario!$Q$22:$AB$22,0)))),\"\")))","v":""},{"$f":"IFERROR((INDEX(questionario!$B$47:$N$66,(MATCH((dados_exp!$G42&dados_exp!$H42),questionario!$B$47:$B$66,0)),(MATCH(dados_exp!$J42,questionario!$B$46:$N$46,0)))),\"\")","v":""},{"$f":"IFERROR((INDEX(questionario!$O$47:$AB$66,(MATCH((dados_exp!$G42&dados_exp!$I42),questionario!$O$47:$O$66,0)),(MATCH(dados_exp!$J42,questionario!$O$46:$AB$46,0)))),\"\")","v":""},"X",null,null,null,"X",null,null,null,"X",null,null,null,null,null,"X",null,null,null,"X"]
[{"$f":"IF(G43=\"\",\"\",(IF(questionario!$C$8=\"\",\"\",questionario!$C$8)))","v":""},{"$f":"IF(G43=\"\",\"\",(IF(questionario!$C$15=\"\",\"\",questionario!$C$15)))","v":""},{"$f":"IF(G43=\"\",\"\",(IF(questionario!$L$8=\"\",\"\",questionario!$L$8)))","v":""},{"$f":"IF(C43=\"\",\"\",(IF(questionario!$L$11=\"\",\"\",questionario!$L$11)))","v":""},"X","Mel2018",{"$f":"IF(aux_cadastros!$A$13=\"\",\"\",aux_cadastros!$A$13)","v":"Mel"},{"$f":"IFERROR((VLOOKUP(G43,questionario!$C$47:$D$66,2,0)),\"\")","v":""},{"$f":"IFERROR((VLOOKUP(G43,questionario!$Q$47:$R$66,2,0)),\"\")","v":""},2018,{"$f":"IF(G43=\"\",\"\",(IFERROR((INDEX(questionario!$A$23:$N$42,(MATCH((dados_exp!$G43&\"R$\"),questionario!$A$23:$A$42,0)),(MATCH(dados_exp!$J43,questionario!$A$22:$N$22,0)))),\"\")))","v":""},{"$f":"IF(G43=\"\",\"\",(IFERROR((INDEX(questionario!$Q$22:$AB$42,(MATCH(dados_exp!$G43,questionario!$Q$22:$Q$42,0)),(MATCH(dados_exp!$J43,questionario!$Q$22:$AB$22,0)))),\"\")))","v":""},{"$f":"IFERROR((INDEX(questionario!$B$47:$N$66,(MATCH((dados_exp!$G43&dados_exp!$H43),questionario!$B$47:$B$66,0)),(MATCH(dados_exp!$J43,questionario!$B$46:$N$46,0)))),\"\")","v":""},{"$f":"IFERROR((INDEX(questionario!$O$47:$AB$66,(MATCH((dados_exp!$G43&dados_exp!$I43),questionario!$O$47:$O$66,0)),(MATCH(dados_exp!$J43,questionario!$O$46:$AB$46,0)))),\"\")","v":""},"X",null,null,null,"X",null,null,null,"X",null,null,null,null,null,"X",null,null,null,"X"]
[{"$f":"IF(G44=\"\",\"\",(IF(questionario!$C$8=\"\",\"\",questionario!$C$8)))","v":""},{"$f":"IF(G44=\"\",\"\",(IF(questionario!$C$15=\"\",\"\",questionario!$C$15)))","v":""},{"$f":"IF(G44=\"\",\"\",(IF(questionario!$L$8=\"\",\"\",questionario!$L$8)))","v":""},{"$f":"IF(C44=\"\",\"\",(IF(questionario!$L$11=\"\",\"\",questionario!$L$11)))","v":""},"X","Oleaginosas2018",{"$f":"IF(aux_cadastros!$A$14=\"\",\"\",aux_cadastros!$A$14)","v":"Oleaginosas"},{"$f":"IFERROR((VLOOKUP(G44,questionario!$C$47:$D$66,2,0)),\"\")","v":""},{"$f":"IFERROR((VLOOKUP(G44,questionario!$Q$47:$R$66,2,0)),\"\")","v":""},2018,{"$f":"IF(G44=\"\",\"\",(IFERROR((INDEX(questionario!$A$23:$N$42,(MATCH((dados_exp!$G44&\"R$\"),questionario!$A$23:$A$42,0)),(MATCH(dados_exp!$J44,questionario!$A$22:$N$22,0)))),\"\")))","v":""},{"$f":"IF(G44=\"\",\"\",(IFERROR((INDEX(questionario!$Q$22:$AB$42,(MATCH(dados_exp!$G44,questionario!$Q$22:$Q$42,0)),(MATCH(dados_exp!$J44,questionario!$Q$22:$AB$22,0)))),\"\")))","v":""},{"$f":"IFERROR((INDEX(questionario!$B$47:$N$66,(MATCH((dados_exp!$G44&dados_exp!$H44),questionario!$B$47:$B$66,0)),(MATCH(dados_exp!$J44,questionario!$B$46:$N$46,0)))),\"\")","v":""},{"$f":"IFERROR((INDEX(questionario!$O$47:$AB$66,(MATCH((dados_exp!$G44&dados_exp!$I44),questionario!$O$47:$O$66,0)),(MATCH(dados_exp!$J44,questionario!$O$46:$AB$46,0)))),\"\")","v":""},"X",null,null,null,"X",null,null,null,"X",null,null,null,null,null,"X",null,null,null,"X"]
[{"$f":"IF(G45=\"\",\"\",(IF(questionario!$C$8=\"\",\"\",questionario!$C$8)))","v":""},{"$f":"IF(G45=\"\",\"\",(IF(questionario!$C$15=\"\",\"\",questionario!$C$15)))","v":""},{"$f":"IF(G45=\"\",\"\",(IF(questionario!$L$8=\"\",\"\",questionario!$L$8)))","v":""},{"$f":"IF(C45=\"\",\"\",(IF(questionario!$L$11=\"\",\"\",questionario!$L$11)))","v":""},"X","Óleos2018",{"$f":"IF(aux_cadastros!$A$15=\"\",\"\",aux_cadastros!$A$15)","v":"Óleos"},{"$f":"IFERROR((VLOOKUP(G45,questionario!$C$47:$D$66,2,0)),\"\")","v":""},{"$f":"IFERROR((VLOOKUP(G45,questionario!$Q$47:$R$66,2,0)),\"\")","v":""},2018,{"$f":"IF(G45=\"\",\"\",(IFERROR((INDEX(questionario!$A$23:$N$42,(MATCH((dados_exp!$G45&\"R$\"),questionario!$A$23:$A$42,0)),(MATCH(dados_exp!$J45,questionario!$A$22:$N$22,0)))),\"\")))","v":""},{"$f":"IF(G45=\"\",\"\",(IFERROR((INDEX(questionario!$Q$22:$AB$42,(MATCH(dados_exp!$G45,questionario!$Q$22:$Q$42,0)),(MATCH(dados_exp!$J45,questionario!$Q$22:$AB$22,0)))),\"\")))","v":""},{"$f":"IFERROR((INDEX(questionario!$B$47:$N$66,(MATCH((dados_exp!$G45&dados_exp!$H45),questionario!$B$47:$B$66,0)),(MATCH(dados_exp!$J45,questionario!$B$46:$N$46,0)))),\"\")","v":""},{"$f":"IFERROR((INDEX(questionario!$O$47:$AB$66,(MATCH((dados_exp!$G45&dados_exp!$I45),questionario!$O$47:$O$66,0)),(MATCH(dados_exp!$J45,questionario!$O$46:$AB$46,0)))),\"\")","v":""},"X",null,null,null,"X",null,null,null,"X",null,null,null,null,null,"X",null,null,null,"X"]
[{"$f":"IF(G46=\"\",\"\",(IF(questionario!$C$8=\"\",\"\",questionario!$C$8)))","v":""},{"$f":"IF(G46=\"\",\"\",(IF(questionario!$C$15=\"\",\"\",questionario!$C$15)))","v":""},{"$f":"IF(G46=\"\",\"\",(IF(questionario!$L$8=\"\",\"\",questionario!$L$8)))","v":""},{"$f":"IF(C46=\"\",\"\",(IF(questionario!$L$11=\"\",\"\",questionario!$L$11)))","v":""},"X","Pescado2018",{"$f":"IF(aux_cadastros!$A$16=\"\",\"\",aux_cadastros!$A$16)","v":"Pescado"},{"$f":"IFERROR((VLOOKUP(G46,questionario!$C$47:$D$66,2,0)),\"\")","v":""},{"$f":"IFERROR((VLOOKUP(G46,questionario!$Q$47:$R$66,2,0)),\"\")","v":""},2018,{"$f":"IF(G46=\"\",\"\",(IFERROR((INDEX(questionario!$A$23:$N$42,(MATCH((dados_exp!$G46&\"R$\"),questionario!$A$23:$A$42,0)),(MATCH(dados_exp!$J46,questionario!$A$22:$N$22,0)))),\"\")))","v":""},{"$f":"IF(G46=\"\",\"\",(IFERROR((INDEX(questionario!$Q$22:$AB$42,(MATCH(dados_exp!$G46,questionario!$Q$22:$Q$42,0)),(MATCH(dados_exp!$J46,questionario!$Q$22:$AB$22,0)))),\"\")))","v":""},{"$f":"IFERROR((INDEX(questionario!$B$47:$N$66,(MATCH((dados_exp!$G46&dados_exp!$H46),questionario!$B$47:$B$66,0)),(MATCH(dados_exp!$J46,questionario!$B$46:$N$46,0)))),\"\")","v":""},{"$f":"IFERROR((INDEX(questionario!$O$47:$AB$66,(MATCH((dados_exp!$G46&dados_exp!$I46),questionario!$O$47:$O$66,0)),(MATCH(dados_exp!$J46,questionario!$O$46:$AB$46,0)))),\"\")","v":""},"X",null,null,null,"X",null,null,null,"X",null,null,null,null,null,"X",null,null,null,"X"]
[{"$f":"IF(G47=\"\",\"\",(IF(questionario!$C$8=\"\",\"\",questionario!$C$8)))","v":""},{"$f":"IF(G47=\"\",\"\",(IF(questionario!$C$15=\"\",\"\",questionario!$C$15)))","v":""},{"$f":"IF(G47=\"\",\"\",(IF(questionario!$L$8=\"\",\"\",questionario!$L$8)))","v":""},{"$f":"IF(C47=\"\",\"\",(IF(questionario!$L$11=\"\",\"\",questionario!$L$11)))","v":""},"X","Turismo2018",{"$f":"IF(aux_cadastros!$A$17=\"\",\"\",aux_cadastros!$A$17)","v":"Turismo"},{"$f":"IFERROR((VLOOKUP(G47,questionario!$C$47:$D$66,2,0)),\"\")","v":""},{"$f":"IFERROR((VLOOKUP(G47,questionario!$Q$47:$R$66,2,0)),\"\")","v":""},2018,{"$f":"IF(G47=\"\",\"\",(IFERROR((INDEX(questionario!$A$23:$N$42,(MATCH((dados_exp!$G47&\"R$\"),questionario!$A$23:$A$42,0)),(MATCH(dados_exp!$J47,questionario!$A$22:$N$22,0)))),\"\")))","v":""},{"$f":"IF(G47=\"\",\"\",(IFERROR((INDEX(questionario!$Q$22:$AB$42,(MATCH(dados_exp!$G47,questionario!$Q$22:$Q$42,0)),(MATCH(dados_exp!$J47,questionario!$Q$22:$AB$22,0)))),\"\")))","v":""},{"$f":"IFERROR((INDEX(questionario!$B$47:$N$66,(MATCH((dados_exp!$G47&dados_exp!$H47),questionario!$B$47:$B$66,0)),(MATCH(dados_exp!$J47,questionario!$B$46:$N$46,0)))),\"\")","v":""},{"$f":"IFERROR((INDEX(questionario!$O$47:$AB$66,(MATCH((dados_exp!$G47&dados_exp!$I47),questionario!$O$47:$O$66,0)),(MATCH(dados_exp!$J47,questionario!$O$46:$AB$46,0)))),\"\")","v":""},"X",null,null,null,"X",null,null,null,"X",null,null,null,null,null,"X",null,null,null,"X"]
[{"$f":"IF(G48=\"\",\"\",(IF(questionario!$C$8=\"\",\"\",questionario!$C$8)))","v":""},{"$f":"IF(G48=\"\",\"\",(IF(questionario!$C$15=\"\",\"\",questionario!$C$15)))","v":""},{"$f":"IF(G48=\"\",\"\",(IF(questionario!$L$8=\"\",\"\",questionario!$L$8)))","v":""},{"$f":"IF(C48=\"\",\"\",(IF(questionario!$L$11=\"\",\"\",questionario!$L$11)))","v":""},"X","Agricultura de base familiar2018",{"$f":"IF(aux_cadastros!$A$18=\"\",\"\",aux_cadastros!$A$18)","v":"Agricultura de base familiar"},{"$f":"IFERROR((VLOOKUP(G48,questionario!$C$47:$D$66,2,0)),\"\")","v":""},{"$f":"IFERROR((VLOOKUP(G48,questionario!$Q$47:$R$66,2,0)),\"\")","v":""},2018,{"$f":"IF(G48=\"\",\"\",(IFERROR((INDEX(questionario!$A$23:$N$42,(MATCH((dados_exp!$G48&\"R$\"),questionario!$A$23:$A$42,0)),(MATCH(dados_exp!$J48,questionario!$A$22:$N$22,0)))),\"\")))","v":""},{"$f":"IF(G48=\"\",\"\",(IFERROR((INDEX(questionario!$Q$22:$AB$42,(MATCH(dados_exp!$G48,questionario!$Q$22:$Q$42,0)),(MATCH(dados_exp!$J48,questionario!$Q$22:$AB$22,0)))),\"\")))","v":""},{"$f":"IFERROR((INDEX(questionario!$B$47:$N$66,(MATCH((dados_exp!$G48&dados_exp!$H48),questionario!$B$47:$B$66,0)),(MATCH(dados_exp!$J48,questionario!$B$46:$N$46,0)))),\"\")","v":""},{"$f":"IFERROR((INDEX(questionario!$O$47:$AB$66,(MATCH((dados_exp!$G48&dados_exp!$I48),questionario!$O$47:$O$66,0)),(MATCH(dados_exp!$J48,questionario!$O$46:$AB$46,0)))),\"\")","v":""},"X",null,null,null,"X",null,null,null,"X",null,null,null,null,null,"X",null,null,null,"X"]
[{"$f":"IF(G49=\"\",\"\",(IF(questionario!$C$8=\"\",\"\",questionario!$C$8)))","v":""},{"$f":"IF(G49=\"\",\"\",(IF(questionario!$C$15=\"\",\"\",questionario!$C$15)))","v":""},{"$f":"IF(G49=\"\",\"\",(IF(questionario!$L$8=\"\",\"\",questionario!$L$8)))","v":""},{"$f":"IF(C49=\"\",\"\",(IF(questionario!$L$11=\"\",\"\",questionario!$L$11)))","v":""},"X","Pirarucu2018",{"$f":"IF(aux_cadastros!$A$19=\"\",\"\",aux_cadastros!$A$19)","v":"Pirarucu"},{"$f":"IFERROR((VLOOKUP(G49,questionario!$C$47:$D$66,2,0)),\"\")","v":""},{"$f":"IFERROR((VLOOKUP(G49,questionario!$Q$47:$R$66,2,0)),\"\")","v":""},2018,{"$f":"IF(G49=\"\",\"\",(IFERROR((INDEX(questionario!$A$23:$N$42,(MATCH((dados_exp!$G49&\"R$\"),questionario!$A$23:$A$42,0)),(MATCH(dados_exp!$J49,questionario!$A$22:$N$22,0)))),\"\")))","v":""},{"$f":"IF(G49=\"\",\"\",(IFERROR((INDEX(questionario!$Q$22:$AB$42,(MATCH(dados_exp!$G49,questionario!$Q$22:$Q$42,0)),(MATCH(dados_exp!$J49,questionario!$Q$22:$AB$22,0)))),\"\")))","v":""},{"$f":"IFERROR((INDEX(questionario!$B$47:$N$66,(MATCH((dados_exp!$G49&dados_exp!$H49),questionario!$B$47:$B$66,0)),(MATCH(dados_exp!$J49,questionario!$B$46:$N$46,0)))),\"\")","v":""},{"$f":"IFERROR((INDEX(questionario!$O$47:$AB$66,(MATCH((dados_exp!$G49&dados_exp!$I49),questionario!$O$47:$O$66,0)),(MATCH(dados_exp!$J49,questionario!$O$46:$AB$46,0)))),\"\")","v":""},"X",null,null,null,"X",null,null,null,"X",null,null,null,null,null,"X",null,null,null,"X"]
[{"$f":"IF(G50=\"\",\"\",(IF(questionario!$C$8=\"\",\"\",questionario!$C$8)))","v":""},{"$f":"IF(G50=\"\",\"\",(IF(questionario!$C$15=\"\",\"\",questionario!$C$15)))","v":""},{"$f":"IF(G50=\"\",\"\",(IF(questionario!$L$8=\"\",\"\",questionario!$L$8)))","v":""},{"$f":"IF(C50=\"\",\"\",(IF(questionario!$L$11=\"\",\"\",questionario!$L$11)))","v":""},"X","Bacalhau de Pirarucu2018",{"$f":"IF(aux_cadastros!$A$20=\"\",\"\",aux_cadastros!$A$20)","v":"Bacalhau de Pirarucu"},{"$f":"IFERROR((VLOOKUP(G50,questionario!$C$47:$D$66,2,0)),\"\")","v":""},{"$f":"IFERROR((VLOOKUP(G50,questionario!$Q$47:$R$66,2,0)),\"\")","v":""},2018,{"$f":"IF(G50=\"\",\"\",(IFERROR((INDEX(questionario!$A$23:$N$42,(MATCH((dados_exp!$G50&\"R$\"),questionario!$A$23:$A$42,0)),(MATCH(dados_exp!$J50,questionario!$A$22:$N$22,0)))),\"\")))","v":""},{"$f":"IF(G50=\"\",\"\",(IFERROR((INDEX(questionario!$Q$22:$AB$42,(MATCH(dados_exp!$G50,questionario!$Q$22:$Q$42,0)),(MATCH(dados_exp!$J50,questionario!$Q$22:$AB$22,0)))),\"\")))","v":""},{"$f":"IFERROR((INDEX(questionario!$B$47:$N$66,(MATCH((dados_exp!$G50&dados_exp!$H50),questionario!$B$47:$B$66,0)),(MATCH(dados_exp!$J50,questionario!$B$46:$N$46,0)))),\"\")","v":""},{"$f":"IFERROR((INDEX(questionario!$O$47:$AB$66,(MATCH((dados_exp!$G50&dados_exp!$I50),questionario!$O$47:$O$66,0)),(MATCH(dados_exp!$J50,questionario!$O$46:$AB$46,0)))),\"\")","v":""},"X",null,null,null,"X",null,null,null,"X",null,null,null,null,null,"X",null,null,null,"X"]
[{"$f":"IF(G51=\"\",\"\",(IF(questionario!$C$8=\"\",\"\",questionario!$C$8)))","v":""},{"$f":"IF(G51=\"\",\"\",(IF(questionario!$C$15=\"\",\"\",questionario!$C$15)))","v":""},{"$f":"IF(G51=\"\",\"\",(IF(questionario!$L$8=\"\",\"\",questionario!$L$8)))","v":""},{"$f":"IF(C51=\"\",\"\",(IF(questionario!$L$11=\"\",\"\",questionario!$L$11)))","v":""},"X","2018",{"$f":"IF(aux_cadastros!$A$21=\"\",\"\",aux_cadastros!$A$21)","v":""},{"$f":"IFERROR((VLOOKUP(G51,questionario!$C$47:$D$66,2,0)),\"\")","v":""},{"$f":"IFERROR((VLOOKUP(G51,questionario!$Q$47:$R$66,2,0)),\"\")","v":""},2018,{"$f":"IF(G51=\"\",\"\",(IFERROR((INDEX(questionario!$A$23:$N$42,(MATCH((dados_exp!$G51&\"R$\"),questionario!$A$23:$A$42,0)),(MATCH(dados_exp!$J51,questionario!$A$22:$N$22,0)))),\"\")))","v":""},{"$f":"IF(G51=\"\",\"\",(IFERROR((INDEX(questionario!$Q$22:$AB$42,(MATCH(dados_exp!$G51,questionario!$Q$22:$Q$42,0)),(MATCH(dados_exp!$J51,questionario!$Q$22:$AB$22,0)))),\"\")))","v":""},{"$f":"IFERROR((INDEX(questionario!$B$47:$N$66,(MATCH((dados_exp!$G51&dados_exp!$H51),questionario!$B$47:$B$66,0)),(MATCH(dados_exp!$J51,questionario!$B$46:$N$46,0)))),\"\")","v":""},{"$f":"IFERROR((INDEX(questionario!$O$47:$AB$66,(MATCH((dados_exp!$G51&dados_exp!$I51),questionario!$O$47:$O$66,0)),(MATCH(dados_exp!$J51,questionario!$O$46:$AB$46,0)))),\"\")","v":""},"X",null,null,null,"X",null,null,null,"X",null,null,null,null,null,"X",null,null,null,"X"]
[{"$f":"IF(G52=\"\",\"\",(IF(questionario!$C$8=\"\",\"\",questionario!$C$8)))","v":""},{"$f":"IF(G52=\"\",\"\",(IF(questionario!$C$15=\"\",\"\",questionario!$C$15)))","v":""},{"$f":"IF(G52=\"\",\"\",(IF(questionario!$L$8=\"\",\"\",questionario!$L$8)))","v":""},{"$f":"IF(C52=\"\",\"\",(IF(questionario!$L$11=\"\",\"\",questionario!$L$11)))","v":""},"X","2018",{"$f":"IF(aux_cadastros!$A$22=\"\",\"\",aux_cadastros!$A$22)","v":""},{"$f":"IFERROR((VLOOKUP(G52,questionario!$C$47:$D$66,2,0)),\"\")","v":""},{"$f":"IFERROR((VLOOKUP(G52,questionario!$Q$47:$R$66,2,0)),\"\")","v":""},2018,{"$f":"IF(G52=\"\",\"\",(IFERROR((INDEX(questionario!$A$23:$N$42,(MATCH((dados_exp!$G52&\"R$\"),questionario!$A$23:$A$42,0)),(MATCH(dados_exp!$J52,questionario!$A$22:$N$22,0)))),\"\")))","v":""},{"$f":"IF(G52=\"\",\"\",(IFERROR((INDEX(questionario!$Q$22:$AB$42,(MATCH(dados_exp!$G52,questionario!$Q$22:$Q$42,0)),(MATCH(dados_exp!$J52,questionario!$Q$22:$AB$22,0)))),\"\")))","v":""},{"$f":"IFERROR((INDEX(questionario!$B$47:$N$66,(MATCH((dados_exp!$G52&dados_exp!$H52),questionario!$B$47:$B$66,0)),(MATCH(dados_exp!$J52,questionario!$B$46:$N$46,0)))),\"\")","v":""},{"$f":"IFERROR((INDEX(questionario!$O$47:$AB$66,(MATCH((dados_exp!$G52&dados_exp!$I52),questionario!$O$47:$O$66,0)),(MATCH(dados_exp!$J52,questionario!$O$46:$AB$46,0)))),\"\")","v":""},"X",null,null,null,"X",null,null,null,"X",null,null,null,null,null,"X",null,null,null,"X"]
[{"$f":"IF(G53=\"\",\"\",(IF(questionario!$C$8=\"\",\"\",questionario!$C$8)))","v":""},{"$f":"IF(G53=\"\",\"\",(IF(questionario!$C$15=\"\",\"\",questionario!$C$15)))","v":""},{"$f":"IF(G53=\"\",\"\",(IF(questionario!$L$8=\"\",\"\",questionario!$L$8)))","v":""},{"$f":"IF(C53=\"\",\"\",(IF(questionario!$L$11=\"\",\"\",questionario!$L$11)))","v":""},"X","2018",{"$f":"IF(aux_cadastros!$A$23=\"\",\"\",aux_cadastros!$A$23)","v":""},{"$f":"IFERROR((VLOOKUP(G53,questionario!$C$47:$D$66,2,0)),\"\")","v":""},{"$f":"IFERROR((VLOOKUP(G53,questionario!$Q$47:$R$66,2,0)),\"\")","v":""},2018,{"$f":"IF(G53=\"\",\"\",(IFERROR((INDEX(questionario!$A$23:$N$42,(MATCH((dados_exp!$G53&\"R$\"),questionario!$A$23:$A$42,0)),(MATCH(dados_exp!$J53,questionario!$A$22:$N$22,0)))),\"\")))","v":""},{"$f":"IF(G53=\"\",\"\",(IFERROR((INDEX(questionario!$Q$22:$AB$42,(MATCH(dados_exp!$G53,questionario!$Q$22:$Q$42,0)),(MATCH(dados_exp!$J53,questionario!$Q$22:$AB$22,0)))),\"\")))","v":""},{"$f":"IFERROR((INDEX(questionario!$B$47:$N$66,(MATCH((dados_exp!$G53&dados_exp!$H53),questionario!$B$47:$B$66,0)),(MATCH(dados_exp!$J53,questionario!$B$46:$N$46,0)))),\"\")","v":""},{"$f":"IFERROR((INDEX(questionario!$O$47:$AB$66,(MATCH((dados_exp!$G53&dados_exp!$I53),questionario!$O$47:$O$66,0)),(MATCH(dados_exp!$J53,questionario!$O$46:$AB$46,0)))),\"\")","v":""},"X",null,null,null,"X",null,null,null,"X",null,null,null,null,null,"X",null,null,null,"X"]
[{"$f":"IF(G54=\"\",\"\",(IF(questionario!$C$8=\"\",\"\",questionario!$C$8)))","v":""},{"$f":"IF(G54=\"\",\"\",(IF(questionario!$C$15=\"\",\"\",questionario!$C$15)))","v":""},{"$f":"IF(G54=\"\",\"\",(IF(questionario!$L$8=\"\",\"\",questionario!$L$8)))","v":""},{"$f":"IF(C54=\"\",\"\",(IF(questionario!$L$11=\"\",\"\",questionario!$L$11)))","v":""},"X","2018",{"$f":"IF(aux_cadastros!$A$24=\"\",\"\",aux_cadastros!$A$24)","v":""},{"$f":"IFERROR((VLOOKUP(G54,questionario!$C$47:$D$66,2,0)),\"\")","v":""},{"$f":"IFERROR((VLOOKUP(G54,questionario!$Q$47:$R$66,2,0)),\"\")","v":""},2018,{"$f":"IF(G54=\"\",\"\",(IFERROR((INDEX(questionario!$A$23:$N$42,(MATCH((dados_exp!$G54&\"R$\"),questionario!$A$23:$A$42,0)),(MATCH(dados_exp!$J54,questionario!$A$22:$N$22,0)))),\"\")))","v":""},{"$f":"IF(G54=\"\",\"\",(IFERROR((INDEX(questionario!$Q$22:$AB$42,(MATCH(dados_exp!$G54,questionario!$Q$22:$Q$42,0)),(MATCH(dados_exp!$J54,questionario!$Q$22:$AB$22,0)))),\"\")))","v":""},{"$f":"IFERROR((INDEX(questionario!$B$47:$N$66,(MATCH((dados_exp!$G54&dados_exp!$H54),questionario!$B$47:$B$66,0)),(MATCH(dados_exp!$J54,questionario!$B$46:$N$46,0)))),\"\")","v":""},{"$f":"IFERROR((INDEX(questionario!$O$47:$AB$66,(MATCH((dados_exp!$G54&dados_exp!$I54),questionario!$O$47:$O$66,0)),(MATCH(dados_exp!$J54,questionario!$O$46:$AB$46,0)))),\"\")","v":""},"X",null,null,null,"X",null,null,null,"X",null,null,null,null,null,"X",null,null,null,"X"]
[{"$f":"IF(G55=\"\",\"\",(IF(questionario!$C$8=\"\",\"\",questionario!$C$8)))","v":""},{"$f":"IF(G55=\"\",\"\",(IF(questionario!$C$15=\"\",\"\",questionario!$C$15)))","v":""},{"$f":"IF(G55=\"\",\"\",(IF(questionario!$L$8=\"\",\"\",questionario!$L$8)))","v":""},{"$f":"IF(C55=\"\",\"\",(IF(questionario!$L$11=\"\",\"\",questionario!$L$11)))","v":""},"X","2018",{"$f":"IF(aux_cadastros!$A$25=\"\",\"\",aux_cadastros!$A$25)","v":""},{"$f":"IFERROR((VLOOKUP(G55,questionario!$C$47:$D$66,2,0)),\"\")","v":""},{"$f":"IFERROR((VLOOKUP(G55,questionario!$Q$47:$R$66,2,0)),\"\")","v":""},2018,{"$f":"IF(G55=\"\",\"\",(IFERROR((INDEX(questionario!$A$23:$N$42,(MATCH((dados_exp!$G55&\"R$\"),questionario!$A$23:$A$42,0)),(MATCH(dados_exp!$J55,questionario!$A$22:$N$22,0)))),\"\")))","v":""},{"$f":"IF(G55=\"\",\"\",(IFERROR((INDEX(questionario!$Q$22:$AB$42,(MATCH(dados_exp!$G55,questionario!$Q$22:$Q$42,0)),(MATCH(dados_exp!$J55,questionario!$Q$22:$AB$22,0)))),\"\")))","v":""},{"$f":"IFERROR((INDEX(questionario!$B$47:$N$66,(MATCH((dados_exp!$G55&dados_exp!$H55),questionario!$B$47:$B$66,0)),(MATCH(dados_exp!$J55,questionario!$B$46:$N$46,0)))),\"\")","v":""},{"$f":"IFERROR((INDEX(questionario!$O$47:$AB$66,(MATCH((dados_exp!$G55&dados_exp!$I55),questionario!$O$47:$O$66,0)),(MATCH(dados_exp!$J55,questionario!$O$46:$AB$46,0)))),\"\")","v":""},"X",null,null,null,"X",null,null,null,"X",null,null,null,null,null,"X",null,null,null,"X"]
[{"$f":"IF(G56=\"\",\"\",(IF(questionario!$C$8=\"\",\"\",questionario!$C$8)))","v":""},{"$f":"IF(G56=\"\",\"\",(IF(questionario!$C$15=\"\",\"\",questionario!$C$15)))","v":""},{"$f":"IF(G56=\"\",\"\",(IF(questionario!$L$8=\"\",\"\",questionario!$L$8)))","v":""},{"$f":"IF(C56=\"\",\"\",(IF(questionario!$L$11=\"\",\"\",questionario!$L$11)))","v":""},"X","2018",{"$f":"IF(aux_cadastros!$A$26=\"\",\"\",aux_cadastros!$A$26)","v":""},{"$f":"IFERROR((VLOOKUP(G56,questionario!$C$47:$D$66,2,0)),\"\")","v":""},{"$f":"IFERROR((VLOOKUP(G56,questionario!$Q$47:$R$66,2,0)),\"\")","v":""},2018,{"$f":"IF(G56=\"\",\"\",(IFERROR((INDEX(questionario!$A$23:$N$42,(MATCH((dados_exp!$G56&\"R$\"),questionario!$A$23:$A$42,0)),(MATCH(dados_exp!$J56,questionario!$A$22:$N$22,0)))),\"\")))","v":""},{"$f":"IF(G56=\"\",\"\",(IFERROR((INDEX(questionario!$Q$22:$AB$42,(MATCH(dados_exp!$G56,questionario!$Q$22:$Q$42,0)),(MATCH(dados_exp!$J56,questionario!$Q$22:$AB$22,0)))),\"\")))","v":""},{"$f":"IFERROR((INDEX(questionario!$B$47:$N$66,(MATCH((dados_exp!$G56&dados_exp!$H56),questionario!$B$47:$B$66,0)),(MATCH(dados_exp!$J56,questionario!$B$46:$N$46,0)))),\"\")","v":""},{"$f":"IFERROR((INDEX(questionario!$O$47:$AB$66,(MATCH((dados_exp!$G56&dados_exp!$I56),questionario!$O$47:$O$66,0)),(MATCH(dados_exp!$J56,questionario!$O$46:$AB$46,0)))),\"\")","v":""},"X",null,null,null,"X",null,null,null,"X",null,null,null,null,null,"X",null,null,null,"X"]
[{"$f":"IF(G57=\"\",\"\",(IF(questionario!$C$8=\"\",\"\",questionario!$C$8)))","v":""},{"$f":"IF(G57=\"\",\"\",(IF(questionario!$C$15=\"\",\"\",questionario!$C$15)))","v":""},{"$f":"IF(G57=\"\",\"\",(IF(questionario!$L$8=\"\",\"\",questionario!$L$8)))","v":""},{"$f":"IF(C57=\"\",\"\",(IF(questionario!$L$11=\"\",\"\",questionario!$L$11)))","v":""},"X","2018",{"$f":"IF(aux_cadastros!$A$27=\"\",\"\",aux_cadastros!$A$27)","v":""},{"$f":"IFERROR((VLOOKUP(G57,questionario!$C$47:$D$66,2,0)),\"\")","v":""},{"$f":"IFERROR((VLOOKUP(G57,questionario!$Q$47:$R$66,2,0)),\"\")","v":""},2018,{"$f":"IF(G57=\"\",\"\",(IFERROR((INDEX(questionario!$A$23:$N$42,(MATCH((dados_exp!$G57&\"R$\"),questionario!$A$23:$A$42,0)),(MATCH(dados_exp!$J57,questionario!$A$22:$N$22,0)))),\"\")))","v":""},{"$f":"IF(G57=\"\",\"\",(IFERROR((INDEX(questionario!$Q$22:$AB$42,(MATCH(dados_exp!$G57,questionario!$Q$22:$Q$42,0)),(MATCH(dados_exp!$J57,questionario!$Q$22:$AB$22,0)))),\"\")))","v":""},{"$f":"IFERROR((INDEX(questionario!$B$47:$N$66,(MATCH((dados_exp!$G57&dados_exp!$H57),questionario!$B$47:$B$66,0)),(MATCH(dados_exp!$J57,questionario!$B$46:$N$46,0)))),\"\")","v":""},{"$f":"IFERROR((INDEX(questionario!$O$47:$AB$66,(MATCH((dados_exp!$G57&dados_exp!$I57),questionario!$O$47:$O$66,0)),(MATCH(dados_exp!$J57,questionario!$O$46:$AB$46,0)))),\"\")","v":""},"X",null,null,null,"X",null,null,null,"X",null,null,null,null,null,"X",null,null,null,"X"]
[{"$f":"IF(G58=\"\",\"\",(IF(questionario!$C$8=\"\",\"\",questionario!$C$8)))","v":""},{"$f":"IF(G58=\"\",\"\",(IF(questionario!$C$15=\"\",\"\",questionario!$C$15)))","v":""},{"$f":"IF(G58=\"\",\"\",(IF(questionario!$L$8=\"\",\"\",questionario!$L$8)))","v":""},{"$f":"IF(C58=\"\",\"\",(IF(questionario!$L$11=\"\",\"\",questionario!$L$11)))","v":""},"X","2018",{"$f":"IF(aux_cadastros!$A$28=\"\",\"\",aux_cadastros!$A$28)","v":""},{"$f":"IFERROR((VLOOKUP(G58,questionario!$C$47:$D$66,2,0)),\"\")","v":""},{"$f":"IFERROR((VLOOKUP(G58,questionario!$Q$47:$R$66,2,0)),\"\")","v":""},2018,{"$f":"IF(G58=\"\",\"\",(IFERROR((INDEX(questionario!$A$23:$N$42,(MATCH((dados_exp!$G58&\"R$\"),questionario!$A$23:$A$42,0)),(MATCH(dados_exp!$J58,questionario!$A$22:$N$22,0)))),\"\")))","v":""},{"$f":"IF(G58=\"\",\"\",(IFERROR((INDEX(questionario!$Q$22:$AB$42,(MATCH(dados_exp!$G58,questionario!$Q$22:$Q$42,0)),(MATCH(dados_exp!$J58,questionario!$Q$22:$AB$22,0)))),\"\")))","v":""},{"$f":"IFERROR((INDEX(questionario!$B$47:$N$66,(MATCH((dados_exp!$G58&dados_exp!$H58),questionario!$B$47:$B$66,0)),(MATCH(dados_exp!$J58,questionario!$B$46:$N$46,0)))),\"\")","v":""},{"$f":"IFERROR((INDEX(questionario!$O$47:$AB$66,(MATCH((dados_exp!$G58&dados_exp!$I58),questionario!$O$47:$O$66,0)),(MATCH(dados_exp!$J58,questionario!$O$46:$AB$46,0)))),\"\")","v":""},"X",null,null,null,"X",null,null,null,"X",null,null,null,null,null,"X",null,null,null,"X"]
[{"$f":"IF(G59=\"\",\"\",(IF(questionario!$C$8=\"\",\"\",questionario!$C$8)))","v":""},{"$f":"IF(G59=\"\",\"\",(IF(questionario!$C$15=\"\",\"\",questionario!$C$15)))","v":""},{"$f":"IF(G59=\"\",\"\",(IF(questionario!$L$8=\"\",\"\",questionario!$L$8)))","v":""},{"$f":"IF(C59=\"\",\"\",(IF(questionario!$L$11=\"\",\"\",questionario!$L$11)))","v":""},"X","2018",{"$f":"IF(aux_cadastros!$A$29=\"\",\"\",aux_cadastros!$A$29)","v":""},{"$f":"IFERROR((VLOOKUP(G59,questionario!$C$47:$D$66,2,0)),\"\")","v":""},{"$f":"IFERROR((VLOOKUP(G59,questionario!$Q$47:$R$66,2,0)),\"\")","v":""},2018,{"$f":"IF(G59=\"\",\"\",(IFERROR((INDEX(questionario!$A$23:$N$42,(MATCH((dados_exp!$G59&\"R$\"),questionario!$A$23:$A$42,0)),(MATCH(dados_exp!$J59,questionario!$A$22:$N$22,0)))),\"\")))","v":""},{"$f":"IF(G59=\"\",\"\",(IFERROR((INDEX(questionario!$Q$22:$AB$42,(MATCH(dados_exp!$G59,questionario!$Q$22:$Q$42,0)),(MATCH(dados_exp!$J59,questionario!$Q$22:$AB$22,0)))),\"\")))","v":""},{"$f":"IFERROR((INDEX(questionario!$B$47:$N$66,(MATCH((dados_exp!$G59&dados_exp!$H59),questionario!$B$47:$B$66,0)),(MATCH(dados_exp!$J59,questionario!$B$46:$N$46,0)))),\"\")","v":""},{"$f":"IFERROR((INDEX(questionario!$O$47:$AB$66,(MATCH((dados_exp!$G59&dados_exp!$I59),questionario!$O$47:$O$66,0)),(MATCH(dados_exp!$J59,questionario!$O$46:$AB$46,0)))),\"\")","v":""},"X",null,null,null,"X",null,null,null,"X",null,null,null,null,null,"X",null,null,null,"X"]
[{"$f":"IF(G60=\"\",\"\",(IF(questionario!$C$8=\"\",\"\",questionario!$C$8)))","v":""},{"$f":"IF(G60=\"\",\"\",(IF(questionario!$C$15=\"\",\"\",questionario!$C$15)))","v":""},{"$f":"IF(G60=\"\",\"\",(IF(questionario!$L$8=\"\",\"\",questionario!$L$8)))","v":""},{"$f":"IF(C60=\"\",\"\",(IF(questionario!$L$11=\"\",\"\",questionario!$L$11)))","v":""},"X","2018",{"$f":"IF(aux_cadastros!$A$30=\"\",\"\",aux_cadastros!$A$30)","v":""},{"$f":"IFERROR((VLOOKUP(G60,questionario!$C$47:$D$66,2,0)),\"\")","v":""},{"$f":"IFERROR((VLOOKUP(G60,questionario!$Q$47:$R$66,2,0)),\"\")","v":""},2018,{"$f":"IF(G60=\"\",\"\",(IFERROR((INDEX(questionario!$A$23:$N$42,(MATCH((dados_exp!$G60&\"R$\"),questionario!$A$23:$A$42,0)),(MATCH(dados_exp!$J60,questionario!$A$22:$N$22,0)))),\"\")))","v":""},{"$f":"IF(G60=\"\",\"\",(IFERROR((INDEX(questionario!$Q$22:$AB$42,(MATCH(dados_exp!$G60,questionario!$Q$22:$Q$42,0)),(MATCH(dados_exp!$J60,questionario!$Q$22:$AB$22,0)))),\"\")))","v":""},{"$f":"IFERROR((INDEX(questionario!$B$47:$N$66,(MATCH((dados_exp!$G60&dados_exp!$H60),questionario!$B$47:$B$66,0)),(MATCH(dados_exp!$J60,questionario!$B$46:$N$46,0)))),\"\")","v":""},{"$f":"IFERROR((INDEX(questionario!$O$47:$AB$66,(MATCH((dados_exp!$G60&dados_exp!$I60),questionario!$O$47:$O$66,0)),(MATCH(dados_exp!$J60,questionario!$O$46:$AB$46,0)))),\"\")","v":""},"X",null,null,null,"X",null,null,null,"X",null,null,null,null,null,"X",null,null,null,"X"]
[{"$f":"IF(G61=\"\",\"\",(IF(questionario!$C$8=\"\",\"\",questionario!$C$8)))","v":""},{"$f":"IF(G61=\"\",\"\",(IF(questionario!$C$15=\"\",\"\",questionario!$C$15)))","v":""},{"$f":"IF(G61=\"\",\"\",(IF(questionario!$L$8=\"\",\"\",questionario!$L$8)))","v":""},{"$f":"IF(C61=\"\",\"\",(IF(questionario!$L$11=\"\",\"\",questionario!$L$11)))","v":""},"X","2018",{"$f":"IF(aux_cadastros!$A$31=\"\",\"\",aux_cadastros!$A$31)","v":""},{"$f":"IFERROR((VLOOKUP(G61,questionario!$C$47:$D$66,2,0)),\"\")","v":""},{"$f":"IFERROR((VLOOKUP(G61,questionario!$Q$47:$R$66,2,0)),\"\")","v":""},2018,{"$f":"IF(G61=\"\",\"\",(IFERROR((INDEX(questionario!$A$23:$N$42,(MATCH((dados_exp!$G61&\"R$\"),questionario!$A$23:$A$42,0)),(MATCH(dados_exp!$J61,questionario!$A$22:$N$22,0)))),\"\")))","v":""},{"$f":"IF(G61=\"\",\"\",(IFERROR((INDEX(questionario!$Q$22:$AB$42,(MATCH(dados_exp!$G61,questionario!$Q$22:$Q$42,0)),(MATCH(dados_exp!$J61,questionario!$Q$22:$AB$22,0)))),\"\")))","v":""},{"$f":"IFERROR((INDEX(questionario!$B$47:$N$66,(MATCH((dados_exp!$G61&dados_exp!$H61),questionario!$B$47:$B$66,0)),(MATCH(dados_exp!$J61,questionario!$B$46:$N$46,0)))),\"\")","v":""},{"$f":"IFERROR((INDEX(questionario!$O$47:$AB$66,(MATCH((dados_exp!$G61&dados_exp!$I61),questionario!$O$47:$O$66,0)),(MATCH(dados_exp!$J61,questionario!$O$46:$AB$46,0)))),\"\")","v":""},"X",null,null,null,"X",null,null,null,"X",null,null,null,null,null,"X",null,null,null,"X"]
[{"$f":"IF(G62=\"\",\"\",(IF(questionario!$C$8=\"\",\"\",questionario!$C$8)))","v":""},{"$f":"IF(G62=\"\",\"\",(IF(questionario!$C$15=\"\",\"\",questionario!$C$15)))","v":""},{"$f":"IF(G62=\"\",\"\",(IF(questionario!$L$8=\"\",\"\",questionario!$L$8)))","v":""},{"$f":"IF(C62=\"\",\"\",(IF(questionario!$L$11=\"\",\"\",questionario!$L$11)))","v":""},"X","Açaí2019",{"$f":"IF(aux_cadastros!$A$2=\"\",\"\",aux_cadastros!$A$2)","v":"Açaí"},{"$f":"IFERROR((VLOOKUP(G62,questionario!$C$47:$D$66,2,0)),\"\")","v":""},{"$f":"IFERROR((VLOOKUP(G62,questionario!$Q$47:$R$66,2,0)),\"\")","v":""},{"$f":"questionario!$G$22","v":2019},{"$f":"IF(G62=\"\",\"\",(IFERROR((INDEX(questionario!$A$23:$N$42,(MATCH((dados_exp!$G62&\"R$\"),questionario!$A$23:$A$42,0)),(MATCH(dados_exp!$J62,questionario!$A$22:$N$22,0)))),\"\")))","v":""},{"$f":"IF(G62=\"\",\"\",(IFERROR((INDEX(questionario!$Q$22:$AB$42,(MATCH(dados_exp!$G62,questionario!$Q$22:$Q$42,0)),(MATCH(dados_exp!$J62,questionario!$Q$22:$AB$22,0)))),\"\")))","v":""},{"$f":"IFERROR((INDEX(questionario!$B$47:$N$66,(MATCH((dados_exp!$G62&dados_exp!$H62),questionario!$B$47:$B$66,0)),(MATCH(dados_exp!$J62,questionario!$B$46:$N$46,0)))),\"\")","v":""},{"$f":"IFERROR((INDEX(questionario!$O$47:$AB$66,(MATCH((dados_exp!$G62&dados_exp!$I62),questionario!$O$47:$O$66,0)),(MATCH(dados_exp!$J62,questionario!$O$46:$AB$46,0)))),\"\")","v":""},"X",null,null,null,"X",null,null,null,"X",null,null,null,null,null,"X",null,null,null,"X"]
[{"$f":"IF(G63=\"\",\"\",(IF(questionario!$C$8=\"\",\"\",questionario!$C$8)))","v":""},{"$f":"IF(G63=\"\",\"\",(IF(questionario!$C$15=\"\",\"\",questionario!$C$15)))","v":""},{"$f":"IF(G63=\"\",\"\",(IF(questionario!$L$8=\"\",\"\",questionario!$L$8)))","v":""},{"$f":"IF(C63=\"\",\"\",(IF(questionario!$L$11=\"\",\"\",questionario!$L$11)))","v":""},"X","Aquicultura2019",{"$f":"IF(aux_cadastros!$A$3=\"\",\"\",aux_cadastros!$A$3)","v":"Aquicultura"},{"$f":"IFERROR((VLOOKUP(G63,questionario!$C$47:$D$66,2,0)),\"\")","v":""},{"$f":"IFERROR((VLOOKUP(G63,questionario!$Q$47:$R$66,2,0)),\"\")","v":""},{"$f":"J62","v":2019},{"$f":"IF(G63=\"\",\"\",(IFERROR((INDEX(questionario!$A$23:$N$42,(MATCH((dados_exp!$G63&\"R$\"),questionario!$A$23:$A$42,0)),(MATCH(dados_exp!$J63,questionario!$A$22:$N$22,0)))),\"\")))","v":""},{"$f":"IF(G63=\"\",\"\",(IFERROR((INDEX(questionario!$Q$22:$AB$42,(MATCH(dados_exp!$G63,questionario!$Q$22:$Q$42,0)),(MATCH(dados_exp!$J63,questionario!$Q$22:$AB$22,0)))),\"\")))","v":""},{"$f":"IFERROR((INDEX(questionario!$B$47:$N$66,(MATCH((dados_exp!$G63&dados_exp!$H63),questionario!$B$47:$B$66,0)),(MATCH(dados_exp!$J63,questionario!$B$46:$N$46,0)))),\"\")","v":""},{"$f":"IFERROR((INDEX(questionario!$O$47:$AB$66,(MATCH((dados_exp!$G63&dados_exp!$I63),questionario!$O$47:$O$66,0)),(MATCH(dados_exp!$J63,questionario!$O$46:$AB$46,0)))),\"\")","v":""},"X",null,null,null,"X",null,null,null,"X",null,null,null,null,null,"X",null,null,null,"X"]
[{"$f":"IF(G64=\"\",\"\",(IF(questionario!$C$8=\"\",\"\",questionario!$C$8)))","v":""},{"$f":"IF(G64=\"\",\"\",(IF(questionario!$C$15=\"\",\"\",questionario!$C$15)))","v":""},{"$f":"IF(G64=\"\",\"\",(IF(questionario!$L$8=\"\",\"\",questionario!$L$8)))","v":""},{"$f":"IF(C64=\"\",\"\",(IF(questionario!$L$11=\"\",\"\",questionario!$L$11)))","v":""},"X","Artesanato2019",{"$f":"IF(aux_cadastros!$A$4=\"\",\"\",aux_cadastros!$A$4)","v":"Artesanato"},{"$f":"IFERROR((VLOOKUP(G64,questionario!$C$47:$D$66,2,0)),\"\")","v":""},{"$f":"IFERROR((VLOOKUP(G64,questionario!$Q$47:$R$66,2,0)),\"\")","v":""},{"$f":"J63","v":2019},{"$f":"IF(G64=\"\",\"\",(IFERROR((INDEX(questionario!$A$23:$N$42,(MATCH((dados_exp!$G64&\"R$\"),questionario!$A$23:$A$42,0)),(MATCH(dados_exp!$J64,questionario!$A$22:$N$22,0)))),\"\")))","v":""},{"$f":"IF(G64=\"\",\"\",(IFERROR((INDEX(questionario!$Q$22:$AB$42,(MATCH(dados_exp!$G64,questionario!$Q$22:$Q$42,0)),(MATCH(dados_exp!$J64,questionario!$Q$22:$AB$22,0)))),\"\")))","v":""},{"$f":"IFERROR((INDEX(questionario!$B$47:$N$66,(MATCH((dados_exp!$G64&dados_exp!$H64),questionario!$B$47:$B$66,0)),(MATCH(dados_exp!$J64,questionario!$B$46:$N$46,0)))),\"\")","v":""},{"$f":"IFERROR((INDEX(questionario!$O$47:$AB$66,(MATCH((dados_exp!$G64&dados_exp!$I64),questionario!$O$47:$O$66,0)),(MATCH(dados_exp!$J64,questionario!$O$46:$AB$46,0)))),\"\")","v":""},"X",null,null,null,"X",null,null,null,"X",null,null,null,null,null,"X",null,null,null,"X"]
[{"$f":"IF(G65=\"\",\"\",(IF(questionario!$C$8=\"\",\"\",questionario!$C$8)))","v":""},{"$f":"IF(G65=\"\",\"\",(IF(questionario!$C$15=\"\",\"\",questionario!$C$15)))","v":""},{"$f":"IF(G65=\"\",\"\",(IF(questionario!$L$8=\"\",\"\",questionario!$L$8)))","v":""},{"$f":"IF(C65=\"\",\"\",(IF(questionario!$L$11=\"\",\"\",questionario!$L$11)))","v":""},"X","Babaçu2019",{"$f":"IF(aux_cadastros!$A$5=\"\",\"\",aux_cadastros!$A$5)","v":"Babaçu"},{"$f":"IFERROR((VLOOKUP(G65,questionario!$C$47:$D$66,2,0)),\"\")","v":""},{"$f":"IFERROR((VLOOKUP(G65,questionario!$Q$47:$R$66,2,0)),\"\")","v":""},2019,{"$f":"IF(G65=\"\",\"\",(IFERROR((INDEX(questionario!$A$23:$N$42,(MATCH((dados_exp!$G65&\"R$\"),questionario!$A$23:$A$42,0)),(MATCH(dados_exp!$J65,questionario!$A$22:$N$22,0)))),\"\")))","v":""},{"$f":"IF(G65=\"\",\"\",(IFERROR((INDEX(questionario!$Q$22:$AB$42,(MATCH(dados_exp!$G65,questionario!$Q$22:$Q$42,0)),(MATCH(dados_exp!$J65,questionario!$Q$22:$AB$22,0)))),\"\")))","v":""},{"$f":"IFERROR((INDEX(questionario!$B$47:$N$66,(MATCH((dados_exp!$G65&dados_exp!$H65),questionario!$B$47:$B$66,0)),(MATCH(dados_exp!$J65,questionario!$B$46:$N$46,0)))),\"\")","v":""},{"$f":"IFERROR((INDEX(questionario!$O$47:$AB$66,(MATCH((dados_exp!$G65&dados_exp!$I65),questionario!$O$47:$O$66,0)),(MATCH(dados_exp!$J65,questionario!$O$46:$AB$46,0)))),\"\")","v":""},"X",null,null,null,"X",null,null,null,"X",null,null,null,null,null,"X",null,null,null,"X"]
[{"$f":"IF(G66=\"\",\"\",(IF(questionario!$C$8=\"\",\"\",questionario!$C$8)))","v":""},{"$f":"IF(G66=\"\",\"\",(IF(questionario!$C$15=\"\",\"\",questionario!$C$15)))","v":""},{"$f":"IF(G66=\"\",\"\",(IF(questionario!$L$8=\"\",\"\",questionario!$L$8)))","v":""},{"$f":"IF(C66=\"\",\"\",(IF(questionario!$L$11=\"\",\"\",questionario!$L$11)))","v":""},"X","Borrachas2019",{"$f":"IF(aux_cadastros!$A$6=\"\",\"\",aux_cadastros!$A$6)","v":"Borrachas"},{"$f":"IFERROR((VLOOKUP(G66,questionario!$C$47:$D$66,2,0)),\"\")","v":""},{"$f":"IFERROR((VLOOKUP(G66,questionario!$Q$47:$R$66,2,0)),\"\")","v":""},2019,{"$f":"IF(G66=\"\",\"\",(IFERROR((INDEX(questionario!$A$23:$N$42,(MATCH((dados_exp!$G66&\"R$\"),questionario!$A$23:$A$42,0)),(MATCH(dados_exp!$J66,questionario!$A$22:$N$22,0)))),\"\")))","v":""},{"$f":"IF(G66=\"\",\"\",(IFERROR((INDEX(questionario!$Q$22:$AB$42,(MATCH(dados_exp!$G66,questionario!$Q$22:$Q$42,0)),(MATCH(dados_exp!$J66,questionario!$Q$22:$AB$22,0)))),\"\")))","v":""},{"$f":"IFERROR((INDEX(questionario!$B$47:$N$66,(MATCH((dados_exp!$G66&dados_exp!$H66),questionario!$B$47:$B$66,0)),(MATCH(dados_exp!$J66,questionario!$B$46:$N$46,0)))),\"\")","v":""},{"$f":"IFERROR((INDEX(questionario!$O$47:$AB$66,(MATCH((dados_exp!$G66&dados_exp!$I66),questionario!$O$47:$O$66,0)),(MATCH(dados_exp!$J66,questionario!$O$46:$AB$46,0)))),\"\")","v":""},"X",null,null,null,"X",null,null,null,"X",null,null,null,null,null,"X",null,null,null,"X"]
[{"$f":"IF(G67=\"\",\"\",(IF(questionario!$C$8=\"\",\"\",questionario!$C$8)))","v":""},{"$f":"IF(G67=\"\",\"\",(IF(questionario!$C$15=\"\",\"\",questionario!$C$15)))","v":""},{"$f":"IF(G67=\"\",\"\",(IF(questionario!$L$8=\"\",\"\",questionario!$L$8)))","v":""},{"$f":"IF(C67=\"\",\"\",(IF(questionario!$L$11=\"\",\"\",questionario!$L$11)))","v":""},"X",{"$f":"G67&J67","v":"Cacau2019"},{"$f":"IF(aux_cadastros!$A$7=\"\",\"\",aux_cadastros!$A$7)","v":"Cacau"},{"$f":"IFERROR((VLOOKUP(G67,questionario!$C$47:$D$66,2,0)),\"\")","v":""},{"$f":"IFERROR((VLOOKUP(G67,questionario!$Q$47:$R$66,2,0)),\"\")","v":""},2019,{"$f":"IF(G67=\"\",\"\",(IFERROR((INDEX(questionario!$A$23:$N$42,(MATCH((dados_exp!$G67&\"R$\"),questionario!$A$23:$A$42,0)),(MATCH(dados_exp!$J67,questionario!$A$22:$N$22,0)))),\"\")))","v":""},{"$f":"IF(G67=\"\",\"\",(IFERROR((INDEX(questionario!$Q$22:$AB$42,(MATCH(dados_exp!$G67,questionario!$Q$22:$Q$42,0)),(MATCH(dados_exp!$J67,questionario!$Q$22:$AB$22,0)))),\"\")))","v":""},{"$f":"IFERROR((INDEX(questionario!$B$47:$N$66,(MATCH((dados_exp!$G67&dados_exp!$H67),questionario!$B$47:$B$66,0)),(MATCH(dados_exp!$J67,questionario!$B$46:$N$46,0)))),\"\")","v":""},{"$f":"IFERROR((INDEX(questionario!$O$47:$AB$66,(MATCH((dados_exp!$G67&dados_exp!$I67),questionario!$O$47:$O$66,0)),(MATCH(dados_exp!$J67,questionario!$O$46:$AB$46,0)))),\"\")","v":""},"X",null,null,null,"X",null,null,null,"X",null,null,null,null,null,"X",null,null,null,"X"]
[{"$f":"IF(G68=\"\",\"\",(IF(questionario!$C$8=\"\",\"\",questionario!$C$8)))","v":""},{"$f":"IF(G68=\"\",\"\",(IF(questionario!$C$15=\"\",\"\",questionario!$C$15)))","v":""},{"$f":"IF(G68=\"\",\"\",(IF(questionario!$L$8=\"\",\"\",questionario!$L$8)))","v":""},{"$f":"IF(C68=\"\",\"\",(IF(questionario!$L$11=\"\",\"\",questionario!$L$11)))","v":""},"X","Castanha2019",{"$f":"IF(aux_cadastros!$A$8=\"\",\"\",aux_cadastros!$A$8)","v":"Castanha"},{"$f":"IFERROR((VLOOKUP(G68,questionario!$C$47:$D$66,2,0)),\"\")","v":""},{"$f":"IFERROR((VLOOKUP(G68,questionario!$Q$47:$R$66,2,0)),\"\")","v":""},2019,{"$f":"IF(G68=\"\",\"\",(IFERROR((INDEX(questionario!$A$23:$N$42,(MATCH((dados_exp!$G68&\"R$\"),questionario!$A$23:$A$42,0)),(MATCH(dados_exp!$J68,questionario!$A$22:$N$22,0)))),\"\")))","v":""},{"$f":"IF(G68=\"\",\"\",(IFERROR((INDEX(questionario!$Q$22:$AB$42,(MATCH(dados_exp!$G68,questionario!$Q$22:$Q$42,0)),(MATCH(dados_exp!$J68,questionario!$Q$22:$AB$22,0)))),\"\")))","v":""},{"$f":"IFERROR((INDEX(questionario!$B$47:$N$66,(MATCH((dados_exp!$G68&dados_exp!$H68),questionario!$B$47:$B$66,0)),(MATCH(dados_exp!$J68,questionario!$B$46:$N$46,0)))),\"\")","v":""},{"$f":"IFERROR((INDEX(questionario!$O$47:$AB$66,(MATCH((dados_exp!$G68&dados_exp!$I68),questionario!$O$47:$O$66,0)),(MATCH(dados_exp!$J68,questionario!$O$46:$AB$46,0)))),\"\")","v":""},"X",null,null,null,"X",null,null,null,"X",null,null,null,null,null,"X",null,null,null,"X"]
[{"$f":"IF(G69=\"\",\"\",(IF(questionario!$C$8=\"\",\"\",questionario!$C$8)))","v":""},{"$f":"IF(G69=\"\",\"\",(IF(questionario!$C$15=\"\",\"\",questionario!$C$15)))","v":""},{"$f":"IF(G69=\"\",\"\",(IF(questionario!$L$8=\"\",\"\",questionario!$L$8)))","v":""},{"$f":"IF(C69=\"\",\"\",(IF(questionario!$L$11=\"\",\"\",questionario!$L$11)))","v":""},"X","Copaíba2019",{"$f":"IF(aux_cadastros!$A$9=\"\",\"\",aux_cadastros!$A$9)","v":"Copaíba"},{"$f":"IFERROR((VLOOKUP(G69,questionario!$C$47:$D$66,2,0)),\"\")","v":""},{"$f":"IFERROR((VLOOKUP(G69,questionario!$Q$47:$R$66,2,0)),\"\")","v":""},2019,{"$f":"IF(G69=\"\",\"\",(IFERROR((INDEX(questionario!$A$23:$N$42,(MATCH((dados_exp!$G69&\"R$\"),questionario!$A$23:$A$42,0)),(MATCH(dados_exp!$J69,questionario!$A$22:$N$22,0)))),\"\")))","v":""},{"$f":"IF(G69=\"\",\"\",(IFERROR((INDEX(questionario!$Q$22:$AB$42,(MATCH(dados_exp!$G69,questionario!$Q$22:$Q$42,0)),(MATCH(dados_exp!$J69,questionario!$Q$22:$AB$22,0)))),\"\")))","v":""},{"$f":"IFERROR((INDEX(questionario!$B$47:$N$66,(MATCH((dados_exp!$G69&dados_exp!$H69),questionario!$B$47:$B$66,0)),(MATCH(dados_exp!$J69,questionario!$B$46:$N$46,0)))),\"\")","v":""},{"$f":"IFERROR((INDEX(questionario!$O$47:$AB$66,(MATCH((dados_exp!$G69&dados_exp!$I69),questionario!$O$47:$O$66,0)),(MATCH(dados_exp!$J69,questionario!$O$46:$AB$46,0)))),\"\")","v":""},"X",null,null,null,"X",null,null,null,"X",null,null,null,null,null,"X",null,null,null,"X"]
[{"$f":"IF(G70=\"\",\"\",(IF(questionario!$C$8=\"\",\"\",questionario!$C$8)))","v":""},{"$f":"IF(G70=\"\",\"\",(IF(questionario!$C$15=\"\",\"\",questionario!$C$15)))","v":""},{"$f":"IF(G70=\"\",\"\",(IF(questionario!$L$8=\"\",\"\",questionario!$L$8)))","v":""},{"$f":"IF(C70=\"\",\"\",(IF(questionario!$L$11=\"\",\"\",questionario!$L$11)))","v":""},"X","Fibras2019",{"$f":"IF(aux_cadastros!$A$10=\"\",\"\",aux_cadastros!$A$10)","v":"Fibras"},{"$f":"IFERROR((VLOOKUP(G70,questionario!$C$47:$D$66,2,0)),\"\")","v":""},{"$f":"IFERROR((VLOOKUP(G70,questionario!$Q$47:$R$66,2,0)),\"\")","v":""},2019,{"$f":"IF(G70=\"\",\"\",(IFERROR((INDEX(questionario!$A$23:$N$42,(MATCH((dados_exp!$G70&\"R$\"),questionario!$A$23:$A$42,0)),(MATCH(dados_exp!$J70,questionario!$A$22:$N$22,0)))),\"\")))","v":""},{"$f":"IF(G70=\"\",\"\",(IFERROR((INDEX(questionario!$Q$22:$AB$42,(MATCH(dados_exp!$G70,questionario!$Q$22:$Q$42,0)),(MATCH(dados_exp!$J70,questionario!$Q$22:$AB$22,0)))),\"\")))","v":""},{"$f":"IFERROR((INDEX(questionario!$B$47:$N$66,(MATCH((dados_exp!$G70&dados_exp!$H70),questionario!$B$47:$B$66,0)),(MATCH(dados_exp!$J70,questionario!$B$46:$N$46,0)))),\"\")","v":""},{"$f":"IFERROR((INDEX(questionario!$O$47:$AB$66,(MATCH((dados_exp!$G70&dados_exp!$I70),questionario!$O$47:$O$66,0)),(MATCH(dados_exp!$J70,questionario!$O$46:$AB$46,0)))),\"\")","v":""},"X",null,null,null,"X",null,null,null,"X",null,null,null,null,null,"X",null,null,null,"X"]
[{"$f":"IF(G71=\"\",\"\",(IF(questionario!$C$8=\"\",\"\",questionario!$C$8)))","v":""},{"$f":"IF(G71=\"\",\"\",(IF(questionario!$C$15=\"\",\"\",questionario!$C$15)))","v":""},{"$f":"IF(G71=\"\",\"\",(IF(questionario!$L$8=\"\",\"\",questionario!$L$8)))","v":""},{"$f":"IF(C71=\"\",\"\",(IF(questionario!$L$11=\"\",\"\",questionario!$L$11)))","v":""},"X","Guaraná2019",{"$f":"IF(aux_cadastros!$A$11=\"\",\"\",aux_cadastros!$A$11)","v":"Guaraná"},{"$f":"IFERROR((VLOOKUP(G71,questionario!$C$47:$D$66,2,0)),\"\")","v":""},{"$f":"IFERROR((VLOOKUP(G71,questionario!$Q$47:$R$66,2,0)),\"\")","v":""},2019,{"$f":"IF(G71=\"\",\"\",(IFERROR((INDEX(questionario!$A$23:$N$42,(MATCH((dados_exp!$G71&\"R$\"),questionario!$A$23:$A$42,0)),(MATCH(dados_exp!$J71,questionario!$A$22:$N$22,0)))),\"\")))","v":""},{"$f":"IF(G71=\"\",\"\",(IFERROR((INDEX(questionario!$Q$22:$AB$42,(MATCH(dados_exp!$G71,questionario!$Q$22:$Q$42,0)),(MATCH(dados_exp!$J71,questionario!$Q$22:$AB$22,0)))),\"\")))","v":""},{"$f":"IFERROR((INDEX(questionario!$B$47:$N$66,(MATCH((dados_exp!$G71&dados_exp!$H71),questionario!$B$47:$B$66,0)),(MATCH(dados_exp!$J71,questionario!$B$46:$N$46,0)))),\"\")","v":""},{"$f":"IFERROR((INDEX(questionario!$O$47:$AB$66,(MATCH((dados_exp!$G71&dados_exp!$I71),questionario!$O$47:$O$66,0)),(MATCH(dados_exp!$J71,questionario!$O$46:$AB$46,0)))),\"\")","v":""},"X",null,null,null,"X",null,null,null,"X",null,null,null,null,null,"X",null,null,null,"X"]
[{"$f":"IF(G72=\"\",\"\",(IF(questionario!$C$8=\"\",\"\",questionario!$C$8)))","v":""},{"$f":"IF(G72=\"\",\"\",(IF(questionario!$C$15=\"\",\"\",questionario!$C$15)))","v":""},{"$f":"IF(G72=\"\",\"\",(IF(questionario!$L$8=\"\",\"\",questionario!$L$8)))","v":""},{"$f":"IF(C72=\"\",\"\",(IF(questionario!$L$11=\"\",\"\",questionario!$L$11)))","v":""},"X","Madeira2019",{"$f":"IF(aux_cadastros!$A$12=\"\",\"\",aux_cadastros!$A$12)","v":"Madeira"},{"$f":"IFERROR((VLOOKUP(G72,questionario!$C$47:$D$66,2,0)),\"\")","v":""},{"$f":"IFERROR((VLOOKUP(G72,questionario!$Q$47:$R$66,2,0)),\"\")","v":""},2019,{"$f":"IF(G72=\"\",\"\",(IFERROR((INDEX(questionario!$A$23:$N$42,(MATCH((dados_exp!$G72&\"R$\"),questionario!$A$23:$A$42,0)),(MATCH(dados_exp!$J72,questionario!$A$22:$N$22,0)))),\"\")))","v":""},{"$f":"IF(G72=\"\",\"\",(IFERROR((INDEX(questionario!$Q$22:$AB$42,(MATCH(dados_exp!$G72,questionario!$Q$22:$Q$42,0)),(MATCH(dados_exp!$J72,questionario!$Q$22:$AB$22,0)))),\"\")))","v":""},{"$f":"IFERROR((INDEX(questionario!$B$47:$N$66,(MATCH((dados_exp!$G72&dados_exp!$H72),questionario!$B$47:$B$66,0)),(MATCH(dados_exp!$J72,questionario!$B$46:$N$46,0)))),\"\")","v":""},{"$f":"IFERROR((INDEX(questionario!$O$47:$AB$66,(MATCH((dados_exp!$G72&dados_exp!$I72),questionario!$O$47:$O$66,0)),(MATCH(dados_exp!$J72,questionario!$O$46:$AB$46,0)))),\"\")","v":""},"X",null,null,null,"X",null,null,null,"X",null,null,null,null,null,"X",null,null,null,"X"]
[{"$f":"IF(G73=\"\",\"\",(IF(questionario!$C$8=\"\",\"\",questionario!$C$8)))","v":""},{"$f":"IF(G73=\"\",\"\",(IF(questionario!$C$15=\"\",\"\",questionario!$C$15)))","v":""},{"$f":"IF(G73=\"\",\"\",(IF(questionario!$L$8=\"\",\"\",questionario!$L$8)))","v":""},{"$f":"IF(C73=\"\",\"\",(IF(questionario!$L$11=\"\",\"\",questionario!$L$11)))","v":""},"X","Mel2019",{"$f":"IF(aux_cadastros!$A$13=\"\",\"\",aux_cadastros!$A$13)","v":"Mel"},{"$f":"IFERROR((VLOOKUP(G73,questionario!$C$47:$D$66,2,0)),\"\")","v":""},{"$f":"IFERROR((VLOOKUP(G73,questionario!$Q$47:$R$66,2,0)),\"\")","v":""},2019,{"$f":"IF(G73=\"\",\"\",(IFERROR((INDEX(questionario!$A$23:$N$42,(MATCH((dados_exp!$G73&\"R$\"),questionario!$A$23:$A$42,0)),(MATCH(dados_exp!$J73,questionario!$A$22:$N$22,0)))),\"\")))","v":""},{"$f":"IF(G73=\"\",\"\",(IFERROR((INDEX(questionario!$Q$22:$AB$42,(MATCH(dados_exp!$G73,questionario!$Q$22:$Q$42,0)),(MATCH(dados_exp!$J73,questionario!$Q$22:$AB$22,0)))),\"\")))","v":""},{"$f":"IFERROR((INDEX(questionario!$B$47:$N$66,(MATCH((dados_exp!$G73&dados_exp!$H73),questionario!$B$47:$B$66,0)),(MATCH(dados_exp!$J73,questionario!$B$46:$N$46,0)))),\"\")","v":""},{"$f":"IFERROR((INDEX(questionario!$O$47:$AB$66,(MATCH((dados_exp!$G73&dados_exp!$I73),questionario!$O$47:$O$66,0)),(MATCH(dados_exp!$J73,questionario!$O$46:$AB$46,0)))),\"\")","v":""},"X",null,null,null,"X",null,null,null,"X",null,null,null,null,null,"X",null,null,null,"X"]
[{"$f":"IF(G74=\"\",\"\",(IF(questionario!$C$8=\"\",\"\",questionario!$C$8)))","v":""},{"$f":"IF(G74=\"\",\"\",(IF(questionario!$C$15=\"\",\"\",questionario!$C$15)))","v":""},{"$f":"IF(G74=\"\",\"\",(IF(questionario!$L$8=\"\",\"\",questionario!$L$8)))","v":""},{"$f":"IF(C74=\"\",\"\",(IF(questionario!$L$11=\"\",\"\",questionario!$L$11)))","v":""},"X","Oleaginosas2019",{"$f":"IF(aux_cadastros!$A$14=\"\",\"\",aux_cadastros!$A$14)","v":"Oleaginosas"},{"$f":"IFERROR((VLOOKUP(G74,questionario!$C$47:$D$66,2,0)),\"\")","v":""},{"$f":"IFERROR((VLOOKUP(G74,questionario!$Q$47:$R$66,2,0)),\"\")","v":""},2019,{"$f":"IF(G74=\"\",\"\",(IFERROR((INDEX(questionario!$A$23:$N$42,(MATCH((dados_exp!$G74&\"R$\"),questionario!$A$23:$A$42,0)),(MATCH(dados_exp!$J74,questionario!$A$22:$N$22,0)))),\"\")))","v":""},{"$f":"IF(G74=\"\",\"\",(IFERROR((INDEX(questionario!$Q$22:$AB$42,(MATCH(dados_exp!$G74,questionario!$Q$22:$Q$42,0)),(MATCH(dados_exp!$J74,questionario!$Q$22:$AB$22,0)))),\"\")))","v":""},{"$f":"IFERROR((INDEX(questionario!$B$47:$N$66,(MATCH((dados_exp!$G74&dados_exp!$H74),questionario!$B$47:$B$66,0)),(MATCH(dados_exp!$J74,questionario!$B$46:$N$46,0)))),\"\")","v":""},{"$f":"IFERROR((INDEX(questionario!$O$47:$AB$66,(MATCH((dados_exp!$G74&dados_exp!$I74),questionario!$O$47:$O$66,0)),(MATCH(dados_exp!$J74,questionario!$O$46:$AB$46,0)))),\"\")","v":""},"X",null,null,null,"X",null,null,null,"X",null,null,null,null,null,"X",null,null,null,"X"]
[{"$f":"IF(G75=\"\",\"\",(IF(questionario!$C$8=\"\",\"\",questionario!$C$8)))","v":""},{"$f":"IF(G75=\"\",\"\",(IF(questionario!$C$15=\"\",\"\",questionario!$C$15)))","v":""},{"$f":"IF(G75=\"\",\"\",(IF(questionario!$L$8=\"\",\"\",questionario!$L$8)))","v":""},{"$f":"IF(C75=\"\",\"\",(IF(questionario!$L$11=\"\",\"\",questionario!$L$11)))","v":""},"X","Óleos2019",{"$f":"IF(aux_cadastros!$A$15=\"\",\"\",aux_cadastros!$A$15)","v":"Óleos"},{"$f":"IFERROR((VLOOKUP(G75,questionario!$C$47:$D$66,2,0)),\"\")","v":""},{"$f":"IFERROR((VLOOKUP(G75,questionario!$Q$47:$R$66,2,0)),\"\")","v":""},2019,{"$f":"IF(G75=\"\",\"\",(IFERROR((INDEX(questionario!$A$23:$N$42,(MATCH((dados_exp!$G75&\"R$\"),questionario!$A$23:$A$42,0)),(MATCH(dados_exp!$J75,questionario!$A$22:$N$22,0)))),\"\")))","v":""},{"$f":"IF(G75=\"\",\"\",(IFERROR((INDEX(questionario!$Q$22:$AB$42,(MATCH(dados_exp!$G75,questionario!$Q$22:$Q$42,0)),(MATCH(dados_exp!$J75,questionario!$Q$22:$AB$22,0)))),\"\")))","v":""},{"$f":"IFERROR((INDEX(questionario!$B$47:$N$66,(MATCH((dados_exp!$G75&dados_exp!$H75),questionario!$B$47:$B$66,0)),(MATCH(dados_exp!$J75,questionario!$B$46:$N$46,0)))),\"\")","v":""},{"$f":"IFERROR((INDEX(questionario!$O$47:$AB$66,(MATCH((dados_exp!$G75&dados_exp!$I75),questionario!$O$47:$O$66,0)),(MATCH(dados_exp!$J75,questionario!$O$46:$AB$46,0)))),\"\")","v":""},"X",null,null,null,"X",null,null,null,"X",null,null,null,null,null,"X",null,null,null,"X"]
[{"$f":"IF(G76=\"\",\"\",(IF(questionario!$C$8=\"\",\"\",questionario!$C$8)))","v":""},{"$f":"IF(G76=\"\",\"\",(IF(questionario!$C$15=\"\",\"\",questionario!$C$15)))","v":""},{"$f":"IF(G76=\"\",\"\",(IF(questionario!$L$8=\"\",\"\",questionario!$L$8)))","v":""},{"$f":"IF(C76=\"\",\"\",(IF(questionario!$L$11=\"\",\"\",questionario!$L$11)))","v":""},"X","Pescado2019",{"$f":"IF(aux_cadastros!$A$16=\"\",\"\",aux_cadastros!$A$16)","v":"Pescado"},{"$f":"IFERROR((VLOOKUP(G76,questionario!$C$47:$D$66,2,0)),\"\")","v":""},{"$f":"IFERROR((VLOOKUP(G76,questionario!$Q$47:$R$66,2,0)),\"\")","v":""},2019,{"$f":"IF(G76=\"\",\"\",(IFERROR((INDEX(questionario!$A$23:$N$42,(MATCH((dados_exp!$G76&\"R$\"),questionario!$A$23:$A$42,0)),(MATCH(dados_exp!$J76,questionario!$A$22:$N$22,0)))),\"\")))","v":""},{"$f":"IF(G76=\"\",\"\",(IFERROR((INDEX(questionario!$Q$22:$AB$42,(MATCH(dados_exp!$G76,questionario!$Q$22:$Q$42,0)),(MATCH(dados_exp!$J76,questionario!$Q$22:$AB$22,0)))),\"\")))","v":""},{"$f":"IFERROR((INDEX(questionario!$B$47:$N$66,(MATCH((dados_exp!$G76&dados_exp!$H76),questionario!$B$47:$B$66,0)),(MATCH(dados_exp!$J76,questionario!$B$46:$N$46,0)))),\"\")","v":""},{"$f":"IFERROR((INDEX(questionario!$O$47:$AB$66,(MATCH((dados_exp!$G76&dados_exp!$I76),questionario!$O$47:$O$66,0)),(MATCH(dados_exp!$J76,questionario!$O$46:$AB$46,0)))),\"\")","v":""},"X",null,null,null,"X",null,null,null,"X",null,null,null,null,null,"X",null,null,null,"X"]
[{"$f":"IF(G77=\"\",\"\",(IF(questionario!$C$8=\"\",\"\",questionario!$C$8)))","v":""},{"$f":"IF(G77=\"\",\"\",(IF(questionario!$C$15=\"\",\"\",questionario!$C$15)))","v":""},{"$f":"IF(G77=\"\",\"\",(IF(questionario!$L$8=\"\",\"\",questionario!$L$8)))","v":""},{"$f":"IF(C77=\"\",\"\",(IF(questionario!$L$11=\"\",\"\",questionario!$L$11)))","v":""},"X","Turismo2019",{"$f":"IF(aux_cadastros!$A$17=\"\",\"\",aux_cadastros!$A$17)","v":"Turismo"},{"$f":"IFERROR((VLOOKUP(G77,questionario!$C$47:$D$66,2,0)),\"\")","v":""},{"$f":"IFERROR((VLOOKUP(G77,questionario!$Q$47:$R$66,2,0)),\"\")","v":""},2019,{"$f":"IF(G77=\"\",\"\",(IFERROR((INDEX(questionario!$A$23:$N$42,(MATCH((dados_exp!$G77&\"R$\"),questionario!$A$23:$A$42,0)),(MATCH(dados_exp!$J77,questionario!$A$22:$N$22,0)))),\"\")))","v":""},{"$f":"IF(G77=\"\",\"\",(IFERROR((INDEX(questionario!$Q$22:$AB$42,(MATCH(dados_exp!$G77,questionario!$Q$22:$Q$42,0)),(MATCH(dados_exp!$J77,questionario!$Q$22:$AB$22,0)))),\"\")))","v":""},{"$f":"IFERROR((INDEX(questionario!$B$47:$N$66,(MATCH((dados_exp!$G77&dados_exp!$H77),questionario!$B$47:$B$66,0)),(MATCH(dados_exp!$J77,questionario!$B$46:$N$46,0)))),\"\")","v":""},{"$f":"IFERROR((INDEX(questionario!$O$47:$AB$66,(MATCH((dados_exp!$G77&dados_exp!$I77),questionario!$O$47:$O$66,0)),(MATCH(dados_exp!$J77,questionario!$O$46:$AB$46,0)))),\"\")","v":""},"X",null,null,null,"X",null,null,null,"X",null,null,null,null,null,"X",null,null,null,"X"]
[{"$f":"IF(G78=\"\",\"\",(IF(questionario!$C$8=\"\",\"\",questionario!$C$8)))","v":""},{"$f":"IF(G78=\"\",\"\",(IF(questionario!$C$15=\"\",\"\",questionario!$C$15)))","v":""},{"$f":"IF(G78=\"\",\"\",(IF(questionario!$L$8=\"\",\"\",questionario!$L$8)))","v":""},{"$f":"IF(C78=\"\",\"\",(IF(questionario!$L$11=\"\",\"\",questionario!$L$11)))","v":""},"X","Agricultura de base familiar2019",{"$f":"IF(aux_cadastros!$A$18=\"\",\"\",aux_cadastros!$A$18)","v":"Agricultura de base familiar"},{"$f":"IFERROR((VLOOKUP(G78,questionario!$C$47:$D$66,2,0)),\"\")","v":""},{"$f":"IFERROR((VLOOKUP(G78,questionario!$Q$47:$R$66,2,0)),\"\")","v":""},2019,{"$f":"IF(G78=\"\",\"\",(IFERROR((INDEX(questionario!$A$23:$N$42,(MATCH((dados_exp!$G78&\"R$\"),questionario!$A$23:$A$42,0)),(MATCH(dados_exp!$J78,questionario!$A$22:$N$22,0)))),\"\")))","v":""},{"$f":"IF(G78=\"\",\"\",(IFERROR((INDEX(questionario!$Q$22:$AB$42,(MATCH(dados_exp!$G78,questionario!$Q$22:$Q$42,0)),(MATCH(dados_exp!$J78,questionario!$Q$22:$AB$22,0)))),\"\")))","v":""},{"$f":"IFERROR((INDEX(questionario!$B$47:$N$66,(MATCH((dados_exp!$G78&dados_exp!$H78),questionario!$B$47:$B$66,0)),(MATCH(dados_exp!$J78,questionario!$B$46:$N$46,0)))),\"\")","v":""},{"$f":"IFERROR((INDEX(questionario!$O$47:$AB$66,(MATCH((dados_exp!$G78&dados_exp!$I78),questionario!$O$47:$O$66,0)),(MATCH(dados_exp!$J78,questionario!$O$46:$AB$46,0)))),\"\")","v":""},"X",null,null,null,"X",null,null,null,"X",null,null,null,null,null,"X",null,null,null,"X"]
[{"$f":"IF(G79=\"\",\"\",(IF(questionario!$C$8=\"\",\"\",questionario!$C$8)))","v":""},{"$f":"IF(G79=\"\",\"\",(IF(questionario!$C$15=\"\",\"\",questionario!$C$15)))","v":""},{"$f":"IF(G79=\"\",\"\",(IF(questionario!$L$8=\"\",\"\",questionario!$L$8)))","v":""},{"$f":"IF(C79=\"\",\"\",(IF(questionario!$L$11=\"\",\"\",questionario!$L$11)))","v":""},"X","Pirarucu2019",{"$f":"IF(aux_cadastros!$A$19=\"\",\"\",aux_cadastros!$A$19)","v":"Pirarucu"},{"$f":"IFERROR((VLOOKUP(G79,questionario!$C$47:$D$66,2,0)),\"\")","v":""},{"$f":"IFERROR((VLOOKUP(G79,questionario!$Q$47:$R$66,2,0)),\"\")","v":""},2019,{"$f":"IF(G79=\"\",\"\",(IFERROR((INDEX(questionario!$A$23:$N$42,(MATCH((dados_exp!$G79&\"R$\"),questionario!$A$23:$A$42,0)),(MATCH(dados_exp!$J79,questionario!$A$22:$N$22,0)))),\"\")))","v":""},{"$f":"IF(G79=\"\",\"\",(IFERROR((INDEX(questionario!$Q$22:$AB$42,(MATCH(dados_exp!$G79,questionario!$Q$22:$Q$42,0)),(MATCH(dados_exp!$J79,questionario!$Q$22:$AB$22,0)))),\"\")))","v":""},{"$f":"IFERROR((INDEX(questionario!$B$47:$N$66,(MATCH((dados_exp!$G79&dados_exp!$H79),questionario!$B$47:$B$66,0)),(MATCH(dados_exp!$J79,questionario!$B$46:$N$46,0)))),\"\")","v":""},{"$f":"IFERROR((INDEX(questionario!$O$47:$AB$66,(MATCH((dados_exp!$G79&dados_exp!$I79),questionario!$O$47:$O$66,0)),(MATCH(dados_exp!$J79,questionario!$O$46:$AB$46,0)))),\"\")","v":""},"X",null,null,null,"X",null,null,null,"X",null,null,null,null,null,"X",null,null,null,"X"]
[{"$f":"IF(G80=\"\",\"\",(IF(questionario!$C$8=\"\",\"\",questionario!$C$8)))","v":""},{"$f":"IF(G80=\"\",\"\",(IF(questionario!$C$15=\"\",\"\",questionario!$C$15)))","v":""},{"$f":"IF(G80=\"\",\"\",(IF(questionario!$L$8=\"\",\"\",questionario!$L$8)))","v":""},{"$f":"IF(C80=\"\",\"\",(IF(questionario!$L$11=\"\",\"\",questionario!$L$11)))","v":""},"X","Bacalhau de Pirarucu2019",{"$f":"IF(aux_cadastros!$A$20=\"\",\"\",aux_cadastros!$A$20)","v":"Bacalhau de Pirarucu"},{"$f":"IFERROR((VLOOKUP(G80,questionario!$C$47:$D$66,2,0)),\"\")","v":""},{"$f":"IFERROR((VLOOKUP(G80,questionario!$Q$47:$R$66,2,0)),\"\")","v":""},2019,{"$f":"IF(G80=\"\",\"\",(IFERROR((INDEX(questionario!$A$23:$N$42,(MATCH((dados_exp!$G80&\"R$\"),questionario!$A$23:$A$42,0)),(MATCH(dados_exp!$J80,questionario!$A$22:$N$22,0)))),\"\")))","v":""},{"$f":"IF(G80=\"\",\"\",(IFERROR((INDEX(questionario!$Q$22:$AB$42,(MATCH(dados_exp!$G80,questionario!$Q$22:$Q$42,0)),(MATCH(dados_exp!$J80,questionario!$Q$22:$AB$22,0)))),\"\")))","v":""},{"$f":"IFERROR((INDEX(questionario!$B$47:$N$66,(MATCH((dados_exp!$G80&dados_exp!$H80),questionario!$B$47:$B$66,0)),(MATCH(dados_exp!$J80,questionario!$B$46:$N$46,0)))),\"\")","v":""},{"$f":"IFERROR((INDEX(questionario!$O$47:$AB$66,(MATCH((dados_exp!$G80&dados_exp!$I80),questionario!$O$47:$O$66,0)),(MATCH(dados_exp!$J80,questionario!$O$46:$AB$46,0)))),\"\")","v":""},"X",null,null,null,"X",null,null,null,"X",null,null,null,null,null,"X",null,null,null,"X"]
[{"$f":"IF(G81=\"\",\"\",(IF(questionario!$C$8=\"\",\"\",questionario!$C$8)))","v":""},{"$f":"IF(G81=\"\",\"\",(IF(questionario!$C$15=\"\",\"\",questionario!$C$15)))","v":""},{"$f":"IF(G81=\"\",\"\",(IF(questionario!$L$8=\"\",\"\",questionario!$L$8)))","v":""},{"$f":"IF(C81=\"\",\"\",(IF(questionario!$L$11=\"\",\"\",questionario!$L$11)))","v":""},"X","2019",{"$f":"IF(aux_cadastros!$A$21=\"\",\"\",aux_cadastros!$A$21)","v":""},{"$f":"IFERROR((VLOOKUP(G81,questionario!$C$47:$D$66,2,0)),\"\")","v":""},{"$f":"IFERROR((VLOOKUP(G81,questionario!$Q$47:$R$66,2,0)),\"\")","v":""},2019,{"$f":"IF(G81=\"\",\"\",(IFERROR((INDEX(questionario!$A$23:$N$42,(MATCH((dados_exp!$G81&\"R$\"),questionario!$A$23:$A$42,0)),(MATCH(dados_exp!$J81,questionario!$A$22:$N$22,0)))),\"\")))","v":""},{"$f":"IF(G81=\"\",\"\",(IFERROR((INDEX(questionario!$Q$22:$AB$42,(MATCH(dados_exp!$G81,questionario!$Q$22:$Q$42,0)),(MATCH(dados_exp!$J81,questionario!$Q$22:$AB$22,0)))),\"\")))","v":""},{"$f":"IFERROR((INDEX(questionario!$B$47:$N$66,(MATCH((dados_exp!$G81&dados_exp!$H81),questionario!$B$47:$B$66,0)),(MATCH(dados_exp!$J81,questionario!$B$46:$N$46,0)))),\"\")","v":""},{"$f":"IFERROR((INDEX(questionario!$O$47:$AB$66,(MATCH((dados_exp!$G81&dados_exp!$I81),questionario!$O$47:$O$66,0)),(MATCH(dados_exp!$J81,questionario!$O$46:$AB$46,0)))),\"\")","v":""},"X",null,null,null,"X",null,null,null,"X",null,null,null,null,null,"X",null,null,null,"X"]
[{"$f":"IF(G82=\"\",\"\",(IF(questionario!$C$8=\"\",\"\",questionario!$C$8)))","v":""},{"$f":"IF(G82=\"\",\"\",(IF(questionario!$C$15=\"\",\"\",questionario!$C$15)))","v":""},{"$f":"IF(G82=\"\",\"\",(IF(questionario!$L$8=\"\",\"\",questionario!$L$8)))","v":""},{"$f":"IF(C82=\"\",\"\",(IF(questionario!$L$11=\"\",\"\",questionario!$L$11)))","v":""},"X","2019",{"$f":"IF(aux_cadastros!$A$22=\"\",\"\",aux_cadastros!$A$22)","v":""},{"$f":"IFERROR((VLOOKUP(G82,questionario!$C$47:$D$66,2,0)),\"\")","v":""},{"$f":"IFERROR((VLOOKUP(G82,questionario!$Q$47:$R$66,2,0)),\"\")","v":""},2019,{"$f":"IF(G82=\"\",\"\",(IFERROR((INDEX(questionario!$A$23:$N$42,(MATCH((dados_exp!$G82&\"R$\"),questionario!$A$23:$A$42,0)),(MATCH(dados_exp!$J82,questionario!$A$22:$N$22,0)))),\"\")))","v":""},{"$f":"IF(G82=\"\",\"\",(IFERROR((INDEX(questionario!$Q$22:$AB$42,(MATCH(dados_exp!$G82,questionario!$Q$22:$Q$42,0)),(MATCH(dados_exp!$J82,questionario!$Q$22:$AB$22,0)))),\"\")))","v":""},{"$f":"IFERROR((INDEX(questionario!$B$47:$N$66,(MATCH((dados_exp!$G82&dados_exp!$H82),questionario!$B$47:$B$66,0)),(MATCH(dados_exp!$J82,questionario!$B$46:$N$46,0)))),\"\")","v":""},{"$f":"IFERROR((INDEX(questionario!$O$47:$AB$66,(MATCH((dados_exp!$G82&dados_exp!$I82),questionario!$O$47:$O$66,0)),(MATCH(dados_exp!$J82,questionario!$O$46:$AB$46,0)))),\"\")","v":""},"X",null,null,null,"X",null,null,null,"X",null,null,null,null,null,"X",null,null,null,"X"]
[{"$f":"IF(G83=\"\",\"\",(IF(questionario!$C$8=\"\",\"\",questionario!$C$8)))","v":""},{"$f":"IF(G83=\"\",\"\",(IF(questionario!$C$15=\"\",\"\",questionario!$C$15)))","v":""},{"$f":"IF(G83=\"\",\"\",(IF(questionario!$L$8=\"\",\"\",questionario!$L$8)))","v":""},{"$f":"IF(C83=\"\",\"\",(IF(questionario!$L$11=\"\",\"\",questionario!$L$11)))","v":""},"X","2019",{"$f":"IF(aux_cadastros!$A$23=\"\",\"\",aux_cadastros!$A$23)","v":""},{"$f":"IFERROR((VLOOKUP(G83,questionario!$C$47:$D$66,2,0)),\"\")","v":""},{"$f":"IFERROR((VLOOKUP(G83,questionario!$Q$47:$R$66,2,0)),\"\")","v":""},2019,{"$f":"IF(G83=\"\",\"\",(IFERROR((INDEX(questionario!$A$23:$N$42,(MATCH((dados_exp!$G83&\"R$\"),questionario!$A$23:$A$42,0)),(MATCH(dados_exp!$J83,questionario!$A$22:$N$22,0)))),\"\")))","v":""},{"$f":"IF(G83=\"\",\"\",(IFERROR((INDEX(questionario!$Q$22:$AB$42,(MATCH(dados_exp!$G83,questionario!$Q$22:$Q$42,0)),(MATCH(dados_exp!$J83,questionario!$Q$22:$AB$22,0)))),\"\")))","v":""},{"$f":"IFERROR((INDEX(questionario!$B$47:$N$66,(MATCH((dados_exp!$G83&dados_exp!$H83),questionario!$B$47:$B$66,0)),(MATCH(dados_exp!$J83,questionario!$B$46:$N$46,0)))),\"\")","v":""},{"$f":"IFERROR((INDEX(questionario!$O$47:$AB$66,(MATCH((dados_exp!$G83&dados_exp!$I83),questionario!$O$47:$O$66,0)),(MATCH(dados_exp!$J83,questionario!$O$46:$AB$46,0)))),\"\")","v":""},"X",null,null,null,"X",null,null,null,"X",null,null,null,null,null,"X",null,null,null,"X"]
[{"$f":"IF(G84=\"\",\"\",(IF(questionario!$C$8=\"\",\"\",questionario!$C$8)))","v":""},{"$f":"IF(G84=\"\",\"\",(IF(questionario!$C$15=\"\",\"\",questionario!$C$15)))","v":""},{"$f":"IF(G84=\"\",\"\",(IF(questionario!$L$8=\"\",\"\",questionario!$L$8)))","v":""},{"$f":"IF(C84=\"\",\"\",(IF(questionario!$L$11=\"\",\"\",questionario!$L$11)))","v":""},"X","2019",{"$f":"IF(aux_cadastros!$A$24=\"\",\"\",aux_cadastros!$A$24)","v":""},{"$f":"IFERROR((VLOOKUP(G84,questionario!$C$47:$D$66,2,0)),\"\")","v":""},{"$f":"IFERROR((VLOOKUP(G84,questionario!$Q$47:$R$66,2,0)),\"\")","v":""},2019,{"$f":"IF(G84=\"\",\"\",(IFERROR((INDEX(questionario!$A$23:$N$42,(MATCH((dados_exp!$G84&\"R$\"),questionario!$A$23:$A$42,0)),(MATCH(dados_exp!$J84,questionario!$A$22:$N$22,0)))),\"\")))","v":""},{"$f":"IF(G84=\"\",\"\",(IFERROR((INDEX(questionario!$Q$22:$AB$42,(MATCH(dados_exp!$G84,questionario!$Q$22:$Q$42,0)),(MATCH(dados_exp!$J84,questionario!$Q$22:$AB$22,0)))),\"\")))","v":""},{"$f":"IFERROR((INDEX(questionario!$B$47:$N$66,(MATCH((dados_exp!$G84&dados_exp!$H84),questionario!$B$47:$B$66,0)),(MATCH(dados_exp!$J84,questionario!$B$46:$N$46,0)))),\"\")","v":""},{"$f":"IFERROR((INDEX(questionario!$O$47:$AB$66,(MATCH((dados_exp!$G84&dados_exp!$I84),questionario!$O$47:$O$66,0)),(MATCH(dados_exp!$J84,questionario!$O$46:$AB$46,0)))),\"\")","v":""},"X",null,null,null,"X",null,null,null,"X",null,null,null,null,null,"X",null,null,null,"X"]
[{"$f":"IF(G85=\"\",\"\",(IF(questionario!$C$8=\"\",\"\",questionario!$C$8)))","v":""},{"$f":"IF(G85=\"\",\"\",(IF(questionario!$C$15=\"\",\"\",questionario!$C$15)))","v":""},{"$f":"IF(G85=\"\",\"\",(IF(questionario!$L$8=\"\",\"\",questionario!$L$8)))","v":""},{"$f":"IF(C85=\"\",\"\",(IF(questionario!$L$11=\"\",\"\",questionario!$L$11)))","v":""},"X","2019",{"$f":"IF(aux_cadastros!$A$25=\"\",\"\",aux_cadastros!$A$25)","v":""},{"$f":"IFERROR((VLOOKUP(G85,questionario!$C$47:$D$66,2,0)),\"\")","v":""},{"$f":"IFERROR((VLOOKUP(G85,questionario!$Q$47:$R$66,2,0)),\"\")","v":""},2019,{"$f":"IF(G85=\"\",\"\",(IFERROR((INDEX(questionario!$A$23:$N$42,(MATCH((dados_exp!$G85&\"R$\"),questionario!$A$23:$A$42,0)),(MATCH(dados_exp!$J85,questionario!$A$22:$N$22,0)))),\"\")))","v":""},{"$f":"IF(G85=\"\",\"\",(IFERROR((INDEX(questionario!$Q$22:$AB$42,(MATCH(dados_exp!$G85,questionario!$Q$22:$Q$42,0)),(MATCH(dados_exp!$J85,questionario!$Q$22:$AB$22,0)))),\"\")))","v":""},{"$f":"IFERROR((INDEX(questionario!$B$47:$N$66,(MATCH((dados_exp!$G85&dados_exp!$H85),questionario!$B$47:$B$66,0)),(MATCH(dados_exp!$J85,questionario!$B$46:$N$46,0)))),\"\")","v":""},{"$f":"IFERROR((INDEX(questionario!$O$47:$AB$66,(MATCH((dados_exp!$G85&dados_exp!$I85),questionario!$O$47:$O$66,0)),(MATCH(dados_exp!$J85,questionario!$O$46:$AB$46,0)))),\"\")","v":""},"X",null,null,null,"X",null,null,null,"X",null,null,null,null,null,"X",null,null,null,"X"]
[{"$f":"IF(G86=\"\",\"\",(IF(questionario!$C$8=\"\",\"\",questionario!$C$8)))","v":""},{"$f":"IF(G86=\"\",\"\",(IF(questionario!$C$15=\"\",\"\",questionario!$C$15)))","v":""},{"$f":"IF(G86=\"\",\"\",(IF(questionario!$L$8=\"\",\"\",questionario!$L$8)))","v":""},{"$f":"IF(C86=\"\",\"\",(IF(questionario!$L$11=\"\",\"\",questionario!$L$11)))","v":""},"X","2019",{"$f":"IF(aux_cadastros!$A$26=\"\",\"\",aux_cadastros!$A$26)","v":""},{"$f":"IFERROR((VLOOKUP(G86,questionario!$C$47:$D$66,2,0)),\"\")","v":""},{"$f":"IFERROR((VLOOKUP(G86,questionario!$Q$47:$R$66,2,0)),\"\")","v":""},2019,{"$f":"IF(G86=\"\",\"\",(IFERROR((INDEX(questionario!$A$23:$N$42,(MATCH((dados_exp!$G86&\"R$\"),questionario!$A$23:$A$42,0)),(MATCH(dados_exp!$J86,questionario!$A$22:$N$22,0)))),\"\")))","v":""},{"$f":"IF(G86=\"\",\"\",(IFERROR((INDEX(questionario!$Q$22:$AB$42,(MATCH(dados_exp!$G86,questionario!$Q$22:$Q$42,0)),(MATCH(dados_exp!$J86,questionario!$Q$22:$AB$22,0)))),\"\")))","v":""},{"$f":"IFERROR((INDEX(questionario!$B$47:$N$66,(MATCH((dados_exp!$G86&dados_exp!$H86),questionario!$B$47:$B$66,0)),(MATCH(dados_exp!$J86,questionario!$B$46:$N$46,0)))),\"\")","v":""},{"$f":"IFERROR((INDEX(questionario!$O$47:$AB$66,(MATCH((dados_exp!$G86&dados_exp!$I86),questionario!$O$47:$O$66,0)),(MATCH(dados_exp!$J86,questionario!$O$46:$AB$46,0)))),\"\")","v":""},"X",null,null,null,"X",null,null,null,"X",null,null,null,null,null,"X",null,null,null,"X"]
[{"$f":"IF(G87=\"\",\"\",(IF(questionario!$C$8=\"\",\"\",questionario!$C$8)))","v":""},{"$f":"IF(G87=\"\",\"\",(IF(questionario!$C$15=\"\",\"\",questionario!$C$15)))","v":""},{"$f":"IF(G87=\"\",\"\",(IF(questionario!$L$8=\"\",\"\",questionario!$L$8)))","v":""},{"$f":"IF(C87=\"\",\"\",(IF(questionario!$L$11=\"\",\"\",questionario!$L$11)))","v":""},"X","2019",{"$f":"IF(aux_cadastros!$A$27=\"\",\"\",aux_cadastros!$A$27)","v":""},{"$f":"IFERROR((VLOOKUP(G87,questionario!$C$47:$D$66,2,0)),\"\")","v":""},{"$f":"IFERROR((VLOOKUP(G87,questionario!$Q$47:$R$66,2,0)),\"\")","v":""},2019,{"$f":"IF(G87=\"\",\"\",(IFERROR((INDEX(questionario!$A$23:$N$42,(MATCH((dados_exp!$G87&\"R$\"),questionario!$A$23:$A$42,0)),(MATCH(dados_exp!$J87,questionario!$A$22:$N$22,0)))),\"\")))","v":""},{"$f":"IF(G87=\"\",\"\",(IFERROR((INDEX(questionario!$Q$22:$AB$42,(MATCH(dados_exp!$G87,questionario!$Q$22:$Q$42,0)),(MATCH(dados_exp!$J87,questionario!$Q$22:$AB$22,0)))),\"\")))","v":""},{"$f":"IFERROR((INDEX(questionario!$B$47:$N$66,(MATCH((dados_exp!$G87&dados_exp!$H87),questionario!$B$47:$B$66,0)),(MATCH(dados_exp!$J87,questionario!$B$46:$N$46,0)))),\"\")","v":""},{"$f":"IFERROR((INDEX(questionario!$O$47:$AB$66,(MATCH((dados_exp!$G87&dados_exp!$I87),questionario!$O$47:$O$66,0)),(MATCH(dados_exp!$J87,questionario!$O$46:$AB$46,0)))),\"\")","v":""},"X",null,null,null,"X",null,null,null,"X",null,null,null,null,null,"X",null,null,null,"X"]
[{"$f":"IF(G88=\"\",\"\",(IF(questionario!$C$8=\"\",\"\",questionario!$C$8)))","v":""},{"$f":"IF(G88=\"\",\"\",(IF(questionario!$C$15=\"\",\"\",questionario!$C$15)))","v":""},{"$f":"IF(G88=\"\",\"\",(IF(questionario!$L$8=\"\",\"\",questionario!$L$8)))","v":""},{"$f":"IF(C88=\"\",\"\",(IF(questionario!$L$11=\"\",\"\",questionario!$L$11)))","v":""},"X","2019",{"$f":"IF(aux_cadastros!$A$28=\"\",\"\",aux_cadastros!$A$28)","v":""},{"$f":"IFERROR((VLOOKUP(G88,questionario!$C$47:$D$66,2,0)),\"\")","v":""},{"$f":"IFERROR((VLOOKUP(G88,questionario!$Q$47:$R$66,2,0)),\"\")","v":""},2019,{"$f":"IF(G88=\"\",\"\",(IFERROR((INDEX(questionario!$A$23:$N$42,(MATCH((dados_exp!$G88&\"R$\"),questionario!$A$23:$A$42,0)),(MATCH(dados_exp!$J88,questionario!$A$22:$N$22,0)))),\"\")))","v":""},{"$f":"IF(G88=\"\",\"\",(IFERROR((INDEX(questionario!$Q$22:$AB$42,(MATCH(dados_exp!$G88,questionario!$Q$22:$Q$42,0)),(MATCH(dados_exp!$J88,questionario!$Q$22:$AB$22,0)))),\"\")))","v":""},{"$f":"IFERROR((INDEX(questionario!$B$47:$N$66,(MATCH((dados_exp!$G88&dados_exp!$H88),questionario!$B$47:$B$66,0)),(MATCH(dados_exp!$J88,questionario!$B$46:$N$46,0)))),\"\")","v":""},{"$f":"IFERROR((INDEX(questionario!$O$47:$AB$66,(MATCH((dados_exp!$G88&dados_exp!$I88),questionario!$O$47:$O$66,0)),(MATCH(dados_exp!$J88,questionario!$O$46:$AB$46,0)))),\"\")","v":""},"X",null,null,null,"X",null,null,null,"X",null,null,null,null,null,"X",null,null,null,"X"]
[{"$f":"IF(G89=\"\",\"\",(IF(questionario!$C$8=\"\",\"\",questionario!$C$8)))","v":""},{"$f":"IF(G89=\"\",\"\",(IF(questionario!$C$15=\"\",\"\",questionario!$C$15)))","v":""},{"$f":"IF(G89=\"\",\"\",(IF(questionario!$L$8=\"\",\"\",questionario!$L$8)))","v":""},{"$f":"IF(C89=\"\",\"\",(IF(questionario!$L$11=\"\",\"\",questionario!$L$11)))","v":""},"X","2019",{"$f":"IF(aux_cadastros!$A$29=\"\",\"\",aux_cadastros!$A$29)","v":""},{"$f":"IFERROR((VLOOKUP(G89,questionario!$C$47:$D$66,2,0)),\"\")","v":""},{"$f":"IFERROR((VLOOKUP(G89,questionario!$Q$47:$R$66,2,0)),\"\")","v":""},2019,{"$f":"IF(G89=\"\",\"\",(IFERROR((INDEX(questionario!$A$23:$N$42,(MATCH((dados_exp!$G89&\"R$\"),questionario!$A$23:$A$42,0)),(MATCH(dados_exp!$J89,questionario!$A$22:$N$22,0)))),\"\")))","v":""},{"$f":"IF(G89=\"\",\"\",(IFERROR((INDEX(questionario!$Q$22:$AB$42,(MATCH(dados_exp!$G89,questionario!$Q$22:$Q$42,0)),(MATCH(dados_exp!$J89,questionario!$Q$22:$AB$22,0)))),\"\")))","v":""},{"$f":"IFERROR((INDEX(questionario!$B$47:$N$66,(MATCH((dados_exp!$G89&dados_exp!$H89),questionario!$B$47:$B$66,0)),(MATCH(dados_exp!$J89,questionario!$B$46:$N$46,0)))),\"\")","v":""},{"$f":"IFERROR((INDEX(questionario!$O$47:$AB$66,(MATCH((dados_exp!$G89&dados_exp!$I89),questionario!$O$47:$O$66,0)),(MATCH(dados_exp!$J89,questionario!$O$46:$AB$46,0)))),\"\")","v":""},"X",null,null,null,"X",null,null,null,"X",null,null,null,null,null,"X",null,null,null,"X"]
[{"$f":"IF(G90=\"\",\"\",(IF(questionario!$C$8=\"\",\"\",questionario!$C$8)))","v":""},{"$f":"IF(G90=\"\",\"\",(IF(questionario!$C$15=\"\",\"\",questionario!$C$15)))","v":""},{"$f":"IF(G90=\"\",\"\",(IF(questionario!$L$8=\"\",\"\",questionario!$L$8)))","v":""},{"$f":"IF(C90=\"\",\"\",(IF(questionario!$L$11=\"\",\"\",questionario!$L$11)))","v":""},"X","2019",{"$f":"IF(aux_cadastros!$A$30=\"\",\"\",aux_cadastros!$A$30)","v":""},{"$f":"IFERROR((VLOOKUP(G90,questionario!$C$47:$D$66,2,0)),\"\")","v":""},{"$f":"IFERROR((VLOOKUP(G90,questionario!$Q$47:$R$66,2,0)),\"\")","v":""},2019,{"$f":"IF(G90=\"\",\"\",(IFERROR((INDEX(questionario!$A$23:$N$42,(MATCH((dados_exp!$G90&\"R$\"),questionario!$A$23:$A$42,0)),(MATCH(dados_exp!$J90,questionario!$A$22:$N$22,0)))),\"\")))","v":""},{"$f":"IF(G90=\"\",\"\",(IFERROR((INDEX(questionario!$Q$22:$AB$42,(MATCH(dados_exp!$G90,questionario!$Q$22:$Q$42,0)),(MATCH(dados_exp!$J90,questionario!$Q$22:$AB$22,0)))),\"\")))","v":""},{"$f":"IFERROR((INDEX(questionario!$B$47:$N$66,(MATCH((dados_exp!$G90&dados_exp!$H90),questionario!$B$47:$B$66,0)),(MATCH(dados_exp!$J90,questionario!$B$46:$N$46,0)))),\"\")","v":""},{"$f":"IFERROR((INDEX(questionario!$O$47:$AB$66,(MATCH((dados_exp!$G90&dados_exp!$I90),questionario!$O$47:$O$66,0)),(MATCH(dados_exp!$J90,questionario!$O$46:$AB$46,0)))),\"\")","v":""},"X",null,null,null,"X",null,null,null,"X",null,null,null,null,null,"X",null,null,null,"X"]
[{"$f":"IF(G91=\"\",\"\",(IF(questionario!$C$8=\"\",\"\",questionario!$C$8)))","v":""},{"$f":"IF(G91=\"\",\"\",(IF(questionario!$C$15=\"\",\"\",questionario!$C$15)))","v":""},{"$f":"IF(G91=\"\",\"\",(IF(questionario!$L$8=\"\",\"\",questionario!$L$8)))","v":""},{"$f":"IF(C91=\"\",\"\",(IF(questionario!$L$11=\"\",\"\",questionario!$L$11)))","v":""},"X","2019",{"$f":"IF(aux_cadastros!$A$31=\"\",\"\",aux_cadastros!$A$31)","v":""},{"$f":"IFERROR((VLOOKUP(G91,questionario!$C$47:$D$66,2,0)),\"\")","v":""},{"$f":"IFERROR((VLOOKUP(G91,questionario!$Q$47:$R$66,2,0)),\"\")","v":""},2019,{"$f":"IF(G91=\"\",\"\",(IFERROR((INDEX(questionario!$A$23:$N$42,(MATCH((dados_exp!$G91&\"R$\"),questionario!$A$23:$A$42,0)),(MATCH(dados_exp!$J91,questionario!$A$22:$N$22,0)))),\"\")))","v":""},{"$f":"IF(G91=\"\",\"\",(IFERROR((INDEX(questionario!$Q$22:$AB$42,(MATCH(dados_exp!$G91,questionario!$Q$22:$Q$42,0)),(MATCH(dados_exp!$J91,questionario!$Q$22:$AB$22,0)))),\"\")))","v":""},{"$f":"IFERROR((INDEX(questionario!$B$47:$N$66,(MATCH((dados_exp!$G91&dados_exp!$H91),questionario!$B$47:$B$66,0)),(MATCH(dados_exp!$J91,questionario!$B$46:$N$46,0)))),\"\")","v":""},{"$f":"IFERROR((INDEX(questionario!$O$47:$AB$66,(MATCH((dados_exp!$G91&dados_exp!$I91),questionario!$O$47:$O$66,0)),(MATCH(dados_exp!$J91,questionario!$O$46:$AB$46,0)))),\"\")","v":""},"X",null,null,null,"X",null,null,null,"X",null,null,null,null,null,"X",null,null,null,"X"]
[{"$f":"IF(G92=\"\",\"\",(IF(questionario!$C$8=\"\",\"\",questionario!$C$8)))","v":""},{"$f":"IF(G92=\"\",\"\",(IF(questionario!$C$15=\"\",\"\",questionario!$C$15)))","v":""},{"$f":"IF(G92=\"\",\"\",(IF(questionario!$L$8=\"\",\"\",questionario!$L$8)))","v":""},{"$f":"IF(C92=\"\",\"\",(IF(questionario!$L$11=\"\",\"\",questionario!$L$11)))","v":""},"X","Açaí2020",{"$f":"IF(aux_cadastros!$A$2=\"\",\"\",aux_cadastros!$A$2)","v":"Açaí"},{"$f":"IFERROR((VLOOKUP(G92,questionario!$C$47:$D$66,2,0)),\"\")","v":""},{"$f":"IFERROR((VLOOKUP(G92,questionario!$Q$47:$R$66,2,0)),\"\")","v":""},{"$f":"questionario!$H$22","v":2020},{"$f":"IF(G92=\"\",\"\",(IFERROR((INDEX(questionario!$A$23:$N$42,(MATCH((dados_exp!$G92&\"R$\"),questionario!$A$23:$A$42,0)),(MATCH(dados_exp!$J92,questionario!$A$22:$N$22,0)))),\"\")))","v":""},{"$f":"IF(G92=\"\",\"\",(IFERROR((INDEX(questionario!$Q$22:$AB$42,(MATCH(dados_exp!$G92,questionario!$Q$22:$Q$42,0)),(MATCH(dados_exp!$J92,questionario!$Q$22:$AB$22,0)))),\"\")))","v":""},{"$f":"IFERROR((INDEX(questionario!$B$47:$N$66,(MATCH((dados_exp!$G92&dados_exp!$H92),questionario!$B$47:$B$66,0)),(MATCH(dados_exp!$J92,questionario!$B$46:$N$46,0)))),\"\")","v":""},{"$f":"IFERROR((INDEX(questionario!$O$47:$AB$66,(MATCH((dados_exp!$G92&dados_exp!$I92),questionario!$O$47:$O$66,0)),(MATCH(dados_exp!$J92,questionario!$O$46:$AB$46,0)))),\"\")","v":""},"X",null,null,null,"X",null,null,null,"X",null,null,null,null,null,"X",null,null,null,"X"]
[{"$f":"IF(G93=\"\",\"\",(IF(questionario!$C$8=\"\",\"\",questionario!$C$8)))","v":""},{"$f":"IF(G93=\"\",\"\",(IF(questionario!$C$15=\"\",\"\",questionario!$C$15)))","v":""},{"$f":"IF(G93=\"\",\"\",(IF(questionario!$L$8=\"\",\"\",questionario!$L$8)))","v":""},{"$f":"IF(C93=\"\",\"\",(IF(questionario!$L$11=\"\",\"\",questionario!$L$11)))","v":""},"X","Aquicultura2020",{"$f":"IF(aux_cadastros!$A$3=\"\",\"\",aux_cadastros!$A$3)","v":"Aquicultura"},{"$f":"IFERROR((VLOOKUP(G93,questionario!$C$47:$D$66,2,0)),\"\")","v":""},{"$f":"IFERROR((VLOOKUP(G93,questionario!$Q$47:$R$66,2,0)),\"\")","v":""},{"$f":"J92","v":2020},{"$f":"IF(G93=\"\",\"\",(IFERROR((INDEX(questionario!$A$23:$N$42,(MATCH((dados_exp!$G93&\"R$\"),questionario!$A$23:$A$42,0)),(MATCH(dados_exp!$J93,questionario!$A$22:$N$22,0)))),\"\")))","v":""},{"$f":"IF(G93=\"\",\"\",(IFERROR((INDEX(questionario!$Q$22:$AB$42,(MATCH(dados_exp!$G93,questionario!$Q$22:$Q$42,0)),(MATCH(dados_exp!$J93,questionario!$Q$22:$AB$22,0)))),\"\")))","v":""},{"$f":"IFERROR((INDEX(questionario!$B$47:$N$66,(MATCH((dados_exp!$G93&dados_exp!$H93),questionario!$B$47:$B$66,0)),(MATCH(dados_exp!$J93,questionario!$B$46:$N$46,0)))),\"\")","v":""},{"$f":"IFERROR((INDEX(questionario!$O$47:$AB$66,(MATCH((dados_exp!$G93&dados_exp!$I93),questionario!$O$47:$O$66,0)),(MATCH(dados_exp!$J93,questionario!$O$46:$AB$46,0)))),\"\")","v":""},"X",null,null,null,"X",null,null,null,"X",null,null,null,null,null,"X",null,null,null,"X"]
[{"$f":"IF(G94=\"\",\"\",(IF(questionario!$C$8=\"\",\"\",questionario!$C$8)))","v":""},{"$f":"IF(G94=\"\",\"\",(IF(questionario!$C$15=\"\",\"\",questionario!$C$15)))","v":""},{"$f":"IF(G94=\"\",\"\",(IF(questionario!$L$8=\"\",\"\",questionario!$L$8)))","v":""},{"$f":"IF(C94=\"\",\"\",(IF(questionario!$L$11=\"\",\"\",questionario!$L$11)))","v":""},"X","Artesanato2020",{"$f":"IF(aux_cadastros!$A$4=\"\",\"\",aux_cadastros!$A$4)","v":"Artesanato"},{"$f":"IFERROR((VLOOKUP(G94,questionario!$C$47:$D$66,2,0)),\"\")","v":""},{"$f":"IFERROR((VLOOKUP(G94,questionario!$Q$47:$R$66,2,0)),\"\")","v":""},{"$f":"J93","v":2020},{"$f":"IF(G94=\"\",\"\",(IFERROR((INDEX(questionario!$A$23:$N$42,(MATCH((dados_exp!$G94&\"R$\"),questionario!$A$23:$A$42,0)),(MATCH(dados_exp!$J94,questionario!$A$22:$N$22,0)))),\"\")))","v":""},{"$f":"IF(G94=\"\",\"\",(IFERROR((INDEX(questionario!$Q$22:$AB$42,(MATCH(dados_exp!$G94,questionario!$Q$22:$Q$42,0)),(MATCH(dados_exp!$J94,questionario!$Q$22:$AB$22,0)))),\"\")))","v":""},{"$f":"IFERROR((INDEX(questionario!$B$47:$N$66,(MATCH((dados_exp!$G94&dados_exp!$H94),questionario!$B$47:$B$66,0)),(MATCH(dados_exp!$J94,questionario!$B$46:$N$46,0)))),\"\")","v":""},{"$f":"IFERROR((INDEX(questionario!$O$47:$AB$66,(MATCH((dados_exp!$G94&dados_exp!$I94),questionario!$O$47:$O$66,0)),(MATCH(dados_exp!$J94,questionario!$O$46:$AB$46,0)))),\"\")","v":""},"X",null,null,null,"X",null,null,null,"X",null,null,null,null,null,"X",null,null,null,"X"]
[{"$f":"IF(G95=\"\",\"\",(IF(questionario!$C$8=\"\",\"\",questionario!$C$8)))","v":""},{"$f":"IF(G95=\"\",\"\",(IF(questionario!$C$15=\"\",\"\",questionario!$C$15)))","v":""},{"$f":"IF(G95=\"\",\"\",(IF(questionario!$L$8=\"\",\"\",questionario!$L$8)))","v":""},{"$f":"IF(C95=\"\",\"\",(IF(questionario!$L$11=\"\",\"\",questionario!$L$11)))","v":""},"X","Babaçu2020",{"$f":"IF(aux_cadastros!$A$5=\"\",\"\",aux_cadastros!$A$5)","v":"Babaçu"},{"$f":"IFERROR((VLOOKUP(G95,questionario!$C$47:$D$66,2,0)),\"\")","v":""},{"$f":"IFERROR((VLOOKUP(G95,questionario!$Q$47:$R$66,2,0)),\"\")","v":""},2020,{"$f":"IF(G95=\"\",\"\",(IFERROR((INDEX(questionario!$A$23:$N$42,(MATCH((dados_exp!$G95&\"R$\"),questionario!$A$23:$A$42,0)),(MATCH(dados_exp!$J95,questionario!$A$22:$N$22,0)))),\"\")))","v":""},{"$f":"IF(G95=\"\",\"\",(IFERROR((INDEX(questionario!$Q$22:$AB$42,(MATCH(dados_exp!$G95,questionario!$Q$22:$Q$42,0)),(MATCH(dados_exp!$J95,questionario!$Q$22:$AB$22,0)))),\"\")))","v":""},{"$f":"IFERROR((INDEX(questionario!$B$47:$N$66,(MATCH((dados_exp!$G95&dados_exp!$H95),questionario!$B$47:$B$66,0)),(MATCH(dados_exp!$J95,questionario!$B$46:$N$46,0)))),\"\")","v":""},{"$f":"IFERROR((INDEX(questionario!$O$47:$AB$66,(MATCH((dados_exp!$G95&dados_exp!$I95),questionario!$O$47:$O$66,0)),(MATCH(dados_exp!$J95,questionario!$O$46:$AB$46,0)))),\"\")","v":""},"X",null,null,null,"X",null,null,null,"X",null,null,null,null,null,"X",null,null,null,"X"]
[{"$f":"IF(G96=\"\",\"\",(IF(questionario!$C$8=\"\",\"\",questionario!$C$8)))","v":""},{"$f":"IF(G96=\"\",\"\",(IF(questionario!$C$15=\"\",\"\",questionario!$C$15)))","v":""},{"$f":"IF(G96=\"\",\"\",(IF(questionario!$L$8=\"\",\"\",questionario!$L$8)))","v":""},{"$f":"IF(C96=\"\",\"\",(IF(questionario!$L$11=\"\",\"\",questionario!$L$11)))","v":""},"X","Borrachas2020",{"$f":"IF(aux_cadastros!$A$6=\"\",\"\",aux_cadastros!$A$6)","v":"Borrachas"},{"$f":"IFERROR((VLOOKUP(G96,questionario!$C$47:$D$66,2,0)),\"\")","v":""},{"$f":"IFERROR((VLOOKUP(G96,questionario!$Q$47:$R$66,2,0)),\"\")","v":""},2020,{"$f":"IF(G96=\"\",\"\",(IFERROR((INDEX(questionario!$A$23:$N$42,(MATCH((dados_exp!$G96&\"R$\"),questionario!$A$23:$A$42,0)),(MATCH(dados_exp!$J96,questionario!$A$22:$N$22,0)))),\"\")))","v":""},{"$f":"IF(G96=\"\",\"\",(IFERROR((INDEX(questionario!$Q$22:$AB$42,(MATCH(dados_exp!$G96,questionario!$Q$22:$Q$42,0)),(MATCH(dados_exp!$J96,questionario!$Q$22:$AB$22,0)))),\"\")))","v":""},{"$f":"IFERROR((INDEX(questionario!$B$47:$N$66,(MATCH((dados_exp!$G96&dados_exp!$H96),questionario!$B$47:$B$66,0)),(MATCH(dados_exp!$J96,questionario!$B$46:$N$46,0)))),\"\")","v":""},{"$f":"IFERROR((INDEX(questionario!$O$47:$AB$66,(MATCH((dados_exp!$G96&dados_exp!$I96),questionario!$O$47:$O$66,0)),(MATCH(dados_exp!$J96,questionario!$O$46:$AB$46,0)))),\"\")","v":""},"X",null,null,null,"X",null,null,null,"X",null,null,null,null,null,"X",null,null,null,"X"]
[{"$f":"IF(G97=\"\",\"\",(IF(questionario!$C$8=\"\",\"\",questionario!$C$8)))","v":""},{"$f":"IF(G97=\"\",\"\",(IF(questionario!$C$15=\"\",\"\",questionario!$C$15)))","v":""},{"$f":"IF(G97=\"\",\"\",(IF(questionario!$L$8=\"\",\"\",questionario!$L$8)))","v":""},{"$f":"IF(C97=\"\",\"\",(IF(questionario!$L$11=\"\",\"\",questionario!$L$11)))","v":""},"X","Cacau2020",{"$f":"IF(aux_cadastros!$A$7=\"\",\"\",aux_cadastros!$A$7)","v":"Cacau"},{"$f":"IFERROR((VLOOKUP(G97,questionario!$C$47:$D$66,2,0)),\"\")","v":""},{"$f":"IFERROR((VLOOKUP(G97,questionario!$Q$47:$R$66,2,0)),\"\")","v":""},2020,{"$f":"IF(G97=\"\",\"\",(IFERROR((INDEX(questionario!$A$23:$N$42,(MATCH((dados_exp!$G97&\"R$\"),questionario!$A$23:$A$42,0)),(MATCH(dados_exp!$J97,questionario!$A$22:$N$22,0)))),\"\")))","v":""},{"$f":"IF(G97=\"\",\"\",(IFERROR((INDEX(questionario!$Q$22:$AB$42,(MATCH(dados_exp!$G97,questionario!$Q$22:$Q$42,0)),(MATCH(dados_exp!$J97,questionario!$Q$22:$AB$22,0)))),\"\")))","v":""},{"$f":"IFERROR((INDEX(questionario!$B$47:$N$66,(MATCH((dados_exp!$G97&dados_exp!$H97),questionario!$B$47:$B$66,0)),(MATCH(dados_exp!$J97,questionario!$B$46:$N$46,0)))),\"\")","v":""},{"$f":"IFERROR((INDEX(questionario!$O$47:$AB$66,(MATCH((dados_exp!$G97&dados_exp!$I97),questionario!$O$47:$O$66,0)),(MATCH(dados_exp!$J97,questionario!$O$46:$AB$46,0)))),\"\")","v":""},"X",null,null,null,"X",null,null,null,"X",null,null,null,null,null,"X",null,null,null,"X"]
[{"$f":"IF(G98=\"\",\"\",(IF(questionario!$C$8=\"\",\"\",questionario!$C$8)))","v":""},{"$f":"IF(G98=\"\",\"\",(IF(questionario!$C$15=\"\",\"\",questionario!$C$15)))","v":""},{"$f":"IF(G98=\"\",\"\",(IF(questionario!$L$8=\"\",\"\",questionario!$L$8)))","v":""},{"$f":"IF(C98=\"\",\"\",(IF(questionario!$L$11=\"\",\"\",questionario!$L$11)))","v":""},"X","Castanha2020",{"$f":"IF(aux_cadastros!$A$8=\"\",\"\",aux_cadastros!$A$8)","v":"Castanha"},{"$f":"IFERROR((VLOOKUP(G98,questionario!$C$47:$D$66,2,0)),\"\")","v":""},{"$f":"IFERROR((VLOOKUP(G98,questionario!$Q$47:$R$66,2,0)),\"\")","v":""},2020,{"$f":"IF(G98=\"\",\"\",(IFERROR((INDEX(questionario!$A$23:$N$42,(MATCH((dados_exp!$G98&\"R$\"),questionario!$A$23:$A$42,0)),(MATCH(dados_exp!$J98,questionario!$A$22:$N$22,0)))),\"\")))","v":""},{"$f":"IF(G98=\"\",\"\",(IFERROR((INDEX(questionario!$Q$22:$AB$42,(MATCH(dados_exp!$G98,questionario!$Q$22:$Q$42,0)),(MATCH(dados_exp!$J98,questionario!$Q$22:$AB$22,0)))),\"\")))","v":""},{"$f":"IFERROR((INDEX(questionario!$B$47:$N$66,(MATCH((dados_exp!$G98&dados_exp!$H98),questionario!$B$47:$B$66,0)),(MATCH(dados_exp!$J98,questionario!$B$46:$N$46,0)))),\"\")","v":""},{"$f":"IFERROR((INDEX(questionario!$O$47:$AB$66,(MATCH((dados_exp!$G98&dados_exp!$I98),questionario!$O$47:$O$66,0)),(MATCH(dados_exp!$J98,questionario!$O$46:$AB$46,0)))),\"\")","v":""},"X",null,null,null,"X",null,null,null,"X",null,null,null,null,null,"X",null,null,null,"X"]
[{"$f":"IF(G99=\"\",\"\",(IF(questionario!$C$8=\"\",\"\",questionario!$C$8)))","v":""},{"$f":"IF(G99=\"\",\"\",(IF(questionario!$C$15=\"\",\"\",questionario!$C$15)))","v":""},{"$f":"IF(G99=\"\",\"\",(IF(questionario!$L$8=\"\",\"\",questionario!$L$8)))","v":""},{"$f":"IF(C99=\"\",\"\",(IF(questionario!$L$11=\"\",\"\",questionario!$L$11)))","v":""},"X","Copaíba2020",{"$f":"IF(aux_cadastros!$A$9=\"\",\"\",aux_cadastros!$A$9)","v":"Copaíba"},{"$f":"IFERROR((VLOOKUP(G99,questionario!$C$47:$D$66,2,0)),\"\")","v":""},{"$f":"IFERROR((VLOOKUP(G99,questionario!$Q$47:$R$66,2,0)),\"\")","v":""},2020,{"$f":"IF(G99=\"\",\"\",(IFERROR((INDEX(questionario!$A$23:$N$42,(MATCH((dados_exp!$G99&\"R$\"),questionario!$A$23:$A$42,0)),(MATCH(dados_exp!$J99,questionario!$A$22:$N$22,0)))),\"\")))","v":""},{"$f":"IF(G99=\"\",\"\",(IFERROR((INDEX(questionario!$Q$22:$AB$42,(MATCH(dados_exp!$G99,questionario!$Q$22:$Q$42,0)),(MATCH(dados_exp!$J99,questionario!$Q$22:$AB$22,0)))),\"\")))","v":""},{"$f":"IFERROR((INDEX(questionario!$B$47:$N$66,(MATCH((dados_exp!$G99&dados_exp!$H99),questionario!$B$47:$B$66,0)),(MATCH(dados_exp!$J99,questionario!$B$46:$N$46,0)))),\"\")","v":""},{"$f":"IFERROR((INDEX(questionario!$O$47:$AB$66,(MATCH((dados_exp!$G99&dados_exp!$I99),questionario!$O$47:$O$66,0)),(MATCH(dados_exp!$J99,questionario!$O$46:$AB$46,0)))),\"\")","v":""},"X",null,null,null,"X",null,null,null,"X",null,null,null,null,null,"X",null,null,null,"X"]
[{"$f":"IF(G100=\"\",\"\",(IF(questionario!$C$8=\"\",\"\",questionario!$C$8)))","v":""},{"$f":"IF(G100=\"\",\"\",(IF(questionario!$C$15=\"\",\"\",questionario!$C$15)))","v":""},{"$f":"IF(G100=\"\",\"\",(IF(questionario!$L$8=\"\",\"\",questionario!$L$8)))","v":""},{"$f":"IF(C100=\"\",\"\",(IF(questionario!$L$11=\"\",\"\",questionario!$L$11)))","v":""},"X","Fibras2020",{"$f":"IF(aux_cadastros!$A$10=\"\",\"\",aux_cadastros!$A$10)","v":"Fibras"},{"$f":"IFERROR((VLOOKUP(G100,questionario!$C$47:$D$66,2,0)),\"\")","v":""},{"$f":"IFERROR((VLOOKUP(G100,questionario!$Q$47:$R$66,2,0)),\"\")","v":""},2020,{"$f":"IF(G100=\"\",\"\",(IFERROR((INDEX(questionario!$A$23:$N$42,(MATCH((dados_exp!$G100&\"R$\"),questionario!$A$23:$A$42,0)),(MATCH(dados_exp!$J100,questionario!$A$22:$N$22,0)))),\"\")))","v":""},{"$f":"IF(G100=\"\",\"\",(IFERROR((INDEX(questionario!$Q$22:$AB$42,(MATCH(dados_exp!$G100,questionario!$Q$22:$Q$42,0)),(MATCH(dados_exp!$J100,questionario!$Q$22:$AB$22,0)))),\"\")))","v":""},{"$f":"IFERROR((INDEX(questionario!$B$47:$N$66,(MATCH((dados_exp!$G100&dados_exp!$H100),questionario!$B$47:$B$66,0)),(MATCH(dados_exp!$J100,questionario!$B$46:$N$46,0)))),\"\")","v":""},{"$f":"IFERROR((INDEX(questionario!$O$47:$AB$66,(MATCH((dados_exp!$G100&dados_exp!$I100),questionario!$O$47:$O$66,0)),(MATCH(dados_exp!$J100,questionario!$O$46:$AB$46,0)))),\"\")","v":""},"X",null,null,null,"X",null,null,null,"X",null,null,null,null,null,"X",null,null,null,"X"]
[{"$f":"IF(G101=\"\",\"\",(IF(questionario!$C$8=\"\",\"\",questionario!$C$8)))","v":""},{"$f":"IF(G101=\"\",\"\",(IF(questionario!$C$15=\"\",\"\",questionario!$C$15)))","v":""},{"$f":"IF(G101=\"\",\"\",(IF(questionario!$L$8=\"\",\"\",questionario!$L$8)))","v":""},{"$f":"IF(C101=\"\",\"\",(IF(questionario!$L$11=\"\",\"\",questionario!$L$11)))","v":""},"X","Guaraná2020",{"$f":"IF(aux_cadastros!$A$11=\"\",\"\",aux_cadastros!$A$11)","v":"Guaraná"},{"$f":"IFERROR((VLOOKUP(G101,questionario!$C$47:$D$66,2,0)),\"\")","v":""},{"$f":"IFERROR((VLOOKUP(G101,questionario!$Q$47:$R$66,2,0)),\"\")","v":""},2020,{"$f":"IF(G101=\"\",\"\",(IFERROR((INDEX(questionario!$A$23:$N$42,(MATCH((dados_exp!$G101&\"R$\"),questionario!$A$23:$A$42,0)),(MATCH(dados_exp!$J101,questionario!$A$22:$N$22,0)))),\"\")))","v":""},{"$f":"IF(G101=\"\",\"\",(IFERROR((INDEX(questionario!$Q$22:$AB$42,(MATCH(dados_exp!$G101,questionario!$Q$22:$Q$42,0)),(MATCH(dados_exp!$J101,questionario!$Q$22:$AB$22,0)))),\"\")))","v":""},{"$f":"IFERROR((INDEX(questionario!$B$47:$N$66,(MATCH((dados_exp!$G101&dados_exp!$H101),questionario!$B$47:$B$66,0)),(MATCH(dados_exp!$J101,questionario!$B$46:$N$46,0)))),\"\")","v":""},{"$f":"IFERROR((INDEX(questionario!$O$47:$AB$66,(MATCH((dados_exp!$G101&dados_exp!$I101),questionario!$O$47:$O$66,0)),(MATCH(dados_exp!$J101,questionario!$O$46:$AB$46,0)))),\"\")","v":""},"X",null,null,null,"X",null,null,null,"X",null,null,null,null,null,"X",null,null,null,"X"]
[{"$f":"IF(G102=\"\",\"\",(IF(questionario!$C$8=\"\",\"\",questionario!$C$8)))","v":""},{"$f":"IF(G102=\"\",\"\",(IF(questionario!$C$15=\"\",\"\",questionario!$C$15)))","v":""},{"$f":"IF(G102=\"\",\"\",(IF(questionario!$L$8=\"\",\"\",questionario!$L$8)))","v":""},{"$f":"IF(C102=\"\",\"\",(IF(questionario!$L$11=\"\",\"\",questionario!$L$11)))","v":""},"X","Madeira2020",{"$f":"IF(aux_cadastros!$A$12=\"\",\"\",aux_cadastros!$A$12)","v":"Madeira"},{"$f":"IFERROR((VLOOKUP(G102,questionario!$C$47:$D$66,2,0)),\"\")","v":""},{"$f":"IFERROR((VLOOKUP(G102,questionario!$Q$47:$R$66,2,0)),\"\")","v":""},2020,{"$f":"IF(G102=\"\",\"\",(IFERROR((INDEX(questionario!$A$23:$N$42,(MATCH((dados_exp!$G102&\"R$\"),questionario!$A$23:$A$42,0)),(MATCH(dados_exp!$J102,questionario!$A$22:$N$22,0)))),\"\")))","v":""},{"$f":"IF(G102=\"\",\"\",(IFERROR((INDEX(questionario!$Q$22:$AB$42,(MATCH(dados_exp!$G102,questionario!$Q$22:$Q$42,0)),(MATCH(dados_exp!$J102,questionario!$Q$22:$AB$22,0)))),\"\")))","v":""},{"$f":"IFERROR((INDEX(questionario!$B$47:$N$66,(MATCH((dados_exp!$G102&dados_exp!$H102),questionario!$B$47:$B$66,0)),(MATCH(dados_exp!$J102,questionario!$B$46:$N$46,0)))),\"\")","v":""},{"$f":"IFERROR((INDEX(questionario!$O$47:$AB$66,(MATCH((dados_exp!$G102&dados_exp!$I102),questionario!$O$47:$O$66,0)),(MATCH(dados_exp!$J102,questionario!$O$46:$AB$46,0)))),\"\")","v":""},"X",null,null,null,"X",null,null,null,"X",null,null,null,null,null,"X",null,null,null,"X"]
[{"$f":"IF(G103=\"\",\"\",(IF(questionario!$C$8=\"\",\"\",questionario!$C$8)))","v":""},{"$f":"IF(G103=\"\",\"\",(IF(questionario!$C$15=\"\",\"\",questionario!$C$15)))","v":""},{"$f":"IF(G103=\"\",\"\",(IF(questionario!$L$8=\"\",\"\",questionario!$L$8)))","v":""},{"$f":"IF(C103=\"\",\"\",(IF(questionario!$L$11=\"\",\"\",questionario!$L$11)))","v":""},"X","Mel2020",{"$f":"IF(aux_cadastros!$A$13=\"\",\"\",aux_cadastros!$A$13)","v":"Mel"},{"$f":"IFERROR((VLOOKUP(G103,questionario!$C$47:$D$66,2,0)),\"\")","v":""},{"$f":"IFERROR((VLOOKUP(G103,questionario!$Q$47:$R$66,2,0)),\"\")","v":""},2020,{"$f":"IF(G103=\"\",\"\",(IFERROR((INDEX(questionario!$A$23:$N$42,(MATCH((dados_exp!$G103&\"R$\"),questionario!$A$23:$A$42,0)),(MATCH(dados_exp!$J103,questionario!$A$22:$N$22,0)))),\"\")))","v":""},{"$f":"IF(G103=\"\",\"\",(IFERROR((INDEX(questionario!$Q$22:$AB$42,(MATCH(dados_exp!$G103,questionario!$Q$22:$Q$42,0)),(MATCH(dados_exp!$J103,questionario!$Q$22:$AB$22,0)))),\"\")))","v":""},{"$f":"IFERROR((INDEX(questionario!$B$47:$N$66,(MATCH((dados_exp!$G103&dados_exp!$H103),questionario!$B$47:$B$66,0)),(MATCH(dados_exp!$J103,questionario!$B$46:$N$46,0)))),\"\")","v":""},{"$f":"IFERROR((INDEX(questionario!$O$47:$AB$66,(MATCH((dados_exp!$G103&dados_exp!$I103),questionario!$O$47:$O$66,0)),(MATCH(dados_exp!$J103,questionario!$O$46:$AB$46,0)))),\"\")","v":""},"X",null,null,null,"X",null,null,null,"X",null,null,null,null,null,"X",null,null,null,"X"]
[{"$f":"IF(G104=\"\",\"\",(IF(questionario!$C$8=\"\",\"\",questionario!$C$8)))","v":""},{"$f":"IF(G104=\"\",\"\",(IF(questionario!$C$15=\"\",\"\",questionario!$C$15)))","v":""},{"$f":"IF(G104=\"\",\"\",(IF(questionario!$L$8=\"\",\"\",questionario!$L$8)))","v":""},{"$f":"IF(C104=\"\",\"\",(IF(questionario!$L$11=\"\",\"\",questionario!$L$11)))","v":""},"X","Oleaginosas2020",{"$f":"IF(aux_cadastros!$A$14=\"\",\"\",aux_cadastros!$A$14)","v":"Oleaginosas"},{"$f":"IFERROR((VLOOKUP(G104,questionario!$C$47:$D$66,2,0)),\"\")","v":""},{"$f":"IFERROR((VLOOKUP(G104,questionario!$Q$47:$R$66,2,0)),\"\")","v":""},2020,{"$f":"IF(G104=\"\",\"\",(IFERROR((INDEX(questionario!$A$23:$N$42,(MATCH((dados_exp!$G104&\"R$\"),questionario!$A$23:$A$42,0)),(MATCH(dados_exp!$J104,questionario!$A$22:$N$22,0)))),\"\")))","v":""},{"$f":"IF(G104=\"\",\"\",(IFERROR((INDEX(questionario!$Q$22:$AB$42,(MATCH(dados_exp!$G104,questionario!$Q$22:$Q$42,0)),(MATCH(dados_exp!$J104,questionario!$Q$22:$AB$22,0)))),\"\")))","v":""},{"$f":"IFERROR((INDEX(questionario!$B$47:$N$66,(MATCH((dados_exp!$G104&dados_exp!$H104),questionario!$B$47:$B$66,0)),(MATCH(dados_exp!$J104,questionario!$B$46:$N$46,0)))),\"\")","v":""},{"$f":"IFERROR((INDEX(questionario!$O$47:$AB$66,(MATCH((dados_exp!$G104&dados_exp!$I104),questionario!$O$47:$O$66,0)),(MATCH(dados_exp!$J104,questionario!$O$46:$AB$46,0)))),\"\")","v":""},"X",null,null,null,"X",null,null,null,"X",null,null,null,null,null,"X",null,null,null,"X"]
[{"$f":"IF(G105=\"\",\"\",(IF(questionario!$C$8=\"\",\"\",questionario!$C$8)))","v":""},{"$f":"IF(G105=\"\",\"\",(IF(questionario!$C$15=\"\",\"\",questionario!$C$15)))","v":""},{"$f":"IF(G105=\"\",\"\",(IF(questionario!$L$8=\"\",\"\",questionario!$L$8)))","v":""},{"$f":"IF(C105=\"\",\"\",(IF(questionario!$L$11=\"\",\"\",questionario!$L$11)))","v":""},"X","Óleos2020",{"$f":"IF(aux_cadastros!$A$15=\"\",\"\",aux_cadastros!$A$15)","v":"Óleos"},{"$f":"IFERROR((VLOOKUP(G105,questionario!$C$47:$D$66,2,0)),\"\")","v":""},{"$f":"IFERROR((VLOOKUP(G105,questionario!$Q$47:$R$66,2,0)),\"\")","v":""},2020,{"$f":"IF(G105=\"\",\"\",(IFERROR((INDEX(questionario!$A$23:$N$42,(MATCH((dados_exp!$G105&\"R$\"),questionario!$A$23:$A$42,0)),(MATCH(dados_exp!$J105,questionario!$A$22:$N$22,0)))),\"\")))","v":""},{"$f":"IF(G105=\"\",\"\",(IFERROR((INDEX(questionario!$Q$22:$AB$42,(MATCH(dados_exp!$G105,questionario!$Q$22:$Q$42,0)),(MATCH(dados_exp!$J105,questionario!$Q$22:$AB$22,0)))),\"\")))","v":""},{"$f":"IFERROR((INDEX(questionario!$B$47:$N$66,(MATCH((dados_exp!$G105&dados_exp!$H105),questionario!$B$47:$B$66,0)),(MATCH(dados_exp!$J105,questionario!$B$46:$N$46,0)))),\"\")","v":""},{"$f":"IFERROR((INDEX(questionario!$O$47:$AB$66,(MATCH((dados_exp!$G105&dados_exp!$I105),questionario!$O$47:$O$66,0)),(MATCH(dados_exp!$J105,questionario!$O$46:$AB$46,0)))),\"\")","v":""},"X",null,null,null,"X",null,null,null,"X",null,null,null,null,null,"X",null,null,null,"X"]
[{"$f":"IF(G106=\"\",\"\",(IF(questionario!$C$8=\"\",\"\",questionario!$C$8)))","v":""},{"$f":"IF(G106=\"\",\"\",(IF(questionario!$C$15=\"\",\"\",questionario!$C$15)))","v":""},{"$f":"IF(G106=\"\",\"\",(IF(questionario!$L$8=\"\",\"\",questionario!$L$8)))","v":""},{"$f":"IF(C106=\"\",\"\",(IF(questionario!$L$11=\"\",\"\",questionario!$L$11)))","v":""},"X","Pescado2020",{"$f":"IF(aux_cadastros!$A$16=\"\",\"\",aux_cadastros!$A$16)","v":"Pescado"},{"$f":"IFERROR((VLOOKUP(G106,questionario!$C$47:$D$66,2,0)),\"\")","v":""},{"$f":"IFERROR((VLOOKUP(G106,questionario!$Q$47:$R$66,2,0)),\"\")","v":""},2020,{"$f":"IF(G106=\"\",\"\",(IFERROR((INDEX(questionario!$A$23:$N$42,(MATCH((dados_exp!$G106&\"R$\"),questionario!$A$23:$A$42,0)),(MATCH(dados_exp!$J106,questionario!$A$22:$N$22,0)))),\"\")))","v":""},{"$f":"IF(G106=\"\",\"\",(IFERROR((INDEX(questionario!$Q$22:$AB$42,(MATCH(dados_exp!$G106,questionario!$Q$22:$Q$42,0)),(MATCH(dados_exp!$J106,questionario!$Q$22:$AB$22,0)))),\"\")))","v":""},{"$f":"IFERROR((INDEX(questionario!$B$47:$N$66,(MATCH((dados_exp!$G106&dados_exp!$H106),questionario!$B$47:$B$66,0)),(MATCH(dados_exp!$J106,questionario!$B$46:$N$46,0)))),\"\")","v":""},{"$f":"IFERROR((INDEX(questionario!$O$47:$AB$66,(MATCH((dados_exp!$G106&dados_exp!$I106),questionario!$O$47:$O$66,0)),(MATCH(dados_exp!$J106,questionario!$O$46:$AB$46,0)))),\"\")","v":""},"X",null,null,null,"X",null,null,null,"X",null,null,null,null,null,"X",null,null,null,"X"]
[{"$f":"IF(G107=\"\",\"\",(IF(questionario!$C$8=\"\",\"\",questionario!$C$8)))","v":""},{"$f":"IF(G107=\"\",\"\",(IF(questionario!$C$15=\"\",\"\",questionario!$C$15)))","v":""},{"$f":"IF(G107=\"\",\"\",(IF(questionario!$L$8=\"\",\"\",questionario!$L$8)))","v":""},{"$f":"IF(C107=\"\",\"\",(IF(questionario!$L$11=\"\",\"\",questionario!$L$11)))","v":""},"X","Turismo2020",{"$f":"IF(aux_cadastros!$A$17=\"\",\"\",aux_cadastros!$A$17)","v":"Turismo"},{"$f":"IFERROR((VLOOKUP(G107,questionario!$C$47:$D$66,2,0)),\"\")","v":""},{"$f":"IFERROR((VLOOKUP(G107,questionario!$Q$47:$R$66,2,0)),\"\")","v":""},2020,{"$f":"IF(G107=\"\",\"\",(IFERROR((INDEX(questionario!$A$23:$N$42,(MATCH((dados_exp!$G107&\"R$\"),questionario!$A$23:$A$42,0)),(MATCH(dados_exp!$J107,questionario!$A$22:$N$22,0)))),\"\")))","v":""},{"$f":"IF(G107=\"\",\"\",(IFERROR((INDEX(questionario!$Q$22:$AB$42,(MATCH(dados_exp!$G107,questionario!$Q$22:$Q$42,0)),(MATCH(dados_exp!$J107,questionario!$Q$22:$AB$22,0)))),\"\")))","v":""},{"$f":"IFERROR((INDEX(questionario!$B$47:$N$66,(MATCH((dados_exp!$G107&dados_exp!$H107),questionario!$B$47:$B$66,0)),(MATCH(dados_exp!$J107,questionario!$B$46:$N$46,0)))),\"\")","v":""},{"$f":"IFERROR((INDEX(questionario!$O$47:$AB$66,(MATCH((dados_exp!$G107&dados_exp!$I107),questionario!$O$47:$O$66,0)),(MATCH(dados_exp!$J107,questionario!$O$46:$AB$46,0)))),\"\")","v":""},"X",null,null,null,"X",null,null,null,"X",null,null,null,null,null,"X",null,null,null,"X"]
[{"$f":"IF(G108=\"\",\"\",(IF(questionario!$C$8=\"\",\"\",questionario!$C$8)))","v":""},{"$f":"IF(G108=\"\",\"\",(IF(questionario!$C$15=\"\",\"\",questionario!$C$15)))","v":""},{"$f":"IF(G108=\"\",\"\",(IF(questionario!$L$8=\"\",\"\",questionario!$L$8)))","v":""},{"$f":"IF(C108=\"\",\"\",(IF(questionario!$L$11=\"\",\"\",questionario!$L$11)))","v":""},"X","Agricultura de base familiar2020",{"$f":"IF(aux_cadastros!$A$18=\"\",\"\",aux_cadastros!$A$18)","v":"Agricultura de base familiar"},{"$f":"IFERROR((VLOOKUP(G108,questionario!$C$47:$D$66,2,0)),\"\")","v":""},{"$f":"IFERROR((VLOOKUP(G108,questionario!$Q$47:$R$66,2,0)),\"\")","v":""},2020,{"$f":"IF(G108=\"\",\"\",(IFERROR((INDEX(questionario!$A$23:$N$42,(MATCH((dados_exp!$G108&\"R$\"),questionario!$A$23:$A$42,0)),(MATCH(dados_exp!$J108,questionario!$A$22:$N$22,0)))),\"\")))","v":""},{"$f":"IF(G108=\"\",\"\",(IFERROR((INDEX(questionario!$Q$22:$AB$42,(MATCH(dados_exp!$G108,questionario!$Q$22:$Q$42,0)),(MATCH(dados_exp!$J108,questionario!$Q$22:$AB$22,0)))),\"\")))","v":""},{"$f":"IFERROR((INDEX(questionario!$B$47:$N$66,(MATCH((dados_exp!$G108&dados_exp!$H108),questionario!$B$47:$B$66,0)),(MATCH(dados_exp!$J108,questionario!$B$46:$N$46,0)))),\"\")","v":""},{"$f":"IFERROR((INDEX(questionario!$O$47:$AB$66,(MATCH((dados_exp!$G108&dados_exp!$I108),questionario!$O$47:$O$66,0)),(MATCH(dados_exp!$J108,questionario!$O$46:$AB$46,0)))),\"\")","v":""},"X",null,null,null,"X",null,null,null,"X",null,null,null,null,null,"X",null,null,null,"X"]
[{"$f":"IF(G109=\"\",\"\",(IF(questionario!$C$8=\"\",\"\",questionario!$C$8)))","v":""},{"$f":"IF(G109=\"\",\"\",(IF(questionario!$C$15=\"\",\"\",questionario!$C$15)))","v":""},{"$f":"IF(G109=\"\",\"\",(IF(questionario!$L$8=\"\",\"\",questionario!$L$8)))","v":""},{"$f":"IF(C109=\"\",\"\",(IF(questionario!$L$11=\"\",\"\",questionario!$L$11)))","v":""},"X","Pirarucu2020",{"$f":"IF(aux_cadastros!$A$19=\"\",\"\",aux_cadastros!$A$19)","v":"Pirarucu"},{"$f":"IFERROR((VLOOKUP(G109,questionario!$C$47:$D$66,2,0)),\"\")","v":""},{"$f":"IFERROR((VLOOKUP(G109,questionario!$Q$47:$R$66,2,0)),\"\")","v":""},2020,{"$f":"IF(G109=\"\",\"\",(IFERROR((INDEX(questionario!$A$23:$N$42,(MATCH((dados_exp!$G109&\"R$\"),questionario!$A$23:$A$42,0)),(MATCH(dados_exp!$J109,questionario!$A$22:$N$22,0)))),\"\")))","v":""},{"$f":"IF(G109=\"\",\"\",(IFERROR((INDEX(questionario!$Q$22:$AB$42,(MATCH(dados_exp!$G109,questionario!$Q$22:$Q$42,0)),(MATCH(dados_exp!$J109,questionario!$Q$22:$AB$22,0)))),\"\")))","v":""},{"$f":"IFERROR((INDEX(questionario!$B$47:$N$66,(MATCH((dados_exp!$G109&dados_exp!$H109),questionario!$B$47:$B$66,0)),(MATCH(dados_exp!$J109,questionario!$B$46:$N$46,0)))),\"\")","v":""},{"$f":"IFERROR((INDEX(questionario!$O$47:$AB$66,(MATCH((dados_exp!$G109&dados_exp!$I109),questionario!$O$47:$O$66,0)),(MATCH(dados_exp!$J109,questionario!$O$46:$AB$46,0)))),\"\")","v":""},"X",null,null,null,"X",null,null,null,"X",null,null,null,null,null,"X",null,null,null,"X"]
[{"$f":"IF(G110=\"\",\"\",(IF(questionario!$C$8=\"\",\"\",questionario!$C$8)))","v":""},{"$f":"IF(G110=\"\",\"\",(IF(questionario!$C$15=\"\",\"\",questionario!$C$15)))","v":""},{"$f":"IF(G110=\"\",\"\",(IF(questionario!$L$8=\"\",\"\",questionario!$L$8)))","v":""},{"$f":"IF(C110=\"\",\"\",(IF(questionario!$L$11=\"\",\"\",questionario!$L$11)))","v":""},"X","Bacalhau de Pirarucu2020",{"$f":"IF(aux_cadastros!$A$20=\"\",\"\",aux_cadastros!$A$20)","v":"Bacalhau de Pirarucu"},{"$f":"IFERROR((VLOOKUP(G110,questionario!$C$47:$D$66,2,0)),\"\")","v":""},{"$f":"IFERROR((VLOOKUP(G110,questionario!$Q$47:$R$66,2,0)),\"\")","v":""},2020,{"$f":"IF(G110=\"\",\"\",(IFERROR((INDEX(questionario!$A$23:$N$42,(MATCH((dados_exp!$G110&\"R$\"),questionario!$A$23:$A$42,0)),(MATCH(dados_exp!$J110,questionario!$A$22:$N$22,0)))),\"\")))","v":""},{"$f":"IF(G110=\"\",\"\",(IFERROR((INDEX(questionario!$Q$22:$AB$42,(MATCH(dados_exp!$G110,questionario!$Q$22:$Q$42,0)),(MATCH(dados_exp!$J110,questionario!$Q$22:$AB$22,0)))),\"\")))","v":""},{"$f":"IFERROR((INDEX(questionario!$B$47:$N$66,(MATCH((dados_exp!$G110&dados_exp!$H110),questionario!$B$47:$B$66,0)),(MATCH(dados_exp!$J110,questionario!$B$46:$N$46,0)))),\"\")","v":""},{"$f":"IFERROR((INDEX(questionario!$O$47:$AB$66,(MATCH((dados_exp!$G110&dados_exp!$I110),questionario!$O$47:$O$66,0)),(MATCH(dados_exp!$J110,questionario!$O$46:$AB$46,0)))),\"\")","v":""},"X",null,null,null,"X",null,null,null,"X",null,null,null,null,null,"X",null,null,null,"X"]
[{"$f":"IF(G111=\"\",\"\",(IF(questionario!$C$8=\"\",\"\",questionario!$C$8)))","v":""},{"$f":"IF(G111=\"\",\"\",(IF(questionario!$C$15=\"\",\"\",questionario!$C$15)))","v":""},{"$f":"IF(G111=\"\",\"\",(IF(questionario!$L$8=\"\",\"\",questionario!$L$8)))","v":""},{"$f":"IF(C111=\"\",\"\",(IF(questionario!$L$11=\"\",\"\",questionario!$L$11)))","v":""},"X","2020",{"$f":"IF(aux_cadastros!$A$21=\"\",\"\",aux_cadastros!$A$21)","v":""},{"$f":"IFERROR((VLOOKUP(G111,questionario!$C$47:$D$66,2,0)),\"\")","v":""},{"$f":"IFERROR((VLOOKUP(G111,questionario!$Q$47:$R$66,2,0)),\"\")","v":""},2020,{"$f":"IF(G111=\"\",\"\",(IFERROR((INDEX(questionario!$A$23:$N$42,(MATCH((dados_exp!$G111&\"R$\"),questionario!$A$23:$A$42,0)),(MATCH(dados_exp!$J111,questionario!$A$22:$N$22,0)))),\"\")))","v":""},{"$f":"IF(G111=\"\",\"\",(IFERROR((INDEX(questionario!$Q$22:$AB$42,(MATCH(dados_exp!$G111,questionario!$Q$22:$Q$42,0)),(MATCH(dados_exp!$J111,questionario!$Q$22:$AB$22,0)))),\"\")))","v":""},{"$f":"IFERROR((INDEX(questionario!$B$47:$N$66,(MATCH((dados_exp!$G111&dados_exp!$H111),questionario!$B$47:$B$66,0)),(MATCH(dados_exp!$J111,questionario!$B$46:$N$46,0)))),\"\")","v":""},{"$f":"IFERROR((INDEX(questionario!$O$47:$AB$66,(MATCH((dados_exp!$G111&dados_exp!$I111),questionario!$O$47:$O$66,0)),(MATCH(dados_exp!$J111,questionario!$O$46:$AB$46,0)))),\"\")","v":""},"X",null,null,null,"X",null,null,null,"X",null,null,null,null,null,"X",null,null,null,"X"]
[{"$f":"IF(G112=\"\",\"\",(IF(questionario!$C$8=\"\",\"\",questionario!$C$8)))","v":""},{"$f":"IF(G112=\"\",\"\",(IF(questionario!$C$15=\"\",\"\",questionario!$C$15)))","v":""},{"$f":"IF(G112=\"\",\"\",(IF(questionario!$L$8=\"\",\"\",questionario!$L$8)))","v":""},{"$f":"IF(C112=\"\",\"\",(IF(questionario!$L$11=\"\",\"\",questionario!$L$11)))","v":""},"X","2020",{"$f":"IF(aux_cadastros!$A$22=\"\",\"\",aux_cadastros!$A$22)","v":""},{"$f":"IFERROR((VLOOKUP(G112,questionario!$C$47:$D$66,2,0)),\"\")","v":""},{"$f":"IFERROR((VLOOKUP(G112,questionario!$Q$47:$R$66,2,0)),\"\")","v":""},2020,{"$f":"IF(G112=\"\",\"\",(IFERROR((INDEX(questionario!$A$23:$N$42,(MATCH((dados_exp!$G112&\"R$\"),questionario!$A$23:$A$42,0)),(MATCH(dados_exp!$J112,questionario!$A$22:$N$22,0)))),\"\")))","v":""},{"$f":"IF(G112=\"\",\"\",(IFERROR((INDEX(questionario!$Q$22:$AB$42,(MATCH(dados_exp!$G112,questionario!$Q$22:$Q$42,0)),(MATCH(dados_exp!$J112,questionario!$Q$22:$AB$22,0)))),\"\")))","v":""},{"$f":"IFERROR((INDEX(questionario!$B$47:$N$66,(MATCH((dados_exp!$G112&dados_exp!$H112),questionario!$B$47:$B$66,0)),(MATCH(dados_exp!$J112,questionario!$B$46:$N$46,0)))),\"\")","v":""},{"$f":"IFERROR((INDEX(questionario!$O$47:$AB$66,(MATCH((dados_exp!$G112&dados_exp!$I112),questionario!$O$47:$O$66,0)),(MATCH(dados_exp!$J112,questionario!$O$46:$AB$46,0)))),\"\")","v":""},"X",null,null,null,"X",null,null,null,"X",null,null,null,null,null,"X",null,null,null,"X"]
[{"$f":"IF(G113=\"\",\"\",(IF(questionario!$C$8=\"\",\"\",questionario!$C$8)))","v":""},{"$f":"IF(G113=\"\",\"\",(IF(questionario!$C$15=\"\",\"\",questionario!$C$15)))","v":""},{"$f":"IF(G113=\"\",\"\",(IF(questionario!$L$8=\"\",\"\",questionario!$L$8)))","v":""},{"$f":"IF(C113=\"\",\"\",(IF(questionario!$L$11=\"\",\"\",questionario!$L$11)))","v":""},"X","2020",{"$f":"IF(aux_cadastros!$A$23=\"\",\"\",aux_cadastros!$A$23)","v":""},{"$f":"IFERROR((VLOOKUP(G113,questionario!$C$47:$D$66,2,0)),\"\")","v":""},{"$f":"IFERROR((VLOOKUP(G113,questionario!$Q$47:$R$66,2,0)),\"\")","v":""},2020,{"$f":"IF(G113=\"\",\"\",(IFERROR((INDEX(questionario!$A$23:$N$42,(MATCH((dados_exp!$G113&\"R$\"),questionario!$A$23:$A$42,0)),(MATCH(dados_exp!$J113,questionario!$A$22:$N$22,0)))),\"\")))","v":""},{"$f":"IF(G113=\"\",\"\",(IFERROR((INDEX(questionario!$Q$22:$AB$42,(MATCH(dados_exp!$G113,questionario!$Q$22:$Q$42,0)),(MATCH(dados_exp!$J113,questionario!$Q$22:$AB$22,0)))),\"\")))","v":""},{"$f":"IFERROR((INDEX(questionario!$B$47:$N$66,(MATCH((dados_exp!$G113&dados_exp!$H113),questionario!$B$47:$B$66,0)),(MATCH(dados_exp!$J113,questionario!$B$46:$N$46,0)))),\"\")","v":""},{"$f":"IFERROR((INDEX(questionario!$O$47:$AB$66,(MATCH((dados_exp!$G113&dados_exp!$I113),questionario!$O$47:$O$66,0)),(MATCH(dados_exp!$J113,questionario!$O$46:$AB$46,0)))),\"\")","v":""},"X",null,null,null,"X",null,null,null,"X",null,null,null,null,null,"X",null,null,null,"X"]
[{"$f":"IF(G114=\"\",\"\",(IF(questionario!$C$8=\"\",\"\",questionario!$C$8)))","v":""},{"$f":"IF(G114=\"\",\"\",(IF(questionario!$C$15=\"\",\"\",questionario!$C$15)))","v":""},{"$f":"IF(G114=\"\",\"\",(IF(questionario!$L$8=\"\",\"\",questionario!$L$8)))","v":""},{"$f":"IF(C114=\"\",\"\",(IF(questionario!$L$11=\"\",\"\",questionario!$L$11)))","v":""},"X","2020",{"$f":"IF(aux_cadastros!$A$24=\"\",\"\",aux_cadastros!$A$24)","v":""},{"$f":"IFERROR((VLOOKUP(G114,questionario!$C$47:$D$66,2,0)),\"\")","v":""},{"$f":"IFERROR((VLOOKUP(G114,questionario!$Q$47:$R$66,2,0)),\"\")","v":""},2020,{"$f":"IF(G114=\"\",\"\",(IFERROR((INDEX(questionario!$A$23:$N$42,(MATCH((dados_exp!$G114&\"R$\"),questionario!$A$23:$A$42,0)),(MATCH(dados_exp!$J114,questionario!$A$22:$N$22,0)))),\"\")))","v":""},{"$f":"IF(G114=\"\",\"\",(IFERROR((INDEX(questionario!$Q$22:$AB$42,(MATCH(dados_exp!$G114,questionario!$Q$22:$Q$42,0)),(MATCH(dados_exp!$J114,questionario!$Q$22:$AB$22,0)))),\"\")))","v":""},{"$f":"IFERROR((INDEX(questionario!$B$47:$N$66,(MATCH((dados_exp!$G114&dados_exp!$H114),questionario!$B$47:$B$66,0)),(MATCH(dados_exp!$J114,questionario!$B$46:$N$46,0)))),\"\")","v":""},{"$f":"IFERROR((INDEX(questionario!$O$47:$AB$66,(MATCH((dados_exp!$G114&dados_exp!$I114),questionario!$O$47:$O$66,0)),(MATCH(dados_exp!$J114,questionario!$O$46:$AB$46,0)))),\"\")","v":""},"X",null,null,null,"X",null,null,null,"X",null,null,null,null,null,"X",null,null,null,"X"]
[{"$f":"IF(G115=\"\",\"\",(IF(questionario!$C$8=\"\",\"\",questionario!$C$8)))","v":""},{"$f":"IF(G115=\"\",\"\",(IF(questionario!$C$15=\"\",\"\",questionario!$C$15)))","v":""},{"$f":"IF(G115=\"\",\"\",(IF(questionario!$L$8=\"\",\"\",questionario!$L$8)))","v":""},{"$f":"IF(C115=\"\",\"\",(IF(questionario!$L$11=\"\",\"\",questionario!$L$11)))","v":""},"X","2020",{"$f":"IF(aux_cadastros!$A$25=\"\",\"\",aux_cadastros!$A$25)","v":""},{"$f":"IFERROR((VLOOKUP(G115,questionario!$C$47:$D$66,2,0)),\"\")","v":""},{"$f":"IFERROR((VLOOKUP(G115,questionario!$Q$47:$R$66,2,0)),\"\")","v":""},2020,{"$f":"IF(G115=\"\",\"\",(IFERROR((INDEX(questionario!$A$23:$N$42,(MATCH((dados_exp!$G115&\"R$\"),questionario!$A$23:$A$42,0)),(MATCH(dados_exp!$J115,questionario!$A$22:$N$22,0)))),\"\")))","v":""},{"$f":"IF(G115=\"\",\"\",(IFERROR((INDEX(questionario!$Q$22:$AB$42,(MATCH(dados_exp!$G115,questionario!$Q$22:$Q$42,0)),(MATCH(dados_exp!$J115,questionario!$Q$22:$AB$22,0)))),\"\")))","v":""},{"$f":"IFERROR((INDEX(questionario!$B$47:$N$66,(MATCH((dados_exp!$G115&dados_exp!$H115),questionario!$B$47:$B$66,0)),(MATCH(dados_exp!$J115,questionario!$B$46:$N$46,0)))),\"\")","v":""},{"$f":"IFERROR((INDEX(questionario!$O$47:$AB$66,(MATCH((dados_exp!$G115&dados_exp!$I115),questionario!$O$47:$O$66,0)),(MATCH(dados_exp!$J115,questionario!$O$46:$AB$46,0)))),\"\")","v":""},"X",null,null,null,"X",null,null,null,"X",null,null,null,null,null,"X",null,null,null,"X"]
[{"$f":"IF(G116=\"\",\"\",(IF(questionario!$C$8=\"\",\"\",questionario!$C$8)))","v":""},{"$f":"IF(G116=\"\",\"\",(IF(questionario!$C$15=\"\",\"\",questionario!$C$15)))","v":""},{"$f":"IF(G116=\"\",\"\",(IF(questionario!$L$8=\"\",\"\",questionario!$L$8)))","v":""},{"$f":"IF(C116=\"\",\"\",(IF(questionario!$L$11=\"\",\"\",questionario!$L$11)))","v":""},"X","2020",{"$f":"IF(aux_cadastros!$A$26=\"\",\"\",aux_cadastros!$A$26)","v":""},{"$f":"IFERROR((VLOOKUP(G116,questionario!$C$47:$D$66,2,0)),\"\")","v":""},{"$f":"IFERROR((VLOOKUP(G116,questionario!$Q$47:$R$66,2,0)),\"\")","v":""},2020,{"$f":"IF(G116=\"\",\"\",(IFERROR((INDEX(questionario!$A$23:$N$42,(MATCH((dados_exp!$G116&\"R$\"),questionario!$A$23:$A$42,0)),(MATCH(dados_exp!$J116,questionario!$A$22:$N$22,0)))),\"\")))","v":""},{"$f":"IF(G116=\"\",\"\",(IFERROR((INDEX(questionario!$Q$22:$AB$42,(MATCH(dados_exp!$G116,questionario!$Q$22:$Q$42,0)),(MATCH(dados_exp!$J116,questionario!$Q$22:$AB$22,0)))),\"\")))","v":""},{"$f":"IFERROR((INDEX(questionario!$B$47:$N$66,(MATCH((dados_exp!$G116&dados_exp!$H116),questionario!$B$47:$B$66,0)),(MATCH(dados_exp!$J116,questionario!$B$46:$N$46,0)))),\"\")","v":""},{"$f":"IFERROR((INDEX(questionario!$O$47:$AB$66,(MATCH((dados_exp!$G116&dados_exp!$I116),questionario!$O$47:$O$66,0)),(MATCH(dados_exp!$J116,questionario!$O$46:$AB$46,0)))),\"\")","v":""},"X",null,null,null,"X",null,null,null,"X",null,null,null,null,null,"X",null,null,null,"X"]
[{"$f":"IF(G117=\"\",\"\",(IF(questionario!$C$8=\"\",\"\",questionario!$C$8)))","v":""},{"$f":"IF(G117=\"\",\"\",(IF(questionario!$C$15=\"\",\"\",questionario!$C$15)))","v":""},{"$f":"IF(G117=\"\",\"\",(IF(questionario!$L$8=\"\",\"\",questionario!$L$8)))","v":""},{"$f":"IF(C117=\"\",\"\",(IF(questionario!$L$11=\"\",\"\",questionario!$L$11)))","v":""},"X","2020",{"$f":"IF(aux_cadastros!$A$27=\"\",\"\",aux_cadastros!$A$27)","v":""},{"$f":"IFERROR((VLOOKUP(G117,questionario!$C$47:$D$66,2,0)),\"\")","v":""},{"$f":"IFERROR((VLOOKUP(G117,questionario!$Q$47:$R$66,2,0)),\"\")","v":""},2020,{"$f":"IF(G117=\"\",\"\",(IFERROR((INDEX(questionario!$A$23:$N$42,(MATCH((dados_exp!$G117&\"R$\"),questionario!$A$23:$A$42,0)),(MATCH(dados_exp!$J117,questionario!$A$22:$N$22,0)))),\"\")))","v":""},{"$f":"IF(G117=\"\",\"\",(IFERROR((INDEX(questionario!$Q$22:$AB$42,(MATCH(dados_exp!$G117,questionario!$Q$22:$Q$42,0)),(MATCH(dados_exp!$J117,questionario!$Q$22:$AB$22,0)))),\"\")))","v":""},{"$f":"IFERROR((INDEX(questionario!$B$47:$N$66,(MATCH((dados_exp!$G117&dados_exp!$H117),questionario!$B$47:$B$66,0)),(MATCH(dados_exp!$J117,questionario!$B$46:$N$46,0)))),\"\")","v":""},{"$f":"IFERROR((INDEX(questionario!$O$47:$AB$66,(MATCH((dados_exp!$G117&dados_exp!$I117),questionario!$O$47:$O$66,0)),(MATCH(dados_exp!$J117,questionario!$O$46:$AB$46,0)))),\"\")","v":""},"X",null,null,null,"X",null,null,null,"X",null,null,null,null,null,"X",null,null,null,"X"]
[{"$f":"IF(G118=\"\",\"\",(IF(questionario!$C$8=\"\",\"\",questionario!$C$8)))","v":""},{"$f":"IF(G118=\"\",\"\",(IF(questionario!$C$15=\"\",\"\",questionario!$C$15)))","v":""},{"$f":"IF(G118=\"\",\"\",(IF(questionario!$L$8=\"\",\"\",questionario!$L$8)))","v":""},{"$f":"IF(C118=\"\",\"\",(IF(questionario!$L$11=\"\",\"\",questionario!$L$11)))","v":""},"X","2020",{"$f":"IF(aux_cadastros!$A$28=\"\",\"\",aux_cadastros!$A$28)","v":""},{"$f":"IFERROR((VLOOKUP(G118,questionario!$C$47:$D$66,2,0)),\"\")","v":""},{"$f":"IFERROR((VLOOKUP(G118,questionario!$Q$47:$R$66,2,0)),\"\")","v":""},2020,{"$f":"IF(G118=\"\",\"\",(IFERROR((INDEX(questionario!$A$23:$N$42,(MATCH((dados_exp!$G118&\"R$\"),questionario!$A$23:$A$42,0)),(MATCH(dados_exp!$J118,questionario!$A$22:$N$22,0)))),\"\")))","v":""},{"$f":"IF(G118=\"\",\"\",(IFERROR((INDEX(questionario!$Q$22:$AB$42,(MATCH(dados_exp!$G118,questionario!$Q$22:$Q$42,0)),(MATCH(dados_exp!$J118,questionario!$Q$22:$AB$22,0)))),\"\")))","v":""},{"$f":"IFERROR((INDEX(questionario!$B$47:$N$66,(MATCH((dados_exp!$G118&dados_exp!$H118),questionario!$B$47:$B$66,0)),(MATCH(dados_exp!$J118,questionario!$B$46:$N$46,0)))),\"\")","v":""},{"$f":"IFERROR((INDEX(questionario!$O$47:$AB$66,(MATCH((dados_exp!$G118&dados_exp!$I118),questionario!$O$47:$O$66,0)),(MATCH(dados_exp!$J118,questionario!$O$46:$AB$46,0)))),\"\")","v":""},"X",null,null,null,"X",null,null,null,"X",null,null,null,null,null,"X",null,null,null,"X"]
[{"$f":"IF(G119=\"\",\"\",(IF(questionario!$C$8=\"\",\"\",questionario!$C$8)))","v":""},{"$f":"IF(G119=\"\",\"\",(IF(questionario!$C$15=\"\",\"\",questionario!$C$15)))","v":""},{"$f":"IF(G119=\"\",\"\",(IF(questionario!$L$8=\"\",\"\",questionario!$L$8)))","v":""},{"$f":"IF(C119=\"\",\"\",(IF(questionario!$L$11=\"\",\"\",questionario!$L$11)))","v":""},"X","2020",{"$f":"IF(aux_cadastros!$A$29=\"\",\"\",aux_cadastros!$A$29)","v":""},{"$f":"IFERROR((VLOOKUP(G119,questionario!$C$47:$D$66,2,0)),\"\")","v":""},{"$f":"IFERROR((VLOOKUP(G119,questionario!$Q$47:$R$66,2,0)),\"\")","v":""},2020,{"$f":"IF(G119=\"\",\"\",(IFERROR((INDEX(questionario!$A$23:$N$42,(MATCH((dados_exp!$G119&\"R$\"),questionario!$A$23:$A$42,0)),(MATCH(dados_exp!$J119,questionario!$A$22:$N$22,0)))),\"\")))","v":""},{"$f":"IF(G119=\"\",\"\",(IFERROR((INDEX(questionario!$Q$22:$AB$42,(MATCH(dados_exp!$G119,questionario!$Q$22:$Q$42,0)),(MATCH(dados_exp!$J119,questionario!$Q$22:$AB$22,0)))),\"\")))","v":""},{"$f":"IFERROR((INDEX(questionario!$B$47:$N$66,(MATCH((dados_exp!$G119&dados_exp!$H119),questionario!$B$47:$B$66,0)),(MATCH(dados_exp!$J119,questionario!$B$46:$N$46,0)))),\"\")","v":""},{"$f":"IFERROR((INDEX(questionario!$O$47:$AB$66,(MATCH((dados_exp!$G119&dados_exp!$I119),questionario!$O$47:$O$66,0)),(MATCH(dados_exp!$J119,questionario!$O$46:$AB$46,0)))),\"\")","v":""},"X",null,null,null,"X",null,null,null,"X",null,null,null,null,null,"X",null,null,null,"X"]
[{"$f":"IF(G120=\"\",\"\",(IF(questionario!$C$8=\"\",\"\",questionario!$C$8)))","v":""},{"$f":"IF(G120=\"\",\"\",(IF(questionario!$C$15=\"\",\"\",questionario!$C$15)))","v":""},{"$f":"IF(G120=\"\",\"\",(IF(questionario!$L$8=\"\",\"\",questionario!$L$8)))","v":""},{"$f":"IF(C120=\"\",\"\",(IF(questionario!$L$11=\"\",\"\",questionario!$L$11)))","v":""},"X","2020",{"$f":"IF(aux_cadastros!$A$30=\"\",\"\",aux_cadastros!$A$30)","v":""},{"$f":"IFERROR((VLOOKUP(G120,questionario!$C$47:$D$66,2,0)),\"\")","v":""},{"$f":"IFERROR((VLOOKUP(G120,questionario!$Q$47:$R$66,2,0)),\"\")","v":""},2020,{"$f":"IF(G120=\"\",\"\",(IFERROR((INDEX(questionario!$A$23:$N$42,(MATCH((dados_exp!$G120&\"R$\"),questionario!$A$23:$A$42,0)),(MATCH(dados_exp!$J120,questionario!$A$22:$N$22,0)))),\"\")))","v":""},{"$f":"IF(G120=\"\",\"\",(IFERROR((INDEX(questionario!$Q$22:$AB$42,(MATCH(dados_exp!$G120,questionario!$Q$22:$Q$42,0)),(MATCH(dados_exp!$J120,questionario!$Q$22:$AB$22,0)))),\"\")))","v":""},{"$f":"IFERROR((INDEX(questionario!$B$47:$N$66,(MATCH((dados_exp!$G120&dados_exp!$H120),questionario!$B$47:$B$66,0)),(MATCH(dados_exp!$J120,questionario!$B$46:$N$46,0)))),\"\")","v":""},{"$f":"IFERROR((INDEX(questionario!$O$47:$AB$66,(MATCH((dados_exp!$G120&dados_exp!$I120),questionario!$O$47:$O$66,0)),(MATCH(dados_exp!$J120,questionario!$O$46:$AB$46,0)))),\"\")","v":""},"X",null,null,null,"X",null,null,null,"X",null,null,null,null,null,"X",null,null,null,"X"]
[{"$f":"IF(G121=\"\",\"\",(IF(questionario!$C$8=\"\",\"\",questionario!$C$8)))","v":""},{"$f":"IF(G121=\"\",\"\",(IF(questionario!$C$15=\"\",\"\",questionario!$C$15)))","v":""},{"$f":"IF(G121=\"\",\"\",(IF(questionario!$L$8=\"\",\"\",questionario!$L$8)))","v":""},{"$f":"IF(C121=\"\",\"\",(IF(questionario!$L$11=\"\",\"\",questionario!$L$11)))","v":""},"X","2020",{"$f":"IF(aux_cadastros!$A$31=\"\",\"\",aux_cadastros!$A$31)","v":""},{"$f":"IFERROR((VLOOKUP(G121,questionario!$C$47:$D$66,2,0)),\"\")","v":""},{"$f":"IFERROR((VLOOKUP(G121,questionario!$Q$47:$R$66,2,0)),\"\")","v":""},2020,{"$f":"IF(G121=\"\",\"\",(IFERROR((INDEX(questionario!$A$23:$N$42,(MATCH((dados_exp!$G121&\"R$\"),questionario!$A$23:$A$42,0)),(MATCH(dados_exp!$J121,questionario!$A$22:$N$22,0)))),\"\")))","v":""},{"$f":"IF(G121=\"\",\"\",(IFERROR((INDEX(questionario!$Q$22:$AB$42,(MATCH(dados_exp!$G121,questionario!$Q$22:$Q$42,0)),(MATCH(dados_exp!$J121,questionario!$Q$22:$AB$22,0)))),\"\")))","v":""},{"$f":"IFERROR((INDEX(questionario!$B$47:$N$66,(MATCH((dados_exp!$G121&dados_exp!$H121),questionario!$B$47:$B$66,0)),(MATCH(dados_exp!$J121,questionario!$B$46:$N$46,0)))),\"\")","v":""},{"$f":"IFERROR((INDEX(questionario!$O$47:$AB$66,(MATCH((dados_exp!$G121&dados_exp!$I121),questionario!$O$47:$O$66,0)),(MATCH(dados_exp!$J121,questionario!$O$46:$AB$46,0)))),\"\")","v":""},"X",null,null,null,"X",null,null,null,"X",null,null,null,null,null,"X",null,null,null,"X"]
[{"$f":"IF(G122=\"\",\"\",(IF(questionario!$C$8=\"\",\"\",questionario!$C$8)))","v":""},{"$f":"IF(G122=\"\",\"\",(IF(questionario!$C$15=\"\",\"\",questionario!$C$15)))","v":""},{"$f":"IF(G122=\"\",\"\",(IF(questionario!$L$8=\"\",\"\",questionario!$L$8)))","v":""},{"$f":"IF(C122=\"\",\"\",(IF(questionario!$L$11=\"\",\"\",questionario!$L$11)))","v":""},"X","Açaí2021",{"$f":"IF(aux_cadastros!$A$2=\"\",\"\",aux_cadastros!$A$2)","v":"Açaí"},{"$f":"IFERROR((VLOOKUP(G122,questionario!$C$47:$D$66,2,0)),\"\")","v":""},{"$f":"IFERROR((VLOOKUP(G122,questionario!$Q$47:$R$66,2,0)),\"\")","v":""},{"$f":"questionario!$I$22","v":2021},{"$f":"IF(G122=\"\",\"\",(IFERROR((INDEX(questionario!$A$23:$N$42,(MATCH((dados_exp!$G122&\"R$\"),questionario!$A$23:$A$42,0)),(MATCH(dados_exp!$J122,questionario!$A$22:$N$22,0)))),\"\")))","v":""},{"$f":"IF(G122=\"\",\"\",(IFERROR((INDEX(questionario!$Q$22:$AB$42,(MATCH(dados_exp!$G122,questionario!$Q$22:$Q$42,0)),(MATCH(dados_exp!$J122,questionario!$Q$22:$AB$22,0)))),\"\")))","v":""},{"$f":"IFERROR((INDEX(questionario!$B$47:$N$66,(MATCH((dados_exp!$G122&dados_exp!$H122),questionario!$B$47:$B$66,0)),(MATCH(dados_exp!$J122,questionario!$B$46:$N$46,0)))),\"\")","v":""},{"$f":"IFERROR((INDEX(questionario!$O$47:$AB$66,(MATCH((dados_exp!$G122&dados_exp!$I122),questionario!$O$47:$O$66,0)),(MATCH(dados_exp!$J122,questionario!$O$46:$AB$46,0)))),\"\")","v":""},"X",null,null,null,"X",null,null,null,"X",null,null,null,null,null,"X",null,null,null,"X"]
[{"$f":"IF(G123=\"\",\"\",(IF(questionario!$C$8=\"\",\"\",questionario!$C$8)))","v":""},{"$f":"IF(G123=\"\",\"\",(IF(questionario!$C$15=\"\",\"\",questionario!$C$15)))","v":""},{"$f":"IF(G123=\"\",\"\",(IF(questionario!$L$8=\"\",\"\",questionario!$L$8)))","v":""},{"$f":"IF(C123=\"\",\"\",(IF(questionario!$L$11=\"\",\"\",questionario!$L$11)))","v":""},"X","Aquicultura2021",{"$f":"IF(aux_cadastros!$A$3=\"\",\"\",aux_cadastros!$A$3)","v":"Aquicultura"},{"$f":"IFERROR((VLOOKUP(G123,questionario!$C$47:$D$66,2,0)),\"\")","v":""},{"$f":"IFERROR((VLOOKUP(G123,questionario!$Q$47:$R$66,2,0)),\"\")","v":""},{"$f":"J122","v":2021},{"$f":"IF(G123=\"\",\"\",(IFERROR((INDEX(questionario!$A$23:$N$42,(MATCH((dados_exp!$G123&\"R$\"),questionario!$A$23:$A$42,0)),(MATCH(dados_exp!$J123,questionario!$A$22:$N$22,0)))),\"\")))","v":""},{"$f":"IF(G123=\"\",\"\",(IFERROR((INDEX(questionario!$Q$22:$AB$42,(MATCH(dados_exp!$G123,questionario!$Q$22:$Q$42,0)),(MATCH(dados_exp!$J123,questionario!$Q$22:$AB$22,0)))),\"\")))","v":""},{"$f":"IFERROR((INDEX(questionario!$B$47:$N$66,(MATCH((dados_exp!$G123&dados_exp!$H123),questionario!$B$47:$B$66,0)),(MATCH(dados_exp!$J123,questionario!$B$46:$N$46,0)))),\"\")","v":""},{"$f":"IFERROR((INDEX(questionario!$O$47:$AB$66,(MATCH((dados_exp!$G123&dados_exp!$I123),questionario!$O$47:$O$66,0)),(MATCH(dados_exp!$J123,questionario!$O$46:$AB$46,0)))),\"\")","v":""},"X",null,null,null,"X",null,null,null,"X",null,null,null,null,null,"X",null,null,null,"X"]
[{"$f":"IF(G124=\"\",\"\",(IF(questionario!$C$8=\"\",\"\",questionario!$C$8)))","v":""},{"$f":"IF(G124=\"\",\"\",(IF(questionario!$C$15=\"\",\"\",questionario!$C$15)))","v":""},{"$f":"IF(G124=\"\",\"\",(IF(questionario!$L$8=\"\",\"\",questionario!$L$8)))","v":""},{"$f":"IF(C124=\"\",\"\",(IF(questionario!$L$11=\"\",\"\",questionario!$L$11)))","v":""},"X","Artesanato2021",{"$f":"IF(aux_cadastros!$A$4=\"\",\"\",aux_cadastros!$A$4)","v":"Artesanato"},{"$f":"IFERROR((VLOOKUP(G124,questionario!$C$47:$D$66,2,0)),\"\")","v":""},{"$f":"IFERROR((VLOOKUP(G124,questionario!$Q$47:$R$66,2,0)),\"\")","v":""},{"$f":"J123","v":2021},{"$f":"IF(G124=\"\",\"\",(IFERROR((INDEX(questionario!$A$23:$N$42,(MATCH((dados_exp!$G124&\"R$\"),questionario!$A$23:$A$42,0)),(MATCH(dados_exp!$J124,questionario!$A$22:$N$22,0)))),\"\")))","v":""},{"$f":"IF(G124=\"\",\"\",(IFERROR((INDEX(questionario!$Q$22:$AB$42,(MATCH(dados_exp!$G124,questionario!$Q$22:$Q$42,0)),(MATCH(dados_exp!$J124,questionario!$Q$22:$AB$22,0)))),\"\")))","v":""},{"$f":"IFERROR((INDEX(questionario!$B$47:$N$66,(MATCH((dados_exp!$G124&dados_exp!$H124),questionario!$B$47:$B$66,0)),(MATCH(dados_exp!$J124,questionario!$B$46:$N$46,0)))),\"\")","v":""},{"$f":"IFERROR((INDEX(questionario!$O$47:$AB$66,(MATCH((dados_exp!$G124&dados_exp!$I124),questionario!$O$47:$O$66,0)),(MATCH(dados_exp!$J124,questionario!$O$46:$AB$46,0)))),\"\")","v":""},"X",null,null,null,"X",null,null,null,"X",null,null,null,null,null,"X",null,null,null,"X"]
[{"$f":"IF(G125=\"\",\"\",(IF(questionario!$C$8=\"\",\"\",questionario!$C$8)))","v":""},{"$f":"IF(G125=\"\",\"\",(IF(questionario!$C$15=\"\",\"\",questionario!$C$15)))","v":""},{"$f":"IF(G125=\"\",\"\",(IF(questionario!$L$8=\"\",\"\",questionario!$L$8)))","v":""},{"$f":"IF(C125=\"\",\"\",(IF(questionario!$L$11=\"\",\"\",questionario!$L$11)))","v":""},"X","Babaçu2021",{"$f":"IF(aux_cadastros!$A$5=\"\",\"\",aux_cadastros!$A$5)","v":"Babaçu"},{"$f":"IFERROR((VLOOKUP(G125,questionario!$C$47:$D$66,2,0)),\"\")","v":""},{"$f":"IFERROR((VLOOKUP(G125,questionario!$Q$47:$R$66,2,0)),\"\")","v":""},2021,{"$f":"IF(G125=\"\",\"\",(IFERROR((INDEX(questionario!$A$23:$N$42,(MATCH((dados_exp!$G125&\"R$\"),questionario!$A$23:$A$42,0)),(MATCH(dados_exp!$J125,questionario!$A$22:$N$22,0)))),\"\")))","v":""},{"$f":"IF(G125=\"\",\"\",(IFERROR((INDEX(questionario!$Q$22:$AB$42,(MATCH(dados_exp!$G125,questionario!$Q$22:$Q$42,0)),(MATCH(dados_exp!$J125,questionario!$Q$22:$AB$22,0)))),\"\")))","v":""},{"$f":"IFERROR((INDEX(questionario!$B$47:$N$66,(MATCH((dados_exp!$G125&dados_exp!$H125),questionario!$B$47:$B$66,0)),(MATCH(dados_exp!$J125,questionario!$B$46:$N$46,0)))),\"\")","v":""},{"$f":"IFERROR((INDEX(questionario!$O$47:$AB$66,(MATCH((dados_exp!$G125&dados_exp!$I125),questionario!$O$47:$O$66,0)),(MATCH(dados_exp!$J125,questionario!$O$46:$AB$46,0)))),\"\")","v":""},"X",null,null,null,"X",null,null,null,"X",null,null,null,null,null,"X",null,null,null,"X"]
[{"$f":"IF(G126=\"\",\"\",(IF(questionario!$C$8=\"\",\"\",questionario!$C$8)))","v":""},{"$f":"IF(G126=\"\",\"\",(IF(questionario!$C$15=\"\",\"\",questionario!$C$15)))","v":""},{"$f":"IF(G126=\"\",\"\",(IF(questionario!$L$8=\"\",\"\",questionario!$L$8)))","v":""},{"$f":"IF(C126=\"\",\"\",(IF(questionario!$L$11=\"\",\"\",questionario!$L$11)))","v":""},"X","Borrachas2021",{"$f":"IF(aux_cadastros!$A$6=\"\",\"\",aux_cadastros!$A$6)","v":"Borrachas"},{"$f":"IFERROR((VLOOKUP(G126,questionario!$C$47:$D$66,2,0)),\"\")","v":""},{"$f":"IFERROR((VLOOKUP(G126,questionario!$Q$47:$R$66,2,0)),\"\")","v":""},2021,{"$f":"IF(G126=\"\",\"\",(IFERROR((INDEX(questionario!$A$23:$N$42,(MATCH((dados_exp!$G126&\"R$\"),questionario!$A$23:$A$42,0)),(MATCH(dados_exp!$J126,questionario!$A$22:$N$22,0)))),\"\")))","v":""},{"$f":"IF(G126=\"\",\"\",(IFERROR((INDEX(questionario!$Q$22:$AB$42,(MATCH(dados_exp!$G126,questionario!$Q$22:$Q$42,0)),(MATCH(dados_exp!$J126,questionario!$Q$22:$AB$22,0)))),\"\")))","v":""},{"$f":"IFERROR((INDEX(questionario!$B$47:$N$66,(MATCH((dados_exp!$G126&dados_exp!$H126),questionario!$B$47:$B$66,0)),(MATCH(dados_exp!$J126,questionario!$B$46:$N$46,0)))),\"\")","v":""},{"$f":"IFERROR((INDEX(questionario!$O$47:$AB$66,(MATCH((dados_exp!$G126&dados_exp!$I126),questionario!$O$47:$O$66,0)),(MATCH(dados_exp!$J126,questionario!$O$46:$AB$46,0)))),\"\")","v":""},"X",null,null,null,"X",null,null,null,"X",null,null,null,null,null,"X",null,null,null,"X"]
[{"$f":"IF(G127=\"\",\"\",(IF(questionario!$C$8=\"\",\"\",questionario!$C$8)))","v":""},{"$f":"IF(G127=\"\",\"\",(IF(questionario!$C$15=\"\",\"\",questionario!$C$15)))","v":""},{"$f":"IF(G127=\"\",\"\",(IF(questionario!$L$8=\"\",\"\",questionario!$L$8)))","v":""},{"$f":"IF(C127=\"\",\"\",(IF(questionario!$L$11=\"\",\"\",questionario!$L$11)))","v":""},"X","Cacau2021",{"$f":"IF(aux_cadastros!$A$7=\"\",\"\",aux_cadastros!$A$7)","v":"Cacau"},{"$f":"IFERROR((VLOOKUP(G127,questionario!$C$47:$D$66,2,0)),\"\")","v":""},{"$f":"IFERROR((VLOOKUP(G127,questionario!$Q$47:$R$66,2,0)),\"\")","v":""},2021,{"$f":"IF(G127=\"\",\"\",(IFERROR((INDEX(questionario!$A$23:$N$42,(MATCH((dados_exp!$G127&\"R$\"),questionario!$A$23:$A$42,0)),(MATCH(dados_exp!$J127,questionario!$A$22:$N$22,0)))),\"\")))","v":""},{"$f":"IF(G127=\"\",\"\",(IFERROR((INDEX(questionario!$Q$22:$AB$42,(MATCH(dados_exp!$G127,questionario!$Q$22:$Q$42,0)),(MATCH(dados_exp!$J127,questionario!$Q$22:$AB$22,0)))),\"\")))","v":""},{"$f":"IFERROR((INDEX(questionario!$B$47:$N$66,(MATCH((dados_exp!$G127&dados_exp!$H127),questionario!$B$47:$B$66,0)),(MATCH(dados_exp!$J127,questionario!$B$46:$N$46,0)))),\"\")","v":""},{"$f":"IFERROR((INDEX(questionario!$O$47:$AB$66,(MATCH((dados_exp!$G127&dados_exp!$I127),questionario!$O$47:$O$66,0)),(MATCH(dados_exp!$J127,questionario!$O$46:$AB$46,0)))),\"\")","v":""},"X",null,null,null,"X",null,null,null,"X",null,null,null,null,null,"X",null,null,null,"X"]
[{"$f":"IF(G128=\"\",\"\",(IF(questionario!$C$8=\"\",\"\",questionario!$C$8)))","v":""},{"$f":"IF(G128=\"\",\"\",(IF(questionario!$C$15=\"\",\"\",questionario!$C$15)))","v":""},{"$f":"IF(G128=\"\",\"\",(IF(questionario!$L$8=\"\",\"\",questionario!$L$8)))","v":""},{"$f":"IF(C128=\"\",\"\",(IF(questionario!$L$11=\"\",\"\",questionario!$L$11)))","v":""},"X","Castanha2021",{"$f":"IF(aux_cadastros!$A$8=\"\",\"\",aux_cadastros!$A$8)","v":"Castanha"},{"$f":"IFERROR((VLOOKUP(G128,questionario!$C$47:$D$66,2,0)),\"\")","v":""},{"$f":"IFERROR((VLOOKUP(G128,questionario!$Q$47:$R$66,2,0)),\"\")","v":""},2021,{"$f":"IF(G128=\"\",\"\",(IFERROR((INDEX(questionario!$A$23:$N$42,(MATCH((dados_exp!$G128&\"R$\"),questionario!$A$23:$A$42,0)),(MATCH(dados_exp!$J128,questionario!$A$22:$N$22,0)))),\"\")))","v":""},{"$f":"IF(G128=\"\",\"\",(IFERROR((INDEX(questionario!$Q$22:$AB$42,(MATCH(dados_exp!$G128,questionario!$Q$22:$Q$42,0)),(MATCH(dados_exp!$J128,questionario!$Q$22:$AB$22,0)))),\"\")))","v":""},{"$f":"IFERROR((INDEX(questionario!$B$47:$N$66,(MATCH((dados_exp!$G128&dados_exp!$H128),questionario!$B$47:$B$66,0)),(MATCH(dados_exp!$J128,questionario!$B$46:$N$46,0)))),\"\")","v":""},{"$f":"IFERROR((INDEX(questionario!$O$47:$AB$66,(MATCH((dados_exp!$G128&dados_exp!$I128),questionario!$O$47:$O$66,0)),(MATCH(dados_exp!$J128,questionario!$O$46:$AB$46,0)))),\"\")","v":""},"X",null,null,null,"X",null,null,null,"X",null,null,null,null,null,"X",null,null,null,"X"]
[{"$f":"IF(G129=\"\",\"\",(IF(questionario!$C$8=\"\",\"\",questionario!$C$8)))","v":""},{"$f":"IF(G129=\"\",\"\",(IF(questionario!$C$15=\"\",\"\",questionario!$C$15)))","v":""},{"$f":"IF(G129=\"\",\"\",(IF(questionario!$L$8=\"\",\"\",questionario!$L$8)))","v":""},{"$f":"IF(C129=\"\",\"\",(IF(questionario!$L$11=\"\",\"\",questionario!$L$11)))","v":""},"X","Copaíba2021",{"$f":"IF(aux_cadastros!$A$9=\"\",\"\",aux_cadastros!$A$9)","v":"Copaíba"},{"$f":"IFERROR((VLOOKUP(G129,questionario!$C$47:$D$66,2,0)),\"\")","v":""},{"$f":"IFERROR((VLOOKUP(G129,questionario!$Q$47:$R$66,2,0)),\"\")","v":""},2021,{"$f":"IF(G129=\"\",\"\",(IFERROR((INDEX(questionario!$A$23:$N$42,(MATCH((dados_exp!$G129&\"R$\"),questionario!$A$23:$A$42,0)),(MATCH(dados_exp!$J129,questionario!$A$22:$N$22,0)))),\"\")))","v":""},{"$f":"IF(G129=\"\",\"\",(IFERROR((INDEX(questionario!$Q$22:$AB$42,(MATCH(dados_exp!$G129,questionario!$Q$22:$Q$42,0)),(MATCH(dados_exp!$J129,questionario!$Q$22:$AB$22,0)))),\"\")))","v":""},{"$f":"IFERROR((INDEX(questionario!$B$47:$N$66,(MATCH((dados_exp!$G129&dados_exp!$H129),questionario!$B$47:$B$66,0)),(MATCH(dados_exp!$J129,questionario!$B$46:$N$46,0)))),\"\")","v":""},{"$f":"IFERROR((INDEX(questionario!$O$47:$AB$66,(MATCH((dados_exp!$G129&dados_exp!$I129),questionario!$O$47:$O$66,0)),(MATCH(dados_exp!$J129,questionario!$O$46:$AB$46,0)))),\"\")","v":""},"X",null,null,null,"X",null,null,null,"X",null,null,null,null,null,"X",null,null,null,"X"]
[{"$f":"IF(G130=\"\",\"\",(IF(questionario!$C$8=\"\",\"\",questionario!$C$8)))","v":""},{"$f":"IF(G130=\"\",\"\",(IF(questionario!$C$15=\"\",\"\",questionario!$C$15)))","v":""},{"$f":"IF(G130=\"\",\"\",(IF(questionario!$L$8=\"\",\"\",questionario!$L$8)))","v":""},{"$f":"IF(C130=\"\",\"\",(IF(questionario!$L$11=\"\",\"\",questionario!$L$11)))","v":""},"X","Fibras2021",{"$f":"IF(aux_cadastros!$A$10=\"\",\"\",aux_cadastros!$A$10)","v":"Fibras"},{"$f":"IFERROR((VLOOKUP(G130,questionario!$C$47:$D$66,2,0)),\"\")","v":""},{"$f":"IFERROR((VLOOKUP(G130,questionario!$Q$47:$R$66,2,0)),\"\")","v":""},2021,{"$f":"IF(G130=\"\",\"\",(IFERROR((INDEX(questionario!$A$23:$N$42,(MATCH((dados_exp!$G130&\"R$\"),questionario!$A$23:$A$42,0)),(MATCH(dados_exp!$J130,questionario!$A$22:$N$22,0)))),\"\")))","v":""},{"$f":"IF(G130=\"\",\"\",(IFERROR((INDEX(questionario!$Q$22:$AB$42,(MATCH(dados_exp!$G130,questionario!$Q$22:$Q$42,0)),(MATCH(dados_exp!$J130,questionario!$Q$22:$AB$22,0)))),\"\")))","v":""},{"$f":"IFERROR((INDEX(questionario!$B$47:$N$66,(MATCH((dados_exp!$G130&dados_exp!$H130),questionario!$B$47:$B$66,0)),(MATCH(dados_exp!$J130,questionario!$B$46:$N$46,0)))),\"\")","v":""},{"$f":"IFERROR((INDEX(questionario!$O$47:$AB$66,(MATCH((dados_exp!$G130&dados_exp!$I130),questionario!$O$47:$O$66,0)),(MATCH(dados_exp!$J130,questionario!$O$46:$AB$46,0)))),\"\")","v":""},"X",null,null,null,"X",null,null,null,"X",null,null,null,null,null,"X",null,null,null,"X"]
[{"$f":"IF(G131=\"\",\"\",(IF(questionario!$C$8=\"\",\"\",questionario!$C$8)))","v":""},{"$f":"IF(G131=\"\",\"\",(IF(questionario!$C$15=\"\",\"\",questionario!$C$15)))","v":""},{"$f":"IF(G131=\"\",\"\",(IF(questionario!$L$8=\"\",\"\",questionario!$L$8)))","v":""},{"$f":"IF(C131=\"\",\"\",(IF(questionario!$L$11=\"\",\"\",questionario!$L$11)))","v":""},"X",{"$f":"G131&J131","v":"Guaraná2021"},{"$f":"IF(aux_cadastros!$A$11=\"\",\"\",aux_cadastros!$A$11)","v":"Guaraná"},{"$f":"IFERROR((VLOOKUP(G131,questionario!$C$47:$D$66,2,0)),\"\")","v":""},{"$f":"IFERROR((VLOOKUP(G131,questionario!$Q$47:$R$66,2,0)),\"\")","v":""},2021,{"$f":"IF(G131=\"\",\"\",(IFERROR((INDEX(questionario!$A$23:$N$42,(MATCH((dados_exp!$G131&\"R$\"),questionario!$A$23:$A$42,0)),(MATCH(dados_exp!$J131,questionario!$A$22:$N$22,0)))),\"\")))","v":""},{"$f":"IF(G131=\"\",\"\",(IFERROR((INDEX(questionario!$Q$22:$AB$42,(MATCH(dados_exp!$G131,questionario!$Q$22:$Q$42,0)),(MATCH(dados_exp!$J131,questionario!$Q$22:$AB$22,0)))),\"\")))","v":""},{"$f":"IFERROR((INDEX(questionario!$B$47:$N$66,(MATCH((dados_exp!$G131&dados_exp!$H131),questionario!$B$47:$B$66,0)),(MATCH(dados_exp!$J131,questionario!$B$46:$N$46,0)))),\"\")","v":""},{"$f":"IFERROR((INDEX(questionario!$O$47:$AB$66,(MATCH((dados_exp!$G131&dados_exp!$I131),questionario!$O$47:$O$66,0)),(MATCH(dados_exp!$J131,questionario!$O$46:$AB$46,0)))),\"\")","v":""},"X",null,null,null,"X",null,null,null,"X",null,null,null,null,null,"X",null,null,null,"X"]
[{"$f":"IF(G132=\"\",\"\",(IF(questionario!$C$8=\"\",\"\",questionario!$C$8)))","v":""},{"$f":"IF(G132=\"\",\"\",(IF(questionario!$C$15=\"\",\"\",questionario!$C$15)))","v":""},{"$f":"IF(G132=\"\",\"\",(IF(questionario!$L$8=\"\",\"\",questionario!$L$8)))","v":""},{"$f":"IF(C132=\"\",\"\",(IF(questionario!$L$11=\"\",\"\",questionario!$L$11)))","v":""},"X","Madeira2021",{"$f":"IF(aux_cadastros!$A$12=\"\",\"\",aux_cadastros!$A$12)","v":"Madeira"},{"$f":"IFERROR((VLOOKUP(G132,questionario!$C$47:$D$66,2,0)),\"\")","v":""},{"$f":"IFERROR((VLOOKUP(G132,questionario!$Q$47:$R$66,2,0)),\"\")","v":""},2021,{"$f":"IF(G132=\"\",\"\",(IFERROR((INDEX(questionario!$A$23:$N$42,(MATCH((dados_exp!$G132&\"R$\"),questionario!$A$23:$A$42,0)),(MATCH(dados_exp!$J132,questionario!$A$22:$N$22,0)))),\"\")))","v":""},{"$f":"IF(G132=\"\",\"\",(IFERROR((INDEX(questionario!$Q$22:$AB$42,(MATCH(dados_exp!$G132,questionario!$Q$22:$Q$42,0)),(MATCH(dados_exp!$J132,questionario!$Q$22:$AB$22,0)))),\"\")))","v":""},{"$f":"IFERROR((INDEX(questionario!$B$47:$N$66,(MATCH((dados_exp!$G132&dados_exp!$H132),questionario!$B$47:$B$66,0)),(MATCH(dados_exp!$J132,questionario!$B$46:$N$46,0)))),\"\")","v":""},{"$f":"IFERROR((INDEX(questionario!$O$47:$AB$66,(MATCH((dados_exp!$G132&dados_exp!$I132),questionario!$O$47:$O$66,0)),(MATCH(dados_exp!$J132,questionario!$O$46:$AB$46,0)))),\"\")","v":""},"X",null,null,null,"X",null,null,null,"X",null,null,null,null,null,"X",null,null,null,"X"]
[{"$f":"IF(G133=\"\",\"\",(IF(questionario!$C$8=\"\",\"\",questionario!$C$8)))","v":""},{"$f":"IF(G133=\"\",\"\",(IF(questionario!$C$15=\"\",\"\",questionario!$C$15)))","v":""},{"$f":"IF(G133=\"\",\"\",(IF(questionario!$L$8=\"\",\"\",questionario!$L$8)))","v":""},{"$f":"IF(C133=\"\",\"\",(IF(questionario!$L$11=\"\",\"\",questionario!$L$11)))","v":""},"X","Mel2021",{"$f":"IF(aux_cadastros!$A$13=\"\",\"\",aux_cadastros!$A$13)","v":"Mel"},{"$f":"IFERROR((VLOOKUP(G133,questionario!$C$47:$D$66,2,0)),\"\")","v":""},{"$f":"IFERROR((VLOOKUP(G133,questionario!$Q$47:$R$66,2,0)),\"\")","v":""},2021,{"$f":"IF(G133=\"\",\"\",(IFERROR((INDEX(questionario!$A$23:$N$42,(MATCH((dados_exp!$G133&\"R$\"),questionario!$A$23:$A$42,0)),(MATCH(dados_exp!$J133,questionario!$A$22:$N$22,0)))),\"\")))","v":""},{"$f":"IF(G133=\"\",\"\",(IFERROR((INDEX(questionario!$Q$22:$AB$42,(MATCH(dados_exp!$G133,questionario!$Q$22:$Q$42,0)),(MATCH(dados_exp!$J133,questionario!$Q$22:$AB$22,0)))),\"\")))","v":""},{"$f":"IFERROR((INDEX(questionario!$B$47:$N$66,(MATCH((dados_exp!$G133&dados_exp!$H133),questionario!$B$47:$B$66,0)),(MATCH(dados_exp!$J133,questionario!$B$46:$N$46,0)))),\"\")","v":""},{"$f":"IFERROR((INDEX(questionario!$O$47:$AB$66,(MATCH((dados_exp!$G133&dados_exp!$I133),questionario!$O$47:$O$66,0)),(MATCH(dados_exp!$J133,questionario!$O$46:$AB$46,0)))),\"\")","v":""},"X",null,null,null,"X",null,null,null,"X",null,null,null,null,null,"X",null,null,null,"X"]
[{"$f":"IF(G134=\"\",\"\",(IF(questionario!$C$8=\"\",\"\",questionario!$C$8)))","v":""},{"$f":"IF(G134=\"\",\"\",(IF(questionario!$C$15=\"\",\"\",questionario!$C$15)))","v":""},{"$f":"IF(G134=\"\",\"\",(IF(questionario!$L$8=\"\",\"\",questionario!$L$8)))","v":""},{"$f":"IF(C134=\"\",\"\",(IF(questionario!$L$11=\"\",\"\",questionario!$L$11)))","v":""},"X","Oleaginosas2021",{"$f":"IF(aux_cadastros!$A$14=\"\",\"\",aux_cadastros!$A$14)","v":"Oleaginosas"},{"$f":"IFERROR((VLOOKUP(G134,questionario!$C$47:$D$66,2,0)),\"\")","v":""},{"$f":"IFERROR((VLOOKUP(G134,questionario!$Q$47:$R$66,2,0)),\"\")","v":""},2021,{"$f":"IF(G134=\"\",\"\",(IFERROR((INDEX(questionario!$A$23:$N$42,(MATCH((dados_exp!$G134&\"R$\"),questionario!$A$23:$A$42,0)),(MATCH(dados_exp!$J134,questionario!$A$22:$N$22,0)))),\"\")))","v":""},{"$f":"IF(G134=\"\",\"\",(IFERROR((INDEX(questionario!$Q$22:$AB$42,(MATCH(dados_exp!$G134,questionario!$Q$22:$Q$42,0)),(MATCH(dados_exp!$J134,questionario!$Q$22:$AB$22,0)))),\"\")))","v":""},{"$f":"IFERROR((INDEX(questionario!$B$47:$N$66,(MATCH((dados_exp!$G134&dados_exp!$H134),questionario!$B$47:$B$66,0)),(MATCH(dados_exp!$J134,questionario!$B$46:$N$46,0)))),\"\")","v":""},{"$f":"IFERROR((INDEX(questionario!$O$47:$AB$66,(MATCH((dados_exp!$G134&dados_exp!$I134),questionario!$O$47:$O$66,0)),(MATCH(dados_exp!$J134,questionario!$O$46:$AB$46,0)))),\"\")","v":""},"X",null,null,null,"X",null,null,null,"X",null,null,null,null,null,"X",null,null,null,"X"]
[{"$f":"IF(G135=\"\",\"\",(IF(questionario!$C$8=\"\",\"\",questionario!$C$8)))","v":""},{"$f":"IF(G135=\"\",\"\",(IF(questionario!$C$15=\"\",\"\",questionario!$C$15)))","v":""},{"$f":"IF(G135=\"\",\"\",(IF(questionario!$L$8=\"\",\"\",questionario!$L$8)))","v":""},{"$f":"IF(C135=\"\",\"\",(IF(questionario!$L$11=\"\",\"\",questionario!$L$11)))","v":""},"X","Óleos2021",{"$f":"IF(aux_cadastros!$A$15=\"\",\"\",aux_cadastros!$A$15)","v":"Óleos"},{"$f":"IFERROR((VLOOKUP(G135,questionario!$C$47:$D$66,2,0)),\"\")","v":""},{"$f":"IFERROR((VLOOKUP(G135,questionario!$Q$47:$R$66,2,0)),\"\")","v":""},2021,{"$f":"IF(G135=\"\",\"\",(IFERROR((INDEX(questionario!$A$23:$N$42,(MATCH((dados_exp!$G135&\"R$\"),questionario!$A$23:$A$42,0)),(MATCH(dados_exp!$J135,questionario!$A$22:$N$22,0)))),\"\")))","v":""},{"$f":"IF(G135=\"\",\"\",(IFERROR((INDEX(questionario!$Q$22:$AB$42,(MATCH(dados_exp!$G135,questionario!$Q$22:$Q$42,0)),(MATCH(dados_exp!$J135,questionario!$Q$22:$AB$22,0)))),\"\")))","v":""},{"$f":"IFERROR((INDEX(questionario!$B$47:$N$66,(MATCH((dados_exp!$G135&dados_exp!$H135),questionario!$B$47:$B$66,0)),(MATCH(dados_exp!$J135,questionario!$B$46:$N$46,0)))),\"\")","v":""},{"$f":"IFERROR((INDEX(questionario!$O$47:$AB$66,(MATCH((dados_exp!$G135&dados_exp!$I135),questionario!$O$47:$O$66,0)),(MATCH(dados_exp!$J135,questionario!$O$46:$AB$46,0)))),\"\")","v":""},"X",null,null,null,"X",null,null,null,"X",null,null,null,null,null,"X",null,null,null,"X"]
[{"$f":"IF(G136=\"\",\"\",(IF(questionario!$C$8=\"\",\"\",questionario!$C$8)))","v":""},{"$f":"IF(G136=\"\",\"\",(IF(questionario!$C$15=\"\",\"\",questionario!$C$15)))","v":""},{"$f":"IF(G136=\"\",\"\",(IF(questionario!$L$8=\"\",\"\",questionario!$L$8)))","v":""},{"$f":"IF(C136=\"\",\"\",(IF(questionario!$L$11=\"\",\"\",questionario!$L$11)))","v":""},"X","Pescado2021",{"$f":"IF(aux_cadastros!$A$16=\"\",\"\",aux_cadastros!$A$16)","v":"Pescado"},{"$f":"IFERROR((VLOOKUP(G136,questionario!$C$47:$D$66,2,0)),\"\")","v":""},{"$f":"IFERROR((VLOOKUP(G136,questionario!$Q$47:$R$66,2,0)),\"\")","v":""},2021,{"$f":"IF(G136=\"\",\"\",(IFERROR((INDEX(questionario!$A$23:$N$42,(MATCH((dados_exp!$G136&\"R$\"),questionario!$A$23:$A$42,0)),(MATCH(dados_exp!$J136,questionario!$A$22:$N$22,0)))),\"\")))","v":""},{"$f":"IF(G136=\"\",\"\",(IFERROR((INDEX(questionario!$Q$22:$AB$42,(MATCH(dados_exp!$G136,questionario!$Q$22:$Q$42,0)),(MATCH(dados_exp!$J136,questionario!$Q$22:$AB$22,0)))),\"\")))","v":""},{"$f":"IFERROR((INDEX(questionario!$B$47:$N$66,(MATCH((dados_exp!$G136&dados_exp!$H136),questionario!$B$47:$B$66,0)),(MATCH(dados_exp!$J136,questionario!$B$46:$N$46,0)))),\"\")","v":""},{"$f":"IFERROR((INDEX(questionario!$O$47:$AB$66,(MATCH((dados_exp!$G136&dados_exp!$I136),questionario!$O$47:$O$66,0)),(MATCH(dados_exp!$J136,questionario!$O$46:$AB$46,0)))),\"\")","v":""},"X",null,null,null,"X",null,null,null,"X",null,null,null,null,null,"X",null,null,null,"X"]
[{"$f":"IF(G137=\"\",\"\",(IF(questionario!$C$8=\"\",\"\",questionario!$C$8)))","v":""},{"$f":"IF(G137=\"\",\"\",(IF(questionario!$C$15=\"\",\"\",questionario!$C$15)))","v":""},{"$f":"IF(G137=\"\",\"\",(IF(questionario!$L$8=\"\",\"\",questionario!$L$8)))","v":""},{"$f":"IF(C137=\"\",\"\",(IF(questionario!$L$11=\"\",\"\",questionario!$L$11)))","v":""},"X","Turismo2021",{"$f":"IF(aux_cadastros!$A$17=\"\",\"\",aux_cadastros!$A$17)","v":"Turismo"},{"$f":"IFERROR((VLOOKUP(G137,questionario!$C$47:$D$66,2,0)),\"\")","v":""},{"$f":"IFERROR((VLOOKUP(G137,questionario!$Q$47:$R$66,2,0)),\"\")","v":""},2021,{"$f":"IF(G137=\"\",\"\",(IFERROR((INDEX(questionario!$A$23:$N$42,(MATCH((dados_exp!$G137&\"R$\"),questionario!$A$23:$A$42,0)),(MATCH(dados_exp!$J137,questionario!$A$22:$N$22,0)))),\"\")))","v":""},{"$f":"IF(G137=\"\",\"\",(IFERROR((INDEX(questionario!$Q$22:$AB$42,(MATCH(dados_exp!$G137,questionario!$Q$22:$Q$42,0)),(MATCH(dados_exp!$J137,questionario!$Q$22:$AB$22,0)))),\"\")))","v":""},{"$f":"IFERROR((INDEX(questionario!$B$47:$N$66,(MATCH((dados_exp!$G137&dados_exp!$H137),questionario!$B$47:$B$66,0)),(MATCH(dados_exp!$J137,questionario!$B$46:$N$46,0)))),\"\")","v":""},{"$f":"IFERROR((INDEX(questionario!$O$47:$AB$66,(MATCH((dados_exp!$G137&dados_exp!$I137),questionario!$O$47:$O$66,0)),(MATCH(dados_exp!$J137,questionario!$O$46:$AB$46,0)))),\"\")","v":""},"X",null,null,null,"X",null,null,null,"X",null,null,null,null,null,"X",null,null,null,"X"]
[{"$f":"IF(G138=\"\",\"\",(IF(questionario!$C$8=\"\",\"\",questionario!$C$8)))","v":""},{"$f":"IF(G138=\"\",\"\",(IF(questionario!$C$15=\"\",\"\",questionario!$C$15)))","v":""},{"$f":"IF(G138=\"\",\"\",(IF(questionario!$L$8=\"\",\"\",questionario!$L$8)))","v":""},{"$f":"IF(C138=\"\",\"\",(IF(questionario!$L$11=\"\",\"\",questionario!$L$11)))","v":""},"X","Agricultura de base familiar2021",{"$f":"IF(aux_cadastros!$A$18=\"\",\"\",aux_cadastros!$A$18)","v":"Agricultura de base familiar"},{"$f":"IFERROR((VLOOKUP(G138,questionario!$C$47:$D$66,2,0)),\"\")","v":""},{"$f":"IFERROR((VLOOKUP(G138,questionario!$Q$47:$R$66,2,0)),\"\")","v":""},2021,{"$f":"IF(G138=\"\",\"\",(IFERROR((INDEX(questionario!$A$23:$N$42,(MATCH((dados_exp!$G138&\"R$\"),questionario!$A$23:$A$42,0)),(MATCH(dados_exp!$J138,questionario!$A$22:$N$22,0)))),\"\")))","v":""},{"$f":"IF(G138=\"\",\"\",(IFERROR((INDEX(questionario!$Q$22:$AB$42,(MATCH(dados_exp!$G138,questionario!$Q$22:$Q$42,0)),(MATCH(dados_exp!$J138,questionario!$Q$22:$AB$22,0)))),\"\")))","v":""},{"$f":"IFERROR((INDEX(questionario!$B$47:$N$66,(MATCH((dados_exp!$G138&dados_exp!$H138),questionario!$B$47:$B$66,0)),(MATCH(dados_exp!$J138,questionario!$B$46:$N$46,0)))),\"\")","v":""},{"$f":"IFERROR((INDEX(questionario!$O$47:$AB$66,(MATCH((dados_exp!$G138&dados_exp!$I138),questionario!$O$47:$O$66,0)),(MATCH(dados_exp!$J138,questionario!$O$46:$AB$46,0)))),\"\")","v":""},"X",null,null,null,"X",null,null,null,"X",null,null,null,null,null,"X",null,null,null,"X"]
[{"$f":"IF(G139=\"\",\"\",(IF(questionario!$C$8=\"\",\"\",questionario!$C$8)))","v":""},{"$f":"IF(G139=\"\",\"\",(IF(questionario!$C$15=\"\",\"\",questionario!$C$15)))","v":""},{"$f":"IF(G139=\"\",\"\",(IF(questionario!$L$8=\"\",\"\",questionario!$L$8)))","v":""},{"$f":"IF(C139=\"\",\"\",(IF(questionario!$L$11=\"\",\"\",questionario!$L$11)))","v":""},"X","Pirarucu2021",{"$f":"IF(aux_cadastros!$A$19=\"\",\"\",aux_cadastros!$A$19)","v":"Pirarucu"},{"$f":"IFERROR((VLOOKUP(G139,questionario!$C$47:$D$66,2,0)),\"\")","v":""},{"$f":"IFERROR((VLOOKUP(G139,questionario!$Q$47:$R$66,2,0)),\"\")","v":""},2021,{"$f":"IF(G139=\"\",\"\",(IFERROR((INDEX(questionario!$A$23:$N$42,(MATCH((dados_exp!$G139&\"R$\"),questionario!$A$23:$A$42,0)),(MATCH(dados_exp!$J139,questionario!$A$22:$N$22,0)))),\"\")))","v":""},{"$f":"IF(G139=\"\",\"\",(IFERROR((INDEX(questionario!$Q$22:$AB$42,(MATCH(dados_exp!$G139,questionario!$Q$22:$Q$42,0)),(MATCH(dados_exp!$J139,questionario!$Q$22:$AB$22,0)))),\"\")))","v":""},{"$f":"IFERROR((INDEX(questionario!$B$47:$N$66,(MATCH((dados_exp!$G139&dados_exp!$H139),questionario!$B$47:$B$66,0)),(MATCH(dados_exp!$J139,questionario!$B$46:$N$46,0)))),\"\")","v":""},{"$f":"IFERROR((INDEX(questionario!$O$47:$AB$66,(MATCH((dados_exp!$G139&dados_exp!$I139),questionario!$O$47:$O$66,0)),(MATCH(dados_exp!$J139,questionario!$O$46:$AB$46,0)))),\"\")","v":""},"X",null,null,null,"X",null,null,null,"X",null,null,null,null,null,"X",null,null,null,"X"]
[{"$f":"IF(G140=\"\",\"\",(IF(questionario!$C$8=\"\",\"\",questionario!$C$8)))","v":""},{"$f":"IF(G140=\"\",\"\",(IF(questionario!$C$15=\"\",\"\",questionario!$C$15)))","v":""},{"$f":"IF(G140=\"\",\"\",(IF(questionario!$L$8=\"\",\"\",questionario!$L$8)))","v":""},{"$f":"IF(C140=\"\",\"\",(IF(questionario!$L$11=\"\",\"\",questionario!$L$11)))","v":""},"X","Bacalhau de Pirarucu2021",{"$f":"IF(aux_cadastros!$A$20=\"\",\"\",aux_cadastros!$A$20)","v":"Bacalhau de Pirarucu"},{"$f":"IFERROR((VLOOKUP(G140,questionario!$C$47:$D$66,2,0)),\"\")","v":""},{"$f":"IFERROR((VLOOKUP(G140,questionario!$Q$47:$R$66,2,0)),\"\")","v":""},2021,{"$f":"IF(G140=\"\",\"\",(IFERROR((INDEX(questionario!$A$23:$N$42,(MATCH((dados_exp!$G140&\"R$\"),questionario!$A$23:$A$42,0)),(MATCH(dados_exp!$J140,questionario!$A$22:$N$22,0)))),\"\")))","v":""},{"$f":"IF(G140=\"\",\"\",(IFERROR((INDEX(questionario!$Q$22:$AB$42,(MATCH(dados_exp!$G140,questionario!$Q$22:$Q$42,0)),(MATCH(dados_exp!$J140,questionario!$Q$22:$AB$22,0)))),\"\")))","v":""},{"$f":"IFERROR((INDEX(questionario!$B$47:$N$66,(MATCH((dados_exp!$G140&dados_exp!$H140),questionario!$B$47:$B$66,0)),(MATCH(dados_exp!$J140,questionario!$B$46:$N$46,0)))),\"\")","v":""},{"$f":"IFERROR((INDEX(questionario!$O$47:$AB$66,(MATCH((dados_exp!$G140&dados_exp!$I140),questionario!$O$47:$O$66,0)),(MATCH(dados_exp!$J140,questionario!$O$46:$AB$46,0)))),\"\")","v":""},"X",null,null,null,"X",null,null,null,"X",null,null,null,null,null,"X",null,null,null,"X"]
[{"$f":"IF(G141=\"\",\"\",(IF(questionario!$C$8=\"\",\"\",questionario!$C$8)))","v":""},{"$f":"IF(G141=\"\",\"\",(IF(questionario!$C$15=\"\",\"\",questionario!$C$15)))","v":""},{"$f":"IF(G141=\"\",\"\",(IF(questionario!$L$8=\"\",\"\",questionario!$L$8)))","v":""},{"$f":"IF(C141=\"\",\"\",(IF(questionario!$L$11=\"\",\"\",questionario!$L$11)))","v":""},"X","2021",{"$f":"IF(aux_cadastros!$A$21=\"\",\"\",aux_cadastros!$A$21)","v":""},{"$f":"IFERROR((VLOOKUP(G141,questionario!$C$47:$D$66,2,0)),\"\")","v":""},{"$f":"IFERROR((VLOOKUP(G141,questionario!$Q$47:$R$66,2,0)),\"\")","v":""},2021,{"$f":"IF(G141=\"\",\"\",(IFERROR((INDEX(questionario!$A$23:$N$42,(MATCH((dados_exp!$G141&\"R$\"),questionario!$A$23:$A$42,0)),(MATCH(dados_exp!$J141,questionario!$A$22:$N$22,0)))),\"\")))","v":""},{"$f":"IF(G141=\"\",\"\",(IFERROR((INDEX(questionario!$Q$22:$AB$42,(MATCH(dados_exp!$G141,questionario!$Q$22:$Q$42,0)),(MATCH(dados_exp!$J141,questionario!$Q$22:$AB$22,0)))),\"\")))","v":""},{"$f":"IFERROR((INDEX(questionario!$B$47:$N$66,(MATCH((dados_exp!$G141&dados_exp!$H141),questionario!$B$47:$B$66,0)),(MATCH(dados_exp!$J141,questionario!$B$46:$N$46,0)))),\"\")","v":""},{"$f":"IFERROR((INDEX(questionario!$O$47:$AB$66,(MATCH((dados_exp!$G141&dados_exp!$I141),questionario!$O$47:$O$66,0)),(MATCH(dados_exp!$J141,questionario!$O$46:$AB$46,0)))),\"\")","v":""},"X",null,null,null,"X",null,null,null,"X",null,null,null,null,null,"X",null,null,null,"X"]
[{"$f":"IF(G142=\"\",\"\",(IF(questionario!$C$8=\"\",\"\",questionario!$C$8)))","v":""},{"$f":"IF(G142=\"\",\"\",(IF(questionario!$C$15=\"\",\"\",questionario!$C$15)))","v":""},{"$f":"IF(G142=\"\",\"\",(IF(questionario!$L$8=\"\",\"\",questionario!$L$8)))","v":""},{"$f":"IF(C142=\"\",\"\",(IF(questionario!$L$11=\"\",\"\",questionario!$L$11)))","v":""},"X","2021",{"$f":"IF(aux_cadastros!$A$22=\"\",\"\",aux_cadastros!$A$22)","v":""},{"$f":"IFERROR((VLOOKUP(G142,questionario!$C$47:$D$66,2,0)),\"\")","v":""},{"$f":"IFERROR((VLOOKUP(G142,questionario!$Q$47:$R$66,2,0)),\"\")","v":""},2021,{"$f":"IF(G142=\"\",\"\",(IFERROR((INDEX(questionario!$A$23:$N$42,(MATCH((dados_exp!$G142&\"R$\"),questionario!$A$23:$A$42,0)),(MATCH(dados_exp!$J142,questionario!$A$22:$N$22,0)))),\"\")))","v":""},{"$f":"IF(G142=\"\",\"\",(IFERROR((INDEX(questionario!$Q$22:$AB$42,(MATCH(dados_exp!$G142,questionario!$Q$22:$Q$42,0)),(MATCH(dados_exp!$J142,questionario!$Q$22:$AB$22,0)))),\"\")))","v":""},{"$f":"IFERROR((INDEX(questionario!$B$47:$N$66,(MATCH((dados_exp!$G142&dados_exp!$H142),questionario!$B$47:$B$66,0)),(MATCH(dados_exp!$J142,questionario!$B$46:$N$46,0)))),\"\")","v":""},{"$f":"IFERROR((INDEX(questionario!$O$47:$AB$66,(MATCH((dados_exp!$G142&dados_exp!$I142),questionario!$O$47:$O$66,0)),(MATCH(dados_exp!$J142,questionario!$O$46:$AB$46,0)))),\"\")","v":""},"X",null,null,null,"X",null,null,null,"X",null,null,null,null,null,"X",null,null,null,"X"]
[{"$f":"IF(G143=\"\",\"\",(IF(questionario!$C$8=\"\",\"\",questionario!$C$8)))","v":""},{"$f":"IF(G143=\"\",\"\",(IF(questionario!$C$15=\"\",\"\",questionario!$C$15)))","v":""},{"$f":"IF(G143=\"\",\"\",(IF(questionario!$L$8=\"\",\"\",questionario!$L$8)))","v":""},{"$f":"IF(C143=\"\",\"\",(IF(questionario!$L$11=\"\",\"\",questionario!$L$11)))","v":""},"X","2021",{"$f":"IF(aux_cadastros!$A$23=\"\",\"\",aux_cadastros!$A$23)","v":""},{"$f":"IFERROR((VLOOKUP(G143,questionario!$C$47:$D$66,2,0)),\"\")","v":""},{"$f":"IFERROR((VLOOKUP(G143,questionario!$Q$47:$R$66,2,0)),\"\")","v":""},2021,{"$f":"IF(G143=\"\",\"\",(IFERROR((INDEX(questionario!$A$23:$N$42,(MATCH((dados_exp!$G143&\"R$\"),questionario!$A$23:$A$42,0)),(MATCH(dados_exp!$J143,questionario!$A$22:$N$22,0)))),\"\")))","v":""},{"$f":"IF(G143=\"\",\"\",(IFERROR((INDEX(questionario!$Q$22:$AB$42,(MATCH(dados_exp!$G143,questionario!$Q$22:$Q$42,0)),(MATCH(dados_exp!$J143,questionario!$Q$22:$AB$22,0)))),\"\")))","v":""},{"$f":"IFERROR((INDEX(questionario!$B$47:$N$66,(MATCH((dados_exp!$G143&dados_exp!$H143),questionario!$B$47:$B$66,0)),(MATCH(dados_exp!$J143,questionario!$B$46:$N$46,0)))),\"\")","v":""},{"$f":"IFERROR((INDEX(questionario!$O$47:$AB$66,(MATCH((dados_exp!$G143&dados_exp!$I143),questionario!$O$47:$O$66,0)),(MATCH(dados_exp!$J143,questionario!$O$46:$AB$46,0)))),\"\")","v":""},"X",null,null,null,"X",null,null,null,"X",null,null,null,null,null,"X",null,null,null,"X"]
[{"$f":"IF(G144=\"\",\"\",(IF(questionario!$C$8=\"\",\"\",questionario!$C$8)))","v":""},{"$f":"IF(G144=\"\",\"\",(IF(questionario!$C$15=\"\",\"\",questionario!$C$15)))","v":""},{"$f":"IF(G144=\"\",\"\",(IF(questionario!$L$8=\"\",\"\",questionario!$L$8)))","v":""},{"$f":"IF(C144=\"\",\"\",(IF(questionario!$L$11=\"\",\"\",questionario!$L$11)))","v":""},"X","2021",{"$f":"IF(aux_cadastros!$A$24=\"\",\"\",aux_cadastros!$A$24)","v":""},{"$f":"IFERROR((VLOOKUP(G144,questionario!$C$47:$D$66,2,0)),\"\")","v":""},{"$f":"IFERROR((VLOOKUP(G144,questionario!$Q$47:$R$66,2,0)),\"\")","v":""},2021,{"$f":"IF(G144=\"\",\"\",(IFERROR((INDEX(questionario!$A$23:$N$42,(MATCH((dados_exp!$G144&\"R$\"),questionario!$A$23:$A$42,0)),(MATCH(dados_exp!$J144,questionario!$A$22:$N$22,0)))),\"\")))","v":""},{"$f":"IF(G144=\"\",\"\",(IFERROR((INDEX(questionario!$Q$22:$AB$42,(MATCH(dados_exp!$G144,questionario!$Q$22:$Q$42,0)),(MATCH(dados_exp!$J144,questionario!$Q$22:$AB$22,0)))),\"\")))","v":""},{"$f":"IFERROR((INDEX(questionario!$B$47:$N$66,(MATCH((dados_exp!$G144&dados_exp!$H144),questionario!$B$47:$B$66,0)),(MATCH(dados_exp!$J144,questionario!$B$46:$N$46,0)))),\"\")","v":""},{"$f":"IFERROR((INDEX(questionario!$O$47:$AB$66,(MATCH((dados_exp!$G144&dados_exp!$I144),questionario!$O$47:$O$66,0)),(MATCH(dados_exp!$J144,questionario!$O$46:$AB$46,0)))),\"\")","v":""},"X",null,null,null,"X",null,null,null,"X",null,null,null,null,null,"X",null,null,null,"X"]
[{"$f":"IF(G145=\"\",\"\",(IF(questionario!$C$8=\"\",\"\",questionario!$C$8)))","v":""},{"$f":"IF(G145=\"\",\"\",(IF(questionario!$C$15=\"\",\"\",questionario!$C$15)))","v":""},{"$f":"IF(G145=\"\",\"\",(IF(questionario!$L$8=\"\",\"\",questionario!$L$8)))","v":""},{"$f":"IF(C145=\"\",\"\",(IF(questionario!$L$11=\"\",\"\",questionario!$L$11)))","v":""},"X","2021",{"$f":"IF(aux_cadastros!$A$25=\"\",\"\",aux_cadastros!$A$25)","v":""},{"$f":"IFERROR((VLOOKUP(G145,questionario!$C$47:$D$66,2,0)),\"\")","v":""},{"$f":"IFERROR((VLOOKUP(G145,questionario!$Q$47:$R$66,2,0)),\"\")","v":""},2021,{"$f":"IF(G145=\"\",\"\",(IFERROR((INDEX(questionario!$A$23:$N$42,(MATCH((dados_exp!$G145&\"R$\"),questionario!$A$23:$A$42,0)),(MATCH(dados_exp!$J145,questionario!$A$22:$N$22,0)))),\"\")))","v":""},{"$f":"IF(G145=\"\",\"\",(IFERROR((INDEX(questionario!$Q$22:$AB$42,(MATCH(dados_exp!$G145,questionario!$Q$22:$Q$42,0)),(MATCH(dados_exp!$J145,questionario!$Q$22:$AB$22,0)))),\"\")))","v":""},{"$f":"IFERROR((INDEX(questionario!$B$47:$N$66,(MATCH((dados_exp!$G145&dados_exp!$H145),questionario!$B$47:$B$66,0)),(MATCH(dados_exp!$J145,questionario!$B$46:$N$46,0)))),\"\")","v":""},{"$f":"IFERROR((INDEX(questionario!$O$47:$AB$66,(MATCH((dados_exp!$G145&dados_exp!$I145),questionario!$O$47:$O$66,0)),(MATCH(dados_exp!$J145,questionario!$O$46:$AB$46,0)))),\"\")","v":""},"X",null,null,null,"X",null,null,null,"X",null,null,null,null,null,"X",null,null,null,"X"]
[{"$f":"IF(G146=\"\",\"\",(IF(questionario!$C$8=\"\",\"\",questionario!$C$8)))","v":""},{"$f":"IF(G146=\"\",\"\",(IF(questionario!$C$15=\"\",\"\",questionario!$C$15)))","v":""},{"$f":"IF(G146=\"\",\"\",(IF(questionario!$L$8=\"\",\"\",questionario!$L$8)))","v":""},{"$f":"IF(C146=\"\",\"\",(IF(questionario!$L$11=\"\",\"\",questionario!$L$11)))","v":""},"X","2021",{"$f":"IF(aux_cadastros!$A$26=\"\",\"\",aux_cadastros!$A$26)","v":""},{"$f":"IFERROR((VLOOKUP(G146,questionario!$C$47:$D$66,2,0)),\"\")","v":""},{"$f":"IFERROR((VLOOKUP(G146,questionario!$Q$47:$R$66,2,0)),\"\")","v":""},2021,{"$f":"IF(G146=\"\",\"\",(IFERROR((INDEX(questionario!$A$23:$N$42,(MATCH((dados_exp!$G146&\"R$\"),questionario!$A$23:$A$42,0)),(MATCH(dados_exp!$J146,questionario!$A$22:$N$22,0)))),\"\")))","v":""},{"$f":"IF(G146=\"\",\"\",(IFERROR((INDEX(questionario!$Q$22:$AB$42,(MATCH(dados_exp!$G146,questionario!$Q$22:$Q$42,0)),(MATCH(dados_exp!$J146,questionario!$Q$22:$AB$22,0)))),\"\")))","v":""},{"$f":"IFERROR((INDEX(questionario!$B$47:$N$66,(MATCH((dados_exp!$G146&dados_exp!$H146),questionario!$B$47:$B$66,0)),(MATCH(dados_exp!$J146,questionario!$B$46:$N$46,0)))),\"\")","v":""},{"$f":"IFERROR((INDEX(questionario!$O$47:$AB$66,(MATCH((dados_exp!$G146&dados_exp!$I146),questionario!$O$47:$O$66,0)),(MATCH(dados_exp!$J146,questionario!$O$46:$AB$46,0)))),\"\")","v":""},"X",null,null,null,"X",null,null,null,"X",null,null,null,null,null,"X",null,null,null,"X"]
[{"$f":"IF(G147=\"\",\"\",(IF(questionario!$C$8=\"\",\"\",questionario!$C$8)))","v":""},{"$f":"IF(G147=\"\",\"\",(IF(questionario!$C$15=\"\",\"\",questionario!$C$15)))","v":""},{"$f":"IF(G147=\"\",\"\",(IF(questionario!$L$8=\"\",\"\",questionario!$L$8)))","v":""},{"$f":"IF(C147=\"\",\"\",(IF(questionario!$L$11=\"\",\"\",questionario!$L$11)))","v":""},"X","2021",{"$f":"IF(aux_cadastros!$A$27=\"\",\"\",aux_cadastros!$A$27)","v":""},{"$f":"IFERROR((VLOOKUP(G147,questionario!$C$47:$D$66,2,0)),\"\")","v":""},{"$f":"IFERROR((VLOOKUP(G147,questionario!$Q$47:$R$66,2,0)),\"\")","v":""},2021,{"$f":"IF(G147=\"\",\"\",(IFERROR((INDEX(questionario!$A$23:$N$42,(MATCH((dados_exp!$G147&\"R$\"),questionario!$A$23:$A$42,0)),(MATCH(dados_exp!$J147,questionario!$A$22:$N$22,0)))),\"\")))","v":""},{"$f":"IF(G147=\"\",\"\",(IFERROR((INDEX(questionario!$Q$22:$AB$42,(MATCH(dados_exp!$G147,questionario!$Q$22:$Q$42,0)),(MATCH(dados_exp!$J147,questionario!$Q$22:$AB$22,0)))),\"\")))","v":""},{"$f":"IFERROR((INDEX(questionario!$B$47:$N$66,(MATCH((dados_exp!$G147&dados_exp!$H147),questionario!$B$47:$B$66,0)),(MATCH(dados_exp!$J147,questionario!$B$46:$N$46,0)))),\"\")","v":""},{"$f":"IFERROR((INDEX(questionario!$O$47:$AB$66,(MATCH((dados_exp!$G147&dados_exp!$I147),questionario!$O$47:$O$66,0)),(MATCH(dados_exp!$J147,questionario!$O$46:$AB$46,0)))),\"\")","v":""},"X",null,null,null,"X",null,null,null,"X",null,null,null,null,null,"X",null,null,null,"X"]
[{"$f":"IF(G148=\"\",\"\",(IF(questionario!$C$8=\"\",\"\",questionario!$C$8)))","v":""},{"$f":"IF(G148=\"\",\"\",(IF(questionario!$C$15=\"\",\"\",questionario!$C$15)))","v":""},{"$f":"IF(G148=\"\",\"\",(IF(questionario!$L$8=\"\",\"\",questionario!$L$8)))","v":""},{"$f":"IF(C148=\"\",\"\",(IF(questionario!$L$11=\"\",\"\",questionario!$L$11)))","v":""},"X","2021",{"$f":"IF(aux_cadastros!$A$28=\"\",\"\",aux_cadastros!$A$28)","v":""},{"$f":"IFERROR((VLOOKUP(G148,questionario!$C$47:$D$66,2,0)),\"\")","v":""},{"$f":"IFERROR((VLOOKUP(G148,questionario!$Q$47:$R$66,2,0)),\"\")","v":""},2021,{"$f":"IF(G148=\"\",\"\",(IFERROR((INDEX(questionario!$A$23:$N$42,(MATCH((dados_exp!$G148&\"R$\"),questionario!$A$23:$A$42,0)),(MATCH(dados_exp!$J148,questionario!$A$22:$N$22,0)))),\"\")))","v":""},{"$f":"IF(G148=\"\",\"\",(IFERROR((INDEX(questionario!$Q$22:$AB$42,(MATCH(dados_exp!$G148,questionario!$Q$22:$Q$42,0)),(MATCH(dados_exp!$J148,questionario!$Q$22:$AB$22,0)))),\"\")))","v":""},{"$f":"IFERROR((INDEX(questionario!$B$47:$N$66,(MATCH((dados_exp!$G148&dados_exp!$H148),questionario!$B$47:$B$66,0)),(MATCH(dados_exp!$J148,questionario!$B$46:$N$46,0)))),\"\")","v":""},{"$f":"IFERROR((INDEX(questionario!$O$47:$AB$66,(MATCH((dados_exp!$G148&dados_exp!$I148),questionario!$O$47:$O$66,0)),(MATCH(dados_exp!$J148,questionario!$O$46:$AB$46,0)))),\"\")","v":""},"X",null,null,null,"X",null,null,null,"X",null,null,null,null,null,"X",null,null,null,"X"]
[{"$f":"IF(G149=\"\",\"\",(IF(questionario!$C$8=\"\",\"\",questionario!$C$8)))","v":""},{"$f":"IF(G149=\"\",\"\",(IF(questionario!$C$15=\"\",\"\",questionario!$C$15)))","v":""},{"$f":"IF(G149=\"\",\"\",(IF(questionario!$L$8=\"\",\"\",questionario!$L$8)))","v":""},{"$f":"IF(C149=\"\",\"\",(IF(questionario!$L$11=\"\",\"\",questionario!$L$11)))","v":""},"X","2021",{"$f":"IF(aux_cadastros!$A$29=\"\",\"\",aux_cadastros!$A$29)","v":""},{"$f":"IFERROR((VLOOKUP(G149,questionario!$C$47:$D$66,2,0)),\"\")","v":""},{"$f":"IFERROR((VLOOKUP(G149,questionario!$Q$47:$R$66,2,0)),\"\")","v":""},2021,{"$f":"IF(G149=\"\",\"\",(IFERROR((INDEX(questionario!$A$23:$N$42,(MATCH((dados_exp!$G149&\"R$\"),questionario!$A$23:$A$42,0)),(MATCH(dados_exp!$J149,questionario!$A$22:$N$22,0)))),\"\")))","v":""},{"$f":"IF(G149=\"\",\"\",(IFERROR((INDEX(questionario!$Q$22:$AB$42,(MATCH(dados_exp!$G149,questionario!$Q$22:$Q$42,0)),(MATCH(dados_exp!$J149,questionario!$Q$22:$AB$22,0)))),\"\")))","v":""},{"$f":"IFERROR((INDEX(questionario!$B$47:$N$66,(MATCH((dados_exp!$G149&dados_exp!$H149),questionario!$B$47:$B$66,0)),(MATCH(dados_exp!$J149,questionario!$B$46:$N$46,0)))),\"\")","v":""},{"$f":"IFERROR((INDEX(questionario!$O$47:$AB$66,(MATCH((dados_exp!$G149&dados_exp!$I149),questionario!$O$47:$O$66,0)),(MATCH(dados_exp!$J149,questionario!$O$46:$AB$46,0)))),\"\")","v":""},"X",null,null,null,"X",null,null,null,"X",null,null,null,null,null,"X",null,null,null,"X"]
[{"$f":"IF(G150=\"\",\"\",(IF(questionario!$C$8=\"\",\"\",questionario!$C$8)))","v":""},{"$f":"IF(G150=\"\",\"\",(IF(questionario!$C$15=\"\",\"\",questionario!$C$15)))","v":""},{"$f":"IF(G150=\"\",\"\",(IF(questionario!$L$8=\"\",\"\",questionario!$L$8)))","v":""},{"$f":"IF(C150=\"\",\"\",(IF(questionario!$L$11=\"\",\"\",questionario!$L$11)))","v":""},"X","2021",{"$f":"IF(aux_cadastros!$A$30=\"\",\"\",aux_cadastros!$A$30)","v":""},{"$f":"IFERROR((VLOOKUP(G150,questionario!$C$47:$D$66,2,0)),\"\")","v":""},{"$f":"IFERROR((VLOOKUP(G150,questionario!$Q$47:$R$66,2,0)),\"\")","v":""},2021,{"$f":"IF(G150=\"\",\"\",(IFERROR((INDEX(questionario!$A$23:$N$42,(MATCH((dados_exp!$G150&\"R$\"),questionario!$A$23:$A$42,0)),(MATCH(dados_exp!$J150,questionario!$A$22:$N$22,0)))),\"\")))","v":""},{"$f":"IF(G150=\"\",\"\",(IFERROR((INDEX(questionario!$Q$22:$AB$42,(MATCH(dados_exp!$G150,questionario!$Q$22:$Q$42,0)),(MATCH(dados_exp!$J150,questionario!$Q$22:$AB$22,0)))),\"\")))","v":""},{"$f":"IFERROR((INDEX(questionario!$B$47:$N$66,(MATCH((dados_exp!$G150&dados_exp!$H150),questionario!$B$47:$B$66,0)),(MATCH(dados_exp!$J150,questionario!$B$46:$N$46,0)))),\"\")","v":""},{"$f":"IFERROR((INDEX(questionario!$O$47:$AB$66,(MATCH((dados_exp!$G150&dados_exp!$I150),questionario!$O$47:$O$66,0)),(MATCH(dados_exp!$J150,questionario!$O$46:$AB$46,0)))),\"\")","v":""},"X",null,null,null,"X",null,null,null,"X",null,null,null,null,null,"X",null,null,null,"X"]
[{"$f":"IF(G151=\"\",\"\",(IF(questionario!$C$8=\"\",\"\",questionario!$C$8)))","v":""},{"$f":"IF(G151=\"\",\"\",(IF(questionario!$C$15=\"\",\"\",questionario!$C$15)))","v":""},{"$f":"IF(G151=\"\",\"\",(IF(questionario!$L$8=\"\",\"\",questionario!$L$8)))","v":""},{"$f":"IF(C151=\"\",\"\",(IF(questionario!$L$11=\"\",\"\",questionario!$L$11)))","v":""},"X","2021",{"$f":"IF(aux_cadastros!$A$31=\"\",\"\",aux_cadastros!$A$31)","v":""},{"$f":"IFERROR((VLOOKUP(G151,questionario!$C$47:$D$66,2,0)),\"\")","v":""},{"$f":"IFERROR((VLOOKUP(G151,questionario!$Q$47:$R$66,2,0)),\"\")","v":""},2021,{"$f":"IF(G151=\"\",\"\",(IFERROR((INDEX(questionario!$A$23:$N$42,(MATCH((dados_exp!$G151&\"R$\"),questionario!$A$23:$A$42,0)),(MATCH(dados_exp!$J151,questionario!$A$22:$N$22,0)))),\"\")))","v":""},{"$f":"IF(G151=\"\",\"\",(IFERROR((INDEX(questionario!$Q$22:$AB$42,(MATCH(dados_exp!$G151,questionario!$Q$22:$Q$42,0)),(MATCH(dados_exp!$J151,questionario!$Q$22:$AB$22,0)))),\"\")))","v":""},{"$f":"IFERROR((INDEX(questionario!$B$47:$N$66,(MATCH((dados_exp!$G151&dados_exp!$H151),questionario!$B$47:$B$66,0)),(MATCH(dados_exp!$J151,questionario!$B$46:$N$46,0)))),\"\")","v":""},{"$f":"IFERROR((INDEX(questionario!$O$47:$AB$66,(MATCH((dados_exp!$G151&dados_exp!$I151),questionario!$O$47:$O$66,0)),(MATCH(dados_exp!$J151,questionario!$O$46:$AB$46,0)))),\"\")","v":""},"X",null,null,null,"X",null,null,null,"X",null,null,null,null,null,"X",null,null,null,"X"]
[{"$f":"IF(G152=\"\",\"\",(IF(questionario!$C$8=\"\",\"\",questionario!$C$8)))","v":""},{"$f":"IF(G152=\"\",\"\",(IF(questionario!$C$15=\"\",\"\",questionario!$C$15)))","v":""},{"$f":"IF(G152=\"\",\"\",(IF(questionario!$L$8=\"\",\"\",questionario!$L$8)))","v":""},{"$f":"IF(C152=\"\",\"\",(IF(questionario!$L$11=\"\",\"\",questionario!$L$11)))","v":""},"X","Açaí2022",{"$f":"IF(aux_cadastros!$A$2=\"\",\"\",aux_cadastros!$A$2)","v":"Açaí"},{"$f":"IFERROR((VLOOKUP(G152,questionario!$C$47:$D$66,2,0)),\"\")","v":""},{"$f":"IFERROR((VLOOKUP(G152,questionario!$Q$47:$R$66,2,0)),\"\")","v":""},{"$f":"questionario!$J$22","v":2022},{"$f":"IF(G152=\"\",\"\",(IFERROR((INDEX(questionario!$A$23:$N$42,(MATCH((dados_exp!$G152&\"R$\"),questionario!$A$23:$A$42,0)),(MATCH(dados_exp!$J152,questionario!$A$22:$N$22,0)))),\"\")))","v":""},{"$f":"IF(G152=\"\",\"\",(IFERROR((INDEX(questionario!$Q$22:$AB$42,(MATCH(dados_exp!$G152,questionario!$Q$22:$Q$42,0)),(MATCH(dados_exp!$J152,questionario!$Q$22:$AB$22,0)))),\"\")))","v":""},{"$f":"IFERROR((INDEX(questionario!$B$47:$N$66,(MATCH((dados_exp!$G152&dados_exp!$H152),questionario!$B$47:$B$66,0)),(MATCH(dados_exp!$J152,questionario!$B$46:$N$46,0)))),\"\")","v":""},{"$f":"IFERROR((INDEX(questionario!$O$47:$AB$66,(MATCH((dados_exp!$G152&dados_exp!$I152),questionario!$O$47:$O$66,0)),(MATCH(dados_exp!$J152,questionario!$O$46:$AB$46,0)))),\"\")","v":""},"X",null,null,null,"X",null,null,null,"X",null,null,null,null,null,"X",null,null,null,"X"]
[{"$f":"IF(G153=\"\",\"\",(IF(questionario!$C$8=\"\",\"\",questionario!$C$8)))","v":""},{"$f":"IF(G153=\"\",\"\",(IF(questionario!$C$15=\"\",\"\",questionario!$C$15)))","v":""},{"$f":"IF(G153=\"\",\"\",(IF(questionario!$L$8=\"\",\"\",questionario!$L$8)))","v":""},{"$f":"IF(C153=\"\",\"\",(IF(questionario!$L$11=\"\",\"\",questionario!$L$11)))","v":""},"X","Aquicultura2022",{"$f":"IF(aux_cadastros!$A$3=\"\",\"\",aux_cadastros!$A$3)","v":"Aquicultura"},{"$f":"IFERROR((VLOOKUP(G153,questionario!$C$47:$D$66,2,0)),\"\")","v":""},{"$f":"IFERROR((VLOOKUP(G153,questionario!$Q$47:$R$66,2,0)),\"\")","v":""},{"$f":"J152","v":2022},{"$f":"IF(G153=\"\",\"\",(IFERROR((INDEX(questionario!$A$23:$N$42,(MATCH((dados_exp!$G153&\"R$\"),questionario!$A$23:$A$42,0)),(MATCH(dados_exp!$J153,questionario!$A$22:$N$22,0)))),\"\")))","v":""},{"$f":"IF(G153=\"\",\"\",(IFERROR((INDEX(questionario!$Q$22:$AB$42,(MATCH(dados_exp!$G153,questionario!$Q$22:$Q$42,0)),(MATCH(dados_exp!$J153,questionario!$Q$22:$AB$22,0)))),\"\")))","v":""},{"$f":"IFERROR((INDEX(questionario!$B$47:$N$66,(MATCH((dados_exp!$G153&dados_exp!$H153),questionario!$B$47:$B$66,0)),(MATCH(dados_exp!$J153,questionario!$B$46:$N$46,0)))),\"\")","v":""},{"$f":"IFERROR((INDEX(questionario!$O$47:$AB$66,(MATCH((dados_exp!$G153&dados_exp!$I153),questionario!$O$47:$O$66,0)),(MATCH(dados_exp!$J153,questionario!$O$46:$AB$46,0)))),\"\")","v":""},"X",null,null,null,"X",null,null,null,"X",null,null,null,null,null,"X",null,null,null,"X"]
[{"$f":"IF(G154=\"\",\"\",(IF(questionario!$C$8=\"\",\"\",questionario!$C$8)))","v":""},{"$f":"IF(G154=\"\",\"\",(IF(questionario!$C$15=\"\",\"\",questionario!$C$15)))","v":""},{"$f":"IF(G154=\"\",\"\",(IF(questionario!$L$8=\"\",\"\",questionario!$L$8)))","v":""},{"$f":"IF(C154=\"\",\"\",(IF(questionario!$L$11=\"\",\"\",questionario!$L$11)))","v":""},"X","Artesanato2022",{"$f":"IF(aux_cadastros!$A$4=\"\",\"\",aux_cadastros!$A$4)","v":"Artesanato"},{"$f":"IFERROR((VLOOKUP(G154,questionario!$C$47:$D$66,2,0)),\"\")","v":""},{"$f":"IFERROR((VLOOKUP(G154,questionario!$Q$47:$R$66,2,0)),\"\")","v":""},{"$f":"J153","v":2022},{"$f":"IF(G154=\"\",\"\",(IFERROR((INDEX(questionario!$A$23:$N$42,(MATCH((dados_exp!$G154&\"R$\"),questionario!$A$23:$A$42,0)),(MATCH(dados_exp!$J154,questionario!$A$22:$N$22,0)))),\"\")))","v":""},{"$f":"IF(G154=\"\",\"\",(IFERROR((INDEX(questionario!$Q$22:$AB$42,(MATCH(dados_exp!$G154,questionario!$Q$22:$Q$42,0)),(MATCH(dados_exp!$J154,questionario!$Q$22:$AB$22,0)))),\"\")))","v":""},{"$f":"IFERROR((INDEX(questionario!$B$47:$N$66,(MATCH((dados_exp!$G154&dados_exp!$H154),questionario!$B$47:$B$66,0)),(MATCH(dados_exp!$J154,questionario!$B$46:$N$46,0)))),\"\")","v":""},{"$f":"IFERROR((INDEX(questionario!$O$47:$AB$66,(MATCH((dados_exp!$G154&dados_exp!$I154),questionario!$O$47:$O$66,0)),(MATCH(dados_exp!$J154,questionario!$O$46:$AB$46,0)))),\"\")","v":""},"X",null,null,null,"X",null,null,null,"X",null,null,null,null,null,"X",null,null,null,"X"]
[{"$f":"IF(G155=\"\",\"\",(IF(questionario!$C$8=\"\",\"\",questionario!$C$8)))","v":""},{"$f":"IF(G155=\"\",\"\",(IF(questionario!$C$15=\"\",\"\",questionario!$C$15)))","v":""},{"$f":"IF(G155=\"\",\"\",(IF(questionario!$L$8=\"\",\"\",questionario!$L$8)))","v":""},{"$f":"IF(C155=\"\",\"\",(IF(questionario!$L$11=\"\",\"\",questionario!$L$11)))","v":""},"X","Babaçu2022",{"$f":"IF(aux_cadastros!$A$5=\"\",\"\",aux_cadastros!$A$5)","v":"Babaçu"},{"$f":"IFERROR((VLOOKUP(G155,questionario!$C$47:$D$66,2,0)),\"\")","v":""},{"$f":"IFERROR((VLOOKUP(G155,questionario!$Q$47:$R$66,2,0)),\"\")","v":""},2022,{"$f":"IF(G155=\"\",\"\",(IFERROR((INDEX(questionario!$A$23:$N$42,(MATCH((dados_exp!$G155&\"R$\"),questionario!$A$23:$A$42,0)),(MATCH(dados_exp!$J155,questionario!$A$22:$N$22,0)))),\"\")))","v":""},{"$f":"IF(G155=\"\",\"\",(IFERROR((INDEX(questionario!$Q$22:$AB$42,(MATCH(dados_exp!$G155,questionario!$Q$22:$Q$42,0)),(MATCH(dados_exp!$J155,questionario!$Q$22:$AB$22,0)))),\"\")))","v":""},{"$f":"IFERROR((INDEX(questionario!$B$47:$N$66,(MATCH((dados_exp!$G155&dados_exp!$H155),questionario!$B$47:$B$66,0)),(MATCH(dados_exp!$J155,questionario!$B$46:$N$46,0)))),\"\")","v":""},{"$f":"IFERROR((INDEX(questionario!$O$47:$AB$66,(MATCH((dados_exp!$G155&dados_exp!$I155),questionario!$O$47:$O$66,0)),(MATCH(dados_exp!$J155,questionario!$O$46:$AB$46,0)))),\"\")","v":""},"X",null,null,null,"X",null,null,null,"X",null,null,null,null,null,"X",null,null,null,"X"]
[{"$f":"IF(G156=\"\",\"\",(IF(questionario!$C$8=\"\",\"\",questionario!$C$8)))","v":""},{"$f":"IF(G156=\"\",\"\",(IF(questionario!$C$15=\"\",\"\",questionario!$C$15)))","v":""},{"$f":"IF(G156=\"\",\"\",(IF(questionario!$L$8=\"\",\"\",questionario!$L$8)))","v":""},{"$f":"IF(C156=\"\",\"\",(IF(questionario!$L$11=\"\",\"\",questionario!$L$11)))","v":""},"X","Borrachas2022",{"$f":"IF(aux_cadastros!$A$6=\"\",\"\",aux_cadastros!$A$6)","v":"Borrachas"},{"$f":"IFERROR((VLOOKUP(G156,questionario!$C$47:$D$66,2,0)),\"\")","v":""},{"$f":"IFERROR((VLOOKUP(G156,questionario!$Q$47:$R$66,2,0)),\"\")","v":""},2022,{"$f":"IF(G156=\"\",\"\",(IFERROR((INDEX(questionario!$A$23:$N$42,(MATCH((dados_exp!$G156&\"R$\"),questionario!$A$23:$A$42,0)),(MATCH(dados_exp!$J156,questionario!$A$22:$N$22,0)))),\"\")))","v":""},{"$f":"IF(G156=\"\",\"\",(IFERROR((INDEX(questionario!$Q$22:$AB$42,(MATCH(dados_exp!$G156,questionario!$Q$22:$Q$42,0)),(MATCH(dados_exp!$J156,questionario!$Q$22:$AB$22,0)))),\"\")))","v":""},{"$f":"IFERROR((INDEX(questionario!$B$47:$N$66,(MATCH((dados_exp!$G156&dados_exp!$H156),questionario!$B$47:$B$66,0)),(MATCH(dados_exp!$J156,questionario!$B$46:$N$46,0)))),\"\")","v":""},{"$f":"IFERROR((INDEX(questionario!$O$47:$AB$66,(MATCH((dados_exp!$G156&dados_exp!$I156),questionario!$O$47:$O$66,0)),(MATCH(dados_exp!$J156,questionario!$O$46:$AB$46,0)))),\"\")","v":""},"X",null,null,null,"X",null,null,null,"X",null,null,null,null,null,"X",null,null,null,"X"]
[{"$f":"IF(G157=\"\",\"\",(IF(questionario!$C$8=\"\",\"\",questionario!$C$8)))","v":""},{"$f":"IF(G157=\"\",\"\",(IF(questionario!$C$15=\"\",\"\",questionario!$C$15)))","v":""},{"$f":"IF(G157=\"\",\"\",(IF(questionario!$L$8=\"\",\"\",questionario!$L$8)))","v":""},{"$f":"IF(C157=\"\",\"\",(IF(questionario!$L$11=\"\",\"\",questionario!$L$11)))","v":""},"X","Cacau2022",{"$f":"IF(aux_cadastros!$A$7=\"\",\"\",aux_cadastros!$A$7)","v":"Cacau"},{"$f":"IFERROR((VLOOKUP(G157,questionario!$C$47:$D$66,2,0)),\"\")","v":""},{"$f":"IFERROR((VLOOKUP(G157,questionario!$Q$47:$R$66,2,0)),\"\")","v":""},2022,{"$f":"IF(G157=\"\",\"\",(IFERROR((INDEX(questionario!$A$23:$N$42,(MATCH((dados_exp!$G157&\"R$\"),questionario!$A$23:$A$42,0)),(MATCH(dados_exp!$J157,questionario!$A$22:$N$22,0)))),\"\")))","v":""},{"$f":"IF(G157=\"\",\"\",(IFERROR((INDEX(questionario!$Q$22:$AB$42,(MATCH(dados_exp!$G157,questionario!$Q$22:$Q$42,0)),(MATCH(dados_exp!$J157,questionario!$Q$22:$AB$22,0)))),\"\")))","v":""},{"$f":"IFERROR((INDEX(questionario!$B$47:$N$66,(MATCH((dados_exp!$G157&dados_exp!$H157),questionario!$B$47:$B$66,0)),(MATCH(dados_exp!$J157,questionario!$B$46:$N$46,0)))),\"\")","v":""},{"$f":"IFERROR((INDEX(questionario!$O$47:$AB$66,(MATCH((dados_exp!$G157&dados_exp!$I157),questionario!$O$47:$O$66,0)),(MATCH(dados_exp!$J157,questionario!$O$46:$AB$46,0)))),\"\")","v":""},"X",null,null,null,"X",null,null,null,"X",null,null,null,null,null,"X",null,null,null,"X"]
[{"$f":"IF(G158=\"\",\"\",(IF(questionario!$C$8=\"\",\"\",questionario!$C$8)))","v":""},{"$f":"IF(G158=\"\",\"\",(IF(questionario!$C$15=\"\",\"\",questionario!$C$15)))","v":""},{"$f":"IF(G158=\"\",\"\",(IF(questionario!$L$8=\"\",\"\",questionario!$L$8)))","v":""},{"$f":"IF(C158=\"\",\"\",(IF(questionario!$L$11=\"\",\"\",questionario!$L$11)))","v":""},"X","Castanha2022",{"$f":"IF(aux_cadastros!$A$8=\"\",\"\",aux_cadastros!$A$8)","v":"Castanha"},{"$f":"IFERROR((VLOOKUP(G158,questionario!$C$47:$D$66,2,0)),\"\")","v":""},{"$f":"IFERROR((VLOOKUP(G158,questionario!$Q$47:$R$66,2,0)),\"\")","v":""},2022,{"$f":"IF(G158=\"\",\"\",(IFERROR((INDEX(questionario!$A$23:$N$42,(MATCH((dados_exp!$G158&\"R$\"),questionario!$A$23:$A$42,0)),(MATCH(dados_exp!$J158,questionario!$A$22:$N$22,0)))),\"\")))","v":""},{"$f":"IF(G158=\"\",\"\",(IFERROR((INDEX(questionario!$Q$22:$AB$42,(MATCH(dados_exp!$G158,questionario!$Q$22:$Q$42,0)),(MATCH(dados_exp!$J158,questionario!$Q$22:$AB$22,0)))),\"\")))","v":""},{"$f":"IFERROR((INDEX(questionario!$B$47:$N$66,(MATCH((dados_exp!$G158&dados_exp!$H158),questionario!$B$47:$B$66,0)),(MATCH(dados_exp!$J158,questionario!$B$46:$N$46,0)))),\"\")","v":""},{"$f":"IFERROR((INDEX(questionario!$O$47:$AB$66,(MATCH((dados_exp!$G158&dados_exp!$I158),questionario!$O$47:$O$66,0)),(MATCH(dados_exp!$J158,questionario!$O$46:$AB$46,0)))),\"\")","v":""},"X",null,null,null,"X",null,null,null,"X",null,null,null,null,null,"X",null,null,null,"X"]
[{"$f":"IF(G159=\"\",\"\",(IF(questionario!$C$8=\"\",\"\",questionario!$C$8)))","v":""},{"$f":"IF(G159=\"\",\"\",(IF(questionario!$C$15=\"\",\"\",questionario!$C$15)))","v":""},{"$f":"IF(G159=\"\",\"\",(IF(questionario!$L$8=\"\",\"\",questionario!$L$8)))","v":""},{"$f":"IF(C159=\"\",\"\",(IF(questionario!$L$11=\"\",\"\",questionario!$L$11)))","v":""},"X","Copaíba2022",{"$f":"IF(aux_cadastros!$A$9=\"\",\"\",aux_cadastros!$A$9)","v":"Copaíba"},{"$f":"IFERROR((VLOOKUP(G159,questionario!$C$47:$D$66,2,0)),\"\")","v":""},{"$f":"IFERROR((VLOOKUP(G159,questionario!$Q$47:$R$66,2,0)),\"\")","v":""},2022,{"$f":"IF(G159=\"\",\"\",(IFERROR((INDEX(questionario!$A$23:$N$42,(MATCH((dados_exp!$G159&\"R$\"),questionario!$A$23:$A$42,0)),(MATCH(dados_exp!$J159,questionario!$A$22:$N$22,0)))),\"\")))","v":""},{"$f":"IF(G159=\"\",\"\",(IFERROR((INDEX(questionario!$Q$22:$AB$42,(MATCH(dados_exp!$G159,questionario!$Q$22:$Q$42,0)),(MATCH(dados_exp!$J159,questionario!$Q$22:$AB$22,0)))),\"\")))","v":""},{"$f":"IFERROR((INDEX(questionario!$B$47:$N$66,(MATCH((dados_exp!$G159&dados_exp!$H159),questionario!$B$47:$B$66,0)),(MATCH(dados_exp!$J159,questionario!$B$46:$N$46,0)))),\"\")","v":""},{"$f":"IFERROR((INDEX(questionario!$O$47:$AB$66,(MATCH((dados_exp!$G159&dados_exp!$I159),questionario!$O$47:$O$66,0)),(MATCH(dados_exp!$J159,questionario!$O$46:$AB$46,0)))),\"\")","v":""},"X",null,null,null,"X",null,null,null,"X",null,null,null,null,null,"X",null,null,null,"X"]
[{"$f":"IF(G160=\"\",\"\",(IF(questionario!$C$8=\"\",\"\",questionario!$C$8)))","v":""},{"$f":"IF(G160=\"\",\"\",(IF(questionario!$C$15=\"\",\"\",questionario!$C$15)))","v":""},{"$f":"IF(G160=\"\",\"\",(IF(questionario!$L$8=\"\",\"\",questionario!$L$8)))","v":""},{"$f":"IF(C160=\"\",\"\",(IF(questionario!$L$11=\"\",\"\",questionario!$L$11)))","v":""},"X","Fibras2022",{"$f":"IF(aux_cadastros!$A$10=\"\",\"\",aux_cadastros!$A$10)","v":"Fibras"},{"$f":"IFERROR((VLOOKUP(G160,questionario!$C$47:$D$66,2,0)),\"\")","v":""},{"$f":"IFERROR((VLOOKUP(G160,questionario!$Q$47:$R$66,2,0)),\"\")","v":""},2022,{"$f":"IF(G160=\"\",\"\",(IFERROR((INDEX(questionario!$A$23:$N$42,(MATCH((dados_exp!$G160&\"R$\"),questionario!$A$23:$A$42,0)),(MATCH(dados_exp!$J160,questionario!$A$22:$N$22,0)))),\"\")))","v":""},{"$f":"IF(G160=\"\",\"\",(IFERROR((INDEX(questionario!$Q$22:$AB$42,(MATCH(dados_exp!$G160,questionario!$Q$22:$Q$42,0)),(MATCH(dados_exp!$J160,questionario!$Q$22:$AB$22,0)))),\"\")))","v":""},{"$f":"IFERROR((INDEX(questionario!$B$47:$N$66,(MATCH((dados_exp!$G160&dados_exp!$H160),questionario!$B$47:$B$66,0)),(MATCH(dados_exp!$J160,questionario!$B$46:$N$46,0)))),\"\")","v":""},{"$f":"IFERROR((INDEX(questionario!$O$47:$AB$66,(MATCH((dados_exp!$G160&dados_exp!$I160),questionario!$O$47:$O$66,0)),(MATCH(dados_exp!$J160,questionario!$O$46:$AB$46,0)))),\"\")","v":""},"X",null,null,null,"X",null,null,null,"X",null,null,null,null,null,"X",null,null,null,"X"]
[{"$f":"IF(G161=\"\",\"\",(IF(questionario!$C$8=\"\",\"\",questionario!$C$8)))","v":""},{"$f":"IF(G161=\"\",\"\",(IF(questionario!$C$15=\"\",\"\",questionario!$C$15)))","v":""},{"$f":"IF(G161=\"\",\"\",(IF(questionario!$L$8=\"\",\"\",questionario!$L$8)))","v":""},{"$f":"IF(C161=\"\",\"\",(IF(questionario!$L$11=\"\",\"\",questionario!$L$11)))","v":""},"X","Guaraná2022",{"$f":"IF(aux_cadastros!$A$11=\"\",\"\",aux_cadastros!$A$11)","v":"Guaraná"},{"$f":"IFERROR((VLOOKUP(G161,questionario!$C$47:$D$66,2,0)),\"\")","v":""},{"$f":"IFERROR((VLOOKUP(G161,questionario!$Q$47:$R$66,2,0)),\"\")","v":""},2022,{"$f":"IF(G161=\"\",\"\",(IFERROR((INDEX(questionario!$A$23:$N$42,(MATCH((dados_exp!$G161&\"R$\"),questionario!$A$23:$A$42,0)),(MATCH(dados_exp!$J161,questionario!$A$22:$N$22,0)))),\"\")))","v":""},{"$f":"IF(G161=\"\",\"\",(IFERROR((INDEX(questionario!$Q$22:$AB$42,(MATCH(dados_exp!$G161,questionario!$Q$22:$Q$42,0)),(MATCH(dados_exp!$J161,questionario!$Q$22:$AB$22,0)))),\"\")))","v":""},{"$f":"IFERROR((INDEX(questionario!$B$47:$N$66,(MATCH((dados_exp!$G161&dados_exp!$H161),questionario!$B$47:$B$66,0)),(MATCH(dados_exp!$J161,questionario!$B$46:$N$46,0)))),\"\")","v":""},{"$f":"IFERROR((INDEX(questionario!$O$47:$AB$66,(MATCH((dados_exp!$G161&dados_exp!$I161),questionario!$O$47:$O$66,0)),(MATCH(dados_exp!$J161,questionario!$O$46:$AB$46,0)))),\"\")","v":""},"X",null,null,null,"X",null,null,null,"X",null,null,null,null,null,"X",null,null,null,"X"]
[{"$f":"IF(G162=\"\",\"\",(IF(questionario!$C$8=\"\",\"\",questionario!$C$8)))","v":""},{"$f":"IF(G162=\"\",\"\",(IF(questionario!$C$15=\"\",\"\",questionario!$C$15)))","v":""},{"$f":"IF(G162=\"\",\"\",(IF(questionario!$L$8=\"\",\"\",questionario!$L$8)))","v":""},{"$f":"IF(C162=\"\",\"\",(IF(questionario!$L$11=\"\",\"\",questionario!$L$11)))","v":""},"X","Madeira2022",{"$f":"IF(aux_cadastros!$A$12=\"\",\"\",aux_cadastros!$A$12)","v":"Madeira"},{"$f":"IFERROR((VLOOKUP(G162,questionario!$C$47:$D$66,2,0)),\"\")","v":""},{"$f":"IFERROR((VLOOKUP(G162,questionario!$Q$47:$R$66,2,0)),\"\")","v":""},2022,{"$f":"IF(G162=\"\",\"\",(IFERROR((INDEX(questionario!$A$23:$N$42,(MATCH((dados_exp!$G162&\"R$\"),questionario!$A$23:$A$42,0)),(MATCH(dados_exp!$J162,questionario!$A$22:$N$22,0)))),\"\")))","v":""},{"$f":"IF(G162=\"\",\"\",(IFERROR((INDEX(questionario!$Q$22:$AB$42,(MATCH(dados_exp!$G162,questionario!$Q$22:$Q$42,0)),(MATCH(dados_exp!$J162,questionario!$Q$22:$AB$22,0)))),\"\")))","v":""},{"$f":"IFERROR((INDEX(questionario!$B$47:$N$66,(MATCH((dados_exp!$G162&dados_exp!$H162),questionario!$B$47:$B$66,0)),(MATCH(dados_exp!$J162,questionario!$B$46:$N$46,0)))),\"\")","v":""},{"$f":"IFERROR((INDEX(questionario!$O$47:$AB$66,(MATCH((dados_exp!$G162&dados_exp!$I162),questionario!$O$47:$O$66,0)),(MATCH(dados_exp!$J162,questionario!$O$46:$AB$46,0)))),\"\")","v":""},"X",null,null,null,"X",null,null,null,"X",null,null,null,null,null,"X",null,null,null,"X"]
[{"$f":"IF(G163=\"\",\"\",(IF(questionario!$C$8=\"\",\"\",questionario!$C$8)))","v":""},{"$f":"IF(G163=\"\",\"\",(IF(questionario!$C$15=\"\",\"\",questionario!$C$15)))","v":""},{"$f":"IF(G163=\"\",\"\",(IF(questionario!$L$8=\"\",\"\",questionario!$L$8)))","v":""},{"$f":"IF(C163=\"\",\"\",(IF(questionario!$L$11=\"\",\"\",questionario!$L$11)))","v":""},"X","Mel2022",{"$f":"IF(aux_cadastros!$A$13=\"\",\"\",aux_cadastros!$A$13)","v":"Mel"},{"$f":"IFERROR((VLOOKUP(G163,questionario!$C$47:$D$66,2,0)),\"\")","v":""},{"$f":"IFERROR((VLOOKUP(G163,questionario!$Q$47:$R$66,2,0)),\"\")","v":""},2022,{"$f":"IF(G163=\"\",\"\",(IFERROR((INDEX(questionario!$A$23:$N$42,(MATCH((dados_exp!$G163&\"R$\"),questionario!$A$23:$A$42,0)),(MATCH(dados_exp!$J163,questionario!$A$22:$N$22,0)))),\"\")))","v":""},{"$f":"IF(G163=\"\",\"\",(IFERROR((INDEX(questionario!$Q$22:$AB$42,(MATCH(dados_exp!$G163,questionario!$Q$22:$Q$42,0)),(MATCH(dados_exp!$J163,questionario!$Q$22:$AB$22,0)))),\"\")))","v":""},{"$f":"IFERROR((INDEX(questionario!$B$47:$N$66,(MATCH((dados_exp!$G163&dados_exp!$H163),questionario!$B$47:$B$66,0)),(MATCH(dados_exp!$J163,questionario!$B$46:$N$46,0)))),\"\")","v":""},{"$f":"IFERROR((INDEX(questionario!$O$47:$AB$66,(MATCH((dados_exp!$G163&dados_exp!$I163),questionario!$O$47:$O$66,0)),(MATCH(dados_exp!$J163,questionario!$O$46:$AB$46,0)))),\"\")","v":""},"X",null,null,null,"X",null,null,null,"X",null,null,null,null,null,"X",null,null,null,"X"]
[{"$f":"IF(G164=\"\",\"\",(IF(questionario!$C$8=\"\",\"\",questionario!$C$8)))","v":""},{"$f":"IF(G164=\"\",\"\",(IF(questionario!$C$15=\"\",\"\",questionario!$C$15)))","v":""},{"$f":"IF(G164=\"\",\"\",(IF(questionario!$L$8=\"\",\"\",questionario!$L$8)))","v":""},{"$f":"IF(C164=\"\",\"\",(IF(questionario!$L$11=\"\",\"\",questionario!$L$11)))","v":""},"X","Oleaginosas2022",{"$f":"IF(aux_cadastros!$A$14=\"\",\"\",aux_cadastros!$A$14)","v":"Oleaginosas"},{"$f":"IFERROR((VLOOKUP(G164,questionario!$C$47:$D$66,2,0)),\"\")","v":""},{"$f":"IFERROR((VLOOKUP(G164,questionario!$Q$47:$R$66,2,0)),\"\")","v":""},2022,{"$f":"IF(G164=\"\",\"\",(IFERROR((INDEX(questionario!$A$23:$N$42,(MATCH((dados_exp!$G164&\"R$\"),questionario!$A$23:$A$42,0)),(MATCH(dados_exp!$J164,questionario!$A$22:$N$22,0)))),\"\")))","v":""},{"$f":"IF(G164=\"\",\"\",(IFERROR((INDEX(questionario!$Q$22:$AB$42,(MATCH(dados_exp!$G164,questionario!$Q$22:$Q$42,0)),(MATCH(dados_exp!$J164,questionario!$Q$22:$AB$22,0)))),\"\")))","v":""},{"$f":"IFERROR((INDEX(questionario!$B$47:$N$66,(MATCH((dados_exp!$G164&dados_exp!$H164),questionario!$B$47:$B$66,0)),(MATCH(dados_exp!$J164,questionario!$B$46:$N$46,0)))),\"\")","v":""},{"$f":"IFERROR((INDEX(questionario!$O$47:$AB$66,(MATCH((dados_exp!$G164&dados_exp!$I164),questionario!$O$47:$O$66,0)),(MATCH(dados_exp!$J164,questionario!$O$46:$AB$46,0)))),\"\")","v":""},"X",null,null,null,"X",null,null,null,"X",null,null,null,null,null,"X",null,null,null,"X"]
[{"$f":"IF(G165=\"\",\"\",(IF(questionario!$C$8=\"\",\"\",questionario!$C$8)))","v":""},{"$f":"IF(G165=\"\",\"\",(IF(questionario!$C$15=\"\",\"\",questionario!$C$15)))","v":""},{"$f":"IF(G165=\"\",\"\",(IF(questionario!$L$8=\"\",\"\",questionario!$L$8)))","v":""},{"$f":"IF(C165=\"\",\"\",(IF(questionario!$L$11=\"\",\"\",questionario!$L$11)))","v":""},"X","Óleos2022",{"$f":"IF(aux_cadastros!$A$15=\"\",\"\",aux_cadastros!$A$15)","v":"Óleos"},{"$f":"IFERROR((VLOOKUP(G165,questionario!$C$47:$D$66,2,0)),\"\")","v":""},{"$f":"IFERROR((VLOOKUP(G165,questionario!$Q$47:$R$66,2,0)),\"\")","v":""},2022,{"$f":"IF(G165=\"\",\"\",(IFERROR((INDEX(questionario!$A$23:$N$42,(MATCH((dados_exp!$G165&\"R$\"),questionario!$A$23:$A$42,0)),(MATCH(dados_exp!$J165,questionario!$A$22:$N$22,0)))),\"\")))","v":""},{"$f":"IF(G165=\"\",\"\",(IFERROR((INDEX(questionario!$Q$22:$AB$42,(MATCH(dados_exp!$G165,questionario!$Q$22:$Q$42,0)),(MATCH(dados_exp!$J165,questionario!$Q$22:$AB$22,0)))),\"\")))","v":""},{"$f":"IFERROR((INDEX(questionario!$B$47:$N$66,(MATCH((dados_exp!$G165&dados_exp!$H165),questionario!$B$47:$B$66,0)),(MATCH(dados_exp!$J165,questionario!$B$46:$N$46,0)))),\"\")","v":""},{"$f":"IFERROR((INDEX(questionario!$O$47:$AB$66,(MATCH((dados_exp!$G165&dados_exp!$I165),questionario!$O$47:$O$66,0)),(MATCH(dados_exp!$J165,questionario!$O$46:$AB$46,0)))),\"\")","v":""},"X",null,null,null,"X",null,null,null,"X",null,null,null,null,null,"X",null,null,null,"X"]
[{"$f":"IF(G166=\"\",\"\",(IF(questionario!$C$8=\"\",\"\",questionario!$C$8)))","v":""},{"$f":"IF(G166=\"\",\"\",(IF(questionario!$C$15=\"\",\"\",questionario!$C$15)))","v":""},{"$f":"IF(G166=\"\",\"\",(IF(questionario!$L$8=\"\",\"\",questionario!$L$8)))","v":""},{"$f":"IF(C166=\"\",\"\",(IF(questionario!$L$11=\"\",\"\",questionario!$L$11)))","v":""},"X","Pescado2022",{"$f":"IF(aux_cadastros!$A$16=\"\",\"\",aux_cadastros!$A$16)","v":"Pescado"},{"$f":"IFERROR((VLOOKUP(G166,questionario!$C$47:$D$66,2,0)),\"\")","v":""},{"$f":"IFERROR((VLOOKUP(G166,questionario!$Q$47:$R$66,2,0)),\"\")","v":""},2022,{"$f":"IF(G166=\"\",\"\",(IFERROR((INDEX(questionario!$A$23:$N$42,(MATCH((dados_exp!$G166&\"R$\"),questionario!$A$23:$A$42,0)),(MATCH(dados_exp!$J166,questionario!$A$22:$N$22,0)))),\"\")))","v":""},{"$f":"IF(G166=\"\",\"\",(IFERROR((INDEX(questionario!$Q$22:$AB$42,(MATCH(dados_exp!$G166,questionario!$Q$22:$Q$42,0)),(MATCH(dados_exp!$J166,questionario!$Q$22:$AB$22,0)))),\"\")))","v":""},{"$f":"IFERROR((INDEX(questionario!$B$47:$N$66,(MATCH((dados_exp!$G166&dados_exp!$H166),questionario!$B$47:$B$66,0)),(MATCH(dados_exp!$J166,questionario!$B$46:$N$46,0)))),\"\")","v":""},{"$f":"IFERROR((INDEX(questionario!$O$47:$AB$66,(MATCH((dados_exp!$G166&dados_exp!$I166),questionario!$O$47:$O$66,0)),(MATCH(dados_exp!$J166,questionario!$O$46:$AB$46,0)))),\"\")","v":""},"X",null,null,null,"X",null,null,null,"X",null,null,null,null,null,"X",null,null,null,"X"]
[{"$f":"IF(G167=\"\",\"\",(IF(questionario!$C$8=\"\",\"\",questionario!$C$8)))","v":""},{"$f":"IF(G167=\"\",\"\",(IF(questionario!$C$15=\"\",\"\",questionario!$C$15)))","v":""},{"$f":"IF(G167=\"\",\"\",(IF(questionario!$L$8=\"\",\"\",questionario!$L$8)))","v":""},{"$f":"IF(C167=\"\",\"\",(IF(questionario!$L$11=\"\",\"\",questionario!$L$11)))","v":""},"X","Turismo2022",{"$f":"IF(aux_cadastros!$A$17=\"\",\"\",aux_cadastros!$A$17)","v":"Turismo"},{"$f":"IFERROR((VLOOKUP(G167,questionario!$C$47:$D$66,2,0)),\"\")","v":""},{"$f":"IFERROR((VLOOKUP(G167,questionario!$Q$47:$R$66,2,0)),\"\")","v":""},2022,{"$f":"IF(G167=\"\",\"\",(IFERROR((INDEX(questionario!$A$23:$N$42,(MATCH((dados_exp!$G167&\"R$\"),questionario!$A$23:$A$42,0)),(MATCH(dados_exp!$J167,questionario!$A$22:$N$22,0)))),\"\")))","v":""},{"$f":"IF(G167=\"\",\"\",(IFERROR((INDEX(questionario!$Q$22:$AB$42,(MATCH(dados_exp!$G167,questionario!$Q$22:$Q$42,0)),(MATCH(dados_exp!$J167,questionario!$Q$22:$AB$22,0)))),\"\")))","v":""},{"$f":"IFERROR((INDEX(questionario!$B$47:$N$66,(MATCH((dados_exp!$G167&dados_exp!$H167),questionario!$B$47:$B$66,0)),(MATCH(dados_exp!$J167,questionario!$B$46:$N$46,0)))),\"\")","v":""},{"$f":"IFERROR((INDEX(questionario!$O$47:$AB$66,(MATCH((dados_exp!$G167&dados_exp!$I167),questionario!$O$47:$O$66,0)),(MATCH(dados_exp!$J167,questionario!$O$46:$AB$46,0)))),\"\")","v":""},"X",null,null,null,"X",null,null,null,"X",null,null,null,null,null,"X",null,null,null,"X"]
[{"$f":"IF(G168=\"\",\"\",(IF(questionario!$C$8=\"\",\"\",questionario!$C$8)))","v":""},{"$f":"IF(G168=\"\",\"\",(IF(questionario!$C$15=\"\",\"\",questionario!$C$15)))","v":""},{"$f":"IF(G168=\"\",\"\",(IF(questionario!$L$8=\"\",\"\",questionario!$L$8)))","v":""},{"$f":"IF(C168=\"\",\"\",(IF(questionario!$L$11=\"\",\"\",questionario!$L$11)))","v":""},"X","Agricultura de base familiar2022",{"$f":"IF(aux_cadastros!$A$18=\"\",\"\",aux_cadastros!$A$18)","v":"Agricultura de base familiar"},{"$f":"IFERROR((VLOOKUP(G168,questionario!$C$47:$D$66,2,0)),\"\")","v":""},{"$f":"IFERROR((VLOOKUP(G168,questionario!$Q$47:$R$66,2,0)),\"\")","v":""},2022,{"$f":"IF(G168=\"\",\"\",(IFERROR((INDEX(questionario!$A$23:$N$42,(MATCH((dados_exp!$G168&\"R$\"),questionario!$A$23:$A$42,0)),(MATCH(dados_exp!$J168,questionario!$A$22:$N$22,0)))),\"\")))","v":""},{"$f":"IF(G168=\"\",\"\",(IFERROR((INDEX(questionario!$Q$22:$AB$42,(MATCH(dados_exp!$G168,questionario!$Q$22:$Q$42,0)),(MATCH(dados_exp!$J168,questionario!$Q$22:$AB$22,0)))),\"\")))","v":""},{"$f":"IFERROR((INDEX(questionario!$B$47:$N$66,(MATCH((dados_exp!$G168&dados_exp!$H168),questionario!$B$47:$B$66,0)),(MATCH(dados_exp!$J168,questionario!$B$46:$N$46,0)))),\"\")","v":""},{"$f":"IFERROR((INDEX(questionario!$O$47:$AB$66,(MATCH((dados_exp!$G168&dados_exp!$I168),questionario!$O$47:$O$66,0)),(MATCH(dados_exp!$J168,questionario!$O$46:$AB$46,0)))),\"\")","v":""},"X",null,null,null,"X",null,null,null,"X",null,null,null,null,null,"X",null,null,null,"X"]
[{"$f":"IF(G169=\"\",\"\",(IF(questionario!$C$8=\"\",\"\",questionario!$C$8)))","v":""},{"$f":"IF(G169=\"\",\"\",(IF(questionario!$C$15=\"\",\"\",questionario!$C$15)))","v":""},{"$f":"IF(G169=\"\",\"\",(IF(questionario!$L$8=\"\",\"\",questionario!$L$8)))","v":""},{"$f":"IF(C169=\"\",\"\",(IF(questionario!$L$11=\"\",\"\",questionario!$L$11)))","v":""},"X","Pirarucu2022",{"$f":"IF(aux_cadastros!$A$19=\"\",\"\",aux_cadastros!$A$19)","v":"Pirarucu"},{"$f":"IFERROR((VLOOKUP(G169,questionario!$C$47:$D$66,2,0)),\"\")","v":""},{"$f":"IFERROR((VLOOKUP(G169,questionario!$Q$47:$R$66,2,0)),\"\")","v":""},2022,{"$f":"IF(G169=\"\",\"\",(IFERROR((INDEX(questionario!$A$23:$N$42,(MATCH((dados_exp!$G169&\"R$\"),questionario!$A$23:$A$42,0)),(MATCH(dados_exp!$J169,questionario!$A$22:$N$22,0)))),\"\")))","v":""},{"$f":"IF(G169=\"\",\"\",(IFERROR((INDEX(questionario!$Q$22:$AB$42,(MATCH(dados_exp!$G169,questionario!$Q$22:$Q$42,0)),(MATCH(dados_exp!$J169,questionario!$Q$22:$AB$22,0)))),\"\")))","v":""},{"$f":"IFERROR((INDEX(questionario!$B$47:$N$66,(MATCH((dados_exp!$G169&dados_exp!$H169),questionario!$B$47:$B$66,0)),(MATCH(dados_exp!$J169,questionario!$B$46:$N$46,0)))),\"\")","v":""},{"$f":"IFERROR((INDEX(questionario!$O$47:$AB$66,(MATCH((dados_exp!$G169&dados_exp!$I169),questionario!$O$47:$O$66,0)),(MATCH(dados_exp!$J169,questionario!$O$46:$AB$46,0)))),\"\")","v":""},"X",null,null,null,"X",null,null,null,"X",null,null,null,null,null,"X",null,null,null,"X"]
[{"$f":"IF(G170=\"\",\"\",(IF(questionario!$C$8=\"\",\"\",questionario!$C$8)))","v":""},{"$f":"IF(G170=\"\",\"\",(IF(questionario!$C$15=\"\",\"\",questionario!$C$15)))","v":""},{"$f":"IF(G170=\"\",\"\",(IF(questionario!$L$8=\"\",\"\",questionario!$L$8)))","v":""},{"$f":"IF(C170=\"\",\"\",(IF(questionario!$L$11=\"\",\"\",questionario!$L$11)))","v":""},"X","Bacalhau de Pirarucu2022",{"$f":"IF(aux_cadastros!$A$20=\"\",\"\",aux_cadastros!$A$20)","v":"Bacalhau de Pirarucu"},{"$f":"IFERROR((VLOOKUP(G170,questionario!$C$47:$D$66,2,0)),\"\")","v":""},{"$f":"IFERROR((VLOOKUP(G170,questionario!$Q$47:$R$66,2,0)),\"\")","v":""},2022,{"$f":"IF(G170=\"\",\"\",(IFERROR((INDEX(questionario!$A$23:$N$42,(MATCH((dados_exp!$G170&\"R$\"),questionario!$A$23:$A$42,0)),(MATCH(dados_exp!$J170,questionario!$A$22:$N$22,0)))),\"\")))","v":""},{"$f":"IF(G170=\"\",\"\",(IFERROR((INDEX(questionario!$Q$22:$AB$42,(MATCH(dados_exp!$G170,questionario!$Q$22:$Q$42,0)),(MATCH(dados_exp!$J170,questionario!$Q$22:$AB$22,0)))),\"\")))","v":""},{"$f":"IFERROR((INDEX(questionario!$B$47:$N$66,(MATCH((dados_exp!$G170&dados_exp!$H170),questionario!$B$47:$B$66,0)),(MATCH(dados_exp!$J170,questionario!$B$46:$N$46,0)))),\"\")","v":""},{"$f":"IFERROR((INDEX(questionario!$O$47:$AB$66,(MATCH((dados_exp!$G170&dados_exp!$I170),questionario!$O$47:$O$66,0)),(MATCH(dados_exp!$J170,questionario!$O$46:$AB$46,0)))),\"\")","v":""},"X",null,null,null,"X",null,null,null,"X",null,null,null,null,null,"X",null,null,null,"X"]
[{"$f":"IF(G171=\"\",\"\",(IF(questionario!$C$8=\"\",\"\",questionario!$C$8)))","v":""},{"$f":"IF(G171=\"\",\"\",(IF(questionario!$C$15=\"\",\"\",questionario!$C$15)))","v":""},{"$f":"IF(G171=\"\",\"\",(IF(questionario!$L$8=\"\",\"\",questionario!$L$8)))","v":""},{"$f":"IF(C171=\"\",\"\",(IF(questionario!$L$11=\"\",\"\",questionario!$L$11)))","v":""},"X","2022",{"$f":"IF(aux_cadastros!$A$21=\"\",\"\",aux_cadastros!$A$21)","v":""},{"$f":"IFERROR((VLOOKUP(G171,questionario!$C$47:$D$66,2,0)),\"\")","v":""},{"$f":"IFERROR((VLOOKUP(G171,questionario!$Q$47:$R$66,2,0)),\"\")","v":""},2022,{"$f":"IF(G171=\"\",\"\",(IFERROR((INDEX(questionario!$A$23:$N$42,(MATCH((dados_exp!$G171&\"R$\"),questionario!$A$23:$A$42,0)),(MATCH(dados_exp!$J171,questionario!$A$22:$N$22,0)))),\"\")))","v":""},{"$f":"IF(G171=\"\",\"\",(IFERROR((INDEX(questionario!$Q$22:$AB$42,(MATCH(dados_exp!$G171,questionario!$Q$22:$Q$42,0)),(MATCH(dados_exp!$J171,questionario!$Q$22:$AB$22,0)))),\"\")))","v":""},{"$f":"IFERROR((INDEX(questionario!$B$47:$N$66,(MATCH((dados_exp!$G171&dados_exp!$H171),questionario!$B$47:$B$66,0)),(MATCH(dados_exp!$J171,questionario!$B$46:$N$46,0)))),\"\")","v":""},{"$f":"IFERROR((INDEX(questionario!$O$47:$AB$66,(MATCH((dados_exp!$G171&dados_exp!$I171),questionario!$O$47:$O$66,0)),(MATCH(dados_exp!$J171,questionario!$O$46:$AB$46,0)))),\"\")","v":""},"X",null,null,null,"X",null,null,null,"X",null,null,null,null,null,"X",null,null,null,"X"]
[{"$f":"IF(G172=\"\",\"\",(IF(questionario!$C$8=\"\",\"\",questionario!$C$8)))","v":""},{"$f":"IF(G172=\"\",\"\",(IF(questionario!$C$15=\"\",\"\",questionario!$C$15)))","v":""},{"$f":"IF(G172=\"\",\"\",(IF(questionario!$L$8=\"\",\"\",questionario!$L$8)))","v":""},{"$f":"IF(C172=\"\",\"\",(IF(questionario!$L$11=\"\",\"\",questionario!$L$11)))","v":""},"X","2022",{"$f":"IF(aux_cadastros!$A$22=\"\",\"\",aux_cadastros!$A$22)","v":""},{"$f":"IFERROR((VLOOKUP(G172,questionario!$C$47:$D$66,2,0)),\"\")","v":""},{"$f":"IFERROR((VLOOKUP(G172,questionario!$Q$47:$R$66,2,0)),\"\")","v":""},2022,{"$f":"IF(G172=\"\",\"\",(IFERROR((INDEX(questionario!$A$23:$N$42,(MATCH((dados_exp!$G172&\"R$\"),questionario!$A$23:$A$42,0)),(MATCH(dados_exp!$J172,questionario!$A$22:$N$22,0)))),\"\")))","v":""},{"$f":"IF(G172=\"\",\"\",(IFERROR((INDEX(questionario!$Q$22:$AB$42,(MATCH(dados_exp!$G172,questionario!$Q$22:$Q$42,0)),(MATCH(dados_exp!$J172,questionario!$Q$22:$AB$22,0)))),\"\")))","v":""},{"$f":"IFERROR((INDEX(questionario!$B$47:$N$66,(MATCH((dados_exp!$G172&dados_exp!$H172),questionario!$B$47:$B$66,0)),(MATCH(dados_exp!$J172,questionario!$B$46:$N$46,0)))),\"\")","v":""},{"$f":"IFERROR((INDEX(questionario!$O$47:$AB$66,(MATCH((dados_exp!$G172&dados_exp!$I172),questionario!$O$47:$O$66,0)),(MATCH(dados_exp!$J172,questionario!$O$46:$AB$46,0)))),\"\")","v":""},"X",null,null,null,"X",null,null,null,"X",null,null,null,null,null,"X",null,null,null,"X"]
[{"$f":"IF(G173=\"\",\"\",(IF(questionario!$C$8=\"\",\"\",questionario!$C$8)))","v":""},{"$f":"IF(G173=\"\",\"\",(IF(questionario!$C$15=\"\",\"\",questionario!$C$15)))","v":""},{"$f":"IF(G173=\"\",\"\",(IF(questionario!$L$8=\"\",\"\",questionario!$L$8)))","v":""},{"$f":"IF(C173=\"\",\"\",(IF(questionario!$L$11=\"\",\"\",questionario!$L$11)))","v":""},"X","2022",{"$f":"IF(aux_cadastros!$A$23=\"\",\"\",aux_cadastros!$A$23)","v":""},{"$f":"IFERROR((VLOOKUP(G173,questionario!$C$47:$D$66,2,0)),\"\")","v":""},{"$f":"IFERROR((VLOOKUP(G173,questionario!$Q$47:$R$66,2,0)),\"\")","v":""},2022,{"$f":"IF(G173=\"\",\"\",(IFERROR((INDEX(questionario!$A$23:$N$42,(MATCH((dados_exp!$G173&\"R$\"),questionario!$A$23:$A$42,0)),(MATCH(dados_exp!$J173,questionario!$A$22:$N$22,0)))),\"\")))","v":""},{"$f":"IF(G173=\"\",\"\",(IFERROR((INDEX(questionario!$Q$22:$AB$42,(MATCH(dados_exp!$G173,questionario!$Q$22:$Q$42,0)),(MATCH(dados_exp!$J173,questionario!$Q$22:$AB$22,0)))),\"\")))","v":""},{"$f":"IFERROR((INDEX(questionario!$B$47:$N$66,(MATCH((dados_exp!$G173&dados_exp!$H173),questionario!$B$47:$B$66,0)),(MATCH(dados_exp!$J173,questionario!$B$46:$N$46,0)))),\"\")","v":""},{"$f":"IFERROR((INDEX(questionario!$O$47:$AB$66,(MATCH((dados_exp!$G173&dados_exp!$I173),questionario!$O$47:$O$66,0)),(MATCH(dados_exp!$J173,questionario!$O$46:$AB$46,0)))),\"\")","v":""},"X",null,null,null,"X",null,null,null,"X",null,null,null,null,null,"X",null,null,null,"X"]
[{"$f":"IF(G174=\"\",\"\",(IF(questionario!$C$8=\"\",\"\",questionario!$C$8)))","v":""},{"$f":"IF(G174=\"\",\"\",(IF(questionario!$C$15=\"\",\"\",questionario!$C$15)))","v":""},{"$f":"IF(G174=\"\",\"\",(IF(questionario!$L$8=\"\",\"\",questionario!$L$8)))","v":""},{"$f":"IF(C174=\"\",\"\",(IF(questionario!$L$11=\"\",\"\",questionario!$L$11)))","v":""},"X","2022",{"$f":"IF(aux_cadastros!$A$24=\"\",\"\",aux_cadastros!$A$24)","v":""},{"$f":"IFERROR((VLOOKUP(G174,questionario!$C$47:$D$66,2,0)),\"\")","v":""},{"$f":"IFERROR((VLOOKUP(G174,questionario!$Q$47:$R$66,2,0)),\"\")","v":""},2022,{"$f":"IF(G174=\"\",\"\",(IFERROR((INDEX(questionario!$A$23:$N$42,(MATCH((dados_exp!$G174&\"R$\"),questionario!$A$23:$A$42,0)),(MATCH(dados_exp!$J174,questionario!$A$22:$N$22,0)))),\"\")))","v":""},{"$f":"IF(G174=\"\",\"\",(IFERROR((INDEX(questionario!$Q$22:$AB$42,(MATCH(dados_exp!$G174,questionario!$Q$22:$Q$42,0)),(MATCH(dados_exp!$J174,questionario!$Q$22:$AB$22,0)))),\"\")))","v":""},{"$f":"IFERROR((INDEX(questionario!$B$47:$N$66,(MATCH((dados_exp!$G174&dados_exp!$H174),questionario!$B$47:$B$66,0)),(MATCH(dados_exp!$J174,questionario!$B$46:$N$46,0)))),\"\")","v":""},{"$f":"IFERROR((INDEX(questionario!$O$47:$AB$66,(MATCH((dados_exp!$G174&dados_exp!$I174),questionario!$O$47:$O$66,0)),(MATCH(dados_exp!$J174,questionario!$O$46:$AB$46,0)))),\"\")","v":""},"X",null,null,null,"X",null,null,null,"X",null,null,null,null,null,"X",null,null,null,"X"]
[{"$f":"IF(G175=\"\",\"\",(IF(questionario!$C$8=\"\",\"\",questionario!$C$8)))","v":""},{"$f":"IF(G175=\"\",\"\",(IF(questionario!$C$15=\"\",\"\",questionario!$C$15)))","v":""},{"$f":"IF(G175=\"\",\"\",(IF(questionario!$L$8=\"\",\"\",questionario!$L$8)))","v":""},{"$f":"IF(C175=\"\",\"\",(IF(questionario!$L$11=\"\",\"\",questionario!$L$11)))","v":""},"X","2022",{"$f":"IF(aux_cadastros!$A$25=\"\",\"\",aux_cadastros!$A$25)","v":""},{"$f":"IFERROR((VLOOKUP(G175,questionario!$C$47:$D$66,2,0)),\"\")","v":""},{"$f":"IFERROR((VLOOKUP(G175,questionario!$Q$47:$R$66,2,0)),\"\")","v":""},2022,{"$f":"IF(G175=\"\",\"\",(IFERROR((INDEX(questionario!$A$23:$N$42,(MATCH((dados_exp!$G175&\"R$\"),questionario!$A$23:$A$42,0)),(MATCH(dados_exp!$J175,questionario!$A$22:$N$22,0)))),\"\")))","v":""},{"$f":"IF(G175=\"\",\"\",(IFERROR((INDEX(questionario!$Q$22:$AB$42,(MATCH(dados_exp!$G175,questionario!$Q$22:$Q$42,0)),(MATCH(dados_exp!$J175,questionario!$Q$22:$AB$22,0)))),\"\")))","v":""},{"$f":"IFERROR((INDEX(questionario!$B$47:$N$66,(MATCH((dados_exp!$G175&dados_exp!$H175),questionario!$B$47:$B$66,0)),(MATCH(dados_exp!$J175,questionario!$B$46:$N$46,0)))),\"\")","v":""},{"$f":"IFERROR((INDEX(questionario!$O$47:$AB$66,(MATCH((dados_exp!$G175&dados_exp!$I175),questionario!$O$47:$O$66,0)),(MATCH(dados_exp!$J175,questionario!$O$46:$AB$46,0)))),\"\")","v":""},"X",null,null,null,"X",null,null,null,"X",null,null,null,null,null,"X",null,null,null,"X"]
[{"$f":"IF(G176=\"\",\"\",(IF(questionario!$C$8=\"\",\"\",questionario!$C$8)))","v":""},{"$f":"IF(G176=\"\",\"\",(IF(questionario!$C$15=\"\",\"\",questionario!$C$15)))","v":""},{"$f":"IF(G176=\"\",\"\",(IF(questionario!$L$8=\"\",\"\",questionario!$L$8)))","v":""},{"$f":"IF(C176=\"\",\"\",(IF(questionario!$L$11=\"\",\"\",questionario!$L$11)))","v":""},"X","2022",{"$f":"IF(aux_cadastros!$A$26=\"\",\"\",aux_cadastros!$A$26)","v":""},{"$f":"IFERROR((VLOOKUP(G176,questionario!$C$47:$D$66,2,0)),\"\")","v":""},{"$f":"IFERROR((VLOOKUP(G176,questionario!$Q$47:$R$66,2,0)),\"\")","v":""},2022,{"$f":"IF(G176=\"\",\"\",(IFERROR((INDEX(questionario!$A$23:$N$42,(MATCH((dados_exp!$G176&\"R$\"),questionario!$A$23:$A$42,0)),(MATCH(dados_exp!$J176,questionario!$A$22:$N$22,0)))),\"\")))","v":""},{"$f":"IF(G176=\"\",\"\",(IFERROR((INDEX(questionario!$Q$22:$AB$42,(MATCH(dados_exp!$G176,questionario!$Q$22:$Q$42,0)),(MATCH(dados_exp!$J176,questionario!$Q$22:$AB$22,0)))),\"\")))","v":""},{"$f":"IFERROR((INDEX(questionario!$B$47:$N$66,(MATCH((dados_exp!$G176&dados_exp!$H176),questionario!$B$47:$B$66,0)),(MATCH(dados_exp!$J176,questionario!$B$46:$N$46,0)))),\"\")","v":""},{"$f":"IFERROR((INDEX(questionario!$O$47:$AB$66,(MATCH((dados_exp!$G176&dados_exp!$I176),questionario!$O$47:$O$66,0)),(MATCH(dados_exp!$J176,questionario!$O$46:$AB$46,0)))),\"\")","v":""},"X",null,null,null,"X",null,null,null,"X",null,null,null,null,null,"X",null,null,null,"X"]
[{"$f":"IF(G177=\"\",\"\",(IF(questionario!$C$8=\"\",\"\",questionario!$C$8)))","v":""},{"$f":"IF(G177=\"\",\"\",(IF(questionario!$C$15=\"\",\"\",questionario!$C$15)))","v":""},{"$f":"IF(G177=\"\",\"\",(IF(questionario!$L$8=\"\",\"\",questionario!$L$8)))","v":""},{"$f":"IF(C177=\"\",\"\",(IF(questionario!$L$11=\"\",\"\",questionario!$L$11)))","v":""},"X","2022",{"$f":"IF(aux_cadastros!$A$27=\"\",\"\",aux_cadastros!$A$27)","v":""},{"$f":"IFERROR((VLOOKUP(G177,questionario!$C$47:$D$66,2,0)),\"\")","v":""},{"$f":"IFERROR((VLOOKUP(G177,questionario!$Q$47:$R$66,2,0)),\"\")","v":""},2022,{"$f":"IF(G177=\"\",\"\",(IFERROR((INDEX(questionario!$A$23:$N$42,(MATCH((dados_exp!$G177&\"R$\"),questionario!$A$23:$A$42,0)),(MATCH(dados_exp!$J177,questionario!$A$22:$N$22,0)))),\"\")))","v":""},{"$f":"IF(G177=\"\",\"\",(IFERROR((INDEX(questionario!$Q$22:$AB$42,(MATCH(dados_exp!$G177,questionario!$Q$22:$Q$42,0)),(MATCH(dados_exp!$J177,questionario!$Q$22:$AB$22,0)))),\"\")))","v":""},{"$f":"IFERROR((INDEX(questionario!$B$47:$N$66,(MATCH((dados_exp!$G177&dados_exp!$H177),questionario!$B$47:$B$66,0)),(MATCH(dados_exp!$J177,questionario!$B$46:$N$46,0)))),\"\")","v":""},{"$f":"IFERROR((INDEX(questionario!$O$47:$AB$66,(MATCH((dados_exp!$G177&dados_exp!$I177),questionario!$O$47:$O$66,0)),(MATCH(dados_exp!$J177,questionario!$O$46:$AB$46,0)))),\"\")","v":""},"X",null,null,null,"X",null,null,null,"X",null,null,null,null,null,"X",null,null,null,"X"]
[{"$f":"IF(G178=\"\",\"\",(IF(questionario!$C$8=\"\",\"\",questionario!$C$8)))","v":""},{"$f":"IF(G178=\"\",\"\",(IF(questionario!$C$15=\"\",\"\",questionario!$C$15)))","v":""},{"$f":"IF(G178=\"\",\"\",(IF(questionario!$L$8=\"\",\"\",questionario!$L$8)))","v":""},{"$f":"IF(C178=\"\",\"\",(IF(questionario!$L$11=\"\",\"\",questionario!$L$11)))","v":""},"X","2022",{"$f":"IF(aux_cadastros!$A$28=\"\",\"\",aux_cadastros!$A$28)","v":""},{"$f":"IFERROR((VLOOKUP(G178,questionario!$C$47:$D$66,2,0)),\"\")","v":""},{"$f":"IFERROR((VLOOKUP(G178,questionario!$Q$47:$R$66,2,0)),\"\")","v":""},2022,{"$f":"IF(G178=\"\",\"\",(IFERROR((INDEX(questionario!$A$23:$N$42,(MATCH((dados_exp!$G178&\"R$\"),questionario!$A$23:$A$42,0)),(MATCH(dados_exp!$J178,questionario!$A$22:$N$22,0)))),\"\")))","v":""},{"$f":"IF(G178=\"\",\"\",(IFERROR((INDEX(questionario!$Q$22:$AB$42,(MATCH(dados_exp!$G178,questionario!$Q$22:$Q$42,0)),(MATCH(dados_exp!$J178,questionario!$Q$22:$AB$22,0)))),\"\")))","v":""},{"$f":"IFERROR((INDEX(questionario!$B$47:$N$66,(MATCH((dados_exp!$G178&dados_exp!$H178),questionario!$B$47:$B$66,0)),(MATCH(dados_exp!$J178,questionario!$B$46:$N$46,0)))),\"\")","v":""},{"$f":"IFERROR((INDEX(questionario!$O$47:$AB$66,(MATCH((dados_exp!$G178&dados_exp!$I178),questionario!$O$47:$O$66,0)),(MATCH(dados_exp!$J178,questionario!$O$46:$AB$46,0)))),\"\")","v":""},"X",null,null,null,"X",null,null,null,"X",null,null,null,null,null,"X",null,null,null,"X"]
[{"$f":"IF(G179=\"\",\"\",(IF(questionario!$C$8=\"\",\"\",questionario!$C$8)))","v":""},{"$f":"IF(G179=\"\",\"\",(IF(questionario!$C$15=\"\",\"\",questionario!$C$15)))","v":""},{"$f":"IF(G179=\"\",\"\",(IF(questionario!$L$8=\"\",\"\",questionario!$L$8)))","v":""},{"$f":"IF(C179=\"\",\"\",(IF(questionario!$L$11=\"\",\"\",questionario!$L$11)))","v":""},"X","2022",{"$f":"IF(aux_cadastros!$A$29=\"\",\"\",aux_cadastros!$A$29)","v":""},{"$f":"IFERROR((VLOOKUP(G179,questionario!$C$47:$D$66,2,0)),\"\")","v":""},{"$f":"IFERROR((VLOOKUP(G179,questionario!$Q$47:$R$66,2,0)),\"\")","v":""},2022,{"$f":"IF(G179=\"\",\"\",(IFERROR((INDEX(questionario!$A$23:$N$42,(MATCH((dados_exp!$G179&\"R$\"),questionario!$A$23:$A$42,0)),(MATCH(dados_exp!$J179,questionario!$A$22:$N$22,0)))),\"\")))","v":""},{"$f":"IF(G179=\"\",\"\",(IFERROR((INDEX(questionario!$Q$22:$AB$42,(MATCH(dados_exp!$G179,questionario!$Q$22:$Q$42,0)),(MATCH(dados_exp!$J179,questionario!$Q$22:$AB$22,0)))),\"\")))","v":""},{"$f":"IFERROR((INDEX(questionario!$B$47:$N$66,(MATCH((dados_exp!$G179&dados_exp!$H179),questionario!$B$47:$B$66,0)),(MATCH(dados_exp!$J179,questionario!$B$46:$N$46,0)))),\"\")","v":""},{"$f":"IFERROR((INDEX(questionario!$O$47:$AB$66,(MATCH((dados_exp!$G179&dados_exp!$I179),questionario!$O$47:$O$66,0)),(MATCH(dados_exp!$J179,questionario!$O$46:$AB$46,0)))),\"\")","v":""},"X",null,null,null,"X",null,null,null,"X",null,null,null,null,null,"X",null,null,null,"X"]
[{"$f":"IF(G180=\"\",\"\",(IF(questionario!$C$8=\"\",\"\",questionario!$C$8)))","v":""},{"$f":"IF(G180=\"\",\"\",(IF(questionario!$C$15=\"\",\"\",questionario!$C$15)))","v":""},{"$f":"IF(G180=\"\",\"\",(IF(questionario!$L$8=\"\",\"\",questionario!$L$8)))","v":""},{"$f":"IF(C180=\"\",\"\",(IF(questionario!$L$11=\"\",\"\",questionario!$L$11)))","v":""},"X","2022",{"$f":"IF(aux_cadastros!$A$30=\"\",\"\",aux_cadastros!$A$30)","v":""},{"$f":"IFERROR((VLOOKUP(G180,questionario!$C$47:$D$66,2,0)),\"\")","v":""},{"$f":"IFERROR((VLOOKUP(G180,questionario!$Q$47:$R$66,2,0)),\"\")","v":""},2022,{"$f":"IF(G180=\"\",\"\",(IFERROR((INDEX(questionario!$A$23:$N$42,(MATCH((dados_exp!$G180&\"R$\"),questionario!$A$23:$A$42,0)),(MATCH(dados_exp!$J180,questionario!$A$22:$N$22,0)))),\"\")))","v":""},{"$f":"IF(G180=\"\",\"\",(IFERROR((INDEX(questionario!$Q$22:$AB$42,(MATCH(dados_exp!$G180,questionario!$Q$22:$Q$42,0)),(MATCH(dados_exp!$J180,questionario!$Q$22:$AB$22,0)))),\"\")))","v":""},{"$f":"IFERROR((INDEX(questionario!$B$47:$N$66,(MATCH((dados_exp!$G180&dados_exp!$H180),questionario!$B$47:$B$66,0)),(MATCH(dados_exp!$J180,questionario!$B$46:$N$46,0)))),\"\")","v":""},{"$f":"IFERROR((INDEX(questionario!$O$47:$AB$66,(MATCH((dados_exp!$G180&dados_exp!$I180),questionario!$O$47:$O$66,0)),(MATCH(dados_exp!$J180,questionario!$O$46:$AB$46,0)))),\"\")","v":""},"X",null,null,null,"X",null,null,null,"X",null,null,null,null,null,"X",null,null,null,"X"]
[{"$f":"IF(G181=\"\",\"\",(IF(questionario!$C$8=\"\",\"\",questionario!$C$8)))","v":""},{"$f":"IF(G181=\"\",\"\",(IF(questionario!$C$15=\"\",\"\",questionario!$C$15)))","v":""},{"$f":"IF(G181=\"\",\"\",(IF(questionario!$L$8=\"\",\"\",questionario!$L$8)))","v":""},{"$f":"IF(C181=\"\",\"\",(IF(questionario!$L$11=\"\",\"\",questionario!$L$11)))","v":""},"X","2022",{"$f":"IF(aux_cadastros!$A$31=\"\",\"\",aux_cadastros!$A$31)","v":""},{"$f":"IFERROR((VLOOKUP(G181,questionario!$C$47:$D$66,2,0)),\"\")","v":""},{"$f":"IFERROR((VLOOKUP(G181,questionario!$Q$47:$R$66,2,0)),\"\")","v":""},2022,{"$f":"IF(G181=\"\",\"\",(IFERROR((INDEX(questionario!$A$23:$N$42,(MATCH((dados_exp!$G181&\"R$\"),questionario!$A$23:$A$42,0)),(MATCH(dados_exp!$J181,questionario!$A$22:$N$22,0)))),\"\")))","v":""},{"$f":"IF(G181=\"\",\"\",(IFERROR((INDEX(questionario!$Q$22:$AB$42,(MATCH(dados_exp!$G181,questionario!$Q$22:$Q$42,0)),(MATCH(dados_exp!$J181,questionario!$Q$22:$AB$22,0)))),\"\")))","v":""},{"$f":"IFERROR((INDEX(questionario!$B$47:$N$66,(MATCH((dados_exp!$G181&dados_exp!$H181),questionario!$B$47:$B$66,0)),(MATCH(dados_exp!$J181,questionario!$B$46:$N$46,0)))),\"\")","v":""},{"$f":"IFERROR((INDEX(questionario!$O$47:$AB$66,(MATCH((dados_exp!$G181&dados_exp!$I181),questionario!$O$47:$O$66,0)),(MATCH(dados_exp!$J181,questionario!$O$46:$AB$46,0)))),\"\")","v":""},"X",null,null,null,"X",null,null,null,"X",null,null,null,null,null,"X",null,null,null,"X"]
[{"$f":"IF(G182=\"\",\"\",(IF(questionario!$C$8=\"\",\"\",questionario!$C$8)))","v":""},{"$f":"IF(G182=\"\",\"\",(IF(questionario!$C$15=\"\",\"\",questionario!$C$15)))","v":""},{"$f":"IF(G182=\"\",\"\",(IF(questionario!$L$8=\"\",\"\",questionario!$L$8)))","v":""},{"$f":"IF(C182=\"\",\"\",(IF(questionario!$L$11=\"\",\"\",questionario!$L$11)))","v":""},"X","Açaí2023",{"$f":"IF(aux_cadastros!$A$2=\"\",\"\",aux_cadastros!$A$2)","v":"Açaí"},{"$f":"IFERROR((VLOOKUP(G182,questionario!$C$47:$D$66,2,0)),\"\")","v":""},{"$f":"IFERROR((VLOOKUP(G182,questionario!$Q$47:$R$66,2,0)),\"\")","v":""},{"$f":"questionario!$K$22","v":2023},{"$f":"IF(G182=\"\",\"\",(IFERROR((INDEX(questionario!$A$23:$N$42,(MATCH((dados_exp!$G182&\"R$\"),questionario!$A$23:$A$42,0)),(MATCH(dados_exp!$J182,questionario!$A$22:$N$22,0)))),\"\")))","v":""},{"$f":"IF(G182=\"\",\"\",(IFERROR((INDEX(questionario!$Q$22:$AB$42,(MATCH(dados_exp!$G182,questionario!$Q$22:$Q$42,0)),(MATCH(dados_exp!$J182,questionario!$Q$22:$AB$22,0)))),\"\")))","v":""},{"$f":"IFERROR((INDEX(questionario!$B$47:$N$66,(MATCH((dados_exp!$G182&dados_exp!$H182),questionario!$B$47:$B$66,0)),(MATCH(dados_exp!$J182,questionario!$B$46:$N$46,0)))),\"\")","v":""},{"$f":"IFERROR((INDEX(questionario!$O$47:$AB$66,(MATCH((dados_exp!$G182&dados_exp!$I182),questionario!$O$47:$O$66,0)),(MATCH(dados_exp!$J182,questionario!$O$46:$AB$46,0)))),\"\")","v":""},"X",null,null,null,"X",null,null,null,"X",null,null,null,null,null,"X",null,null,null,"X"]
[{"$f":"IF(G183=\"\",\"\",(IF(questionario!$C$8=\"\",\"\",questionario!$C$8)))","v":""},{"$f":"IF(G183=\"\",\"\",(IF(questionario!$C$15=\"\",\"\",questionario!$C$15)))","v":""},{"$f":"IF(G183=\"\",\"\",(IF(questionario!$L$8=\"\",\"\",questionario!$L$8)))","v":""},{"$f":"IF(C183=\"\",\"\",(IF(questionario!$L$11=\"\",\"\",questionario!$L$11)))","v":""},"X","Aquicultura2023",{"$f":"IF(aux_cadastros!$A$3=\"\",\"\",aux_cadastros!$A$3)","v":"Aquicultura"},{"$f":"IFERROR((VLOOKUP(G183,questionario!$C$47:$D$66,2,0)),\"\")","v":""},{"$f":"IFERROR((VLOOKUP(G183,questionario!$Q$47:$R$66,2,0)),\"\")","v":""},{"$f":"J182","v":2023},{"$f":"IF(G183=\"\",\"\",(IFERROR((INDEX(questionario!$A$23:$N$42,(MATCH((dados_exp!$G183&\"R$\"),questionario!$A$23:$A$42,0)),(MATCH(dados_exp!$J183,questionario!$A$22:$N$22,0)))),\"\")))","v":""},{"$f":"IF(G183=\"\",\"\",(IFERROR((INDEX(questionario!$Q$22:$AB$42,(MATCH(dados_exp!$G183,questionario!$Q$22:$Q$42,0)),(MATCH(dados_exp!$J183,questionario!$Q$22:$AB$22,0)))),\"\")))","v":""},{"$f":"IFERROR((INDEX(questionario!$B$47:$N$66,(MATCH((dados_exp!$G183&dados_exp!$H183),questionario!$B$47:$B$66,0)),(MATCH(dados_exp!$J183,questionario!$B$46:$N$46,0)))),\"\")","v":""},{"$f":"IFERROR((INDEX(questionario!$O$47:$AB$66,(MATCH((dados_exp!$G183&dados_exp!$I183),questionario!$O$47:$O$66,0)),(MATCH(dados_exp!$J183,questionario!$O$46:$AB$46,0)))),\"\")","v":""},"X",null,null,null,"X",null,null,null,"X",null,null,null,null,null,"X",null,null,null,"X"]
[{"$f":"IF(G184=\"\",\"\",(IF(questionario!$C$8=\"\",\"\",questionario!$C$8)))","v":""},{"$f":"IF(G184=\"\",\"\",(IF(questionario!$C$15=\"\",\"\",questionario!$C$15)))","v":""},{"$f":"IF(G184=\"\",\"\",(IF(questionario!$L$8=\"\",\"\",questionario!$L$8)))","v":""},{"$f":"IF(C184=\"\",\"\",(IF(questionario!$L$11=\"\",\"\",questionario!$L$11)))","v":""},"X","Artesanato2023",{"$f":"IF(aux_cadastros!$A$4=\"\",\"\",aux_cadastros!$A$4)","v":"Artesanato"},{"$f":"IFERROR((VLOOKUP(G184,questionario!$C$47:$D$66,2,0)),\"\")","v":""},{"$f":"IFERROR((VLOOKUP(G184,questionario!$Q$47:$R$66,2,0)),\"\")","v":""},{"$f":"J183","v":2023},{"$f":"IF(G184=\"\",\"\",(IFERROR((INDEX(questionario!$A$23:$N$42,(MATCH((dados_exp!$G184&\"R$\"),questionario!$A$23:$A$42,0)),(MATCH(dados_exp!$J184,questionario!$A$22:$N$22,0)))),\"\")))","v":""},{"$f":"IF(G184=\"\",\"\",(IFERROR((INDEX(questionario!$Q$22:$AB$42,(MATCH(dados_exp!$G184,questionario!$Q$22:$Q$42,0)),(MATCH(dados_exp!$J184,questionario!$Q$22:$AB$22,0)))),\"\")))","v":""},{"$f":"IFERROR((INDEX(questionario!$B$47:$N$66,(MATCH((dados_exp!$G184&dados_exp!$H184),questionario!$B$47:$B$66,0)),(MATCH(dados_exp!$J184,questionario!$B$46:$N$46,0)))),\"\")","v":""},{"$f":"IFERROR((INDEX(questionario!$O$47:$AB$66,(MATCH((dados_exp!$G184&dados_exp!$I184),questionario!$O$47:$O$66,0)),(MATCH(dados_exp!$J184,questionario!$O$46:$AB$46,0)))),\"\")","v":""},"X",null,null,null,"X",null,null,null,"X",null,null,null,null,null,"X",null,null,null,"X"]
[{"$f":"IF(G185=\"\",\"\",(IF(questionario!$C$8=\"\",\"\",questionario!$C$8)))","v":""},{"$f":"IF(G185=\"\",\"\",(IF(questionario!$C$15=\"\",\"\",questionario!$C$15)))","v":""},{"$f":"IF(G185=\"\",\"\",(IF(questionario!$L$8=\"\",\"\",questionario!$L$8)))","v":""},{"$f":"IF(C185=\"\",\"\",(IF(questionario!$L$11=\"\",\"\",questionario!$L$11)))","v":""},"X","Babaçu2023",{"$f":"IF(aux_cadastros!$A$5=\"\",\"\",aux_cadastros!$A$5)","v":"Babaçu"},{"$f":"IFERROR((VLOOKUP(G185,questionario!$C$47:$D$66,2,0)),\"\")","v":""},{"$f":"IFERROR((VLOOKUP(G185,questionario!$Q$47:$R$66,2,0)),\"\")","v":""},2023,{"$f":"IF(G185=\"\",\"\",(IFERROR((INDEX(questionario!$A$23:$N$42,(MATCH((dados_exp!$G185&\"R$\"),questionario!$A$23:$A$42,0)),(MATCH(dados_exp!$J185,questionario!$A$22:$N$22,0)))),\"\")))","v":""},{"$f":"IF(G185=\"\",\"\",(IFERROR((INDEX(questionario!$Q$22:$AB$42,(MATCH(dados_exp!$G185,questionario!$Q$22:$Q$42,0)),(MATCH(dados_exp!$J185,questionario!$Q$22:$AB$22,0)))),\"\")))","v":""},{"$f":"IFERROR((INDEX(questionario!$B$47:$N$66,(MATCH((dados_exp!$G185&dados_exp!$H185),questionario!$B$47:$B$66,0)),(MATCH(dados_exp!$J185,questionario!$B$46:$N$46,0)))),\"\")","v":""},{"$f":"IFERROR((INDEX(questionario!$O$47:$AB$66,(MATCH((dados_exp!$G185&dados_exp!$I185),questionario!$O$47:$O$66,0)),(MATCH(dados_exp!$J185,questionario!$O$46:$AB$46,0)))),\"\")","v":""},"X",null,null,null,"X",null,null,null,"X",null,null,null,null,null,"X",null,null,null,"X"]
[{"$f":"IF(G186=\"\",\"\",(IF(questionario!$C$8=\"\",\"\",questionario!$C$8)))","v":""},{"$f":"IF(G186=\"\",\"\",(IF(questionario!$C$15=\"\",\"\",questionario!$C$15)))","v":""},{"$f":"IF(G186=\"\",\"\",(IF(questionario!$L$8=\"\",\"\",questionario!$L$8)))","v":""},{"$f":"IF(C186=\"\",\"\",(IF(questionario!$L$11=\"\",\"\",questionario!$L$11)))","v":""},"X","Borrachas2023",{"$f":"IF(aux_cadastros!$A$6=\"\",\"\",aux_cadastros!$A$6)","v":"Borrachas"},{"$f":"IFERROR((VLOOKUP(G186,questionario!$C$47:$D$66,2,0)),\"\")","v":""},{"$f":"IFERROR((VLOOKUP(G186,questionario!$Q$47:$R$66,2,0)),\"\")","v":""},2023,{"$f":"IF(G186=\"\",\"\",(IFERROR((INDEX(questionario!$A$23:$N$42,(MATCH((dados_exp!$G186&\"R$\"),questionario!$A$23:$A$42,0)),(MATCH(dados_exp!$J186,questionario!$A$22:$N$22,0)))),\"\")))","v":""},{"$f":"IF(G186=\"\",\"\",(IFERROR((INDEX(questionario!$Q$22:$AB$42,(MATCH(dados_exp!$G186,questionario!$Q$22:$Q$42,0)),(MATCH(dados_exp!$J186,questionario!$Q$22:$AB$22,0)))),\"\")))","v":""},{"$f":"IFERROR((INDEX(questionario!$B$47:$N$66,(MATCH((dados_exp!$G186&dados_exp!$H186),questionario!$B$47:$B$66,0)),(MATCH(dados_exp!$J186,questionario!$B$46:$N$46,0)))),\"\")","v":""},{"$f":"IFERROR((INDEX(questionario!$O$47:$AB$66,(MATCH((dados_exp!$G186&dados_exp!$I186),questionario!$O$47:$O$66,0)),(MATCH(dados_exp!$J186,questionario!$O$46:$AB$46,0)))),\"\")","v":""},"X",null,null,null,"X",null,null,null,"X",null,null,null,null,null,"X",null,null,null,"X"]
[{"$f":"IF(G187=\"\",\"\",(IF(questionario!$C$8=\"\",\"\",questionario!$C$8)))","v":""},{"$f":"IF(G187=\"\",\"\",(IF(questionario!$C$15=\"\",\"\",questionario!$C$15)))","v":""},{"$f":"IF(G187=\"\",\"\",(IF(questionario!$L$8=\"\",\"\",questionario!$L$8)))","v":""},{"$f":"IF(C187=\"\",\"\",(IF(questionario!$L$11=\"\",\"\",questionario!$L$11)))","v":""},"X","Cacau2023",{"$f":"IF(aux_cadastros!$A$7=\"\",\"\",aux_cadastros!$A$7)","v":"Cacau"},{"$f":"IFERROR((VLOOKUP(G187,questionario!$C$47:$D$66,2,0)),\"\")","v":""},{"$f":"IFERROR((VLOOKUP(G187,questionario!$Q$47:$R$66,2,0)),\"\")","v":""},2023,{"$f":"IF(G187=\"\",\"\",(IFERROR((INDEX(questionario!$A$23:$N$42,(MATCH((dados_exp!$G187&\"R$\"),questionario!$A$23:$A$42,0)),(MATCH(dados_exp!$J187,questionario!$A$22:$N$22,0)))),\"\")))","v":""},{"$f":"IF(G187=\"\",\"\",(IFERROR((INDEX(questionario!$Q$22:$AB$42,(MATCH(dados_exp!$G187,questionario!$Q$22:$Q$42,0)),(MATCH(dados_exp!$J187,questionario!$Q$22:$AB$22,0)))),\"\")))","v":""},{"$f":"IFERROR((INDEX(questionario!$B$47:$N$66,(MATCH((dados_exp!$G187&dados_exp!$H187),questionario!$B$47:$B$66,0)),(MATCH(dados_exp!$J187,questionario!$B$46:$N$46,0)))),\"\")","v":""},{"$f":"IFERROR((INDEX(questionario!$O$47:$AB$66,(MATCH((dados_exp!$G187&dados_exp!$I187),questionario!$O$47:$O$66,0)),(MATCH(dados_exp!$J187,questionario!$O$46:$AB$46,0)))),\"\")","v":""},"X",null,null,null,"X",null,null,null,"X",null,null,null,null,null,"X",null,null,null,"X"]
[{"$f":"IF(G188=\"\",\"\",(IF(questionario!$C$8=\"\",\"\",questionario!$C$8)))","v":""},{"$f":"IF(G188=\"\",\"\",(IF(questionario!$C$15=\"\",\"\",questionario!$C$15)))","v":""},{"$f":"IF(G188=\"\",\"\",(IF(questionario!$L$8=\"\",\"\",questionario!$L$8)))","v":""},{"$f":"IF(C188=\"\",\"\",(IF(questionario!$L$11=\"\",\"\",questionario!$L$11)))","v":""},"X","Castanha2023",{"$f":"IF(aux_cadastros!$A$8=\"\",\"\",aux_cadastros!$A$8)","v":"Castanha"},{"$f":"IFERROR((VLOOKUP(G188,questionario!$C$47:$D$66,2,0)),\"\")","v":""},{"$f":"IFERROR((VLOOKUP(G188,questionario!$Q$47:$R$66,2,0)),\"\")","v":""},2023,{"$f":"IF(G188=\"\",\"\",(IFERROR((INDEX(questionario!$A$23:$N$42,(MATCH((dados_exp!$G188&\"R$\"),questionario!$A$23:$A$42,0)),(MATCH(dados_exp!$J188,questionario!$A$22:$N$22,0)))),\"\")))","v":""},{"$f":"IF(G188=\"\",\"\",(IFERROR((INDEX(questionario!$Q$22:$AB$42,(MATCH(dados_exp!$G188,questionario!$Q$22:$Q$42,0)),(MATCH(dados_exp!$J188,questionario!$Q$22:$AB$22,0)))),\"\")))","v":""},{"$f":"IFERROR((INDEX(questionario!$B$47:$N$66,(MATCH((dados_exp!$G188&dados_exp!$H188),questionario!$B$47:$B$66,0)),(MATCH(dados_exp!$J188,questionario!$B$46:$N$46,0)))),\"\")","v":""},{"$f":"IFERROR((INDEX(questionario!$O$47:$AB$66,(MATCH((dados_exp!$G188&dados_exp!$I188),questionario!$O$47:$O$66,0)),(MATCH(dados_exp!$J188,questionario!$O$46:$AB$46,0)))),\"\")","v":""},"X",null,null,null,"X",null,null,null,"X",null,null,null,null,null,"X",null,null,null,"X"]
[{"$f":"IF(G189=\"\",\"\",(IF(questionario!$C$8=\"\",\"\",questionario!$C$8)))","v":""},{"$f":"IF(G189=\"\",\"\",(IF(questionario!$C$15=\"\",\"\",questionario!$C$15)))","v":""},{"$f":"IF(G189=\"\",\"\",(IF(questionario!$L$8=\"\",\"\",questionario!$L$8)))","v":""},{"$f":"IF(C189=\"\",\"\",(IF(questionario!$L$11=\"\",\"\",questionario!$L$11)))","v":""},"X","Copaíba2023",{"$f":"IF(aux_cadastros!$A$9=\"\",\"\",aux_cadastros!$A$9)","v":"Copaíba"},{"$f":"IFERROR((VLOOKUP(G189,questionario!$C$47:$D$66,2,0)),\"\")","v":""},{"$f":"IFERROR((VLOOKUP(G189,questionario!$Q$47:$R$66,2,0)),\"\")","v":""},2023,{"$f":"IF(G189=\"\",\"\",(IFERROR((INDEX(questionario!$A$23:$N$42,(MATCH((dados_exp!$G189&\"R$\"),questionario!$A$23:$A$42,0)),(MATCH(dados_exp!$J189,questionario!$A$22:$N$22,0)))),\"\")))","v":""},{"$f":"IF(G189=\"\",\"\",(IFERROR((INDEX(questionario!$Q$22:$AB$42,(MATCH(dados_exp!$G189,questionario!$Q$22:$Q$42,0)),(MATCH(dados_exp!$J189,questionario!$Q$22:$AB$22,0)))),\"\")))","v":""},{"$f":"IFERROR((INDEX(questionario!$B$47:$N$66,(MATCH((dados_exp!$G189&dados_exp!$H189),questionario!$B$47:$B$66,0)),(MATCH(dados_exp!$J189,questionario!$B$46:$N$46,0)))),\"\")","v":""},{"$f":"IFERROR((INDEX(questionario!$O$47:$AB$66,(MATCH((dados_exp!$G189&dados_exp!$I189),questionario!$O$47:$O$66,0)),(MATCH(dados_exp!$J189,questionario!$O$46:$AB$46,0)))),\"\")","v":""},"X",null,null,null,"X",null,null,null,"X",null,null,null,null,null,"X",null,null,null,"X"]
[{"$f":"IF(G190=\"\",\"\",(IF(questionario!$C$8=\"\",\"\",questionario!$C$8)))","v":""},{"$f":"IF(G190=\"\",\"\",(IF(questionario!$C$15=\"\",\"\",questionario!$C$15)))","v":""},{"$f":"IF(G190=\"\",\"\",(IF(questionario!$L$8=\"\",\"\",questionario!$L$8)))","v":""},{"$f":"IF(C190=\"\",\"\",(IF(questionario!$L$11=\"\",\"\",questionario!$L$11)))","v":""},"X","Fibras2023",{"$f":"IF(aux_cadastros!$A$10=\"\",\"\",aux_cadastros!$A$10)","v":"Fibras"},{"$f":"IFERROR((VLOOKUP(G190,questionario!$C$47:$D$66,2,0)),\"\")","v":""},{"$f":"IFERROR((VLOOKUP(G190,questionario!$Q$47:$R$66,2,0)),\"\")","v":""},2023,{"$f":"IF(G190=\"\",\"\",(IFERROR((INDEX(questionario!$A$23:$N$42,(MATCH((dados_exp!$G190&\"R$\"),questionario!$A$23:$A$42,0)),(MATCH(dados_exp!$J190,questionario!$A$22:$N$22,0)))),\"\")))","v":""},{"$f":"IF(G190=\"\",\"\",(IFERROR((INDEX(questionario!$Q$22:$AB$42,(MATCH(dados_exp!$G190,questionario!$Q$22:$Q$42,0)),(MATCH(dados_exp!$J190,questionario!$Q$22:$AB$22,0)))),\"\")))","v":""},{"$f":"IFERROR((INDEX(questionario!$B$47:$N$66,(MATCH((dados_exp!$G190&dados_exp!$H190),questionario!$B$47:$B$66,0)),(MATCH(dados_exp!$J190,questionario!$B$46:$N$46,0)))),\"\")","v":""},{"$f":"IFERROR((INDEX(questionario!$O$47:$AB$66,(MATCH((dados_exp!$G190&dados_exp!$I190),questionario!$O$47:$O$66,0)),(MATCH(dados_exp!$J190,questionario!$O$46:$AB$46,0)))),\"\")","v":""},"X",null,null,null,"X",null,null,null,"X",null,null,null,null,null,"X",null,null,null,"X"]
[{"$f":"IF(G191=\"\",\"\",(IF(questionario!$C$8=\"\",\"\",questionario!$C$8)))","v":""},{"$f":"IF(G191=\"\",\"\",(IF(questionario!$C$15=\"\",\"\",questionario!$C$15)))","v":""},{"$f":"IF(G191=\"\",\"\",(IF(questionario!$L$8=\"\",\"\",questionario!$L$8)))","v":""},{"$f":"IF(C191=\"\",\"\",(IF(questionario!$L$11=\"\",\"\",questionario!$L$11)))","v":""},"X","Guaraná2023",{"$f":"IF(aux_cadastros!$A$11=\"\",\"\",aux_cadastros!$A$11)","v":"Guaraná"},{"$f":"IFERROR((VLOOKUP(G191,questionario!$C$47:$D$66,2,0)),\"\")","v":""},{"$f":"IFERROR((VLOOKUP(G191,questionario!$Q$47:$R$66,2,0)),\"\")","v":""},2023,{"$f":"IF(G191=\"\",\"\",(IFERROR((INDEX(questionario!$A$23:$N$42,(MATCH((dados_exp!$G191&\"R$\"),questionario!$A$23:$A$42,0)),(MATCH(dados_exp!$J191,questionario!$A$22:$N$22,0)))),\"\")))","v":""},{"$f":"IF(G191=\"\",\"\",(IFERROR((INDEX(questionario!$Q$22:$AB$42,(MATCH(dados_exp!$G191,questionario!$Q$22:$Q$42,0)),(MATCH(dados_exp!$J191,questionario!$Q$22:$AB$22,0)))),\"\")))","v":""},{"$f":"IFERROR((INDEX(questionario!$B$47:$N$66,(MATCH((dados_exp!$G191&dados_exp!$H191),questionario!$B$47:$B$66,0)),(MATCH(dados_exp!$J191,questionario!$B$46:$N$46,0)))),\"\")","v":""},{"$f":"IFERROR((INDEX(questionario!$O$47:$AB$66,(MATCH((dados_exp!$G191&dados_exp!$I191),questionario!$O$47:$O$66,0)),(MATCH(dados_exp!$J191,questionario!$O$46:$AB$46,0)))),\"\")","v":""},"X",null,null,null,"X",null,null,null,"X",null,null,null,null,null,"X",null,null,null,"X"]
[{"$f":"IF(G192=\"\",\"\",(IF(questionario!$C$8=\"\",\"\",questionario!$C$8)))","v":""},{"$f":"IF(G192=\"\",\"\",(IF(questionario!$C$15=\"\",\"\",questionario!$C$15)))","v":""},{"$f":"IF(G192=\"\",\"\",(IF(questionario!$L$8=\"\",\"\",questionario!$L$8)))","v":""},{"$f":"IF(C192=\"\",\"\",(IF(questionario!$L$11=\"\",\"\",questionario!$L$11)))","v":""},"X","Madeira2023",{"$f":"IF(aux_cadastros!$A$12=\"\",\"\",aux_cadastros!$A$12)","v":"Madeira"},{"$f":"IFERROR((VLOOKUP(G192,questionario!$C$47:$D$66,2,0)),\"\")","v":""},{"$f":"IFERROR((VLOOKUP(G192,questionario!$Q$47:$R$66,2,0)),\"\")","v":""},2023,{"$f":"IF(G192=\"\",\"\",(IFERROR((INDEX(questionario!$A$23:$N$42,(MATCH((dados_exp!$G192&\"R$\"),questionario!$A$23:$A$42,0)),(MATCH(dados_exp!$J192,questionario!$A$22:$N$22,0)))),\"\")))","v":""},{"$f":"IF(G192=\"\",\"\",(IFERROR((INDEX(questionario!$Q$22:$AB$42,(MATCH(dados_exp!$G192,questionario!$Q$22:$Q$42,0)),(MATCH(dados_exp!$J192,questionario!$Q$22:$AB$22,0)))),\"\")))","v":""},{"$f":"IFERROR((INDEX(questionario!$B$47:$N$66,(MATCH((dados_exp!$G192&dados_exp!$H192),questionario!$B$47:$B$66,0)),(MATCH(dados_exp!$J192,questionario!$B$46:$N$46,0)))),\"\")","v":""},{"$f":"IFERROR((INDEX(questionario!$O$47:$AB$66,(MATCH((dados_exp!$G192&dados_exp!$I192),questionario!$O$47:$O$66,0)),(MATCH(dados_exp!$J192,questionario!$O$46:$AB$46,0)))),\"\")","v":""},"X",null,null,null,"X",null,null,null,"X",null,null,null,null,null,"X",null,null,null,"X"]
[{"$f":"IF(G193=\"\",\"\",(IF(questionario!$C$8=\"\",\"\",questionario!$C$8)))","v":""},{"$f":"IF(G193=\"\",\"\",(IF(questionario!$C$15=\"\",\"\",questionario!$C$15)))","v":""},{"$f":"IF(G193=\"\",\"\",(IF(questionario!$L$8=\"\",\"\",questionario!$L$8)))","v":""},{"$f":"IF(C193=\"\",\"\",(IF(questionario!$L$11=\"\",\"\",questionario!$L$11)))","v":""},"X","Mel2023",{"$f":"IF(aux_cadastros!$A$13=\"\",\"\",aux_cadastros!$A$13)","v":"Mel"},{"$f":"IFERROR((VLOOKUP(G193,questionario!$C$47:$D$66,2,0)),\"\")","v":""},{"$f":"IFERROR((VLOOKUP(G193,questionario!$Q$47:$R$66,2,0)),\"\")","v":""},2023,{"$f":"IF(G193=\"\",\"\",(IFERROR((INDEX(questionario!$A$23:$N$42,(MATCH((dados_exp!$G193&\"R$\"),questionario!$A$23:$A$42,0)),(MATCH(dados_exp!$J193,questionario!$A$22:$N$22,0)))),\"\")))","v":""},{"$f":"IF(G193=\"\",\"\",(IFERROR((INDEX(questionario!$Q$22:$AB$42,(MATCH(dados_exp!$G193,questionario!$Q$22:$Q$42,0)),(MATCH(dados_exp!$J193,questionario!$Q$22:$AB$22,0)))),\"\")))","v":""},{"$f":"IFERROR((INDEX(questionario!$B$47:$N$66,(MATCH((dados_exp!$G193&dados_exp!$H193),questionario!$B$47:$B$66,0)),(MATCH(dados_exp!$J193,questionario!$B$46:$N$46,0)))),\"\")","v":""},{"$f":"IFERROR((INDEX(questionario!$O$47:$AB$66,(MATCH((dados_exp!$G193&dados_exp!$I193),questionario!$O$47:$O$66,0)),(MATCH(dados_exp!$J193,questionario!$O$46:$AB$46,0)))),\"\")","v":""},"X",null,null,null,"X",null,null,null,"X",null,null,null,null,null,"X",null,null,null,"X"]
[{"$f":"IF(G194=\"\",\"\",(IF(questionario!$C$8=\"\",\"\",questionario!$C$8)))","v":""},{"$f":"IF(G194=\"\",\"\",(IF(questionario!$C$15=\"\",\"\",questionario!$C$15)))","v":""},{"$f":"IF(G194=\"\",\"\",(IF(questionario!$L$8=\"\",\"\",questionario!$L$8)))","v":""},{"$f":"IF(C194=\"\",\"\",(IF(questionario!$L$11=\"\",\"\",questionario!$L$11)))","v":""},"X","Oleaginosas2023",{"$f":"IF(aux_cadastros!$A$14=\"\",\"\",aux_cadastros!$A$14)","v":"Oleaginosas"},{"$f":"IFERROR((VLOOKUP(G194,questionario!$C$47:$D$66,2,0)),\"\")","v":""},{"$f":"IFERROR((VLOOKUP(G194,questionario!$Q$47:$R$66,2,0)),\"\")","v":""},2023,{"$f":"IF(G194=\"\",\"\",(IFERROR((INDEX(questionario!$A$23:$N$42,(MATCH((dados_exp!$G194&\"R$\"),questionario!$A$23:$A$42,0)),(MATCH(dados_exp!$J194,questionario!$A$22:$N$22,0)))),\"\")))","v":""},{"$f":"IF(G194=\"\",\"\",(IFERROR((INDEX(questionario!$Q$22:$AB$42,(MATCH(dados_exp!$G194,questionario!$Q$22:$Q$42,0)),(MATCH(dados_exp!$J194,questionario!$Q$22:$AB$22,0)))),\"\")))","v":""},{"$f":"IFERROR((INDEX(questionario!$B$47:$N$66,(MATCH((dados_exp!$G194&dados_exp!$H194),questionario!$B$47:$B$66,0)),(MATCH(dados_exp!$J194,questionario!$B$46:$N$46,0)))),\"\")","v":""},{"$f":"IFERROR((INDEX(questionario!$O$47:$AB$66,(MATCH((dados_exp!$G194&dados_exp!$I194),questionario!$O$47:$O$66,0)),(MATCH(dados_exp!$J194,questionario!$O$46:$AB$46,0)))),\"\")","v":""},"X",null,null,null,"X",null,null,null,"X",null,null,null,null,null,"X",null,null,null,"X"]
[{"$f":"IF(G195=\"\",\"\",(IF(questionario!$C$8=\"\",\"\",questionario!$C$8)))","v":""},{"$f":"IF(G195=\"\",\"\",(IF(questionario!$C$15=\"\",\"\",questionario!$C$15)))","v":""},{"$f":"IF(G195=\"\",\"\",(IF(questionario!$L$8=\"\",\"\",questionario!$L$8)))","v":""},{"$f":"IF(C195=\"\",\"\",(IF(questionario!$L$11=\"\",\"\",questionario!$L$11)))","v":""},"X",{"$f":"G195&J195","v":"Óleos2023"},{"$f":"IF(aux_cadastros!$A$15=\"\",\"\",aux_cadastros!$A$15)","v":"Óleos"},{"$f":"IFERROR((VLOOKUP(G195,questionario!$C$47:$D$66,2,0)),\"\")","v":""},{"$f":"IFERROR((VLOOKUP(G195,questionario!$Q$47:$R$66,2,0)),\"\")","v":""},2023,{"$f":"IF(G195=\"\",\"\",(IFERROR((INDEX(questionario!$A$23:$N$42,(MATCH((dados_exp!$G195&\"R$\"),questionario!$A$23:$A$42,0)),(MATCH(dados_exp!$J195,questionario!$A$22:$N$22,0)))),\"\")))","v":""},{"$f":"IF(G195=\"\",\"\",(IFERROR((INDEX(questionario!$Q$22:$AB$42,(MATCH(dados_exp!$G195,questionario!$Q$22:$Q$42,0)),(MATCH(dados_exp!$J195,questionario!$Q$22:$AB$22,0)))),\"\")))","v":""},{"$f":"IFERROR((INDEX(questionario!$B$47:$N$66,(MATCH((dados_exp!$G195&dados_exp!$H195),questionario!$B$47:$B$66,0)),(MATCH(dados_exp!$J195,questionario!$B$46:$N$46,0)))),\"\")","v":""},{"$f":"IFERROR((INDEX(questionario!$O$47:$AB$66,(MATCH((dados_exp!$G195&dados_exp!$I195),questionario!$O$47:$O$66,0)),(MATCH(dados_exp!$J195,questionario!$O$46:$AB$46,0)))),\"\")","v":""},"X",null,null,null,"X",null,null,null,"X",null,null,null,null,null,"X",null,null,null,"X"]
[{"$f":"IF(G196=\"\",\"\",(IF(questionario!$C$8=\"\",\"\",questionario!$C$8)))","v":""},{"$f":"IF(G196=\"\",\"\",(IF(questionario!$C$15=\"\",\"\",questionario!$C$15)))","v":""},{"$f":"IF(G196=\"\",\"\",(IF(questionario!$L$8=\"\",\"\",questionario!$L$8)))","v":""},{"$f":"IF(C196=\"\",\"\",(IF(questionario!$L$11=\"\",\"\",questionario!$L$11)))","v":""},"X","Pescado2023",{"$f":"IF(aux_cadastros!$A$16=\"\",\"\",aux_cadastros!$A$16)","v":"Pescado"},{"$f":"IFERROR((VLOOKUP(G196,questionario!$C$47:$D$66,2,0)),\"\")","v":""},{"$f":"IFERROR((VLOOKUP(G196,questionario!$Q$47:$R$66,2,0)),\"\")","v":""},2023,{"$f":"IF(G196=\"\",\"\",(IFERROR((INDEX(questionario!$A$23:$N$42,(MATCH((dados_exp!$G196&\"R$\"),questionario!$A$23:$A$42,0)),(MATCH(dados_exp!$J196,questionario!$A$22:$N$22,0)))),\"\")))","v":""},{"$f":"IF(G196=\"\",\"\",(IFERROR((INDEX(questionario!$Q$22:$AB$42,(MATCH(dados_exp!$G196,questionario!$Q$22:$Q$42,0)),(MATCH(dados_exp!$J196,questionario!$Q$22:$AB$22,0)))),\"\")))","v":""},{"$f":"IFERROR((INDEX(questionario!$B$47:$N$66,(MATCH((dados_exp!$G196&dados_exp!$H196),questionario!$B$47:$B$66,0)),(MATCH(dados_exp!$J196,questionario!$B$46:$N$46,0)))),\"\")","v":""},{"$f":"IFERROR((INDEX(questionario!$O$47:$AB$66,(MATCH((dados_exp!$G196&dados_exp!$I196),questionario!$O$47:$O$66,0)),(MATCH(dados_exp!$J196,questionario!$O$46:$AB$46,0)))),\"\")","v":""},"X",null,null,null,"X",null,null,null,"X",null,null,null,null,null,"X",null,null,null,"X"]
[{"$f":"IF(G197=\"\",\"\",(IF(questionario!$C$8=\"\",\"\",questionario!$C$8)))","v":""},{"$f":"IF(G197=\"\",\"\",(IF(questionario!$C$15=\"\",\"\",questionario!$C$15)))","v":""},{"$f":"IF(G197=\"\",\"\",(IF(questionario!$L$8=\"\",\"\",questionario!$L$8)))","v":""},{"$f":"IF(C197=\"\",\"\",(IF(questionario!$L$11=\"\",\"\",questionario!$L$11)))","v":""},"X","Turismo2023",{"$f":"IF(aux_cadastros!$A$17=\"\",\"\",aux_cadastros!$A$17)","v":"Turismo"},{"$f":"IFERROR((VLOOKUP(G197,questionario!$C$47:$D$66,2,0)),\"\")","v":""},{"$f":"IFERROR((VLOOKUP(G197,questionario!$Q$47:$R$66,2,0)),\"\")","v":""},2023,{"$f":"IF(G197=\"\",\"\",(IFERROR((INDEX(questionario!$A$23:$N$42,(MATCH((dados_exp!$G197&\"R$\"),questionario!$A$23:$A$42,0)),(MATCH(dados_exp!$J197,questionario!$A$22:$N$22,0)))),\"\")))","v":""},{"$f":"IF(G197=\"\",\"\",(IFERROR((INDEX(questionario!$Q$22:$AB$42,(MATCH(dados_exp!$G197,questionario!$Q$22:$Q$42,0)),(MATCH(dados_exp!$J197,questionario!$Q$22:$AB$22,0)))),\"\")))","v":""},{"$f":"IFERROR((INDEX(questionario!$B$47:$N$66,(MATCH((dados_exp!$G197&dados_exp!$H197),questionario!$B$47:$B$66,0)),(MATCH(dados_exp!$J197,questionario!$B$46:$N$46,0)))),\"\")","v":""},{"$f":"IFERROR((INDEX(questionario!$O$47:$AB$66,(MATCH((dados_exp!$G197&dados_exp!$I197),questionario!$O$47:$O$66,0)),(MATCH(dados_exp!$J197,questionario!$O$46:$AB$46,0)))),\"\")","v":""},"X",null,null,null,"X",null,null,null,"X",null,null,null,null,null,"X",null,null,null,"X"]
[{"$f":"IF(G198=\"\",\"\",(IF(questionario!$C$8=\"\",\"\",questionario!$C$8)))","v":""},{"$f":"IF(G198=\"\",\"\",(IF(questionario!$C$15=\"\",\"\",questionario!$C$15)))","v":""},{"$f":"IF(G198=\"\",\"\",(IF(questionario!$L$8=\"\",\"\",questionario!$L$8)))","v":""},{"$f":"IF(C198=\"\",\"\",(IF(questionario!$L$11=\"\",\"\",questionario!$L$11)))","v":""},"X","Agricultura de base familiar2023",{"$f":"IF(aux_cadastros!$A$18=\"\",\"\",aux_cadastros!$A$18)","v":"Agricultura de base familiar"},{"$f":"IFERROR((VLOOKUP(G198,questionario!$C$47:$D$66,2,0)),\"\")","v":""},{"$f":"IFERROR((VLOOKUP(G198,questionario!$Q$47:$R$66,2,0)),\"\")","v":""},2023,{"$f":"IF(G198=\"\",\"\",(IFERROR((INDEX(questionario!$A$23:$N$42,(MATCH((dados_exp!$G198&\"R$\"),questionario!$A$23:$A$42,0)),(MATCH(dados_exp!$J198,questionario!$A$22:$N$22,0)))),\"\")))","v":""},{"$f":"IF(G198=\"\",\"\",(IFERROR((INDEX(questionario!$Q$22:$AB$42,(MATCH(dados_exp!$G198,questionario!$Q$22:$Q$42,0)),(MATCH(dados_exp!$J198,questionario!$Q$22:$AB$22,0)))),\"\")))","v":""},{"$f":"IFERROR((INDEX(questionario!$B$47:$N$66,(MATCH((dados_exp!$G198&dados_exp!$H198),questionario!$B$47:$B$66,0)),(MATCH(dados_exp!$J198,questionario!$B$46:$N$46,0)))),\"\")","v":""},{"$f":"IFERROR((INDEX(questionario!$O$47:$AB$66,(MATCH((dados_exp!$G198&dados_exp!$I198),questionario!$O$47:$O$66,0)),(MATCH(dados_exp!$J198,questionario!$O$46:$AB$46,0)))),\"\")","v":""},"X",null,null,null,"X",null,null,null,"X",null,null,null,null,null,"X",null,null,null,"X"]
[{"$f":"IF(G199=\"\",\"\",(IF(questionario!$C$8=\"\",\"\",questionario!$C$8)))","v":""},{"$f":"IF(G199=\"\",\"\",(IF(questionario!$C$15=\"\",\"\",questionario!$C$15)))","v":""},{"$f":"IF(G199=\"\",\"\",(IF(questionario!$L$8=\"\",\"\",questionario!$L$8)))","v":""},{"$f":"IF(C199=\"\",\"\",(IF(questionario!$L$11=\"\",\"\",questionario!$L$11)))","v":""},"X","Pirarucu2023",{"$f":"IF(aux_cadastros!$A$19=\"\",\"\",aux_cadastros!$A$19)","v":"Pirarucu"},{"$f":"IFERROR((VLOOKUP(G199,questionario!$C$47:$D$66,2,0)),\"\")","v":""},{"$f":"IFERROR((VLOOKUP(G199,questionario!$Q$47:$R$66,2,0)),\"\")","v":""},2023,{"$f":"IF(G199=\"\",\"\",(IFERROR((INDEX(questionario!$A$23:$N$42,(MATCH((dados_exp!$G199&\"R$\"),questionario!$A$23:$A$42,0)),(MATCH(dados_exp!$J199,questionario!$A$22:$N$22,0)))),\"\")))","v":""},{"$f":"IF(G199=\"\",\"\",(IFERROR((INDEX(questionario!$Q$22:$AB$42,(MATCH(dados_exp!$G199,questionario!$Q$22:$Q$42,0)),(MATCH(dados_exp!$J199,questionario!$Q$22:$AB$22,0)))),\"\")))","v":""},{"$f":"IFERROR((INDEX(questionario!$B$47:$N$66,(MATCH((dados_exp!$G199&dados_exp!$H199),questionario!$B$47:$B$66,0)),(MATCH(dados_exp!$J199,questionario!$B$46:$N$46,0)))),\"\")","v":""},{"$f":"IFERROR((INDEX(questionario!$O$47:$AB$66,(MATCH((dados_exp!$G199&dados_exp!$I199),questionario!$O$47:$O$66,0)),(MATCH(dados_exp!$J199,questionario!$O$46:$AB$46,0)))),\"\")","v":""},"X",null,null,null,"X",null,null,null,"X",null,null,null,null,null,"X",null,null,null,"X"]
[{"$f":"IF(G200=\"\",\"\",(IF(questionario!$C$8=\"\",\"\",questionario!$C$8)))","v":""},{"$f":"IF(G200=\"\",\"\",(IF(questionario!$C$15=\"\",\"\",questionario!$C$15)))","v":""},{"$f":"IF(G200=\"\",\"\",(IF(questionario!$L$8=\"\",\"\",questionario!$L$8)))","v":""},{"$f":"IF(C200=\"\",\"\",(IF(questionario!$L$11=\"\",\"\",questionario!$L$11)))","v":""},"X","Bacalhau de Pirarucu2023",{"$f":"IF(aux_cadastros!$A$20=\"\",\"\",aux_cadastros!$A$20)","v":"Bacalhau de Pirarucu"},{"$f":"IFERROR((VLOOKUP(G200,questionario!$C$47:$D$66,2,0)),\"\")","v":""},{"$f":"IFERROR((VLOOKUP(G200,questionario!$Q$47:$R$66,2,0)),\"\")","v":""},2023,{"$f":"IF(G200=\"\",\"\",(IFERROR((INDEX(questionario!$A$23:$N$42,(MATCH((dados_exp!$G200&\"R$\"),questionario!$A$23:$A$42,0)),(MATCH(dados_exp!$J200,questionario!$A$22:$N$22,0)))),\"\")))","v":""},{"$f":"IF(G200=\"\",\"\",(IFERROR((INDEX(questionario!$Q$22:$AB$42,(MATCH(dados_exp!$G200,questionario!$Q$22:$Q$42,0)),(MATCH(dados_exp!$J200,questionario!$Q$22:$AB$22,0)))),\"\")))","v":""},{"$f":"IFERROR((INDEX(questionario!$B$47:$N$66,(MATCH((dados_exp!$G200&dados_exp!$H200),questionario!$B$47:$B$66,0)),(MATCH(dados_exp!$J200,questionario!$B$46:$N$46,0)))),\"\")","v":""},{"$f":"IFERROR((INDEX(questionario!$O$47:$AB$66,(MATCH((dados_exp!$G200&dados_exp!$I200),questionario!$O$47:$O$66,0)),(MATCH(dados_exp!$J200,questionario!$O$46:$AB$46,0)))),\"\")","v":""},"X",null,null,null,"X",null,null,null,"X",null,null,null,null,null,"X",null,null,null,"X"]
[{"$f":"IF(G201=\"\",\"\",(IF(questionario!$C$8=\"\",\"\",questionario!$C$8)))","v":""},{"$f":"IF(G201=\"\",\"\",(IF(questionario!$C$15=\"\",\"\",questionario!$C$15)))","v":""},{"$f":"IF(G201=\"\",\"\",(IF(questionario!$L$8=\"\",\"\",questionario!$L$8)))","v":""},{"$f":"IF(C201=\"\",\"\",(IF(questionario!$L$11=\"\",\"\",questionario!$L$11)))","v":""},"X","2023",{"$f":"IF(aux_cadastros!$A$21=\"\",\"\",aux_cadastros!$A$21)","v":""},{"$f":"IFERROR((VLOOKUP(G201,questionario!$C$47:$D$66,2,0)),\"\")","v":""},{"$f":"IFERROR((VLOOKUP(G201,questionario!$Q$47:$R$66,2,0)),\"\")","v":""},2023,{"$f":"IF(G201=\"\",\"\",(IFERROR((INDEX(questionario!$A$23:$N$42,(MATCH((dados_exp!$G201&\"R$\"),questionario!$A$23:$A$42,0)),(MATCH(dados_exp!$J201,questionario!$A$22:$N$22,0)))),\"\")))","v":""},{"$f":"IF(G201=\"\",\"\",(IFERROR((INDEX(questionario!$Q$22:$AB$42,(MATCH(dados_exp!$G201,questionario!$Q$22:$Q$42,0)),(MATCH(dados_exp!$J201,questionario!$Q$22:$AB$22,0)))),\"\")))","v":""},{"$f":"IFERROR((INDEX(questionario!$B$47:$N$66,(MATCH((dados_exp!$G201&dados_exp!$H201),questionario!$B$47:$B$66,0)),(MATCH(dados_exp!$J201,questionario!$B$46:$N$46,0)))),\"\")","v":""},{"$f":"IFERROR((INDEX(questionario!$O$47:$AB$66,(MATCH((dados_exp!$G201&dados_exp!$I201),questionario!$O$47:$O$66,0)),(MATCH(dados_exp!$J201,questionario!$O$46:$AB$46,0)))),\"\")","v":""},"X",null,null,null,"X",null,null,null,"X",null,null,null,null,null,"X",null,null,null,"X"]
[{"$f":"IF(G202=\"\",\"\",(IF(questionario!$C$8=\"\",\"\",questionario!$C$8)))","v":""},{"$f":"IF(G202=\"\",\"\",(IF(questionario!$C$15=\"\",\"\",questionario!$C$15)))","v":""},{"$f":"IF(G202=\"\",\"\",(IF(questionario!$L$8=\"\",\"\",questionario!$L$8)))","v":""},{"$f":"IF(C202=\"\",\"\",(IF(questionario!$L$11=\"\",\"\",questionario!$L$11)))","v":""},"X","2023",{"$f":"IF(aux_cadastros!$A$22=\"\",\"\",aux_cadastros!$A$22)","v":""},{"$f":"IFERROR((VLOOKUP(G202,questionario!$C$47:$D$66,2,0)),\"\")","v":""},{"$f":"IFERROR((VLOOKUP(G202,questionario!$Q$47:$R$66,2,0)),\"\")","v":""},2023,{"$f":"IF(G202=\"\",\"\",(IFERROR((INDEX(questionario!$A$23:$N$42,(MATCH((dados_exp!$G202&\"R$\"),questionario!$A$23:$A$42,0)),(MATCH(dados_exp!$J202,questionario!$A$22:$N$22,0)))),\"\")))","v":""},{"$f":"IF(G202=\"\",\"\",(IFERROR((INDEX(questionario!$Q$22:$AB$42,(MATCH(dados_exp!$G202,questionario!$Q$22:$Q$42,0)),(MATCH(dados_exp!$J202,questionario!$Q$22:$AB$22,0)))),\"\")))","v":""},{"$f":"IFERROR((INDEX(questionario!$B$47:$N$66,(MATCH((dados_exp!$G202&dados_exp!$H202),questionario!$B$47:$B$66,0)),(MATCH(dados_exp!$J202,questionario!$B$46:$N$46,0)))),\"\")","v":""},{"$f":"IFERROR((INDEX(questionario!$O$47:$AB$66,(MATCH((dados_exp!$G202&dados_exp!$I202),questionario!$O$47:$O$66,0)),(MATCH(dados_exp!$J202,questionario!$O$46:$AB$46,0)))),\"\")","v":""},"X",null,null,null,"X",null,null,null,"X",null,null,null,null,null,"X",null,null,null,"X"]
[{"$f":"IF(G203=\"\",\"\",(IF(questionario!$C$8=\"\",\"\",questionario!$C$8)))","v":""},{"$f":"IF(G203=\"\",\"\",(IF(questionario!$C$15=\"\",\"\",questionario!$C$15)))","v":""},{"$f":"IF(G203=\"\",\"\",(IF(questionario!$L$8=\"\",\"\",questionario!$L$8)))","v":""},{"$f":"IF(C203=\"\",\"\",(IF(questionario!$L$11=\"\",\"\",questionario!$L$11)))","v":""},"X","2023",{"$f":"IF(aux_cadastros!$A$23=\"\",\"\",aux_cadastros!$A$23)","v":""},{"$f":"IFERROR((VLOOKUP(G203,questionario!$C$47:$D$66,2,0)),\"\")","v":""},{"$f":"IFERROR((VLOOKUP(G203,questionario!$Q$47:$R$66,2,0)),\"\")","v":""},2023,{"$f":"IF(G203=\"\",\"\",(IFERROR((INDEX(questionario!$A$23:$N$42,(MATCH((dados_exp!$G203&\"R$\"),questionario!$A$23:$A$42,0)),(MATCH(dados_exp!$J203,questionario!$A$22:$N$22,0)))),\"\")))","v":""},{"$f":"IF(G203=\"\",\"\",(IFERROR((INDEX(questionario!$Q$22:$AB$42,(MATCH(dados_exp!$G203,questionario!$Q$22:$Q$42,0)),(MATCH(dados_exp!$J203,questionario!$Q$22:$AB$22,0)))),\"\")))","v":""},{"$f":"IFERROR((INDEX(questionario!$B$47:$N$66,(MATCH((dados_exp!$G203&dados_exp!$H203),questionario!$B$47:$B$66,0)),(MATCH(dados_exp!$J203,questionario!$B$46:$N$46,0)))),\"\")","v":""},{"$f":"IFERROR((INDEX(questionario!$O$47:$AB$66,(MATCH((dados_exp!$G203&dados_exp!$I203),questionario!$O$47:$O$66,0)),(MATCH(dados_exp!$J203,questionario!$O$46:$AB$46,0)))),\"\")","v":""},"X",null,null,null,"X",null,null,null,"X",null,null,null,null,null,"X",null,null,null,"X"]
[{"$f":"IF(G204=\"\",\"\",(IF(questionario!$C$8=\"\",\"\",questionario!$C$8)))","v":""},{"$f":"IF(G204=\"\",\"\",(IF(questionario!$C$15=\"\",\"\",questionario!$C$15)))","v":""},{"$f":"IF(G204=\"\",\"\",(IF(questionario!$L$8=\"\",\"\",questionario!$L$8)))","v":""},{"$f":"IF(C204=\"\",\"\",(IF(questionario!$L$11=\"\",\"\",questionario!$L$11)))","v":""},"X","2023",{"$f":"IF(aux_cadastros!$A$24=\"\",\"\",aux_cadastros!$A$24)","v":""},{"$f":"IFERROR((VLOOKUP(G204,questionario!$C$47:$D$66,2,0)),\"\")","v":""},{"$f":"IFERROR((VLOOKUP(G204,questionario!$Q$47:$R$66,2,0)),\"\")","v":""},2023,{"$f":"IF(G204=\"\",\"\",(IFERROR((INDEX(questionario!$A$23:$N$42,(MATCH((dados_exp!$G204&\"R$\"),questionario!$A$23:$A$42,0)),(MATCH(dados_exp!$J204,questionario!$A$22:$N$22,0)))),\"\")))","v":""},{"$f":"IF(G204=\"\",\"\",(IFERROR((INDEX(questionario!$Q$22:$AB$42,(MATCH(dados_exp!$G204,questionario!$Q$22:$Q$42,0)),(MATCH(dados_exp!$J204,questionario!$Q$22:$AB$22,0)))),\"\")))","v":""},{"$f":"IFERROR((INDEX(questionario!$B$47:$N$66,(MATCH((dados_exp!$G204&dados_exp!$H204),questionario!$B$47:$B$66,0)),(MATCH(dados_exp!$J204,questionario!$B$46:$N$46,0)))),\"\")","v":""},{"$f":"IFERROR((INDEX(questionario!$O$47:$AB$66,(MATCH((dados_exp!$G204&dados_exp!$I204),questionario!$O$47:$O$66,0)),(MATCH(dados_exp!$J204,questionario!$O$46:$AB$46,0)))),\"\")","v":""},"X",null,null,null,"X",null,null,null,"X",null,null,null,null,null,"X",null,null,null,"X"]
[{"$f":"IF(G205=\"\",\"\",(IF(questionario!$C$8=\"\",\"\",questionario!$C$8)))","v":""},{"$f":"IF(G205=\"\",\"\",(IF(questionario!$C$15=\"\",\"\",questionario!$C$15)))","v":""},{"$f":"IF(G205=\"\",\"\",(IF(questionario!$L$8=\"\",\"\",questionario!$L$8)))","v":""},{"$f":"IF(C205=\"\",\"\",(IF(questionario!$L$11=\"\",\"\",questionario!$L$11)))","v":""},"X","2023",{"$f":"IF(aux_cadastros!$A$25=\"\",\"\",aux_cadastros!$A$25)","v":""},{"$f":"IFERROR((VLOOKUP(G205,questionario!$C$47:$D$66,2,0)),\"\")","v":""},{"$f":"IFERROR((VLOOKUP(G205,questionario!$Q$47:$R$66,2,0)),\"\")","v":""},2023,{"$f":"IF(G205=\"\",\"\",(IFERROR((INDEX(questionario!$A$23:$N$42,(MATCH((dados_exp!$G205&\"R$\"),questionario!$A$23:$A$42,0)),(MATCH(dados_exp!$J205,questionario!$A$22:$N$22,0)))),\"\")))","v":""},{"$f":"IF(G205=\"\",\"\",(IFERROR((INDEX(questionario!$Q$22:$AB$42,(MATCH(dados_exp!$G205,questionario!$Q$22:$Q$42,0)),(MATCH(dados_exp!$J205,questionario!$Q$22:$AB$22,0)))),\"\")))","v":""},{"$f":"IFERROR((INDEX(questionario!$B$47:$N$66,(MATCH((dados_exp!$G205&dados_exp!$H205),questionario!$B$47:$B$66,0)),(MATCH(dados_exp!$J205,questionario!$B$46:$N$46,0)))),\"\")","v":""},{"$f":"IFERROR((INDEX(questionario!$O$47:$AB$66,(MATCH((dados_exp!$G205&dados_exp!$I205),questionario!$O$47:$O$66,0)),(MATCH(dados_exp!$J205,questionario!$O$46:$AB$46,0)))),\"\")","v":""},"X",null,null,null,"X",null,null,null,"X",null,null,null,null,null,"X",null,null,null,"X"]
[{"$f":"IF(G206=\"\",\"\",(IF(questionario!$C$8=\"\",\"\",questionario!$C$8)))","v":""},{"$f":"IF(G206=\"\",\"\",(IF(questionario!$C$15=\"\",\"\",questionario!$C$15)))","v":""},{"$f":"IF(G206=\"\",\"\",(IF(questionario!$L$8=\"\",\"\",questionario!$L$8)))","v":""},{"$f":"IF(C206=\"\",\"\",(IF(questionario!$L$11=\"\",\"\",questionario!$L$11)))","v":""},"X","2023",{"$f":"IF(aux_cadastros!$A$26=\"\",\"\",aux_cadastros!$A$26)","v":""},{"$f":"IFERROR((VLOOKUP(G206,questionario!$C$47:$D$66,2,0)),\"\")","v":""},{"$f":"IFERROR((VLOOKUP(G206,questionario!$Q$47:$R$66,2,0)),\"\")","v":""},2023,{"$f":"IF(G206=\"\",\"\",(IFERROR((INDEX(questionario!$A$23:$N$42,(MATCH((dados_exp!$G206&\"R$\"),questionario!$A$23:$A$42,0)),(MATCH(dados_exp!$J206,questionario!$A$22:$N$22,0)))),\"\")))","v":""},{"$f":"IF(G206=\"\",\"\",(IFERROR((INDEX(questionario!$Q$22:$AB$42,(MATCH(dados_exp!$G206,questionario!$Q$22:$Q$42,0)),(MATCH(dados_exp!$J206,questionario!$Q$22:$AB$22,0)))),\"\")))","v":""},{"$f":"IFERROR((INDEX(questionario!$B$47:$N$66,(MATCH((dados_exp!$G206&dados_exp!$H206),questionario!$B$47:$B$66,0)),(MATCH(dados_exp!$J206,questionario!$B$46:$N$46,0)))),\"\")","v":""},{"$f":"IFERROR((INDEX(questionario!$O$47:$AB$66,(MATCH((dados_exp!$G206&dados_exp!$I206),questionario!$O$47:$O$66,0)),(MATCH(dados_exp!$J206,questionario!$O$46:$AB$46,0)))),\"\")","v":""},"X",null,null,null,"X",null,null,null,"X",null,null,null,null,null,"X",null,null,null,"X"]
[{"$f":"IF(G207=\"\",\"\",(IF(questionario!$C$8=\"\",\"\",questionario!$C$8)))","v":""},{"$f":"IF(G207=\"\",\"\",(IF(questionario!$C$15=\"\",\"\",questionario!$C$15)))","v":""},{"$f":"IF(G207=\"\",\"\",(IF(questionario!$L$8=\"\",\"\",questionario!$L$8)))","v":""},{"$f":"IF(C207=\"\",\"\",(IF(questionario!$L$11=\"\",\"\",questionario!$L$11)))","v":""},"X","2023",{"$f":"IF(aux_cadastros!$A$27=\"\",\"\",aux_cadastros!$A$27)","v":""},{"$f":"IFERROR((VLOOKUP(G207,questionario!$C$47:$D$66,2,0)),\"\")","v":""},{"$f":"IFERROR((VLOOKUP(G207,questionario!$Q$47:$R$66,2,0)),\"\")","v":""},2023,{"$f":"IF(G207=\"\",\"\",(IFERROR((INDEX(questionario!$A$23:$N$42,(MATCH((dados_exp!$G207&\"R$\"),questionario!$A$23:$A$42,0)),(MATCH(dados_exp!$J207,questionario!$A$22:$N$22,0)))),\"\")))","v":""},{"$f":"IF(G207=\"\",\"\",(IFERROR((INDEX(questionario!$Q$22:$AB$42,(MATCH(dados_exp!$G207,questionario!$Q$22:$Q$42,0)),(MATCH(dados_exp!$J207,questionario!$Q$22:$AB$22,0)))),\"\")))","v":""},{"$f":"IFERROR((INDEX(questionario!$B$47:$N$66,(MATCH((dados_exp!$G207&dados_exp!$H207),questionario!$B$47:$B$66,0)),(MATCH(dados_exp!$J207,questionario!$B$46:$N$46,0)))),\"\")","v":""},{"$f":"IFERROR((INDEX(questionario!$O$47:$AB$66,(MATCH((dados_exp!$G207&dados_exp!$I207),questionario!$O$47:$O$66,0)),(MATCH(dados_exp!$J207,questionario!$O$46:$AB$46,0)))),\"\")","v":""},"X",null,null,null,"X",null,null,null,"X",null,null,null,null,null,"X",null,null,null,"X"]
[{"$f":"IF(G208=\"\",\"\",(IF(questionario!$C$8=\"\",\"\",questionario!$C$8)))","v":""},{"$f":"IF(G208=\"\",\"\",(IF(questionario!$C$15=\"\",\"\",questionario!$C$15)))","v":""},{"$f":"IF(G208=\"\",\"\",(IF(questionario!$L$8=\"\",\"\",questionario!$L$8)))","v":""},{"$f":"IF(C208=\"\",\"\",(IF(questionario!$L$11=\"\",\"\",questionario!$L$11)))","v":""},"X","2023",{"$f":"IF(aux_cadastros!$A$28=\"\",\"\",aux_cadastros!$A$28)","v":""},{"$f":"IFERROR((VLOOKUP(G208,questionario!$C$47:$D$66,2,0)),\"\")","v":""},{"$f":"IFERROR((VLOOKUP(G208,questionario!$Q$47:$R$66,2,0)),\"\")","v":""},2023,{"$f":"IF(G208=\"\",\"\",(IFERROR((INDEX(questionario!$A$23:$N$42,(MATCH((dados_exp!$G208&\"R$\"),questionario!$A$23:$A$42,0)),(MATCH(dados_exp!$J208,questionario!$A$22:$N$22,0)))),\"\")))","v":""},{"$f":"IF(G208=\"\",\"\",(IFERROR((INDEX(questionario!$Q$22:$AB$42,(MATCH(dados_exp!$G208,questionario!$Q$22:$Q$42,0)),(MATCH(dados_exp!$J208,questionario!$Q$22:$AB$22,0)))),\"\")))","v":""},{"$f":"IFERROR((INDEX(questionario!$B$47:$N$66,(MATCH((dados_exp!$G208&dados_exp!$H208),questionario!$B$47:$B$66,0)),(MATCH(dados_exp!$J208,questionario!$B$46:$N$46,0)))),\"\")","v":""},{"$f":"IFERROR((INDEX(questionario!$O$47:$AB$66,(MATCH((dados_exp!$G208&dados_exp!$I208),questionario!$O$47:$O$66,0)),(MATCH(dados_exp!$J208,questionario!$O$46:$AB$46,0)))),\"\")","v":""},"X",null,null,null,"X",null,null,null,"X",null,null,null,null,null,"X",null,null,null,"X"]
[{"$f":"IF(G209=\"\",\"\",(IF(questionario!$C$8=\"\",\"\",questionario!$C$8)))","v":""},{"$f":"IF(G209=\"\",\"\",(IF(questionario!$C$15=\"\",\"\",questionario!$C$15)))","v":""},{"$f":"IF(G209=\"\",\"\",(IF(questionario!$L$8=\"\",\"\",questionario!$L$8)))","v":""},{"$f":"IF(C209=\"\",\"\",(IF(questionario!$L$11=\"\",\"\",questionario!$L$11)))","v":""},"X","2023",{"$f":"IF(aux_cadastros!$A$29=\"\",\"\",aux_cadastros!$A$29)","v":""},{"$f":"IFERROR((VLOOKUP(G209,questionario!$C$47:$D$66,2,0)),\"\")","v":""},{"$f":"IFERROR((VLOOKUP(G209,questionario!$Q$47:$R$66,2,0)),\"\")","v":""},2023,{"$f":"IF(G209=\"\",\"\",(IFERROR((INDEX(questionario!$A$23:$N$42,(MATCH((dados_exp!$G209&\"R$\"),questionario!$A$23:$A$42,0)),(MATCH(dados_exp!$J209,questionario!$A$22:$N$22,0)))),\"\")))","v":""},{"$f":"IF(G209=\"\",\"\",(IFERROR((INDEX(questionario!$Q$22:$AB$42,(MATCH(dados_exp!$G209,questionario!$Q$22:$Q$42,0)),(MATCH(dados_exp!$J209,questionario!$Q$22:$AB$22,0)))),\"\")))","v":""},{"$f":"IFERROR((INDEX(questionario!$B$47:$N$66,(MATCH((dados_exp!$G209&dados_exp!$H209),questionario!$B$47:$B$66,0)),(MATCH(dados_exp!$J209,questionario!$B$46:$N$46,0)))),\"\")","v":""},{"$f":"IFERROR((INDEX(questionario!$O$47:$AB$66,(MATCH((dados_exp!$G209&dados_exp!$I209),questionario!$O$47:$O$66,0)),(MATCH(dados_exp!$J209,questionario!$O$46:$AB$46,0)))),\"\")","v":""},"X",null,null,null,"X",null,null,null,"X",null,null,null,null,null,"X",null,null,null,"X"]
[{"$f":"IF(G210=\"\",\"\",(IF(questionario!$C$8=\"\",\"\",questionario!$C$8)))","v":""},{"$f":"IF(G210=\"\",\"\",(IF(questionario!$C$15=\"\",\"\",questionario!$C$15)))","v":""},{"$f":"IF(G210=\"\",\"\",(IF(questionario!$L$8=\"\",\"\",questionario!$L$8)))","v":""},{"$f":"IF(C210=\"\",\"\",(IF(questionario!$L$11=\"\",\"\",questionario!$L$11)))","v":""},"X","2023",{"$f":"IF(aux_cadastros!$A$30=\"\",\"\",aux_cadastros!$A$30)","v":""},{"$f":"IFERROR((VLOOKUP(G210,questionario!$C$47:$D$66,2,0)),\"\")","v":""},{"$f":"IFERROR((VLOOKUP(G210,questionario!$Q$47:$R$66,2,0)),\"\")","v":""},2023,{"$f":"IF(G210=\"\",\"\",(IFERROR((INDEX(questionario!$A$23:$N$42,(MATCH((dados_exp!$G210&\"R$\"),questionario!$A$23:$A$42,0)),(MATCH(dados_exp!$J210,questionario!$A$22:$N$22,0)))),\"\")))","v":""},{"$f":"IF(G210=\"\",\"\",(IFERROR((INDEX(questionario!$Q$22:$AB$42,(MATCH(dados_exp!$G210,questionario!$Q$22:$Q$42,0)),(MATCH(dados_exp!$J210,questionario!$Q$22:$AB$22,0)))),\"\")))","v":""},{"$f":"IFERROR((INDEX(questionario!$B$47:$N$66,(MATCH((dados_exp!$G210&dados_exp!$H210),questionario!$B$47:$B$66,0)),(MATCH(dados_exp!$J210,questionario!$B$46:$N$46,0)))),\"\")","v":""},{"$f":"IFERROR((INDEX(questionario!$O$47:$AB$66,(MATCH((dados_exp!$G210&dados_exp!$I210),questionario!$O$47:$O$66,0)),(MATCH(dados_exp!$J210,questionario!$O$46:$AB$46,0)))),\"\")","v":""},"X",null,null,null,"X",null,null,null,"X",null,null,null,null,null,"X",null,null,null,"X"]
[{"$f":"IF(G211=\"\",\"\",(IF(questionario!$C$8=\"\",\"\",questionario!$C$8)))","v":""},{"$f":"IF(G211=\"\",\"\",(IF(questionario!$C$15=\"\",\"\",questionario!$C$15)))","v":""},{"$f":"IF(G211=\"\",\"\",(IF(questionario!$L$8=\"\",\"\",questionario!$L$8)))","v":""},{"$f":"IF(C211=\"\",\"\",(IF(questionario!$L$11=\"\",\"\",questionario!$L$11)))","v":""},"X","2023",{"$f":"IF(aux_cadastros!$A$31=\"\",\"\",aux_cadastros!$A$31)","v":""},{"$f":"IFERROR((VLOOKUP(G211,questionario!$C$47:$D$66,2,0)),\"\")","v":""},{"$f":"IFERROR((VLOOKUP(G211,questionario!$Q$47:$R$66,2,0)),\"\")","v":""},2023,{"$f":"IF(G211=\"\",\"\",(IFERROR((INDEX(questionario!$A$23:$N$42,(MATCH((dados_exp!$G211&\"R$\"),questionario!$A$23:$A$42,0)),(MATCH(dados_exp!$J211,questionario!$A$22:$N$22,0)))),\"\")))","v":""},{"$f":"IF(G211=\"\",\"\",(IFERROR((INDEX(questionario!$Q$22:$AB$42,(MATCH(dados_exp!$G211,questionario!$Q$22:$Q$42,0)),(MATCH(dados_exp!$J211,questionario!$Q$22:$AB$22,0)))),\"\")))","v":""},{"$f":"IFERROR((INDEX(questionario!$B$47:$N$66,(MATCH((dados_exp!$G211&dados_exp!$H211),questionario!$B$47:$B$66,0)),(MATCH(dados_exp!$J211,questionario!$B$46:$N$46,0)))),\"\")","v":""},{"$f":"IFERROR((INDEX(questionario!$O$47:$AB$66,(MATCH((dados_exp!$G211&dados_exp!$I211),questionario!$O$47:$O$66,0)),(MATCH(dados_exp!$J211,questionario!$O$46:$AB$46,0)))),\"\")","v":""},"X",null,null,null,"X",null,null,null,"X",null,null,null,null,null,"X",null,null,null,"X"]
[{"$f":"IF(G212=\"\",\"\",(IF(questionario!$C$8=\"\",\"\",questionario!$C$8)))","v":""},{"$f":"IF(G212=\"\",\"\",(IF(questionario!$C$15=\"\",\"\",questionario!$C$15)))","v":""},{"$f":"IF(G212=\"\",\"\",(IF(questionario!$L$8=\"\",\"\",questionario!$L$8)))","v":""},{"$f":"IF(C212=\"\",\"\",(IF(questionario!$L$11=\"\",\"\",questionario!$L$11)))","v":""},"X","Açaí2024",{"$f":"IF(aux_cadastros!$A$2=\"\",\"\",aux_cadastros!$A$2)","v":"Açaí"},{"$f":"IFERROR((VLOOKUP(G212,questionario!$C$47:$D$66,2,0)),\"\")","v":""},{"$f":"IFERROR((VLOOKUP(G212,questionario!$Q$47:$R$66,2,0)),\"\")","v":""},{"$f":"questionario!$L$22","v":2024},{"$f":"IF(G212=\"\",\"\",(IFERROR((INDEX(questionario!$A$23:$N$42,(MATCH((dados_exp!$G212&\"R$\"),questionario!$A$23:$A$42,0)),(MATCH(dados_exp!$J212,questionario!$A$22:$N$22,0)))),\"\")))","v":""},{"$f":"IF(G212=\"\",\"\",(IFERROR((INDEX(questionario!$Q$22:$AB$42,(MATCH(dados_exp!$G212,questionario!$Q$22:$Q$42,0)),(MATCH(dados_exp!$J212,questionario!$Q$22:$AB$22,0)))),\"\")))","v":""},{"$f":"IFERROR((INDEX(questionario!$B$47:$N$66,(MATCH((dados_exp!$G212&dados_exp!$H212),questionario!$B$47:$B$66,0)),(MATCH(dados_exp!$J212,questionario!$B$46:$N$46,0)))),\"\")","v":""},{"$f":"IFERROR((INDEX(questionario!$O$47:$AB$66,(MATCH((dados_exp!$G212&dados_exp!$I212),questionario!$O$47:$O$66,0)),(MATCH(dados_exp!$J212,questionario!$O$46:$AB$46,0)))),\"\")","v":""},"X",null,null,null,"X",null,null,null,"X",null,null,null,null,null,"X",null,null,null,"X"]
[{"$f":"IF(G213=\"\",\"\",(IF(questionario!$C$8=\"\",\"\",questionario!$C$8)))","v":""},{"$f":"IF(G213=\"\",\"\",(IF(questionario!$C$15=\"\",\"\",questionario!$C$15)))","v":""},{"$f":"IF(G213=\"\",\"\",(IF(questionario!$L$8=\"\",\"\",questionario!$L$8)))","v":""},{"$f":"IF(C213=\"\",\"\",(IF(questionario!$L$11=\"\",\"\",questionario!$L$11)))","v":""},"X","Aquicultura2024",{"$f":"IF(aux_cadastros!$A$3=\"\",\"\",aux_cadastros!$A$3)","v":"Aquicultura"},{"$f":"IFERROR((VLOOKUP(G213,questionario!$C$47:$D$66,2,0)),\"\")","v":""},{"$f":"IFERROR((VLOOKUP(G213,questionario!$Q$47:$R$66,2,0)),\"\")","v":""},{"$f":"J212","v":2024},{"$f":"IF(G213=\"\",\"\",(IFERROR((INDEX(questionario!$A$23:$N$42,(MATCH((dados_exp!$G213&\"R$\"),questionario!$A$23:$A$42,0)),(MATCH(dados_exp!$J213,questionario!$A$22:$N$22,0)))),\"\")))","v":""},{"$f":"IF(G213=\"\",\"\",(IFERROR((INDEX(questionario!$Q$22:$AB$42,(MATCH(dados_exp!$G213,questionario!$Q$22:$Q$42,0)),(MATCH(dados_exp!$J213,questionario!$Q$22:$AB$22,0)))),\"\")))","v":""},{"$f":"IFERROR((INDEX(questionario!$B$47:$N$66,(MATCH((dados_exp!$G213&dados_exp!$H213),questionario!$B$47:$B$66,0)),(MATCH(dados_exp!$J213,questionario!$B$46:$N$46,0)))),\"\")","v":""},{"$f":"IFERROR((INDEX(questionario!$O$47:$AB$66,(MATCH((dados_exp!$G213&dados_exp!$I213),questionario!$O$47:$O$66,0)),(MATCH(dados_exp!$J213,questionario!$O$46:$AB$46,0)))),\"\")","v":""},"X",null,null,null,"X",null,null,null,"X",null,null,null,null,null,"X",null,null,null,"X"]
[{"$f":"IF(G214=\"\",\"\",(IF(questionario!$C$8=\"\",\"\",questionario!$C$8)))","v":""},{"$f":"IF(G214=\"\",\"\",(IF(questionario!$C$15=\"\",\"\",questionario!$C$15)))","v":""},{"$f":"IF(G214=\"\",\"\",(IF(questionario!$L$8=\"\",\"\",questionario!$L$8)))","v":""},{"$f":"IF(C214=\"\",\"\",(IF(questionario!$L$11=\"\",\"\",questionario!$L$11)))","v":""},"X","Artesanato2024",{"$f":"IF(aux_cadastros!$A$4=\"\",\"\",aux_cadastros!$A$4)","v":"Artesanato"},{"$f":"IFERROR((VLOOKUP(G214,questionario!$C$47:$D$66,2,0)),\"\")","v":""},{"$f":"IFERROR((VLOOKUP(G214,questionario!$Q$47:$R$66,2,0)),\"\")","v":""},{"$f":"J213","v":2024},{"$f":"IF(G214=\"\",\"\",(IFERROR((INDEX(questionario!$A$23:$N$42,(MATCH((dados_exp!$G214&\"R$\"),questionario!$A$23:$A$42,0)),(MATCH(dados_exp!$J214,questionario!$A$22:$N$22,0)))),\"\")))","v":""},{"$f":"IF(G214=\"\",\"\",(IFERROR((INDEX(questionario!$Q$22:$AB$42,(MATCH(dados_exp!$G214,questionario!$Q$22:$Q$42,0)),(MATCH(dados_exp!$J214,questionario!$Q$22:$AB$22,0)))),\"\")))","v":""},{"$f":"IFERROR((INDEX(questionario!$B$47:$N$66,(MATCH((dados_exp!$G214&dados_exp!$H214),questionario!$B$47:$B$66,0)),(MATCH(dados_exp!$J214,questionario!$B$46:$N$46,0)))),\"\")","v":""},{"$f":"IFERROR((INDEX(questionario!$O$47:$AB$66,(MATCH((dados_exp!$G214&dados_exp!$I214),questionario!$O$47:$O$66,0)),(MATCH(dados_exp!$J214,questionario!$O$46:$AB$46,0)))),\"\")","v":""},"X",null,null,null,"X",null,null,null,"X",null,null,null,null,null,"X",null,null,null,"X"]
[{"$f":"IF(G215=\"\",\"\",(IF(questionario!$C$8=\"\",\"\",questionario!$C$8)))","v":""},{"$f":"IF(G215=\"\",\"\",(IF(questionario!$C$15=\"\",\"\",questionario!$C$15)))","v":""},{"$f":"IF(G215=\"\",\"\",(IF(questionario!$L$8=\"\",\"\",questionario!$L$8)))","v":""},{"$f":"IF(C215=\"\",\"\",(IF(questionario!$L$11=\"\",\"\",questionario!$L$11)))","v":""},"X","Babaçu2024",{"$f":"IF(aux_cadastros!$A$5=\"\",\"\",aux_cadastros!$A$5)","v":"Babaçu"},{"$f":"IFERROR((VLOOKUP(G215,questionario!$C$47:$D$66,2,0)),\"\")","v":""},{"$f":"IFERROR((VLOOKUP(G215,questionario!$Q$47:$R$66,2,0)),\"\")","v":""},2024,{"$f":"IF(G215=\"\",\"\",(IFERROR((INDEX(questionario!$A$23:$N$42,(MATCH((dados_exp!$G215&\"R$\"),questionario!$A$23:$A$42,0)),(MATCH(dados_exp!$J215,questionario!$A$22:$N$22,0)))),\"\")))","v":""},{"$f":"IF(G215=\"\",\"\",(IFERROR((INDEX(questionario!$Q$22:$AB$42,(MATCH(dados_exp!$G215,questionario!$Q$22:$Q$42,0)),(MATCH(dados_exp!$J215,questionario!$Q$22:$AB$22,0)))),\"\")))","v":""},{"$f":"IFERROR((INDEX(questionario!$B$47:$N$66,(MATCH((dados_exp!$G215&dados_exp!$H215),questionario!$B$47:$B$66,0)),(MATCH(dados_exp!$J215,questionario!$B$46:$N$46,0)))),\"\")","v":""},{"$f":"IFERROR((INDEX(questionario!$O$47:$AB$66,(MATCH((dados_exp!$G215&dados_exp!$I215),questionario!$O$47:$O$66,0)),(MATCH(dados_exp!$J215,questionario!$O$46:$AB$46,0)))),\"\")","v":""},"X",null,null,null,"X",null,null,null,"X",null,null,null,null,null,"X",null,null,null,"X"]
[{"$f":"IF(G216=\"\",\"\",(IF(questionario!$C$8=\"\",\"\",questionario!$C$8)))","v":""},{"$f":"IF(G216=\"\",\"\",(IF(questionario!$C$15=\"\",\"\",questionario!$C$15)))","v":""},{"$f":"IF(G216=\"\",\"\",(IF(questionario!$L$8=\"\",\"\",questionario!$L$8)))","v":""},{"$f":"IF(C216=\"\",\"\",(IF(questionario!$L$11=\"\",\"\",questionario!$L$11)))","v":""},"X","Borrachas2024",{"$f":"IF(aux_cadastros!$A$6=\"\",\"\",aux_cadastros!$A$6)","v":"Borrachas"},{"$f":"IFERROR((VLOOKUP(G216,questionario!$C$47:$D$66,2,0)),\"\")","v":""},{"$f":"IFERROR((VLOOKUP(G216,questionario!$Q$47:$R$66,2,0)),\"\")","v":""},2024,{"$f":"IF(G216=\"\",\"\",(IFERROR((INDEX(questionario!$A$23:$N$42,(MATCH((dados_exp!$G216&\"R$\"),questionario!$A$23:$A$42,0)),(MATCH(dados_exp!$J216,questionario!$A$22:$N$22,0)))),\"\")))","v":""},{"$f":"IF(G216=\"\",\"\",(IFERROR((INDEX(questionario!$Q$22:$AB$42,(MATCH(dados_exp!$G216,questionario!$Q$22:$Q$42,0)),(MATCH(dados_exp!$J216,questionario!$Q$22:$AB$22,0)))),\"\")))","v":""},{"$f":"IFERROR((INDEX(questionario!$B$47:$N$66,(MATCH((dados_exp!$G216&dados_exp!$H216),questionario!$B$47:$B$66,0)),(MATCH(dados_exp!$J216,questionario!$B$46:$N$46,0)))),\"\")","v":""},{"$f":"IFERROR((INDEX(questionario!$O$47:$AB$66,(MATCH((dados_exp!$G216&dados_exp!$I216),questionario!$O$47:$O$66,0)),(MATCH(dados_exp!$J216,questionario!$O$46:$AB$46,0)))),\"\")","v":""},"X",null,null,null,"X",null,null,null,"X",null,null,null,null,null,"X",null,null,null,"X"]
[{"$f":"IF(G217=\"\",\"\",(IF(questionario!$C$8=\"\",\"\",questionario!$C$8)))","v":""},{"$f":"IF(G217=\"\",\"\",(IF(questionario!$C$15=\"\",\"\",questionario!$C$15)))","v":""},{"$f":"IF(G217=\"\",\"\",(IF(questionario!$L$8=\"\",\"\",questionario!$L$8)))","v":""},{"$f":"IF(C217=\"\",\"\",(IF(questionario!$L$11=\"\",\"\",questionario!$L$11)))","v":""},"X","Cacau2024",{"$f":"IF(aux_cadastros!$A$7=\"\",\"\",aux_cadastros!$A$7)","v":"Cacau"},{"$f":"IFERROR((VLOOKUP(G217,questionario!$C$47:$D$66,2,0)),\"\")","v":""},{"$f":"IFERROR((VLOOKUP(G217,questionario!$Q$47:$R$66,2,0)),\"\")","v":""},2024,{"$f":"IF(G217=\"\",\"\",(IFERROR((INDEX(questionario!$A$23:$N$42,(MATCH((dados_exp!$G217&\"R$\"),questionario!$A$23:$A$42,0)),(MATCH(dados_exp!$J217,questionario!$A$22:$N$22,0)))),\"\")))","v":""},{"$f":"IF(G217=\"\",\"\",(IFERROR((INDEX(questionario!$Q$22:$AB$42,(MATCH(dados_exp!$G217,questionario!$Q$22:$Q$42,0)),(MATCH(dados_exp!$J217,questionario!$Q$22:$AB$22,0)))),\"\")))","v":""},{"$f":"IFERROR((INDEX(questionario!$B$47:$N$66,(MATCH((dados_exp!$G217&dados_exp!$H217),questionario!$B$47:$B$66,0)),(MATCH(dados_exp!$J217,questionario!$B$46:$N$46,0)))),\"\")","v":""},{"$f":"IFERROR((INDEX(questionario!$O$47:$AB$66,(MATCH((dados_exp!$G217&dados_exp!$I217),questionario!$O$47:$O$66,0)),(MATCH(dados_exp!$J217,questionario!$O$46:$AB$46,0)))),\"\")","v":""},"X",null,null,null,"X",null,null,null,"X",null,null,null,null,null,"X",null,null,null,"X"]
[{"$f":"IF(G218=\"\",\"\",(IF(questionario!$C$8=\"\",\"\",questionario!$C$8)))","v":""},{"$f":"IF(G218=\"\",\"\",(IF(questionario!$C$15=\"\",\"\",questionario!$C$15)))","v":""},{"$f":"IF(G218=\"\",\"\",(IF(questionario!$L$8=\"\",\"\",questionario!$L$8)))","v":""},{"$f":"IF(C218=\"\",\"\",(IF(questionario!$L$11=\"\",\"\",questionario!$L$11)))","v":""},"X","Castanha2024",{"$f":"IF(aux_cadastros!$A$8=\"\",\"\",aux_cadastros!$A$8)","v":"Castanha"},{"$f":"IFERROR((VLOOKUP(G218,questionario!$C$47:$D$66,2,0)),\"\")","v":""},{"$f":"IFERROR((VLOOKUP(G218,questionario!$Q$47:$R$66,2,0)),\"\")","v":""},2024,{"$f":"IF(G218=\"\",\"\",(IFERROR((INDEX(questionario!$A$23:$N$42,(MATCH((dados_exp!$G218&\"R$\"),questionario!$A$23:$A$42,0)),(MATCH(dados_exp!$J218,questionario!$A$22:$N$22,0)))),\"\")))","v":""},{"$f":"IF(G218=\"\",\"\",(IFERROR((INDEX(questionario!$Q$22:$AB$42,(MATCH(dados_exp!$G218,questionario!$Q$22:$Q$42,0)),(MATCH(dados_exp!$J218,questionario!$Q$22:$AB$22,0)))),\"\")))","v":""},{"$f":"IFERROR((INDEX(questionario!$B$47:$N$66,(MATCH((dados_exp!$G218&dados_exp!$H218),questionario!$B$47:$B$66,0)),(MATCH(dados_exp!$J218,questionario!$B$46:$N$46,0)))),\"\")","v":""},{"$f":"IFERROR((INDEX(questionario!$O$47:$AB$66,(MATCH((dados_exp!$G218&dados_exp!$I218),questionario!$O$47:$O$66,0)),(MATCH(dados_exp!$J218,questionario!$O$46:$AB$46,0)))),\"\")","v":""},"X",null,null,null,"X",null,null,null,"X",null,null,null,null,null,"X",null,null,null,"X"]
[{"$f":"IF(G219=\"\",\"\",(IF(questionario!$C$8=\"\",\"\",questionario!$C$8)))","v":""},{"$f":"IF(G219=\"\",\"\",(IF(questionario!$C$15=\"\",\"\",questionario!$C$15)))","v":""},{"$f":"IF(G219=\"\",\"\",(IF(questionario!$L$8=\"\",\"\",questionario!$L$8)))","v":""},{"$f":"IF(C219=\"\",\"\",(IF(questionario!$L$11=\"\",\"\",questionario!$L$11)))","v":""},"X","Copaíba2024",{"$f":"IF(aux_cadastros!$A$9=\"\",\"\",aux_cadastros!$A$9)","v":"Copaíba"},{"$f":"IFERROR((VLOOKUP(G219,questionario!$C$47:$D$66,2,0)),\"\")","v":""},{"$f":"IFERROR((VLOOKUP(G219,questionario!$Q$47:$R$66,2,0)),\"\")","v":""},2024,{"$f":"IF(G219=\"\",\"\",(IFERROR((INDEX(questionario!$A$23:$N$42,(MATCH((dados_exp!$G219&\"R$\"),questionario!$A$23:$A$42,0)),(MATCH(dados_exp!$J219,questionario!$A$22:$N$22,0)))),\"\")))","v":""},{"$f":"IF(G219=\"\",\"\",(IFERROR((INDEX(questionario!$Q$22:$AB$42,(MATCH(dados_exp!$G219,questionario!$Q$22:$Q$42,0)),(MATCH(dados_exp!$J219,questionario!$Q$22:$AB$22,0)))),\"\")))","v":""},{"$f":"IFERROR((INDEX(questionario!$B$47:$N$66,(MATCH((dados_exp!$G219&dados_exp!$H219),questionario!$B$47:$B$66,0)),(MATCH(dados_exp!$J219,questionario!$B$46:$N$46,0)))),\"\")","v":""},{"$f":"IFERROR((INDEX(questionario!$O$47:$AB$66,(MATCH((dados_exp!$G219&dados_exp!$I219),questionario!$O$47:$O$66,0)),(MATCH(dados_exp!$J219,questionario!$O$46:$AB$46,0)))),\"\")","v":""},"X",null,null,null,"X",null,null,null,"X",null,null,null,null,null,"X",null,null,null,"X"]
[{"$f":"IF(G220=\"\",\"\",(IF(questionario!$C$8=\"\",\"\",questionario!$C$8)))","v":""},{"$f":"IF(G220=\"\",\"\",(IF(questionario!$C$15=\"\",\"\",questionario!$C$15)))","v":""},{"$f":"IF(G220=\"\",\"\",(IF(questionario!$L$8=\"\",\"\",questionario!$L$8)))","v":""},{"$f":"IF(C220=\"\",\"\",(IF(questionario!$L$11=\"\",\"\",questionario!$L$11)))","v":""},"X","Fibras2024",{"$f":"IF(aux_cadastros!$A$10=\"\",\"\",aux_cadastros!$A$10)","v":"Fibras"},{"$f":"IFERROR((VLOOKUP(G220,questionario!$C$47:$D$66,2,0)),\"\")","v":""},{"$f":"IFERROR((VLOOKUP(G220,questionario!$Q$47:$R$66,2,0)),\"\")","v":""},2024,{"$f":"IF(G220=\"\",\"\",(IFERROR((INDEX(questionario!$A$23:$N$42,(MATCH((dados_exp!$G220&\"R$\"),questionario!$A$23:$A$42,0)),(MATCH(dados_exp!$J220,questionario!$A$22:$N$22,0)))),\"\")))","v":""},{"$f":"IF(G220=\"\",\"\",(IFERROR((INDEX(questionario!$Q$22:$AB$42,(MATCH(dados_exp!$G220,questionario!$Q$22:$Q$42,0)),(MATCH(dados_exp!$J220,questionario!$Q$22:$AB$22,0)))),\"\")))","v":""},{"$f":"IFERROR((INDEX(questionario!$B$47:$N$66,(MATCH((dados_exp!$G220&dados_exp!$H220),questionario!$B$47:$B$66,0)),(MATCH(dados_exp!$J220,questionario!$B$46:$N$46,0)))),\"\")","v":""},{"$f":"IFERROR((INDEX(questionario!$O$47:$AB$66,(MATCH((dados_exp!$G220&dados_exp!$I220),questionario!$O$47:$O$66,0)),(MATCH(dados_exp!$J220,questionario!$O$46:$AB$46,0)))),\"\")","v":""},"X",null,null,null,"X",null,null,null,"X",null,null,null,null,null,"X",null,null,null,"X"]
[{"$f":"IF(G221=\"\",\"\",(IF(questionario!$C$8=\"\",\"\",questionario!$C$8)))","v":""},{"$f":"IF(G221=\"\",\"\",(IF(questionario!$C$15=\"\",\"\",questionario!$C$15)))","v":""},{"$f":"IF(G221=\"\",\"\",(IF(questionario!$L$8=\"\",\"\",questionario!$L$8)))","v":""},{"$f":"IF(C221=\"\",\"\",(IF(questionario!$L$11=\"\",\"\",questionario!$L$11)))","v":""},"X","Guaraná2024",{"$f":"IF(aux_cadastros!$A$11=\"\",\"\",aux_cadastros!$A$11)","v":"Guaraná"},{"$f":"IFERROR((VLOOKUP(G221,questionario!$C$47:$D$66,2,0)),\"\")","v":""},{"$f":"IFERROR((VLOOKUP(G221,questionario!$Q$47:$R$66,2,0)),\"\")","v":""},2024,{"$f":"IF(G221=\"\",\"\",(IFERROR((INDEX(questionario!$A$23:$N$42,(MATCH((dados_exp!$G221&\"R$\"),questionario!$A$23:$A$42,0)),(MATCH(dados_exp!$J221,questionario!$A$22:$N$22,0)))),\"\")))","v":""},{"$f":"IF(G221=\"\",\"\",(IFERROR((INDEX(questionario!$Q$22:$AB$42,(MATCH(dados_exp!$G221,questionario!$Q$22:$Q$42,0)),(MATCH(dados_exp!$J221,questionario!$Q$22:$AB$22,0)))),\"\")))","v":""},{"$f":"IFERROR((INDEX(questionario!$B$47:$N$66,(MATCH((dados_exp!$G221&dados_exp!$H221),questionario!$B$47:$B$66,0)),(MATCH(dados_exp!$J221,questionario!$B$46:$N$46,0)))),\"\")","v":""},{"$f":"IFERROR((INDEX(questionario!$O$47:$AB$66,(MATCH((dados_exp!$G221&dados_exp!$I221),questionario!$O$47:$O$66,0)),(MATCH(dados_exp!$J221,questionario!$O$46:$AB$46,0)))),\"\")","v":""},"X",null,null,null,"X",null,null,null,"X",null,null,null,null,null,"X",null,null,null,"X"]
[{"$f":"IF(G222=\"\",\"\",(IF(questionario!$C$8=\"\",\"\",questionario!$C$8)))","v":""},{"$f":"IF(G222=\"\",\"\",(IF(questionario!$C$15=\"\",\"\",questionario!$C$15)))","v":""},{"$f":"IF(G222=\"\",\"\",(IF(questionario!$L$8=\"\",\"\",questionario!$L$8)))","v":""},{"$f":"IF(C222=\"\",\"\",(IF(questionario!$L$11=\"\",\"\",questionario!$L$11)))","v":""},"X","Madeira2024",{"$f":"IF(aux_cadastros!$A$12=\"\",\"\",aux_cadastros!$A$12)","v":"Madeira"},{"$f":"IFERROR((VLOOKUP(G222,questionario!$C$47:$D$66,2,0)),\"\")","v":""},{"$f":"IFERROR((VLOOKUP(G222,questionario!$Q$47:$R$66,2,0)),\"\")","v":""},2024,{"$f":"IF(G222=\"\",\"\",(IFERROR((INDEX(questionario!$A$23:$N$42,(MATCH((dados_exp!$G222&\"R$\"),questionario!$A$23:$A$42,0)),(MATCH(dados_exp!$J222,questionario!$A$22:$N$22,0)))),\"\")))","v":""},{"$f":"IF(G222=\"\",\"\",(IFERROR((INDEX(questionario!$Q$22:$AB$42,(MATCH(dados_exp!$G222,questionario!$Q$22:$Q$42,0)),(MATCH(dados_exp!$J222,questionario!$Q$22:$AB$22,0)))),\"\")))","v":""},{"$f":"IFERROR((INDEX(questionario!$B$47:$N$66,(MATCH((dados_exp!$G222&dados_exp!$H222),questionario!$B$47:$B$66,0)),(MATCH(dados_exp!$J222,questionario!$B$46:$N$46,0)))),\"\")","v":""},{"$f":"IFERROR((INDEX(questionario!$O$47:$AB$66,(MATCH((dados_exp!$G222&dados_exp!$I222),questionario!$O$47:$O$66,0)),(MATCH(dados_exp!$J222,questionario!$O$46:$AB$46,0)))),\"\")","v":""},"X",null,null,null,"X",null,null,null,"X",null,null,null,null,null,"X",null,null,null,"X"]
[{"$f":"IF(G223=\"\",\"\",(IF(questionario!$C$8=\"\",\"\",questionario!$C$8)))","v":""},{"$f":"IF(G223=\"\",\"\",(IF(questionario!$C$15=\"\",\"\",questionario!$C$15)))","v":""},{"$f":"IF(G223=\"\",\"\",(IF(questionario!$L$8=\"\",\"\",questionario!$L$8)))","v":""},{"$f":"IF(C223=\"\",\"\",(IF(questionario!$L$11=\"\",\"\",questionario!$L$11)))","v":""},"X","Mel2024",{"$f":"IF(aux_cadastros!$A$13=\"\",\"\",aux_cadastros!$A$13)","v":"Mel"},{"$f":"IFERROR((VLOOKUP(G223,questionario!$C$47:$D$66,2,0)),\"\")","v":""},{"$f":"IFERROR((VLOOKUP(G223,questionario!$Q$47:$R$66,2,0)),\"\")","v":""},2024,{"$f":"IF(G223=\"\",\"\",(IFERROR((INDEX(questionario!$A$23:$N$42,(MATCH((dados_exp!$G223&\"R$\"),questionario!$A$23:$A$42,0)),(MATCH(dados_exp!$J223,questionario!$A$22:$N$22,0)))),\"\")))","v":""},{"$f":"IF(G223=\"\",\"\",(IFERROR((INDEX(questionario!$Q$22:$AB$42,(MATCH(dados_exp!$G223,questionario!$Q$22:$Q$42,0)),(MATCH(dados_exp!$J223,questionario!$Q$22:$AB$22,0)))),\"\")))","v":""},{"$f":"IFERROR((INDEX(questionario!$B$47:$N$66,(MATCH((dados_exp!$G223&dados_exp!$H223),questionario!$B$47:$B$66,0)),(MATCH(dados_exp!$J223,questionario!$B$46:$N$46,0)))),\"\")","v":""},{"$f":"IFERROR((INDEX(questionario!$O$47:$AB$66,(MATCH((dados_exp!$G223&dados_exp!$I223),questionario!$O$47:$O$66,0)),(MATCH(dados_exp!$J223,questionario!$O$46:$AB$46,0)))),\"\")","v":""},"X",null,null,null,"X",null,null,null,"X",null,null,null,null,null,"X",null,null,null,"X"]
[{"$f":"IF(G224=\"\",\"\",(IF(questionario!$C$8=\"\",\"\",questionario!$C$8)))","v":""},{"$f":"IF(G224=\"\",\"\",(IF(questionario!$C$15=\"\",\"\",questionario!$C$15)))","v":""},{"$f":"IF(G224=\"\",\"\",(IF(questionario!$L$8=\"\",\"\",questionario!$L$8)))","v":""},{"$f":"IF(C224=\"\",\"\",(IF(questionario!$L$11=\"\",\"\",questionario!$L$11)))","v":""},"X","Oleaginosas2024",{"$f":"IF(aux_cadastros!$A$14=\"\",\"\",aux_cadastros!$A$14)","v":"Oleaginosas"},{"$f":"IFERROR((VLOOKUP(G224,questionario!$C$47:$D$66,2,0)),\"\")","v":""},{"$f":"IFERROR((VLOOKUP(G224,questionario!$Q$47:$R$66,2,0)),\"\")","v":""},2024,{"$f":"IF(G224=\"\",\"\",(IFERROR((INDEX(questionario!$A$23:$N$42,(MATCH((dados_exp!$G224&\"R$\"),questionario!$A$23:$A$42,0)),(MATCH(dados_exp!$J224,questionario!$A$22:$N$22,0)))),\"\")))","v":""},{"$f":"IF(G224=\"\",\"\",(IFERROR((INDEX(questionario!$Q$22:$AB$42,(MATCH(dados_exp!$G224,questionario!$Q$22:$Q$42,0)),(MATCH(dados_exp!$J224,questionario!$Q$22:$AB$22,0)))),\"\")))","v":""},{"$f":"IFERROR((INDEX(questionario!$B$47:$N$66,(MATCH((dados_exp!$G224&dados_exp!$H224),questionario!$B$47:$B$66,0)),(MATCH(dados_exp!$J224,questionario!$B$46:$N$46,0)))),\"\")","v":""},{"$f":"IFERROR((INDEX(questionario!$O$47:$AB$66,(MATCH((dados_exp!$G224&dados_exp!$I224),questionario!$O$47:$O$66,0)),(MATCH(dados_exp!$J224,questionario!$O$46:$AB$46,0)))),\"\")","v":""},"X",null,null,null,"X",null,null,null,"X",null,null,null,null,null,"X",null,null,null,"X"]
[{"$f":"IF(G225=\"\",\"\",(IF(questionario!$C$8=\"\",\"\",questionario!$C$8)))","v":""},{"$f":"IF(G225=\"\",\"\",(IF(questionario!$C$15=\"\",\"\",questionario!$C$15)))","v":""},{"$f":"IF(G225=\"\",\"\",(IF(questionario!$L$8=\"\",\"\",questionario!$L$8)))","v":""},{"$f":"IF(C225=\"\",\"\",(IF(questionario!$L$11=\"\",\"\",questionario!$L$11)))","v":""},"X","Óleos2024",{"$f":"IF(aux_cadastros!$A$15=\"\",\"\",aux_cadastros!$A$15)","v":"Óleos"},{"$f":"IFERROR((VLOOKUP(G225,questionario!$C$47:$D$66,2,0)),\"\")","v":""},{"$f":"IFERROR((VLOOKUP(G225,questionario!$Q$47:$R$66,2,0)),\"\")","v":""},2024,{"$f":"IF(G225=\"\",\"\",(IFERROR((INDEX(questionario!$A$23:$N$42,(MATCH((dados_exp!$G225&\"R$\"),questionario!$A$23:$A$42,0)),(MATCH(dados_exp!$J225,questionario!$A$22:$N$22,0)))),\"\")))","v":""},{"$f":"IF(G225=\"\",\"\",(IFERROR((INDEX(questionario!$Q$22:$AB$42,(MATCH(dados_exp!$G225,questionario!$Q$22:$Q$42,0)),(MATCH(dados_exp!$J225,questionario!$Q$22:$AB$22,0)))),\"\")))","v":""},{"$f":"IFERROR((INDEX(questionario!$B$47:$N$66,(MATCH((dados_exp!$G225&dados_exp!$H225),questionario!$B$47:$B$66,0)),(MATCH(dados_exp!$J225,questionario!$B$46:$N$46,0)))),\"\")","v":""},{"$f":"IFERROR((INDEX(questionario!$O$47:$AB$66,(MATCH((dados_exp!$G225&dados_exp!$I225),questionario!$O$47:$O$66,0)),(MATCH(dados_exp!$J225,questionario!$O$46:$AB$46,0)))),\"\")","v":""},"X",null,null,null,"X",null,null,null,"X",null,null,null,null,null,"X",null,null,null,"X"]
[{"$f":"IF(G226=\"\",\"\",(IF(questionario!$C$8=\"\",\"\",questionario!$C$8)))","v":""},{"$f":"IF(G226=\"\",\"\",(IF(questionario!$C$15=\"\",\"\",questionario!$C$15)))","v":""},{"$f":"IF(G226=\"\",\"\",(IF(questionario!$L$8=\"\",\"\",questionario!$L$8)))","v":""},{"$f":"IF(C226=\"\",\"\",(IF(questionario!$L$11=\"\",\"\",questionario!$L$11)))","v":""},"X","Pescado2024",{"$f":"IF(aux_cadastros!$A$16=\"\",\"\",aux_cadastros!$A$16)","v":"Pescado"},{"$f":"IFERROR((VLOOKUP(G226,questionario!$C$47:$D$66,2,0)),\"\")","v":""},{"$f":"IFERROR((VLOOKUP(G226,questionario!$Q$47:$R$66,2,0)),\"\")","v":""},2024,{"$f":"IF(G226=\"\",\"\",(IFERROR((INDEX(questionario!$A$23:$N$42,(MATCH((dados_exp!$G226&\"R$\"),questionario!$A$23:$A$42,0)),(MATCH(dados_exp!$J226,questionario!$A$22:$N$22,0)))),\"\")))","v":""},{"$f":"IF(G226=\"\",\"\",(IFERROR((INDEX(questionario!$Q$22:$AB$42,(MATCH(dados_exp!$G226,questionario!$Q$22:$Q$42,0)),(MATCH(dados_exp!$J226,questionario!$Q$22:$AB$22,0)))),\"\")))","v":""},{"$f":"IFERROR((INDEX(questionario!$B$47:$N$66,(MATCH((dados_exp!$G226&dados_exp!$H226),questionario!$B$47:$B$66,0)),(MATCH(dados_exp!$J226,questionario!$B$46:$N$46,0)))),\"\")","v":""},{"$f":"IFERROR((INDEX(questionario!$O$47:$AB$66,(MATCH((dados_exp!$G226&dados_exp!$I226),questionario!$O$47:$O$66,0)),(MATCH(dados_exp!$J226,questionario!$O$46:$AB$46,0)))),\"\")","v":""},"X",null,null,null,"X",null,null,null,"X",null,null,null,null,null,"X",null,null,null,"X"]
[{"$f":"IF(G227=\"\",\"\",(IF(questionario!$C$8=\"\",\"\",questionario!$C$8)))","v":""},{"$f":"IF(G227=\"\",\"\",(IF(questionario!$C$15=\"\",\"\",questionario!$C$15)))","v":""},{"$f":"IF(G227=\"\",\"\",(IF(questionario!$L$8=\"\",\"\",questionario!$L$8)))","v":""},{"$f":"IF(C227=\"\",\"\",(IF(questionario!$L$11=\"\",\"\",questionario!$L$11)))","v":""},"X","Turismo2024",{"$f":"IF(aux_cadastros!$A$17=\"\",\"\",aux_cadastros!$A$17)","v":"Turismo"},{"$f":"IFERROR((VLOOKUP(G227,questionario!$C$47:$D$66,2,0)),\"\")","v":""},{"$f":"IFERROR((VLOOKUP(G227,questionario!$Q$47:$R$66,2,0)),\"\")","v":""},2024,{"$f":"IF(G227=\"\",\"\",(IFERROR((INDEX(questionario!$A$23:$N$42,(MATCH((dados_exp!$G227&\"R$\"),questionario!$A$23:$A$42,0)),(MATCH(dados_exp!$J227,questionario!$A$22:$N$22,0)))),\"\")))","v":""},{"$f":"IF(G227=\"\",\"\",(IFERROR((INDEX(questionario!$Q$22:$AB$42,(MATCH(dados_exp!$G227,questionario!$Q$22:$Q$42,0)),(MATCH(dados_exp!$J227,questionario!$Q$22:$AB$22,0)))),\"\")))","v":""},{"$f":"IFERROR((INDEX(questionario!$B$47:$N$66,(MATCH((dados_exp!$G227&dados_exp!$H227),questionario!$B$47:$B$66,0)),(MATCH(dados_exp!$J227,questionario!$B$46:$N$46,0)))),\"\")","v":""},{"$f":"IFERROR((INDEX(questionario!$O$47:$AB$66,(MATCH((dados_exp!$G227&dados_exp!$I227),questionario!$O$47:$O$66,0)),(MATCH(dados_exp!$J227,questionario!$O$46:$AB$46,0)))),\"\")","v":""},"X",null,null,null,"X",null,null,null,"X",null,null,null,null,null,"X",null,null,null,"X"]
[{"$f":"IF(G228=\"\",\"\",(IF(questionario!$C$8=\"\",\"\",questionario!$C$8)))","v":""},{"$f":"IF(G228=\"\",\"\",(IF(questionario!$C$15=\"\",\"\",questionario!$C$15)))","v":""},{"$f":"IF(G228=\"\",\"\",(IF(questionario!$L$8=\"\",\"\",questionario!$L$8)))","v":""},{"$f":"IF(C228=\"\",\"\",(IF(questionario!$L$11=\"\",\"\",questionario!$L$11)))","v":""},"X","Agricultura de base familiar2024",{"$f":"IF(aux_cadastros!$A$18=\"\",\"\",aux_cadastros!$A$18)","v":"Agricultura de base familiar"},{"$f":"IFERROR((VLOOKUP(G228,questionario!$C$47:$D$66,2,0)),\"\")","v":""},{"$f":"IFERROR((VLOOKUP(G228,questionario!$Q$47:$R$66,2,0)),\"\")","v":""},2024,{"$f":"IF(G228=\"\",\"\",(IFERROR((INDEX(questionario!$A$23:$N$42,(MATCH((dados_exp!$G228&\"R$\"),questionario!$A$23:$A$42,0)),(MATCH(dados_exp!$J228,questionario!$A$22:$N$22,0)))),\"\")))","v":""},{"$f":"IF(G228=\"\",\"\",(IFERROR((INDEX(questionario!$Q$22:$AB$42,(MATCH(dados_exp!$G228,questionario!$Q$22:$Q$42,0)),(MATCH(dados_exp!$J228,questionario!$Q$22:$AB$22,0)))),\"\")))","v":""},{"$f":"IFERROR((INDEX(questionario!$B$47:$N$66,(MATCH((dados_exp!$G228&dados_exp!$H228),questionario!$B$47:$B$66,0)),(MATCH(dados_exp!$J228,questionario!$B$46:$N$46,0)))),\"\")","v":""},{"$f":"IFERROR((INDEX(questionario!$O$47:$AB$66,(MATCH((dados_exp!$G228&dados_exp!$I228),questionario!$O$47:$O$66,0)),(MATCH(dados_exp!$J228,questionario!$O$46:$AB$46,0)))),\"\")","v":""},"X",null,null,null,"X",null,null,null,"X",null,null,null,null,null,"X",null,null,null,"X"]
[{"$f":"IF(G229=\"\",\"\",(IF(questionario!$C$8=\"\",\"\",questionario!$C$8)))","v":""},{"$f":"IF(G229=\"\",\"\",(IF(questionario!$C$15=\"\",\"\",questionario!$C$15)))","v":""},{"$f":"IF(G229=\"\",\"\",(IF(questionario!$L$8=\"\",\"\",questionario!$L$8)))","v":""},{"$f":"IF(C229=\"\",\"\",(IF(questionario!$L$11=\"\",\"\",questionario!$L$11)))","v":""},"X","Pirarucu2024",{"$f":"IF(aux_cadastros!$A$19=\"\",\"\",aux_cadastros!$A$19)","v":"Pirarucu"},{"$f":"IFERROR((VLOOKUP(G229,questionario!$C$47:$D$66,2,0)),\"\")","v":""},{"$f":"IFERROR((VLOOKUP(G229,questionario!$Q$47:$R$66,2,0)),\"\")","v":""},2024,{"$f":"IF(G229=\"\",\"\",(IFERROR((INDEX(questionario!$A$23:$N$42,(MATCH((dados_exp!$G229&\"R$\"),questionario!$A$23:$A$42,0)),(MATCH(dados_exp!$J229,questionario!$A$22:$N$22,0)))),\"\")))","v":""},{"$f":"IF(G229=\"\",\"\",(IFERROR((INDEX(questionario!$Q$22:$AB$42,(MATCH(dados_exp!$G229,questionario!$Q$22:$Q$42,0)),(MATCH(dados_exp!$J229,questionario!$Q$22:$AB$22,0)))),\"\")))","v":""},{"$f":"IFERROR((INDEX(questionario!$B$47:$N$66,(MATCH((dados_exp!$G229&dados_exp!$H229),questionario!$B$47:$B$66,0)),(MATCH(dados_exp!$J229,questionario!$B$46:$N$46,0)))),\"\")","v":""},{"$f":"IFERROR((INDEX(questionario!$O$47:$AB$66,(MATCH((dados_exp!$G229&dados_exp!$I229),questionario!$O$47:$O$66,0)),(MATCH(dados_exp!$J229,questionario!$O$46:$AB$46,0)))),\"\")","v":""},"X",null,null,null,"X",null,null,null,"X",null,null,null,null,null,"X",null,null,null,"X"]
[{"$f":"IF(G230=\"\",\"\",(IF(questionario!$C$8=\"\",\"\",questionario!$C$8)))","v":""},{"$f":"IF(G230=\"\",\"\",(IF(questionario!$C$15=\"\",\"\",questionario!$C$15)))","v":""},{"$f":"IF(G230=\"\",\"\",(IF(questionario!$L$8=\"\",\"\",questionario!$L$8)))","v":""},{"$f":"IF(C230=\"\",\"\",(IF(questionario!$L$11=\"\",\"\",questionario!$L$11)))","v":""},"X","Bacalhau de Pirarucu2024",{"$f":"IF(aux_cadastros!$A$20=\"\",\"\",aux_cadastros!$A$20)","v":"Bacalhau de Pirarucu"},{"$f":"IFERROR((VLOOKUP(G230,questionario!$C$47:$D$66,2,0)),\"\")","v":""},{"$f":"IFERROR((VLOOKUP(G230,questionario!$Q$47:$R$66,2,0)),\"\")","v":""},2024,{"$f":"IF(G230=\"\",\"\",(IFERROR((INDEX(questionario!$A$23:$N$42,(MATCH((dados_exp!$G230&\"R$\"),questionario!$A$23:$A$42,0)),(MATCH(dados_exp!$J230,questionario!$A$22:$N$22,0)))),\"\")))","v":""},{"$f":"IF(G230=\"\",\"\",(IFERROR((INDEX(questionario!$Q$22:$AB$42,(MATCH(dados_exp!$G230,questionario!$Q$22:$Q$42,0)),(MATCH(dados_exp!$J230,questionario!$Q$22:$AB$22,0)))),\"\")))","v":""},{"$f":"IFERROR((INDEX(questionario!$B$47:$N$66,(MATCH((dados_exp!$G230&dados_exp!$H230),questionario!$B$47:$B$66,0)),(MATCH(dados_exp!$J230,questionario!$B$46:$N$46,0)))),\"\")","v":""},{"$f":"IFERROR((INDEX(questionario!$O$47:$AB$66,(MATCH((dados_exp!$G230&dados_exp!$I230),questionario!$O$47:$O$66,0)),(MATCH(dados_exp!$J230,questionario!$O$46:$AB$46,0)))),\"\")","v":""},"X",null,null,null,"X",null,null,null,"X",null,null,null,null,null,"X",null,null,null,"X"]
[{"$f":"IF(G231=\"\",\"\",(IF(questionario!$C$8=\"\",\"\",questionario!$C$8)))","v":""},{"$f":"IF(G231=\"\",\"\",(IF(questionario!$C$15=\"\",\"\",questionario!$C$15)))","v":""},{"$f":"IF(G231=\"\",\"\",(IF(questionario!$L$8=\"\",\"\",questionario!$L$8)))","v":""},{"$f":"IF(C231=\"\",\"\",(IF(questionario!$L$11=\"\",\"\",questionario!$L$11)))","v":""},"X","2024",{"$f":"IF(aux_cadastros!$A$21=\"\",\"\",aux_cadastros!$A$21)","v":""},{"$f":"IFERROR((VLOOKUP(G231,questionario!$C$47:$D$66,2,0)),\"\")","v":""},{"$f":"IFERROR((VLOOKUP(G231,questionario!$Q$47:$R$66,2,0)),\"\")","v":""},2024,{"$f":"IF(G231=\"\",\"\",(IFERROR((INDEX(questionario!$A$23:$N$42,(MATCH((dados_exp!$G231&\"R$\"),questionario!$A$23:$A$42,0)),(MATCH(dados_exp!$J231,questionario!$A$22:$N$22,0)))),\"\")))","v":""},{"$f":"IF(G231=\"\",\"\",(IFERROR((INDEX(questionario!$Q$22:$AB$42,(MATCH(dados_exp!$G231,questionario!$Q$22:$Q$42,0)),(MATCH(dados_exp!$J231,questionario!$Q$22:$AB$22,0)))),\"\")))","v":""},{"$f":"IFERROR((INDEX(questionario!$B$47:$N$66,(MATCH((dados_exp!$G231&dados_exp!$H231),questionario!$B$47:$B$66,0)),(MATCH(dados_exp!$J231,questionario!$B$46:$N$46,0)))),\"\")","v":""},{"$f":"IFERROR((INDEX(questionario!$O$47:$AB$66,(MATCH((dados_exp!$G231&dados_exp!$I231),questionario!$O$47:$O$66,0)),(MATCH(dados_exp!$J231,questionario!$O$46:$AB$46,0)))),\"\")","v":""},"X",null,null,null,"X",null,null,null,"X",null,null,null,null,null,"X",null,null,null,"X"]
[{"$f":"IF(G232=\"\",\"\",(IF(questionario!$C$8=\"\",\"\",questionario!$C$8)))","v":""},{"$f":"IF(G232=\"\",\"\",(IF(questionario!$C$15=\"\",\"\",questionario!$C$15)))","v":""},{"$f":"IF(G232=\"\",\"\",(IF(questionario!$L$8=\"\",\"\",questionario!$L$8)))","v":""},{"$f":"IF(C232=\"\",\"\",(IF(questionario!$L$11=\"\",\"\",questionario!$L$11)))","v":""},"X","2024",{"$f":"IF(aux_cadastros!$A$22=\"\",\"\",aux_cadastros!$A$22)","v":""},{"$f":"IFERROR((VLOOKUP(G232,questionario!$C$47:$D$66,2,0)),\"\")","v":""},{"$f":"IFERROR((VLOOKUP(G232,questionario!$Q$47:$R$66,2,0)),\"\")","v":""},2024,{"$f":"IF(G232=\"\",\"\",(IFERROR((INDEX(questionario!$A$23:$N$42,(MATCH((dados_exp!$G232&\"R$\"),questionario!$A$23:$A$42,0)),(MATCH(dados_exp!$J232,questionario!$A$22:$N$22,0)))),\"\")))","v":""},{"$f":"IF(G232=\"\",\"\",(IFERROR((INDEX(questionario!$Q$22:$AB$42,(MATCH(dados_exp!$G232,questionario!$Q$22:$Q$42,0)),(MATCH(dados_exp!$J232,questionario!$Q$22:$AB$22,0)))),\"\")))","v":""},{"$f":"IFERROR((INDEX(questionario!$B$47:$N$66,(MATCH((dados_exp!$G232&dados_exp!$H232),questionario!$B$47:$B$66,0)),(MATCH(dados_exp!$J232,questionario!$B$46:$N$46,0)))),\"\")","v":""},{"$f":"IFERROR((INDEX(questionario!$O$47:$AB$66,(MATCH((dados_exp!$G232&dados_exp!$I232),questionario!$O$47:$O$66,0)),(MATCH(dados_exp!$J232,questionario!$O$46:$AB$46,0)))),\"\")","v":""},"X",null,null,null,"X",null,null,null,"X",null,null,null,null,null,"X",null,null,null,"X"]
[{"$f":"IF(G233=\"\",\"\",(IF(questionario!$C$8=\"\",\"\",questionario!$C$8)))","v":""},{"$f":"IF(G233=\"\",\"\",(IF(questionario!$C$15=\"\",\"\",questionario!$C$15)))","v":""},{"$f":"IF(G233=\"\",\"\",(IF(questionario!$L$8=\"\",\"\",questionario!$L$8)))","v":""},{"$f":"IF(C233=\"\",\"\",(IF(questionario!$L$11=\"\",\"\",questionario!$L$11)))","v":""},"X","2024",{"$f":"IF(aux_cadastros!$A$23=\"\",\"\",aux_cadastros!$A$23)","v":""},{"$f":"IFERROR((VLOOKUP(G233,questionario!$C$47:$D$66,2,0)),\"\")","v":""},{"$f":"IFERROR((VLOOKUP(G233,questionario!$Q$47:$R$66,2,0)),\"\")","v":""},2024,{"$f":"IF(G233=\"\",\"\",(IFERROR((INDEX(questionario!$A$23:$N$42,(MATCH((dados_exp!$G233&\"R$\"),questionario!$A$23:$A$42,0)),(MATCH(dados_exp!$J233,questionario!$A$22:$N$22,0)))),\"\")))","v":""},{"$f":"IF(G233=\"\",\"\",(IFERROR((INDEX(questionario!$Q$22:$AB$42,(MATCH(dados_exp!$G233,questionario!$Q$22:$Q$42,0)),(MATCH(dados_exp!$J233,questionario!$Q$22:$AB$22,0)))),\"\")))","v":""},{"$f":"IFERROR((INDEX(questionario!$B$47:$N$66,(MATCH((dados_exp!$G233&dados_exp!$H233),questionario!$B$47:$B$66,0)),(MATCH(dados_exp!$J233,questionario!$B$46:$N$46,0)))),\"\")","v":""},{"$f":"IFERROR((INDEX(questionario!$O$47:$AB$66,(MATCH((dados_exp!$G233&dados_exp!$I233),questionario!$O$47:$O$66,0)),(MATCH(dados_exp!$J233,questionario!$O$46:$AB$46,0)))),\"\")","v":""},"X",null,null,null,"X",null,null,null,"X",null,null,null,null,null,"X",null,null,null,"X"]
[{"$f":"IF(G234=\"\",\"\",(IF(questionario!$C$8=\"\",\"\",questionario!$C$8)))","v":""},{"$f":"IF(G234=\"\",\"\",(IF(questionario!$C$15=\"\",\"\",questionario!$C$15)))","v":""},{"$f":"IF(G234=\"\",\"\",(IF(questionario!$L$8=\"\",\"\",questionario!$L$8)))","v":""},{"$f":"IF(C234=\"\",\"\",(IF(questionario!$L$11=\"\",\"\",questionario!$L$11)))","v":""},"X","2024",{"$f":"IF(aux_cadastros!$A$24=\"\",\"\",aux_cadastros!$A$24)","v":""},{"$f":"IFERROR((VLOOKUP(G234,questionario!$C$47:$D$66,2,0)),\"\")","v":""},{"$f":"IFERROR((VLOOKUP(G234,questionario!$Q$47:$R$66,2,0)),\"\")","v":""},2024,{"$f":"IF(G234=\"\",\"\",(IFERROR((INDEX(questionario!$A$23:$N$42,(MATCH((dados_exp!$G234&\"R$\"),questionario!$A$23:$A$42,0)),(MATCH(dados_exp!$J234,questionario!$A$22:$N$22,0)))),\"\")))","v":""},{"$f":"IF(G234=\"\",\"\",(IFERROR((INDEX(questionario!$Q$22:$AB$42,(MATCH(dados_exp!$G234,questionario!$Q$22:$Q$42,0)),(MATCH(dados_exp!$J234,questionario!$Q$22:$AB$22,0)))),\"\")))","v":""},{"$f":"IFERROR((INDEX(questionario!$B$47:$N$66,(MATCH((dados_exp!$G234&dados_exp!$H234),questionario!$B$47:$B$66,0)),(MATCH(dados_exp!$J234,questionario!$B$46:$N$46,0)))),\"\")","v":""},{"$f":"IFERROR((INDEX(questionario!$O$47:$AB$66,(MATCH((dados_exp!$G234&dados_exp!$I234),questionario!$O$47:$O$66,0)),(MATCH(dados_exp!$J234,questionario!$O$46:$AB$46,0)))),\"\")","v":""},"X",null,null,null,"X",null,null,null,"X",null,null,null,null,null,"X",null,null,null,"X"]
[{"$f":"IF(G235=\"\",\"\",(IF(questionario!$C$8=\"\",\"\",questionario!$C$8)))","v":""},{"$f":"IF(G235=\"\",\"\",(IF(questionario!$C$15=\"\",\"\",questionario!$C$15)))","v":""},{"$f":"IF(G235=\"\",\"\",(IF(questionario!$L$8=\"\",\"\",questionario!$L$8)))","v":""},{"$f":"IF(C235=\"\",\"\",(IF(questionario!$L$11=\"\",\"\",questionario!$L$11)))","v":""},"X","2024",{"$f":"IF(aux_cadastros!$A$25=\"\",\"\",aux_cadastros!$A$25)","v":""},{"$f":"IFERROR((VLOOKUP(G235,questionario!$C$47:$D$66,2,0)),\"\")","v":""},{"$f":"IFERROR((VLOOKUP(G235,questionario!$Q$47:$R$66,2,0)),\"\")","v":""},2024,{"$f":"IF(G235=\"\",\"\",(IFERROR((INDEX(questionario!$A$23:$N$42,(MATCH((dados_exp!$G235&\"R$\"),questionario!$A$23:$A$42,0)),(MATCH(dados_exp!$J235,questionario!$A$22:$N$22,0)))),\"\")))","v":""},{"$f":"IF(G235=\"\",\"\",(IFERROR((INDEX(questionario!$Q$22:$AB$42,(MATCH(dados_exp!$G235,questionario!$Q$22:$Q$42,0)),(MATCH(dados_exp!$J235,questionario!$Q$22:$AB$22,0)))),\"\")))","v":""},{"$f":"IFERROR((INDEX(questionario!$B$47:$N$66,(MATCH((dados_exp!$G235&dados_exp!$H235),questionario!$B$47:$B$66,0)),(MATCH(dados_exp!$J235,questionario!$B$46:$N$46,0)))),\"\")","v":""},{"$f":"IFERROR((INDEX(questionario!$O$47:$AB$66,(MATCH((dados_exp!$G235&dados_exp!$I235),questionario!$O$47:$O$66,0)),(MATCH(dados_exp!$J235,questionario!$O$46:$AB$46,0)))),\"\")","v":""},"X",null,null,null,"X",null,null,null,"X",null,null,null,null,null,"X",null,null,null,"X"]
[{"$f":"IF(G236=\"\",\"\",(IF(questionario!$C$8=\"\",\"\",questionario!$C$8)))","v":""},{"$f":"IF(G236=\"\",\"\",(IF(questionario!$C$15=\"\",\"\",questionario!$C$15)))","v":""},{"$f":"IF(G236=\"\",\"\",(IF(questionario!$L$8=\"\",\"\",questionario!$L$8)))","v":""},{"$f":"IF(C236=\"\",\"\",(IF(questionario!$L$11=\"\",\"\",questionario!$L$11)))","v":""},"X","2024",{"$f":"IF(aux_cadastros!$A$26=\"\",\"\",aux_cadastros!$A$26)","v":""},{"$f":"IFERROR((VLOOKUP(G236,questionario!$C$47:$D$66,2,0)),\"\")","v":""},{"$f":"IFERROR((VLOOKUP(G236,questionario!$Q$47:$R$66,2,0)),\"\")","v":""},2024,{"$f":"IF(G236=\"\",\"\",(IFERROR((INDEX(questionario!$A$23:$N$42,(MATCH((dados_exp!$G236&\"R$\"),questionario!$A$23:$A$42,0)),(MATCH(dados_exp!$J236,questionario!$A$22:$N$22,0)))),\"\")))","v":""},{"$f":"IF(G236=\"\",\"\",(IFERROR((INDEX(questionario!$Q$22:$AB$42,(MATCH(dados_exp!$G236,questionario!$Q$22:$Q$42,0)),(MATCH(dados_exp!$J236,questionario!$Q$22:$AB$22,0)))),\"\")))","v":""},{"$f":"IFERROR((INDEX(questionario!$B$47:$N$66,(MATCH((dados_exp!$G236&dados_exp!$H236),questionario!$B$47:$B$66,0)),(MATCH(dados_exp!$J236,questionario!$B$46:$N$46,0)))),\"\")","v":""},{"$f":"IFERROR((INDEX(questionario!$O$47:$AB$66,(MATCH((dados_exp!$G236&dados_exp!$I236),questionario!$O$47:$O$66,0)),(MATCH(dados_exp!$J236,questionario!$O$46:$AB$46,0)))),\"\")","v":""},"X",null,null,null,"X",null,null,null,"X",null,null,null,null,null,"X",null,null,null,"X"]
[{"$f":"IF(G237=\"\",\"\",(IF(questionario!$C$8=\"\",\"\",questionario!$C$8)))","v":""},{"$f":"IF(G237=\"\",\"\",(IF(questionario!$C$15=\"\",\"\",questionario!$C$15)))","v":""},{"$f":"IF(G237=\"\",\"\",(IF(questionario!$L$8=\"\",\"\",questionario!$L$8)))","v":""},{"$f":"IF(C237=\"\",\"\",(IF(questionario!$L$11=\"\",\"\",questionario!$L$11)))","v":""},"X","2024",{"$f":"IF(aux_cadastros!$A$27=\"\",\"\",aux_cadastros!$A$27)","v":""},{"$f":"IFERROR((VLOOKUP(G237,questionario!$C$47:$D$66,2,0)),\"\")","v":""},{"$f":"IFERROR((VLOOKUP(G237,questionario!$Q$47:$R$66,2,0)),\"\")","v":""},2024,{"$f":"IF(G237=\"\",\"\",(IFERROR((INDEX(questionario!$A$23:$N$42,(MATCH((dados_exp!$G237&\"R$\"),questionario!$A$23:$A$42,0)),(MATCH(dados_exp!$J237,questionario!$A$22:$N$22,0)))),\"\")))","v":""},{"$f":"IF(G237=\"\",\"\",(IFERROR((INDEX(questionario!$Q$22:$AB$42,(MATCH(dados_exp!$G237,questionario!$Q$22:$Q$42,0)),(MATCH(dados_exp!$J237,questionario!$Q$22:$AB$22,0)))),\"\")))","v":""},{"$f":"IFERROR((INDEX(questionario!$B$47:$N$66,(MATCH((dados_exp!$G237&dados_exp!$H237),questionario!$B$47:$B$66,0)),(MATCH(dados_exp!$J237,questionario!$B$46:$N$46,0)))),\"\")","v":""},{"$f":"IFERROR((INDEX(questionario!$O$47:$AB$66,(MATCH((dados_exp!$G237&dados_exp!$I237),questionario!$O$47:$O$66,0)),(MATCH(dados_exp!$J237,questionario!$O$46:$AB$46,0)))),\"\")","v":""},"X",null,null,null,"X",null,null,null,"X",null,null,null,null,null,"X",null,null,null,"X"]
[{"$f":"IF(G238=\"\",\"\",(IF(questionario!$C$8=\"\",\"\",questionario!$C$8)))","v":""},{"$f":"IF(G238=\"\",\"\",(IF(questionario!$C$15=\"\",\"\",questionario!$C$15)))","v":""},{"$f":"IF(G238=\"\",\"\",(IF(questionario!$L$8=\"\",\"\",questionario!$L$8)))","v":""},{"$f":"IF(C238=\"\",\"\",(IF(questionario!$L$11=\"\",\"\",questionario!$L$11)))","v":""},"X","2024",{"$f":"IF(aux_cadastros!$A$28=\"\",\"\",aux_cadastros!$A$28)","v":""},{"$f":"IFERROR((VLOOKUP(G238,questionario!$C$47:$D$66,2,0)),\"\")","v":""},{"$f":"IFERROR((VLOOKUP(G238,questionario!$Q$47:$R$66,2,0)),\"\")","v":""},2024,{"$f":"IF(G238=\"\",\"\",(IFERROR((INDEX(questionario!$A$23:$N$42,(MATCH((dados_exp!$G238&\"R$\"),questionario!$A$23:$A$42,0)),(MATCH(dados_exp!$J238,questionario!$A$22:$N$22,0)))),\"\")))","v":""},{"$f":"IF(G238=\"\",\"\",(IFERROR((INDEX(questionario!$Q$22:$AB$42,(MATCH(dados_exp!$G238,questionario!$Q$22:$Q$42,0)),(MATCH(dados_exp!$J238,questionario!$Q$22:$AB$22,0)))),\"\")))","v":""},{"$f":"IFERROR((INDEX(questionario!$B$47:$N$66,(MATCH((dados_exp!$G238&dados_exp!$H238),questionario!$B$47:$B$66,0)),(MATCH(dados_exp!$J238,questionario!$B$46:$N$46,0)))),\"\")","v":""},{"$f":"IFERROR((INDEX(questionario!$O$47:$AB$66,(MATCH((dados_exp!$G238&dados_exp!$I238),questionario!$O$47:$O$66,0)),(MATCH(dados_exp!$J238,questionario!$O$46:$AB$46,0)))),\"\")","v":""},"X",null,null,null,"X",null,null,null,"X",null,null,null,null,null,"X",null,null,null,"X"]
[{"$f":"IF(G239=\"\",\"\",(IF(questionario!$C$8=\"\",\"\",questionario!$C$8)))","v":""},{"$f":"IF(G239=\"\",\"\",(IF(questionario!$C$15=\"\",\"\",questionario!$C$15)))","v":""},{"$f":"IF(G239=\"\",\"\",(IF(questionario!$L$8=\"\",\"\",questionario!$L$8)))","v":""},{"$f":"IF(C239=\"\",\"\",(IF(questionario!$L$11=\"\",\"\",questionario!$L$11)))","v":""},"X","2024",{"$f":"IF(aux_cadastros!$A$29=\"\",\"\",aux_cadastros!$A$29)","v":""},{"$f":"IFERROR((VLOOKUP(G239,questionario!$C$47:$D$66,2,0)),\"\")","v":""},{"$f":"IFERROR((VLOOKUP(G239,questionario!$Q$47:$R$66,2,0)),\"\")","v":""},2024,{"$f":"IF(G239=\"\",\"\",(IFERROR((INDEX(questionario!$A$23:$N$42,(MATCH((dados_exp!$G239&\"R$\"),questionario!$A$23:$A$42,0)),(MATCH(dados_exp!$J239,questionario!$A$22:$N$22,0)))),\"\")))","v":""},{"$f":"IF(G239=\"\",\"\",(IFERROR((INDEX(questionario!$Q$22:$AB$42,(MATCH(dados_exp!$G239,questionario!$Q$22:$Q$42,0)),(MATCH(dados_exp!$J239,questionario!$Q$22:$AB$22,0)))),\"\")))","v":""},{"$f":"IFERROR((INDEX(questionario!$B$47:$N$66,(MATCH((dados_exp!$G239&dados_exp!$H239),questionario!$B$47:$B$66,0)),(MATCH(dados_exp!$J239,questionario!$B$46:$N$46,0)))),\"\")","v":""},{"$f":"IFERROR((INDEX(questionario!$O$47:$AB$66,(MATCH((dados_exp!$G239&dados_exp!$I239),questionario!$O$47:$O$66,0)),(MATCH(dados_exp!$J239,questionario!$O$46:$AB$46,0)))),\"\")","v":""},"X",null,null,null,"X",null,null,null,"X",null,null,null,null,null,"X",null,null,null,"X"]
[{"$f":"IF(G240=\"\",\"\",(IF(questionario!$C$8=\"\",\"\",questionario!$C$8)))","v":""},{"$f":"IF(G240=\"\",\"\",(IF(questionario!$C$15=\"\",\"\",questionario!$C$15)))","v":""},{"$f":"IF(G240=\"\",\"\",(IF(questionario!$L$8=\"\",\"\",questionario!$L$8)))","v":""},{"$f":"IF(C240=\"\",\"\",(IF(questionario!$L$11=\"\",\"\",questionario!$L$11)))","v":""},"X","2024",{"$f":"IF(aux_cadastros!$A$30=\"\",\"\",aux_cadastros!$A$30)","v":""},{"$f":"IFERROR((VLOOKUP(G240,questionario!$C$47:$D$66,2,0)),\"\")","v":""},{"$f":"IFERROR((VLOOKUP(G240,questionario!$Q$47:$R$66,2,0)),\"\")","v":""},2024,{"$f":"IF(G240=\"\",\"\",(IFERROR((INDEX(questionario!$A$23:$N$42,(MATCH((dados_exp!$G240&\"R$\"),questionario!$A$23:$A$42,0)),(MATCH(dados_exp!$J240,questionario!$A$22:$N$22,0)))),\"\")))","v":""},{"$f":"IF(G240=\"\",\"\",(IFERROR((INDEX(questionario!$Q$22:$AB$42,(MATCH(dados_exp!$G240,questionario!$Q$22:$Q$42,0)),(MATCH(dados_exp!$J240,questionario!$Q$22:$AB$22,0)))),\"\")))","v":""},{"$f":"IFERROR((INDEX(questionario!$B$47:$N$66,(MATCH((dados_exp!$G240&dados_exp!$H240),questionario!$B$47:$B$66,0)),(MATCH(dados_exp!$J240,questionario!$B$46:$N$46,0)))),\"\")","v":""},{"$f":"IFERROR((INDEX(questionario!$O$47:$AB$66,(MATCH((dados_exp!$G240&dados_exp!$I240),questionario!$O$47:$O$66,0)),(MATCH(dados_exp!$J240,questionario!$O$46:$AB$46,0)))),\"\")","v":""},"X",null,null,null,"X",null,null,null,"X",null,null,null,null,null,"X",null,null,null,"X"]
[{"$f":"IF(G241=\"\",\"\",(IF(questionario!$C$8=\"\",\"\",questionario!$C$8)))","v":""},{"$f":"IF(G241=\"\",\"\",(IF(questionario!$C$15=\"\",\"\",questionario!$C$15)))","v":""},{"$f":"IF(G241=\"\",\"\",(IF(questionario!$L$8=\"\",\"\",questionario!$L$8)))","v":""},{"$f":"IF(C241=\"\",\"\",(IF(questionario!$L$11=\"\",\"\",questionario!$L$11)))","v":""},"X","2024",{"$f":"IF(aux_cadastros!$A$31=\"\",\"\",aux_cadastros!$A$31)","v":""},{"$f":"IFERROR((VLOOKUP(G241,questionario!$C$47:$D$66,2,0)),\"\")","v":""},{"$f":"IFERROR((VLOOKUP(G241,questionario!$Q$47:$R$66,2,0)),\"\")","v":""},2024,{"$f":"IF(G241=\"\",\"\",(IFERROR((INDEX(questionario!$A$23:$N$42,(MATCH((dados_exp!$G241&\"R$\"),questionario!$A$23:$A$42,0)),(MATCH(dados_exp!$J241,questionario!$A$22:$N$22,0)))),\"\")))","v":""},{"$f":"IF(G241=\"\",\"\",(IFERROR((INDEX(questionario!$Q$22:$AB$42,(MATCH(dados_exp!$G241,questionario!$Q$22:$Q$42,0)),(MATCH(dados_exp!$J241,questionario!$Q$22:$AB$22,0)))),\"\")))","v":""},{"$f":"IFERROR((INDEX(questionario!$B$47:$N$66,(MATCH((dados_exp!$G241&dados_exp!$H241),questionario!$B$47:$B$66,0)),(MATCH(dados_exp!$J241,questionario!$B$46:$N$46,0)))),\"\")","v":""},{"$f":"IFERROR((INDEX(questionario!$O$47:$AB$66,(MATCH((dados_exp!$G241&dados_exp!$I241),questionario!$O$47:$O$66,0)),(MATCH(dados_exp!$J241,questionario!$O$46:$AB$46,0)))),\"\")","v":""},"X",null,null,null,"X",null,null,null,"X",null,null,null,null,null,"X",null,null,null,"X"]
[{"$f":"IF(G242=\"\",\"\",(IF(questionario!$C$8=\"\",\"\",questionario!$C$8)))","v":""},{"$f":"IF(G242=\"\",\"\",(IF(questionario!$C$15=\"\",\"\",questionario!$C$15)))","v":""},{"$f":"IF(G242=\"\",\"\",(IF(questionario!$L$8=\"\",\"\",questionario!$L$8)))","v":""},{"$f":"IF(C242=\"\",\"\",(IF(questionario!$L$11=\"\",\"\",questionario!$L$11)))","v":""},"X","Açaí2025",{"$f":"IF(aux_cadastros!$A$2=\"\",\"\",aux_cadastros!$A$2)","v":"Açaí"},{"$f":"IFERROR((VLOOKUP(G242,questionario!$C$47:$D$66,2,0)),\"\")","v":""},{"$f":"IFERROR((VLOOKUP(G242,questionario!$Q$47:$R$66,2,0)),\"\")","v":""},{"$f":"questionario!$M$22","v":2025},{"$f":"IF(G242=\"\",\"\",(IFERROR((INDEX(questionario!$A$23:$N$42,(MATCH((dados_exp!$G242&\"R$\"),questionario!$A$23:$A$42,0)),(MATCH(dados_exp!$J242,questionario!$A$22:$N$22,0)))),\"\")))","v":""},{"$f":"IF(G242=\"\",\"\",(IFERROR((INDEX(questionario!$Q$22:$AB$42,(MATCH(dados_exp!$G242,questionario!$Q$22:$Q$42,0)),(MATCH(dados_exp!$J242,questionario!$Q$22:$AB$22,0)))),\"\")))","v":""},{"$f":"IFERROR((INDEX(questionario!$B$47:$N$66,(MATCH((dados_exp!$G242&dados_exp!$H242),questionario!$B$47:$B$66,0)),(MATCH(dados_exp!$J242,questionario!$B$46:$N$46,0)))),\"\")","v":""},{"$f":"IFERROR((INDEX(questionario!$O$47:$AB$66,(MATCH((dados_exp!$G242&dados_exp!$I242),questionario!$O$47:$O$66,0)),(MATCH(dados_exp!$J242,questionario!$O$46:$AB$46,0)))),\"\")","v":""},"X",null,null,null,"X",null,null,null,"X",null,null,null,null,null,"X",null,null,null,"X"]
[{"$f":"IF(G243=\"\",\"\",(IF(questionario!$C$8=\"\",\"\",questionario!$C$8)))","v":""},{"$f":"IF(G243=\"\",\"\",(IF(questionario!$C$15=\"\",\"\",questionario!$C$15)))","v":""},{"$f":"IF(G243=\"\",\"\",(IF(questionario!$L$8=\"\",\"\",questionario!$L$8)))","v":""},{"$f":"IF(C243=\"\",\"\",(IF(questionario!$L$11=\"\",\"\",questionario!$L$11)))","v":""},"X","Aquicultura2025",{"$f":"IF(aux_cadastros!$A$3=\"\",\"\",aux_cadastros!$A$3)","v":"Aquicultura"},{"$f":"IFERROR((VLOOKUP(G243,questionario!$C$47:$D$66,2,0)),\"\")","v":""},{"$f":"IFERROR((VLOOKUP(G243,questionario!$Q$47:$R$66,2,0)),\"\")","v":""},{"$f":"J242","v":2025},{"$f":"IF(G243=\"\",\"\",(IFERROR((INDEX(questionario!$A$23:$N$42,(MATCH((dados_exp!$G243&\"R$\"),questionario!$A$23:$A$42,0)),(MATCH(dados_exp!$J243,questionario!$A$22:$N$22,0)))),\"\")))","v":""},{"$f":"IF(G243=\"\",\"\",(IFERROR((INDEX(questionario!$Q$22:$AB$42,(MATCH(dados_exp!$G243,questionario!$Q$22:$Q$42,0)),(MATCH(dados_exp!$J243,questionario!$Q$22:$AB$22,0)))),\"\")))","v":""},{"$f":"IFERROR((INDEX(questionario!$B$47:$N$66,(MATCH((dados_exp!$G243&dados_exp!$H243),questionario!$B$47:$B$66,0)),(MATCH(dados_exp!$J243,questionario!$B$46:$N$46,0)))),\"\")","v":""},{"$f":"IFERROR((INDEX(questionario!$O$47:$AB$66,(MATCH((dados_exp!$G243&dados_exp!$I243),questionario!$O$47:$O$66,0)),(MATCH(dados_exp!$J243,questionario!$O$46:$AB$46,0)))),\"\")","v":""},"X",null,null,null,"X",null,null,null,"X",null,null,null,null,null,"X",null,null,null,"X"]
[{"$f":"IF(G244=\"\",\"\",(IF(questionario!$C$8=\"\",\"\",questionario!$C$8)))","v":""},{"$f":"IF(G244=\"\",\"\",(IF(questionario!$C$15=\"\",\"\",questionario!$C$15)))","v":""},{"$f":"IF(G244=\"\",\"\",(IF(questionario!$L$8=\"\",\"\",questionario!$L$8)))","v":""},{"$f":"IF(C244=\"\",\"\",(IF(questionario!$L$11=\"\",\"\",questionario!$L$11)))","v":""},"X","Artesanato2025",{"$f":"IF(aux_cadastros!$A$4=\"\",\"\",aux_cadastros!$A$4)","v":"Artesanato"},{"$f":"IFERROR((VLOOKUP(G244,questionario!$C$47:$D$66,2,0)),\"\")","v":""},{"$f":"IFERROR((VLOOKUP(G244,questionario!$Q$47:$R$66,2,0)),\"\")","v":""},{"$f":"J243","v":2025},{"$f":"IF(G244=\"\",\"\",(IFERROR((INDEX(questionario!$A$23:$N$42,(MATCH((dados_exp!$G244&\"R$\"),questionario!$A$23:$A$42,0)),(MATCH(dados_exp!$J244,questionario!$A$22:$N$22,0)))),\"\")))","v":""},{"$f":"IF(G244=\"\",\"\",(IFERROR((INDEX(questionario!$Q$22:$AB$42,(MATCH(dados_exp!$G244,questionario!$Q$22:$Q$42,0)),(MATCH(dados_exp!$J244,questionario!$Q$22:$AB$22,0)))),\"\")))","v":""},{"$f":"IFERROR((INDEX(questionario!$B$47:$N$66,(MATCH((dados_exp!$G244&dados_exp!$H244),questionario!$B$47:$B$66,0)),(MATCH(dados_exp!$J244,questionario!$B$46:$N$46,0)))),\"\")","v":""},{"$f":"IFERROR((INDEX(questionario!$O$47:$AB$66,(MATCH((dados_exp!$G244&dados_exp!$I244),questionario!$O$47:$O$66,0)),(MATCH(dados_exp!$J244,questionario!$O$46:$AB$46,0)))),\"\")","v":""},"X",null,null,null,"X",null,null,null,"X",null,null,null,null,null,"X",null,null,null,"X"]
[{"$f":"IF(G245=\"\",\"\",(IF(questionario!$C$8=\"\",\"\",questionario!$C$8)))","v":""},{"$f":"IF(G245=\"\",\"\",(IF(questionario!$C$15=\"\",\"\",questionario!$C$15)))","v":""},{"$f":"IF(G245=\"\",\"\",(IF(questionario!$L$8=\"\",\"\",questionario!$L$8)))","v":""},{"$f":"IF(C245=\"\",\"\",(IF(questionario!$L$11=\"\",\"\",questionario!$L$11)))","v":""},"X","Babaçu2025",{"$f":"IF(aux_cadastros!$A$5=\"\",\"\",aux_cadastros!$A$5)","v":"Babaçu"},{"$f":"IFERROR((VLOOKUP(G245,questionario!$C$47:$D$66,2,0)),\"\")","v":""},{"$f":"IFERROR((VLOOKUP(G245,questionario!$Q$47:$R$66,2,0)),\"\")","v":""},2025,{"$f":"IF(G245=\"\",\"\",(IFERROR((INDEX(questionario!$A$23:$N$42,(MATCH((dados_exp!$G245&\"R$\"),questionario!$A$23:$A$42,0)),(MATCH(dados_exp!$J245,questionario!$A$22:$N$22,0)))),\"\")))","v":""},{"$f":"IF(G245=\"\",\"\",(IFERROR((INDEX(questionario!$Q$22:$AB$42,(MATCH(dados_exp!$G245,questionario!$Q$22:$Q$42,0)),(MATCH(dados_exp!$J245,questionario!$Q$22:$AB$22,0)))),\"\")))","v":""},{"$f":"IFERROR((INDEX(questionario!$B$47:$N$66,(MATCH((dados_exp!$G245&dados_exp!$H245),questionario!$B$47:$B$66,0)),(MATCH(dados_exp!$J245,questionario!$B$46:$N$46,0)))),\"\")","v":""},{"$f":"IFERROR((INDEX(questionario!$O$47:$AB$66,(MATCH((dados_exp!$G245&dados_exp!$I245),questionario!$O$47:$O$66,0)),(MATCH(dados_exp!$J245,questionario!$O$46:$AB$46,0)))),\"\")","v":""},"X",null,null,null,"X",null,null,null,"X",null,null,null,null,null,"X",null,null,null,"X"]
[{"$f":"IF(G246=\"\",\"\",(IF(questionario!$C$8=\"\",\"\",questionario!$C$8)))","v":""},{"$f":"IF(G246=\"\",\"\",(IF(questionario!$C$15=\"\",\"\",questionario!$C$15)))","v":""},{"$f":"IF(G246=\"\",\"\",(IF(questionario!$L$8=\"\",\"\",questionario!$L$8)))","v":""},{"$f":"IF(C246=\"\",\"\",(IF(questionario!$L$11=\"\",\"\",questionario!$L$11)))","v":""},"X","Borrachas2025",{"$f":"IF(aux_cadastros!$A$6=\"\",\"\",aux_cadastros!$A$6)","v":"Borrachas"},{"$f":"IFERROR((VLOOKUP(G246,questionario!$C$47:$D$66,2,0)),\"\")","v":""},{"$f":"IFERROR((VLOOKUP(G246,questionario!$Q$47:$R$66,2,0)),\"\")","v":""},2025,{"$f":"IF(G246=\"\",\"\",(IFERROR((INDEX(questionario!$A$23:$N$42,(MATCH((dados_exp!$G246&\"R$\"),questionario!$A$23:$A$42,0)),(MATCH(dados_exp!$J246,questionario!$A$22:$N$22,0)))),\"\")))","v":""},{"$f":"IF(G246=\"\",\"\",(IFERROR((INDEX(questionario!$Q$22:$AB$42,(MATCH(dados_exp!$G246,questionario!$Q$22:$Q$42,0)),(MATCH(dados_exp!$J246,questionario!$Q$22:$AB$22,0)))),\"\")))","v":""},{"$f":"IFERROR((INDEX(questionario!$B$47:$N$66,(MATCH((dados_exp!$G246&dados_exp!$H246),questionario!$B$47:$B$66,0)),(MATCH(dados_exp!$J246,questionario!$B$46:$N$46,0)))),\"\")","v":""},{"$f":"IFERROR((INDEX(questionario!$O$47:$AB$66,(MATCH((dados_exp!$G246&dados_exp!$I246),questionario!$O$47:$O$66,0)),(MATCH(dados_exp!$J246,questionario!$O$46:$AB$46,0)))),\"\")","v":""},"X",null,null,null,"X",null,null,null,"X",null,null,null,null,null,"X",null,null,null,"X"]
[{"$f":"IF(G247=\"\",\"\",(IF(questionario!$C$8=\"\",\"\",questionario!$C$8)))","v":""},{"$f":"IF(G247=\"\",\"\",(IF(questionario!$C$15=\"\",\"\",questionario!$C$15)))","v":""},{"$f":"IF(G247=\"\",\"\",(IF(questionario!$L$8=\"\",\"\",questionario!$L$8)))","v":""},{"$f":"IF(C247=\"\",\"\",(IF(questionario!$L$11=\"\",\"\",questionario!$L$11)))","v":""},"X","Cacau2025",{"$f":"IF(aux_cadastros!$A$7=\"\",\"\",aux_cadastros!$A$7)","v":"Cacau"},{"$f":"IFERROR((VLOOKUP(G247,questionario!$C$47:$D$66,2,0)),\"\")","v":""},{"$f":"IFERROR((VLOOKUP(G247,questionario!$Q$47:$R$66,2,0)),\"\")","v":""},2025,{"$f":"IF(G247=\"\",\"\",(IFERROR((INDEX(questionario!$A$23:$N$42,(MATCH((dados_exp!$G247&\"R$\"),questionario!$A$23:$A$42,0)),(MATCH(dados_exp!$J247,questionario!$A$22:$N$22,0)))),\"\")))","v":""},{"$f":"IF(G247=\"\",\"\",(IFERROR((INDEX(questionario!$Q$22:$AB$42,(MATCH(dados_exp!$G247,questionario!$Q$22:$Q$42,0)),(MATCH(dados_exp!$J247,questionario!$Q$22:$AB$22,0)))),\"\")))","v":""},{"$f":"IFERROR((INDEX(questionario!$B$47:$N$66,(MATCH((dados_exp!$G247&dados_exp!$H247),questionario!$B$47:$B$66,0)),(MATCH(dados_exp!$J247,questionario!$B$46:$N$46,0)))),\"\")","v":""},{"$f":"IFERROR((INDEX(questionario!$O$47:$AB$66,(MATCH((dados_exp!$G247&dados_exp!$I247),questionario!$O$47:$O$66,0)),(MATCH(dados_exp!$J247,questionario!$O$46:$AB$46,0)))),\"\")","v":""},"X",null,null,null,"X",null,null,null,"X",null,null,null,null,null,"X",null,null,null,"X"]
[{"$f":"IF(G248=\"\",\"\",(IF(questionario!$C$8=\"\",\"\",questionario!$C$8)))","v":""},{"$f":"IF(G248=\"\",\"\",(IF(questionario!$C$15=\"\",\"\",questionario!$C$15)))","v":""},{"$f":"IF(G248=\"\",\"\",(IF(questionario!$L$8=\"\",\"\",questionario!$L$8)))","v":""},{"$f":"IF(C248=\"\",\"\",(IF(questionario!$L$11=\"\",\"\",questionario!$L$11)))","v":""},"X","Castanha2025",{"$f":"IF(aux_cadastros!$A$8=\"\",\"\",aux_cadastros!$A$8)","v":"Castanha"},{"$f":"IFERROR((VLOOKUP(G248,questionario!$C$47:$D$66,2,0)),\"\")","v":""},{"$f":"IFERROR((VLOOKUP(G248,questionario!$Q$47:$R$66,2,0)),\"\")","v":""},2025,{"$f":"IF(G248=\"\",\"\",(IFERROR((INDEX(questionario!$A$23:$N$42,(MATCH((dados_exp!$G248&\"R$\"),questionario!$A$23:$A$42,0)),(MATCH(dados_exp!$J248,questionario!$A$22:$N$22,0)))),\"\")))","v":""},{"$f":"IF(G248=\"\",\"\",(IFERROR((INDEX(questionario!$Q$22:$AB$42,(MATCH(dados_exp!$G248,questionario!$Q$22:$Q$42,0)),(MATCH(dados_exp!$J248,questionario!$Q$22:$AB$22,0)))),\"\")))","v":""},{"$f":"IFERROR((INDEX(questionario!$B$47:$N$66,(MATCH((dados_exp!$G248&dados_exp!$H248),questionario!$B$47:$B$66,0)),(MATCH(dados_exp!$J248,questionario!$B$46:$N$46,0)))),\"\")","v":""},{"$f":"IFERROR((INDEX(questionario!$O$47:$AB$66,(MATCH((dados_exp!$G248&dados_exp!$I248),questionario!$O$47:$O$66,0)),(MATCH(dados_exp!$J248,questionario!$O$46:$AB$46,0)))),\"\")","v":""},"X",null,null,null,"X",null,null,null,"X",null,null,null,null,null,"X",null,null,null,"X"]
[{"$f":"IF(G249=\"\",\"\",(IF(questionario!$C$8=\"\",\"\",questionario!$C$8)))","v":""},{"$f":"IF(G249=\"\",\"\",(IF(questionario!$C$15=\"\",\"\",questionario!$C$15)))","v":""},{"$f":"IF(G249=\"\",\"\",(IF(questionario!$L$8=\"\",\"\",questionario!$L$8)))","v":""},{"$f":"IF(C249=\"\",\"\",(IF(questionario!$L$11=\"\",\"\",questionario!$L$11)))","v":""},"X","Copaíba2025",{"$f":"IF(aux_cadastros!$A$9=\"\",\"\",aux_cadastros!$A$9)","v":"Copaíba"},{"$f":"IFERROR((VLOOKUP(G249,questionario!$C$47:$D$66,2,0)),\"\")","v":""},{"$f":"IFERROR((VLOOKUP(G249,questionario!$Q$47:$R$66,2,0)),\"\")","v":""},2025,{"$f":"IF(G249=\"\",\"\",(IFERROR((INDEX(questionario!$A$23:$N$42,(MATCH((dados_exp!$G249&\"R$\"),questionario!$A$23:$A$42,0)),(MATCH(dados_exp!$J249,questionario!$A$22:$N$22,0)))),\"\")))","v":""},{"$f":"IF(G249=\"\",\"\",(IFERROR((INDEX(questionario!$Q$22:$AB$42,(MATCH(dados_exp!$G249,questionario!$Q$22:$Q$42,0)),(MATCH(dados_exp!$J249,questionario!$Q$22:$AB$22,0)))),\"\")))","v":""},{"$f":"IFERROR((INDEX(questionario!$B$47:$N$66,(MATCH((dados_exp!$G249&dados_exp!$H249),questionario!$B$47:$B$66,0)),(MATCH(dados_exp!$J249,questionario!$B$46:$N$46,0)))),\"\")","v":""},{"$f":"IFERROR((INDEX(questionario!$O$47:$AB$66,(MATCH((dados_exp!$G249&dados_exp!$I249),questionario!$O$47:$O$66,0)),(MATCH(dados_exp!$J249,questionario!$O$46:$AB$46,0)))),\"\")","v":""},"X",null,null,null,"X",null,null,null,"X",null,null,null,null,null,"X",null,null,null,"X"]
[{"$f":"IF(G250=\"\",\"\",(IF(questionario!$C$8=\"\",\"\",questionario!$C$8)))","v":""},{"$f":"IF(G250=\"\",\"\",(IF(questionario!$C$15=\"\",\"\",questionario!$C$15)))","v":""},{"$f":"IF(G250=\"\",\"\",(IF(questionario!$L$8=\"\",\"\",questionario!$L$8)))","v":""},{"$f":"IF(C250=\"\",\"\",(IF(questionario!$L$11=\"\",\"\",questionario!$L$11)))","v":""},"X","Fibras2025",{"$f":"IF(aux_cadastros!$A$10=\"\",\"\",aux_cadastros!$A$10)","v":"Fibras"},{"$f":"IFERROR((VLOOKUP(G250,questionario!$C$47:$D$66,2,0)),\"\")","v":""},{"$f":"IFERROR((VLOOKUP(G250,questionario!$Q$47:$R$66,2,0)),\"\")","v":""},2025,{"$f":"IF(G250=\"\",\"\",(IFERROR((INDEX(questionario!$A$23:$N$42,(MATCH((dados_exp!$G250&\"R$\"),questionario!$A$23:$A$42,0)),(MATCH(dados_exp!$J250,questionario!$A$22:$N$22,0)))),\"\")))","v":""},{"$f":"IF(G250=\"\",\"\",(IFERROR((INDEX(questionario!$Q$22:$AB$42,(MATCH(dados_exp!$G250,questionario!$Q$22:$Q$42,0)),(MATCH(dados_exp!$J250,questionario!$Q$22:$AB$22,0)))),\"\")))","v":""},{"$f":"IFERROR((INDEX(questionario!$B$47:$N$66,(MATCH((dados_exp!$G250&dados_exp!$H250),questionario!$B$47:$B$66,0)),(MATCH(dados_exp!$J250,questionario!$B$46:$N$46,0)))),\"\")","v":""},{"$f":"IFERROR((INDEX(questionario!$O$47:$AB$66,(MATCH((dados_exp!$G250&dados_exp!$I250),questionario!$O$47:$O$66,0)),(MATCH(dados_exp!$J250,questionario!$O$46:$AB$46,0)))),\"\")","v":""},"X",null,null,null,"X",null,null,null,"X",null,null,null,null,null,"X",null,null,null,"X"]
[{"$f":"IF(G251=\"\",\"\",(IF(questionario!$C$8=\"\",\"\",questionario!$C$8)))","v":""},{"$f":"IF(G251=\"\",\"\",(IF(questionario!$C$15=\"\",\"\",questionario!$C$15)))","v":""},{"$f":"IF(G251=\"\",\"\",(IF(questionario!$L$8=\"\",\"\",questionario!$L$8)))","v":""},{"$f":"IF(C251=\"\",\"\",(IF(questionario!$L$11=\"\",\"\",questionario!$L$11)))","v":""},"X","Guaraná2025",{"$f":"IF(aux_cadastros!$A$11=\"\",\"\",aux_cadastros!$A$11)","v":"Guaraná"},{"$f":"IFERROR((VLOOKUP(G251,questionario!$C$47:$D$66,2,0)),\"\")","v":""},{"$f":"IFERROR((VLOOKUP(G251,questionario!$Q$47:$R$66,2,0)),\"\")","v":""},2025,{"$f":"IF(G251=\"\",\"\",(IFERROR((INDEX(questionario!$A$23:$N$42,(MATCH((dados_exp!$G251&\"R$\"),questionario!$A$23:$A$42,0)),(MATCH(dados_exp!$J251,questionario!$A$22:$N$22,0)))),\"\")))","v":""},{"$f":"IF(G251=\"\",\"\",(IFERROR((INDEX(questionario!$Q$22:$AB$42,(MATCH(dados_exp!$G251,questionario!$Q$22:$Q$42,0)),(MATCH(dados_exp!$J251,questionario!$Q$22:$AB$22,0)))),\"\")))","v":""},{"$f":"IFERROR((INDEX(questionario!$B$47:$N$66,(MATCH((dados_exp!$G251&dados_exp!$H251),questionario!$B$47:$B$66,0)),(MATCH(dados_exp!$J251,questionario!$B$46:$N$46,0)))),\"\")","v":""},{"$f":"IFERROR((INDEX(questionario!$O$47:$AB$66,(MATCH((dados_exp!$G251&dados_exp!$I251),questionario!$O$47:$O$66,0)),(MATCH(dados_exp!$J251,questionario!$O$46:$AB$46,0)))),\"\")","v":""},"X",null,null,null,"X",null,null,null,"X",null,null,null,null,null,"X",null,null,null,"X"]
[{"$f":"IF(G252=\"\",\"\",(IF(questionario!$C$8=\"\",\"\",questionario!$C$8)))","v":""},{"$f":"IF(G252=\"\",\"\",(IF(questionario!$C$15=\"\",\"\",questionario!$C$15)))","v":""},{"$f":"IF(G252=\"\",\"\",(IF(questionario!$L$8=\"\",\"\",questionario!$L$8)))","v":""},{"$f":"IF(C252=\"\",\"\",(IF(questionario!$L$11=\"\",\"\",questionario!$L$11)))","v":""},"X","Madeira2025",{"$f":"IF(aux_cadastros!$A$12=\"\",\"\",aux_cadastros!$A$12)","v":"Madeira"},{"$f":"IFERROR((VLOOKUP(G252,questionario!$C$47:$D$66,2,0)),\"\")","v":""},{"$f":"IFERROR((VLOOKUP(G252,questionario!$Q$47:$R$66,2,0)),\"\")","v":""},2025,{"$f":"IF(G252=\"\",\"\",(IFERROR((INDEX(questionario!$A$23:$N$42,(MATCH((dados_exp!$G252&\"R$\"),questionario!$A$23:$A$42,0)),(MATCH(dados_exp!$J252,questionario!$A$22:$N$22,0)))),\"\")))","v":""},{"$f":"IF(G252=\"\",\"\",(IFERROR((INDEX(questionario!$Q$22:$AB$42,(MATCH(dados_exp!$G252,questionario!$Q$22:$Q$42,0)),(MATCH(dados_exp!$J252,questionario!$Q$22:$AB$22,0)))),\"\")))","v":""},{"$f":"IFERROR((INDEX(questionario!$B$47:$N$66,(MATCH((dados_exp!$G252&dados_exp!$H252),questionario!$B$47:$B$66,0)),(MATCH(dados_exp!$J252,questionario!$B$46:$N$46,0)))),\"\")","v":""},{"$f":"IFERROR((INDEX(questionario!$O$47:$AB$66,(MATCH((dados_exp!$G252&dados_exp!$I252),questionario!$O$47:$O$66,0)),(MATCH(dados_exp!$J252,questionario!$O$46:$AB$46,0)))),\"\")","v":""},"X",null,null,null,"X",null,null,null,"X",null,null,null,null,null,"X",null,null,null,"X"]
[{"$f":"IF(G253=\"\",\"\",(IF(questionario!$C$8=\"\",\"\",questionario!$C$8)))","v":""},{"$f":"IF(G253=\"\",\"\",(IF(questionario!$C$15=\"\",\"\",questionario!$C$15)))","v":""},{"$f":"IF(G253=\"\",\"\",(IF(questionario!$L$8=\"\",\"\",questionario!$L$8)))","v":""},{"$f":"IF(C253=\"\",\"\",(IF(questionario!$L$11=\"\",\"\",questionario!$L$11)))","v":""},"X","Mel2025",{"$f":"IF(aux_cadastros!$A$13=\"\",\"\",aux_cadastros!$A$13)","v":"Mel"},{"$f":"IFERROR((VLOOKUP(G253,questionario!$C$47:$D$66,2,0)),\"\")","v":""},{"$f":"IFERROR((VLOOKUP(G253,questionario!$Q$47:$R$66,2,0)),\"\")","v":""},2025,{"$f":"IF(G253=\"\",\"\",(IFERROR((INDEX(questionario!$A$23:$N$42,(MATCH((dados_exp!$G253&\"R$\"),questionario!$A$23:$A$42,0)),(MATCH(dados_exp!$J253,questionario!$A$22:$N$22,0)))),\"\")))","v":""},{"$f":"IF(G253=\"\",\"\",(IFERROR((INDEX(questionario!$Q$22:$AB$42,(MATCH(dados_exp!$G253,questionario!$Q$22:$Q$42,0)),(MATCH(dados_exp!$J253,questionario!$Q$22:$AB$22,0)))),\"\")))","v":""},{"$f":"IFERROR((INDEX(questionario!$B$47:$N$66,(MATCH((dados_exp!$G253&dados_exp!$H253),questionario!$B$47:$B$66,0)),(MATCH(dados_exp!$J253,questionario!$B$46:$N$46,0)))),\"\")","v":""},{"$f":"IFERROR((INDEX(questionario!$O$47:$AB$66,(MATCH((dados_exp!$G253&dados_exp!$I253),questionario!$O$47:$O$66,0)),(MATCH(dados_exp!$J253,questionario!$O$46:$AB$46,0)))),\"\")","v":""},"X",null,null,null,"X",null,null,null,"X",null,null,null,null,null,"X",null,null,null,"X"]
[{"$f":"IF(G254=\"\",\"\",(IF(questionario!$C$8=\"\",\"\",questionario!$C$8)))","v":""},{"$f":"IF(G254=\"\",\"\",(IF(questionario!$C$15=\"\",\"\",questionario!$C$15)))","v":""},{"$f":"IF(G254=\"\",\"\",(IF(questionario!$L$8=\"\",\"\",questionario!$L$8)))","v":""},{"$f":"IF(C254=\"\",\"\",(IF(questionario!$L$11=\"\",\"\",questionario!$L$11)))","v":""},"X","Oleaginosas2025",{"$f":"IF(aux_cadastros!$A$14=\"\",\"\",aux_cadastros!$A$14)","v":"Oleaginosas"},{"$f":"IFERROR((VLOOKUP(G254,questionario!$C$47:$D$66,2,0)),\"\")","v":""},{"$f":"IFERROR((VLOOKUP(G254,questionario!$Q$47:$R$66,2,0)),\"\")","v":""},2025,{"$f":"IF(G254=\"\",\"\",(IFERROR((INDEX(questionario!$A$23:$N$42,(MATCH((dados_exp!$G254&\"R$\"),questionario!$A$23:$A$42,0)),(MATCH(dados_exp!$J254,questionario!$A$22:$N$22,0)))),\"\")))","v":""},{"$f":"IF(G254=\"\",\"\",(IFERROR((INDEX(questionario!$Q$22:$AB$42,(MATCH(dados_exp!$G254,questionario!$Q$22:$Q$42,0)),(MATCH(dados_exp!$J254,questionario!$Q$22:$AB$22,0)))),\"\")))","v":""},{"$f":"IFERROR((INDEX(questionario!$B$47:$N$66,(MATCH((dados_exp!$G254&dados_exp!$H254),questionario!$B$47:$B$66,0)),(MATCH(dados_exp!$J254,questionario!$B$46:$N$46,0)))),\"\")","v":""},{"$f":"IFERROR((INDEX(questionario!$O$47:$AB$66,(MATCH((dados_exp!$G254&dados_exp!$I254),questionario!$O$47:$O$66,0)),(MATCH(dados_exp!$J254,questionario!$O$46:$AB$46,0)))),\"\")","v":""},"X",null,null,null,"X",null,null,null,"X",null,null,null,null,null,"X",null,null,null,"X"]
[{"$f":"IF(G255=\"\",\"\",(IF(questionario!$C$8=\"\",\"\",questionario!$C$8)))","v":""},{"$f":"IF(G255=\"\",\"\",(IF(questionario!$C$15=\"\",\"\",questionario!$C$15)))","v":""},{"$f":"IF(G255=\"\",\"\",(IF(questionario!$L$8=\"\",\"\",questionario!$L$8)))","v":""},{"$f":"IF(C255=\"\",\"\",(IF(questionario!$L$11=\"\",\"\",questionario!$L$11)))","v":""},"X","Óleos2025",{"$f":"IF(aux_cadastros!$A$15=\"\",\"\",aux_cadastros!$A$15)","v":"Óleos"},{"$f":"IFERROR((VLOOKUP(G255,questionario!$C$47:$D$66,2,0)),\"\")","v":""},{"$f":"IFERROR((VLOOKUP(G255,questionario!$Q$47:$R$66,2,0)),\"\")","v":""},2025,{"$f":"IF(G255=\"\",\"\",(IFERROR((INDEX(questionario!$A$23:$N$42,(MATCH((dados_exp!$G255&\"R$\"),questionario!$A$23:$A$42,0)),(MATCH(dados_exp!$J255,questionario!$A$22:$N$22,0)))),\"\")))","v":""},{"$f":"IF(G255=\"\",\"\",(IFERROR((INDEX(questionario!$Q$22:$AB$42,(MATCH(dados_exp!$G255,questionario!$Q$22:$Q$42,0)),(MATCH(dados_exp!$J255,questionario!$Q$22:$AB$22,0)))),\"\")))","v":""},{"$f":"IFERROR((INDEX(questionario!$B$47:$N$66,(MATCH((dados_exp!$G255&dados_exp!$H255),questionario!$B$47:$B$66,0)),(MATCH(dados_exp!$J255,questionario!$B$46:$N$46,0)))),\"\")","v":""},{"$f":"IFERROR((INDEX(questionario!$O$47:$AB$66,(MATCH((dados_exp!$G255&dados_exp!$I255),questionario!$O$47:$O$66,0)),(MATCH(dados_exp!$J255,questionario!$O$46:$AB$46,0)))),\"\")","v":""},"X",null,null,null,"X",null,null,null,"X",null,null,null,null,null,"X",null,null,null,"X"]
[{"$f":"IF(G256=\"\",\"\",(IF(questionario!$C$8=\"\",\"\",questionario!$C$8)))","v":""},{"$f":"IF(G256=\"\",\"\",(IF(questionario!$C$15=\"\",\"\",questionario!$C$15)))","v":""},{"$f":"IF(G256=\"\",\"\",(IF(questionario!$L$8=\"\",\"\",questionario!$L$8)))","v":""},{"$f":"IF(C256=\"\",\"\",(IF(questionario!$L$11=\"\",\"\",questionario!$L$11)))","v":""},"X","Pescado2025",{"$f":"IF(aux_cadastros!$A$16=\"\",\"\",aux_cadastros!$A$16)","v":"Pescado"},{"$f":"IFERROR((VLOOKUP(G256,questionario!$C$47:$D$66,2,0)),\"\")","v":""},{"$f":"IFERROR((VLOOKUP(G256,questionario!$Q$47:$R$66,2,0)),\"\")","v":""},2025,{"$f":"IF(G256=\"\",\"\",(IFERROR((INDEX(questionario!$A$23:$N$42,(MATCH((dados_exp!$G256&\"R$\"),questionario!$A$23:$A$42,0)),(MATCH(dados_exp!$J256,questionario!$A$22:$N$22,0)))),\"\")))","v":""},{"$f":"IF(G256=\"\",\"\",(IFERROR((INDEX(questionario!$Q$22:$AB$42,(MATCH(dados_exp!$G256,questionario!$Q$22:$Q$42,0)),(MATCH(dados_exp!$J256,questionario!$Q$22:$AB$22,0)))),\"\")))","v":""},{"$f":"IFERROR((INDEX(questionario!$B$47:$N$66,(MATCH((dados_exp!$G256&dados_exp!$H256),questionario!$B$47:$B$66,0)),(MATCH(dados_exp!$J256,questionario!$B$46:$N$46,0)))),\"\")","v":""},{"$f":"IFERROR((INDEX(questionario!$O$47:$AB$66,(MATCH((dados_exp!$G256&dados_exp!$I256),questionario!$O$47:$O$66,0)),(MATCH(dados_exp!$J256,questionario!$O$46:$AB$46,0)))),\"\")","v":""},"X",null,null,null,"X",null,null,null,"X",null,null,null,null,null,"X",null,null,null,"X"]
[{"$f":"IF(G257=\"\",\"\",(IF(questionario!$C$8=\"\",\"\",questionario!$C$8)))","v":""},{"$f":"IF(G257=\"\",\"\",(IF(questionario!$C$15=\"\",\"\",questionario!$C$15)))","v":""},{"$f":"IF(G257=\"\",\"\",(IF(questionario!$L$8=\"\",\"\",questionario!$L$8)))","v":""},{"$f":"IF(C257=\"\",\"\",(IF(questionario!$L$11=\"\",\"\",questionario!$L$11)))","v":""},"X","Turismo2025",{"$f":"IF(aux_cadastros!$A$17=\"\",\"\",aux_cadastros!$A$17)","v":"Turismo"},{"$f":"IFERROR((VLOOKUP(G257,questionario!$C$47:$D$66,2,0)),\"\")","v":""},{"$f":"IFERROR((VLOOKUP(G257,questionario!$Q$47:$R$66,2,0)),\"\")","v":""},2025,{"$f":"IF(G257=\"\",\"\",(IFERROR((INDEX(questionario!$A$23:$N$42,(MATCH((dados_exp!$G257&\"R$\"),questionario!$A$23:$A$42,0)),(MATCH(dados_exp!$J257,questionario!$A$22:$N$22,0)))),\"\")))","v":""},{"$f":"IF(G257=\"\",\"\",(IFERROR((INDEX(questionario!$Q$22:$AB$42,(MATCH(dados_exp!$G257,questionario!$Q$22:$Q$42,0)),(MATCH(dados_exp!$J257,questionario!$Q$22:$AB$22,0)))),\"\")))","v":""},{"$f":"IFERROR((INDEX(questionario!$B$47:$N$66,(MATCH((dados_exp!$G257&dados_exp!$H257),questionario!$B$47:$B$66,0)),(MATCH(dados_exp!$J257,questionario!$B$46:$N$46,0)))),\"\")","v":""},{"$f":"IFERROR((INDEX(questionario!$O$47:$AB$66,(MATCH((dados_exp!$G257&dados_exp!$I257),questionario!$O$47:$O$66,0)),(MATCH(dados_exp!$J257,questionario!$O$46:$AB$46,0)))),\"\")","v":""},"X",null,null,null,"X",null,null,null,"X",null,null,null,null,null,"X",null,null,null,"X"]
[{"$f":"IF(G258=\"\",\"\",(IF(questionario!$C$8=\"\",\"\",questionario!$C$8)))","v":""},{"$f":"IF(G258=\"\",\"\",(IF(questionario!$C$15=\"\",\"\",questionario!$C$15)))","v":""},{"$f":"IF(G258=\"\",\"\",(IF(questionario!$L$8=\"\",\"\",questionario!$L$8)))","v":""},{"$f":"IF(C258=\"\",\"\",(IF(questionario!$L$11=\"\",\"\",questionario!$L$11)))","v":""},"X","Agricultura de base familiar2025",{"$f":"IF(aux_cadastros!$A$18=\"\",\"\",aux_cadastros!$A$18)","v":"Agricultura de base familiar"},{"$f":"IFERROR((VLOOKUP(G258,questionario!$C$47:$D$66,2,0)),\"\")","v":""},{"$f":"IFERROR((VLOOKUP(G258,questionario!$Q$47:$R$66,2,0)),\"\")","v":""},2025,{"$f":"IF(G258=\"\",\"\",(IFERROR((INDEX(questionario!$A$23:$N$42,(MATCH((dados_exp!$G258&\"R$\"),questionario!$A$23:$A$42,0)),(MATCH(dados_exp!$J258,questionario!$A$22:$N$22,0)))),\"\")))","v":""},{"$f":"IF(G258=\"\",\"\",(IFERROR((INDEX(questionario!$Q$22:$AB$42,(MATCH(dados_exp!$G258,questionario!$Q$22:$Q$42,0)),(MATCH(dados_exp!$J258,questionario!$Q$22:$AB$22,0)))),\"\")))","v":""},{"$f":"IFERROR((INDEX(questionario!$B$47:$N$66,(MATCH((dados_exp!$G258&dados_exp!$H258),questionario!$B$47:$B$66,0)),(MATCH(dados_exp!$J258,questionario!$B$46:$N$46,0)))),\"\")","v":""},{"$f":"IFERROR((INDEX(questionario!$O$47:$AB$66,(MATCH((dados_exp!$G258&dados_exp!$I258),questionario!$O$47:$O$66,0)),(MATCH(dados_exp!$J258,questionario!$O$46:$AB$46,0)))),\"\")","v":""},"X",null,null,null,"X",null,null,null,"X",null,null,null,null,null,"X",null,null,null,"X"]
[{"$f":"IF(G259=\"\",\"\",(IF(questionario!$C$8=\"\",\"\",questionario!$C$8)))","v":""},{"$f":"IF(G259=\"\",\"\",(IF(questionario!$C$15=\"\",\"\",questionario!$C$15)))","v":""},{"$f":"IF(G259=\"\",\"\",(IF(questionario!$L$8=\"\",\"\",questionario!$L$8)))","v":""},{"$f":"IF(C259=\"\",\"\",(IF(questionario!$L$11=\"\",\"\",questionario!$L$11)))","v":""},"X",{"$f":"G259&J259","v":"Pirarucu2025"},{"$f":"IF(aux_cadastros!$A$19=\"\",\"\",aux_cadastros!$A$19)","v":"Pirarucu"},{"$f":"IFERROR((VLOOKUP(G259,questionario!$C$47:$D$66,2,0)),\"\")","v":""},{"$f":"IFERROR((VLOOKUP(G259,questionario!$Q$47:$R$66,2,0)),\"\")","v":""},2025,{"$f":"IF(G259=\"\",\"\",(IFERROR((INDEX(questionario!$A$23:$N$42,(MATCH((dados_exp!$G259&\"R$\"),questionario!$A$23:$A$42,0)),(MATCH(dados_exp!$J259,questionario!$A$22:$N$22,0)))),\"\")))","v":""},{"$f":"IF(G259=\"\",\"\",(IFERROR((INDEX(questionario!$Q$22:$AB$42,(MATCH(dados_exp!$G259,questionario!$Q$22:$Q$42,0)),(MATCH(dados_exp!$J259,questionario!$Q$22:$AB$22,0)))),\"\")))","v":""},{"$f":"IFERROR((INDEX(questionario!$B$47:$N$66,(MATCH((dados_exp!$G259&dados_exp!$H259),questionario!$B$47:$B$66,0)),(MATCH(dados_exp!$J259,questionario!$B$46:$N$46,0)))),\"\")","v":""},{"$f":"IFERROR((INDEX(questionario!$O$47:$AB$66,(MATCH((dados_exp!$G259&dados_exp!$I259),questionario!$O$47:$O$66,0)),(MATCH(dados_exp!$J259,questionario!$O$46:$AB$46,0)))),\"\")","v":""},"X",null,null,null,"X",null,null,null,"X",null,null,null,null,null,"X",null,null,null,"X"]
[{"$f":"IF(G260=\"\",\"\",(IF(questionario!$C$8=\"\",\"\",questionario!$C$8)))","v":""},{"$f":"IF(G260=\"\",\"\",(IF(questionario!$C$15=\"\",\"\",questionario!$C$15)))","v":""},{"$f":"IF(G260=\"\",\"\",(IF(questionario!$L$8=\"\",\"\",questionario!$L$8)))","v":""},{"$f":"IF(C260=\"\",\"\",(IF(questionario!$L$11=\"\",\"\",questionario!$L$11)))","v":""},"X","Bacalhau de Pirarucu2025",{"$f":"IF(aux_cadastros!$A$20=\"\",\"\",aux_cadastros!$A$20)","v":"Bacalhau de Pirarucu"},{"$f":"IFERROR((VLOOKUP(G260,questionario!$C$47:$D$66,2,0)),\"\")","v":""},{"$f":"IFERROR((VLOOKUP(G260,questionario!$Q$47:$R$66,2,0)),\"\")","v":""},2025,{"$f":"IF(G260=\"\",\"\",(IFERROR((INDEX(questionario!$A$23:$N$42,(MATCH((dados_exp!$G260&\"R$\"),questionario!$A$23:$A$42,0)),(MATCH(dados_exp!$J260,questionario!$A$22:$N$22,0)))),\"\")))","v":""},{"$f":"IF(G260=\"\",\"\",(IFERROR((INDEX(questionario!$Q$22:$AB$42,(MATCH(dados_exp!$G260,questionario!$Q$22:$Q$42,0)),(MATCH(dados_exp!$J260,questionario!$Q$22:$AB$22,0)))),\"\")))","v":""},{"$f":"IFERROR((INDEX(questionario!$B$47:$N$66,(MATCH((dados_exp!$G260&dados_exp!$H260),questionario!$B$47:$B$66,0)),(MATCH(dados_exp!$J260,questionario!$B$46:$N$46,0)))),\"\")","v":""},{"$f":"IFERROR((INDEX(questionario!$O$47:$AB$66,(MATCH((dados_exp!$G260&dados_exp!$I260),questionario!$O$47:$O$66,0)),(MATCH(dados_exp!$J260,questionario!$O$46:$AB$46,0)))),\"\")","v":""},"X",null,null,null,"X",null,null,null,"X",null,null,null,null,null,"X",null,null,null,"X"]
[{"$f":"IF(G261=\"\",\"\",(IF(questionario!$C$8=\"\",\"\",questionario!$C$8)))","v":""},{"$f":"IF(G261=\"\",\"\",(IF(questionario!$C$15=\"\",\"\",questionario!$C$15)))","v":""},{"$f":"IF(G261=\"\",\"\",(IF(questionario!$L$8=\"\",\"\",questionario!$L$8)))","v":""},{"$f":"IF(C261=\"\",\"\",(IF(questionario!$L$11=\"\",\"\",questionario!$L$11)))","v":""},"X","2025",{"$f":"IF(aux_cadastros!$A$21=\"\",\"\",aux_cadastros!$A$21)","v":""},{"$f":"IFERROR((VLOOKUP(G261,questionario!$C$47:$D$66,2,0)),\"\")","v":""},{"$f":"IFERROR((VLOOKUP(G261,questionario!$Q$47:$R$66,2,0)),\"\")","v":""},2025,{"$f":"IF(G261=\"\",\"\",(IFERROR((INDEX(questionario!$A$23:$N$42,(MATCH((dados_exp!$G261&\"R$\"),questionario!$A$23:$A$42,0)),(MATCH(dados_exp!$J261,questionario!$A$22:$N$22,0)))),\"\")))","v":""},{"$f":"IF(G261=\"\",\"\",(IFERROR((INDEX(questionario!$Q$22:$AB$42,(MATCH(dados_exp!$G261,questionario!$Q$22:$Q$42,0)),(MATCH(dados_exp!$J261,questionario!$Q$22:$AB$22,0)))),\"\")))","v":""},{"$f":"IFERROR((INDEX(questionario!$B$47:$N$66,(MATCH((dados_exp!$G261&dados_exp!$H261),questionario!$B$47:$B$66,0)),(MATCH(dados_exp!$J261,questionario!$B$46:$N$46,0)))),\"\")","v":""},{"$f":"IFERROR((INDEX(questionario!$O$47:$AB$66,(MATCH((dados_exp!$G261&dados_exp!$I261),questionario!$O$47:$O$66,0)),(MATCH(dados_exp!$J261,questionario!$O$46:$AB$46,0)))),\"\")","v":""},"X",null,null,null,"X",null,null,null,"X",null,null,null,null,null,"X",null,null,null,"X"]
[{"$f":"IF(G262=\"\",\"\",(IF(questionario!$C$8=\"\",\"\",questionario!$C$8)))","v":""},{"$f":"IF(G262=\"\",\"\",(IF(questionario!$C$15=\"\",\"\",questionario!$C$15)))","v":""},{"$f":"IF(G262=\"\",\"\",(IF(questionario!$L$8=\"\",\"\",questionario!$L$8)))","v":""},{"$f":"IF(C262=\"\",\"\",(IF(questionario!$L$11=\"\",\"\",questionario!$L$11)))","v":""},"X","2025",{"$f":"IF(aux_cadastros!$A$22=\"\",\"\",aux_cadastros!$A$22)","v":""},{"$f":"IFERROR((VLOOKUP(G262,questionario!$C$47:$D$66,2,0)),\"\")","v":""},{"$f":"IFERROR((VLOOKUP(G262,questionario!$Q$47:$R$66,2,0)),\"\")","v":""},2025,{"$f":"IF(G262=\"\",\"\",(IFERROR((INDEX(questionario!$A$23:$N$42,(MATCH((dados_exp!$G262&\"R$\"),questionario!$A$23:$A$42,0)),(MATCH(dados_exp!$J262,questionario!$A$22:$N$22,0)))),\"\")))","v":""},{"$f":"IF(G262=\"\",\"\",(IFERROR((INDEX(questionario!$Q$22:$AB$42,(MATCH(dados_exp!$G262,questionario!$Q$22:$Q$42,0)),(MATCH(dados_exp!$J262,questionario!$Q$22:$AB$22,0)))),\"\")))","v":""},{"$f":"IFERROR((INDEX(questionario!$B$47:$N$66,(MATCH((dados_exp!$G262&dados_exp!$H262),questionario!$B$47:$B$66,0)),(MATCH(dados_exp!$J262,questionario!$B$46:$N$46,0)))),\"\")","v":""},{"$f":"IFERROR((INDEX(questionario!$O$47:$AB$66,(MATCH((dados_exp!$G262&dados_exp!$I262),questionario!$O$47:$O$66,0)),(MATCH(dados_exp!$J262,questionario!$O$46:$AB$46,0)))),\"\")","v":""},"X",null,null,null,"X",null,null,null,"X",null,null,null,null,null,"X",null,null,null,"X"]
[{"$f":"IF(G263=\"\",\"\",(IF(questionario!$C$8=\"\",\"\",questionario!$C$8)))","v":""},{"$f":"IF(G263=\"\",\"\",(IF(questionario!$C$15=\"\",\"\",questionario!$C$15)))","v":""},{"$f":"IF(G263=\"\",\"\",(IF(questionario!$L$8=\"\",\"\",questionario!$L$8)))","v":""},{"$f":"IF(C263=\"\",\"\",(IF(questionario!$L$11=\"\",\"\",questionario!$L$11)))","v":""},"X","2025",{"$f":"IF(aux_cadastros!$A$23=\"\",\"\",aux_cadastros!$A$23)","v":""},{"$f":"IFERROR((VLOOKUP(G263,questionario!$C$47:$D$66,2,0)),\"\")","v":""},{"$f":"IFERROR((VLOOKUP(G263,questionario!$Q$47:$R$66,2,0)),\"\")","v":""},2025,{"$f":"IF(G263=\"\",\"\",(IFERROR((INDEX(questionario!$A$23:$N$42,(MATCH((dados_exp!$G263&\"R$\"),questionario!$A$23:$A$42,0)),(MATCH(dados_exp!$J263,questionario!$A$22:$N$22,0)))),\"\")))","v":""},{"$f":"IF(G263=\"\",\"\",(IFERROR((INDEX(questionario!$Q$22:$AB$42,(MATCH(dados_exp!$G263,questionario!$Q$22:$Q$42,0)),(MATCH(dados_exp!$J263,questionario!$Q$22:$AB$22,0)))),\"\")))","v":""},{"$f":"IFERROR((INDEX(questionario!$B$47:$N$66,(MATCH((dados_exp!$G263&dados_exp!$H263),questionario!$B$47:$B$66,0)),(MATCH(dados_exp!$J263,questionario!$B$46:$N$46,0)))),\"\")","v":""},{"$f":"IFERROR((INDEX(questionario!$O$47:$AB$66,(MATCH((dados_exp!$G263&dados_exp!$I263),questionario!$O$47:$O$66,0)),(MATCH(dados_exp!$J263,questionario!$O$46:$AB$46,0)))),\"\")","v":""},"X",null,null,null,"X",null,null,null,"X",null,null,null,null,null,"X",null,null,null,"X"]
[{"$f":"IF(G264=\"\",\"\",(IF(questionario!$C$8=\"\",\"\",questionario!$C$8)))","v":""},{"$f":"IF(G264=\"\",\"\",(IF(questionario!$C$15=\"\",\"\",questionario!$C$15)))","v":""},{"$f":"IF(G264=\"\",\"\",(IF(questionario!$L$8=\"\",\"\",questionario!$L$8)))","v":""},{"$f":"IF(C264=\"\",\"\",(IF(questionario!$L$11=\"\",\"\",questionario!$L$11)))","v":""},"X","2025",{"$f":"IF(aux_cadastros!$A$24=\"\",\"\",aux_cadastros!$A$24)","v":""},{"$f":"IFERROR((VLOOKUP(G264,questionario!$C$47:$D$66,2,0)),\"\")","v":""},{"$f":"IFERROR((VLOOKUP(G264,questionario!$Q$47:$R$66,2,0)),\"\")","v":""},2025,{"$f":"IF(G264=\"\",\"\",(IFERROR((INDEX(questionario!$A$23:$N$42,(MATCH((dados_exp!$G264&\"R$\"),questionario!$A$23:$A$42,0)),(MATCH(dados_exp!$J264,questionario!$A$22:$N$22,0)))),\"\")))","v":""},{"$f":"IF(G264=\"\",\"\",(IFERROR((INDEX(questionario!$Q$22:$AB$42,(MATCH(dados_exp!$G264,questionario!$Q$22:$Q$42,0)),(MATCH(dados_exp!$J264,questionario!$Q$22:$AB$22,0)))),\"\")))","v":""},{"$f":"IFERROR((INDEX(questionario!$B$47:$N$66,(MATCH((dados_exp!$G264&dados_exp!$H264),questionario!$B$47:$B$66,0)),(MATCH(dados_exp!$J264,questionario!$B$46:$N$46,0)))),\"\")","v":""},{"$f":"IFERROR((INDEX(questionario!$O$47:$AB$66,(MATCH((dados_exp!$G264&dados_exp!$I264),questionario!$O$47:$O$66,0)),(MATCH(dados_exp!$J264,questionario!$O$46:$AB$46,0)))),\"\")","v":""},"X",null,null,null,"X",null,null,null,"X",null,null,null,null,null,"X",null,null,null,"X"]
[{"$f":"IF(G265=\"\",\"\",(IF(questionario!$C$8=\"\",\"\",questionario!$C$8)))","v":""},{"$f":"IF(G265=\"\",\"\",(IF(questionario!$C$15=\"\",\"\",questionario!$C$15)))","v":""},{"$f":"IF(G265=\"\",\"\",(IF(questionario!$L$8=\"\",\"\",questionario!$L$8)))","v":""},{"$f":"IF(C265=\"\",\"\",(IF(questionario!$L$11=\"\",\"\",questionario!$L$11)))","v":""},"X","2025",{"$f":"IF(aux_cadastros!$A$25=\"\",\"\",aux_cadastros!$A$25)","v":""},{"$f":"IFERROR((VLOOKUP(G265,questionario!$C$47:$D$66,2,0)),\"\")","v":""},{"$f":"IFERROR((VLOOKUP(G265,questionario!$Q$47:$R$66,2,0)),\"\")","v":""},2025,{"$f":"IF(G265=\"\",\"\",(IFERROR((INDEX(questionario!$A$23:$N$42,(MATCH((dados_exp!$G265&\"R$\"),questionario!$A$23:$A$42,0)),(MATCH(dados_exp!$J265,questionario!$A$22:$N$22,0)))),\"\")))","v":""},{"$f":"IF(G265=\"\",\"\",(IFERROR((INDEX(questionario!$Q$22:$AB$42,(MATCH(dados_exp!$G265,questionario!$Q$22:$Q$42,0)),(MATCH(dados_exp!$J265,questionario!$Q$22:$AB$22,0)))),\"\")))","v":""},{"$f":"IFERROR((INDEX(questionario!$B$47:$N$66,(MATCH((dados_exp!$G265&dados_exp!$H265),questionario!$B$47:$B$66,0)),(MATCH(dados_exp!$J265,questionario!$B$46:$N$46,0)))),\"\")","v":""},{"$f":"IFERROR((INDEX(questionario!$O$47:$AB$66,(MATCH((dados_exp!$G265&dados_exp!$I265),questionario!$O$47:$O$66,0)),(MATCH(dados_exp!$J265,questionario!$O$46:$AB$46,0)))),\"\")","v":""},"X",null,null,null,"X",null,null,null,"X",null,null,null,null,null,"X",null,null,null,"X"]
[{"$f":"IF(G266=\"\",\"\",(IF(questionario!$C$8=\"\",\"\",questionario!$C$8)))","v":""},{"$f":"IF(G266=\"\",\"\",(IF(questionario!$C$15=\"\",\"\",questionario!$C$15)))","v":""},{"$f":"IF(G266=\"\",\"\",(IF(questionario!$L$8=\"\",\"\",questionario!$L$8)))","v":""},{"$f":"IF(C266=\"\",\"\",(IF(questionario!$L$11=\"\",\"\",questionario!$L$11)))","v":""},"X","2025",{"$f":"IF(aux_cadastros!$A$26=\"\",\"\",aux_cadastros!$A$26)","v":""},{"$f":"IFERROR((VLOOKUP(G266,questionario!$C$47:$D$66,2,0)),\"\")","v":""},{"$f":"IFERROR((VLOOKUP(G266,questionario!$Q$47:$R$66,2,0)),\"\")","v":""},2025,{"$f":"IF(G266=\"\",\"\",(IFERROR((INDEX(questionario!$A$23:$N$42,(MATCH((dados_exp!$G266&\"R$\"),questionario!$A$23:$A$42,0)),(MATCH(dados_exp!$J266,questionario!$A$22:$N$22,0)))),\"\")))","v":""},{"$f":"IF(G266=\"\",\"\",(IFERROR((INDEX(questionario!$Q$22:$AB$42,(MATCH(dados_exp!$G266,questionario!$Q$22:$Q$42,0)),(MATCH(dados_exp!$J266,questionario!$Q$22:$AB$22,0)))),\"\")))","v":""},{"$f":"IFERROR((INDEX(questionario!$B$47:$N$66,(MATCH((dados_exp!$G266&dados_exp!$H266),questionario!$B$47:$B$66,0)),(MATCH(dados_exp!$J266,questionario!$B$46:$N$46,0)))),\"\")","v":""},{"$f":"IFERROR((INDEX(questionario!$O$47:$AB$66,(MATCH((dados_exp!$G266&dados_exp!$I266),questionario!$O$47:$O$66,0)),(MATCH(dados_exp!$J266,questionario!$O$46:$AB$46,0)))),\"\")","v":""},"X",null,null,null,"X",null,null,null,"X",null,null,null,null,null,"X",null,null,null,"X"]
[{"$f":"IF(G267=\"\",\"\",(IF(questionario!$C$8=\"\",\"\",questionario!$C$8)))","v":""},{"$f":"IF(G267=\"\",\"\",(IF(questionario!$C$15=\"\",\"\",questionario!$C$15)))","v":""},{"$f":"IF(G267=\"\",\"\",(IF(questionario!$L$8=\"\",\"\",questionario!$L$8)))","v":""},{"$f":"IF(C267=\"\",\"\",(IF(questionario!$L$11=\"\",\"\",questionario!$L$11)))","v":""},"X","2025",{"$f":"IF(aux_cadastros!$A$27=\"\",\"\",aux_cadastros!$A$27)","v":""},{"$f":"IFERROR((VLOOKUP(G267,questionario!$C$47:$D$66,2,0)),\"\")","v":""},{"$f":"IFERROR((VLOOKUP(G267,questionario!$Q$47:$R$66,2,0)),\"\")","v":""},2025,{"$f":"IF(G267=\"\",\"\",(IFERROR((INDEX(questionario!$A$23:$N$42,(MATCH((dados_exp!$G267&\"R$\"),questionario!$A$23:$A$42,0)),(MATCH(dados_exp!$J267,questionario!$A$22:$N$22,0)))),\"\")))","v":""},{"$f":"IF(G267=\"\",\"\",(IFERROR((INDEX(questionario!$Q$22:$AB$42,(MATCH(dados_exp!$G267,questionario!$Q$22:$Q$42,0)),(MATCH(dados_exp!$J267,questionario!$Q$22:$AB$22,0)))),\"\")))","v":""},{"$f":"IFERROR((INDEX(questionario!$B$47:$N$66,(MATCH((dados_exp!$G267&dados_exp!$H267),questionario!$B$47:$B$66,0)),(MATCH(dados_exp!$J267,questionario!$B$46:$N$46,0)))),\"\")","v":""},{"$f":"IFERROR((INDEX(questionario!$O$47:$AB$66,(MATCH((dados_exp!$G267&dados_exp!$I267),questionario!$O$47:$O$66,0)),(MATCH(dados_exp!$J267,questionario!$O$46:$AB$46,0)))),\"\")","v":""},"X",null,null,null,"X",null,null,null,"X",null,null,null,null,null,"X",null,null,null,"X"]
[{"$f":"IF(G268=\"\",\"\",(IF(questionario!$C$8=\"\",\"\",questionario!$C$8)))","v":""},{"$f":"IF(G268=\"\",\"\",(IF(questionario!$C$15=\"\",\"\",questionario!$C$15)))","v":""},{"$f":"IF(G268=\"\",\"\",(IF(questionario!$L$8=\"\",\"\",questionario!$L$8)))","v":""},{"$f":"IF(C268=\"\",\"\",(IF(questionario!$L$11=\"\",\"\",questionario!$L$11)))","v":""},"X","2025",{"$f":"IF(aux_cadastros!$A$28=\"\",\"\",aux_cadastros!$A$28)","v":""},{"$f":"IFERROR((VLOOKUP(G268,questionario!$C$47:$D$66,2,0)),\"\")","v":""},{"$f":"IFERROR((VLOOKUP(G268,questionario!$Q$47:$R$66,2,0)),\"\")","v":""},2025,{"$f":"IF(G268=\"\",\"\",(IFERROR((INDEX(questionario!$A$23:$N$42,(MATCH((dados_exp!$G268&\"R$\"),questionario!$A$23:$A$42,0)),(MATCH(dados_exp!$J268,questionario!$A$22:$N$22,0)))),\"\")))","v":""},{"$f":"IF(G268=\"\",\"\",(IFERROR((INDEX(questionario!$Q$22:$AB$42,(MATCH(dados_exp!$G268,questionario!$Q$22:$Q$42,0)),(MATCH(dados_exp!$J268,questionario!$Q$22:$AB$22,0)))),\"\")))","v":""},{"$f":"IFERROR((INDEX(questionario!$B$47:$N$66,(MATCH((dados_exp!$G268&dados_exp!$H268),questionario!$B$47:$B$66,0)),(MATCH(dados_exp!$J268,questionario!$B$46:$N$46,0)))),\"\")","v":""},{"$f":"IFERROR((INDEX(questionario!$O$47:$AB$66,(MATCH((dados_exp!$G268&dados_exp!$I268),questionario!$O$47:$O$66,0)),(MATCH(dados_exp!$J268,questionario!$O$46:$AB$46,0)))),\"\")","v":""},"X",null,null,null,"X",null,null,null,"X",null,null,null,null,null,"X",null,null,null,"X"]
[{"$f":"IF(G269=\"\",\"\",(IF(questionario!$C$8=\"\",\"\",questionario!$C$8)))","v":""},{"$f":"IF(G269=\"\",\"\",(IF(questionario!$C$15=\"\",\"\",questionario!$C$15)))","v":""},{"$f":"IF(G269=\"\",\"\",(IF(questionario!$L$8=\"\",\"\",questionario!$L$8)))","v":""},{"$f":"IF(C269=\"\",\"\",(IF(questionario!$L$11=\"\",\"\",questionario!$L$11)))","v":""},"X","2025",{"$f":"IF(aux_cadastros!$A$29=\"\",\"\",aux_cadastros!$A$29)","v":""},{"$f":"IFERROR((VLOOKUP(G269,questionario!$C$47:$D$66,2,0)),\"\")","v":""},{"$f":"IFERROR((VLOOKUP(G269,questionario!$Q$47:$R$66,2,0)),\"\")","v":""},2025,{"$f":"IF(G269=\"\",\"\",(IFERROR((INDEX(questionario!$A$23:$N$42,(MATCH((dados_exp!$G269&\"R$\"),questionario!$A$23:$A$42,0)),(MATCH(dados_exp!$J269,questionario!$A$22:$N$22,0)))),\"\")))","v":""},{"$f":"IF(G269=\"\",\"\",(IFERROR((INDEX(questionario!$Q$22:$AB$42,(MATCH(dados_exp!$G269,questionario!$Q$22:$Q$42,0)),(MATCH(dados_exp!$J269,questionario!$Q$22:$AB$22,0)))),\"\")))","v":""},{"$f":"IFERROR((INDEX(questionario!$B$47:$N$66,(MATCH((dados_exp!$G269&dados_exp!$H269),questionario!$B$47:$B$66,0)),(MATCH(dados_exp!$J269,questionario!$B$46:$N$46,0)))),\"\")","v":""},{"$f":"IFERROR((INDEX(questionario!$O$47:$AB$66,(MATCH((dados_exp!$G269&dados_exp!$I269),questionario!$O$47:$O$66,0)),(MATCH(dados_exp!$J269,questionario!$O$46:$AB$46,0)))),\"\")","v":""},"X",null,null,null,"X",null,null,null,"X",null,null,null,null,null,"X",null,null,null,"X"]
[{"$f":"IF(G270=\"\",\"\",(IF(questionario!$C$8=\"\",\"\",questionario!$C$8)))","v":""},{"$f":"IF(G270=\"\",\"\",(IF(questionario!$C$15=\"\",\"\",questionario!$C$15)))","v":""},{"$f":"IF(G270=\"\",\"\",(IF(questionario!$L$8=\"\",\"\",questionario!$L$8)))","v":""},{"$f":"IF(C270=\"\",\"\",(IF(questionario!$L$11=\"\",\"\",questionario!$L$11)))","v":""},"X","2025",{"$f":"IF(aux_cadastros!$A$30=\"\",\"\",aux_cadastros!$A$30)","v":""},{"$f":"IFERROR((VLOOKUP(G270,questionario!$C$47:$D$66,2,0)),\"\")","v":""},{"$f":"IFERROR((VLOOKUP(G270,questionario!$Q$47:$R$66,2,0)),\"\")","v":""},2025,{"$f":"IF(G270=\"\",\"\",(IFERROR((INDEX(questionario!$A$23:$N$42,(MATCH((dados_exp!$G270&\"R$\"),questionario!$A$23:$A$42,0)),(MATCH(dados_exp!$J270,questionario!$A$22:$N$22,0)))),\"\")))","v":""},{"$f":"IF(G270=\"\",\"\",(IFERROR((INDEX(questionario!$Q$22:$AB$42,(MATCH(dados_exp!$G270,questionario!$Q$22:$Q$42,0)),(MATCH(dados_exp!$J270,questionario!$Q$22:$AB$22,0)))),\"\")))","v":""},{"$f":"IFERROR((INDEX(questionario!$B$47:$N$66,(MATCH((dados_exp!$G270&dados_exp!$H270),questionario!$B$47:$B$66,0)),(MATCH(dados_exp!$J270,questionario!$B$46:$N$46,0)))),\"\")","v":""},{"$f":"IFERROR((INDEX(questionario!$O$47:$AB$66,(MATCH((dados_exp!$G270&dados_exp!$I270),questionario!$O$47:$O$66,0)),(MATCH(dados_exp!$J270,questionario!$O$46:$AB$46,0)))),\"\")","v":""},"X",null,null,null,"X",null,null,null,"X",null,null,null,null,null,"X",null,null,null,"X"]
[{"$f":"IF(G271=\"\",\"\",(IF(questionario!$C$8=\"\",\"\",questionario!$C$8)))","v":""},{"$f":"IF(G271=\"\",\"\",(IF(questionario!$C$15=\"\",\"\",questionario!$C$15)))","v":""},{"$f":"IF(G271=\"\",\"\",(IF(questionario!$L$8=\"\",\"\",questionario!$L$8)))","v":""},{"$f":"IF(C271=\"\",\"\",(IF(questionario!$L$11=\"\",\"\",questionario!$L$11)))","v":""},"X","2025",{"$f":"IF(aux_cadastros!$A$31=\"\",\"\",aux_cadastros!$A$31)","v":""},{"$f":"IFERROR((VLOOKUP(G271,questionario!$C$47:$D$66,2,0)),\"\")","v":""},{"$f":"IFERROR((VLOOKUP(G271,questionario!$Q$47:$R$66,2,0)),\"\")","v":""},2025,{"$f":"IF(G271=\"\",\"\",(IFERROR((INDEX(questionario!$A$23:$N$42,(MATCH((dados_exp!$G271&\"R$\"),questionario!$A$23:$A$42,0)),(MATCH(dados_exp!$J271,questionario!$A$22:$N$22,0)))),\"\")))","v":""},{"$f":"IF(G271=\"\",\"\",(IFERROR((INDEX(questionario!$Q$22:$AB$42,(MATCH(dados_exp!$G271,questionario!$Q$22:$Q$42,0)),(MATCH(dados_exp!$J271,questionario!$Q$22:$AB$22,0)))),\"\")))","v":""},{"$f":"IFERROR((INDEX(questionario!$B$47:$N$66,(MATCH((dados_exp!$G271&dados_exp!$H271),questionario!$B$47:$B$66,0)),(MATCH(dados_exp!$J271,questionario!$B$46:$N$46,0)))),\"\")","v":""},{"$f":"IFERROR((INDEX(questionario!$O$47:$AB$66,(MATCH((dados_exp!$G271&dados_exp!$I271),questionario!$O$47:$O$66,0)),(MATCH(dados_exp!$J271,questionario!$O$46:$AB$46,0)))),\"\")","v":""},"X",null,null,null,"X",null,null,null,"X",null,null,null,null,null,"X",null,null,null,"X"]
[{"$f":"IF(G272=\"\",\"\",(IF(questionario!$C$8=\"\",\"\",questionario!$C$8)))","v":""},{"$f":"IF(G272=\"\",\"\",(IF(questionario!$C$15=\"\",\"\",questionario!$C$15)))","v":""},{"$f":"IF(G272=\"\",\"\",(IF(questionario!$L$8=\"\",\"\",questionario!$L$8)))","v":""},{"$f":"IF(C272=\"\",\"\",(IF(questionario!$L$11=\"\",\"\",questionario!$L$11)))","v":""},"X","Açaí2026",{"$f":"IF(aux_cadastros!$A$2=\"\",\"\",aux_cadastros!$A$2)","v":"Açaí"},{"$f":"IFERROR((VLOOKUP(G272,questionario!$C$47:$D$66,2,0)),\"\")","v":""},{"$f":"IFERROR((VLOOKUP(G272,questionario!$Q$47:$R$66,2,0)),\"\")","v":""},{"$f":"questionario!$N$22","v":2026},{"$f":"IF(G272=\"\",\"\",(IFERROR((INDEX(questionario!$A$23:$N$42,(MATCH((dados_exp!$G272&\"R$\"),questionario!$A$23:$A$42,0)),(MATCH(dados_exp!$J272,questionario!$A$22:$N$22,0)))),\"\")))","v":""},{"$f":"IF(G272=\"\",\"\",(IFERROR((INDEX(questionario!$Q$22:$AB$42,(MATCH(dados_exp!$G272,questionario!$Q$22:$Q$42,0)),(MATCH(dados_exp!$J272,questionario!$Q$22:$AB$22,0)))),\"\")))","v":""},{"$f":"IFERROR((INDEX(questionario!$B$47:$N$66,(MATCH((dados_exp!$G272&dados_exp!$H272),questionario!$B$47:$B$66,0)),(MATCH(dados_exp!$J272,questionario!$B$46:$N$46,0)))),\"\")","v":""},{"$f":"IFERROR((INDEX(questionario!$O$47:$AB$66,(MATCH((dados_exp!$G272&dados_exp!$I272),questionario!$O$47:$O$66,0)),(MATCH(dados_exp!$J272,questionario!$O$46:$AB$46,0)))),\"\")","v":""},"X",null,null,null,"X",null,null,null,"X",null,null,null,null,null,"X",null,null,null,"X"]
[{"$f":"IF(G273=\"\",\"\",(IF(questionario!$C$8=\"\",\"\",questionario!$C$8)))","v":""},{"$f":"IF(G273=\"\",\"\",(IF(questionario!$C$15=\"\",\"\",questionario!$C$15)))","v":""},{"$f":"IF(G273=\"\",\"\",(IF(questionario!$L$8=\"\",\"\",questionario!$L$8)))","v":""},{"$f":"IF(C273=\"\",\"\",(IF(questionario!$L$11=\"\",\"\",questionario!$L$11)))","v":""},"X","Aquicultura2026",{"$f":"IF(aux_cadastros!$A$3=\"\",\"\",aux_cadastros!$A$3)","v":"Aquicultura"},{"$f":"IFERROR((VLOOKUP(G273,questionario!$C$47:$D$66,2,0)),\"\")","v":""},{"$f":"IFERROR((VLOOKUP(G273,questionario!$Q$47:$R$66,2,0)),\"\")","v":""},{"$f":"J272","v":2026},{"$f":"IF(G273=\"\",\"\",(IFERROR((INDEX(questionario!$A$23:$N$42,(MATCH((dados_exp!$G273&\"R$\"),questionario!$A$23:$A$42,0)),(MATCH(dados_exp!$J273,questionario!$A$22:$N$22,0)))),\"\")))","v":""},{"$f":"IF(G273=\"\",\"\",(IFERROR((INDEX(questionario!$Q$22:$AB$42,(MATCH(dados_exp!$G273,questionario!$Q$22:$Q$42,0)),(MATCH(dados_exp!$J273,questionario!$Q$22:$AB$22,0)))),\"\")))","v":""},{"$f":"IFERROR((INDEX(questionario!$B$47:$N$66,(MATCH((dados_exp!$G273&dados_exp!$H273),questionario!$B$47:$B$66,0)),(MATCH(dados_exp!$J273,questionario!$B$46:$N$46,0)))),\"\")","v":""},{"$f":"IFERROR((INDEX(questionario!$O$47:$AB$66,(MATCH((dados_exp!$G273&dados_exp!$I273),questionario!$O$47:$O$66,0)),(MATCH(dados_exp!$J273,questionario!$O$46:$AB$46,0)))),\"\")","v":""},"X",null,null,null,"X",null,null,null,"X",null,null,null,null,null,"X",null,null,null,"X"]
[{"$f":"IF(G274=\"\",\"\",(IF(questionario!$C$8=\"\",\"\",questionario!$C$8)))","v":""},{"$f":"IF(G274=\"\",\"\",(IF(questionario!$C$15=\"\",\"\",questionario!$C$15)))","v":""},{"$f":"IF(G274=\"\",\"\",(IF(questionario!$L$8=\"\",\"\",questionario!$L$8)))","v":""},{"$f":"IF(C274=\"\",\"\",(IF(questionario!$L$11=\"\",\"\",questionario!$L$11)))","v":""},"X","Artesanato2026",{"$f":"IF(aux_cadastros!$A$4=\"\",\"\",aux_cadastros!$A$4)","v":"Artesanato"},{"$f":"IFERROR((VLOOKUP(G274,questionario!$C$47:$D$66,2,0)),\"\")","v":""},{"$f":"IFERROR((VLOOKUP(G274,questionario!$Q$47:$R$66,2,0)),\"\")","v":""},{"$f":"J273","v":2026},{"$f":"IF(G274=\"\",\"\",(IFERROR((INDEX(questionario!$A$23:$N$42,(MATCH((dados_exp!$G274&\"R$\"),questionario!$A$23:$A$42,0)),(MATCH(dados_exp!$J274,questionario!$A$22:$N$22,0)))),\"\")))","v":""},{"$f":"IF(G274=\"\",\"\",(IFERROR((INDEX(questionario!$Q$22:$AB$42,(MATCH(dados_exp!$G274,questionario!$Q$22:$Q$42,0)),(MATCH(dados_exp!$J274,questionario!$Q$22:$AB$22,0)))),\"\")))","v":""},{"$f":"IFERROR((INDEX(questionario!$B$47:$N$66,(MATCH((dados_exp!$G274&dados_exp!$H274),questionario!$B$47:$B$66,0)),(MATCH(dados_exp!$J274,questionario!$B$46:$N$46,0)))),\"\")","v":""},{"$f":"IFERROR((INDEX(questionario!$O$47:$AB$66,(MATCH((dados_exp!$G274&dados_exp!$I274),questionario!$O$47:$O$66,0)),(MATCH(dados_exp!$J274,questionario!$O$46:$AB$46,0)))),\"\")","v":""},"X",null,null,null,"X",null,null,null,"X",null,null,null,null,null,"X",null,null,null,"X"]
[{"$f":"IF(G275=\"\",\"\",(IF(questionario!$C$8=\"\",\"\",questionario!$C$8)))","v":""},{"$f":"IF(G275=\"\",\"\",(IF(questionario!$C$15=\"\",\"\",questionario!$C$15)))","v":""},{"$f":"IF(G275=\"\",\"\",(IF(questionario!$L$8=\"\",\"\",questionario!$L$8)))","v":""},{"$f":"IF(C275=\"\",\"\",(IF(questionario!$L$11=\"\",\"\",questionario!$L$11)))","v":""},"X","Babaçu2026",{"$f":"IF(aux_cadastros!$A$5=\"\",\"\",aux_cadastros!$A$5)","v":"Babaçu"},{"$f":"IFERROR((VLOOKUP(G275,questionario!$C$47:$D$66,2,0)),\"\")","v":""},{"$f":"IFERROR((VLOOKUP(G275,questionario!$Q$47:$R$66,2,0)),\"\")","v":""},2026,{"$f":"IF(G275=\"\",\"\",(IFERROR((INDEX(questionario!$A$23:$N$42,(MATCH((dados_exp!$G275&\"R$\"),questionario!$A$23:$A$42,0)),(MATCH(dados_exp!$J275,questionario!$A$22:$N$22,0)))),\"\")))","v":""},{"$f":"IF(G275=\"\",\"\",(IFERROR((INDEX(questionario!$Q$22:$AB$42,(MATCH(dados_exp!$G275,questionario!$Q$22:$Q$42,0)),(MATCH(dados_exp!$J275,questionario!$Q$22:$AB$22,0)))),\"\")))","v":""},{"$f":"IFERROR((INDEX(questionario!$B$47:$N$66,(MATCH((dados_exp!$G275&dados_exp!$H275),questionario!$B$47:$B$66,0)),(MATCH(dados_exp!$J275,questionario!$B$46:$N$46,0)))),\"\")","v":""},{"$f":"IFERROR((INDEX(questionario!$O$47:$AB$66,(MATCH((dados_exp!$G275&dados_exp!$I275),questionario!$O$47:$O$66,0)),(MATCH(dados_exp!$J275,questionario!$O$46:$AB$46,0)))),\"\")","v":""},"X",null,null,null,"X",null,null,null,"X",null,null,null,null,null,"X",null,null,null,"X"]
[{"$f":"IF(G276=\"\",\"\",(IF(questionario!$C$8=\"\",\"\",questionario!$C$8)))","v":""},{"$f":"IF(G276=\"\",\"\",(IF(questionario!$C$15=\"\",\"\",questionario!$C$15)))","v":""},{"$f":"IF(G276=\"\",\"\",(IF(questionario!$L$8=\"\",\"\",questionario!$L$8)))","v":""},{"$f":"IF(C276=\"\",\"\",(IF(questionario!$L$11=\"\",\"\",questionario!$L$11)))","v":""},"X","Borrachas2026",{"$f":"IF(aux_cadastros!$A$6=\"\",\"\",aux_cadastros!$A$6)","v":"Borrachas"},{"$f":"IFERROR((VLOOKUP(G276,questionario!$C$47:$D$66,2,0)),\"\")","v":""},{"$f":"IFERROR((VLOOKUP(G276,questionario!$Q$47:$R$66,2,0)),\"\")","v":""},2026,{"$f":"IF(G276=\"\",\"\",(IFERROR((INDEX(questionario!$A$23:$N$42,(MATCH((dados_exp!$G276&\"R$\"),questionario!$A$23:$A$42,0)),(MATCH(dados_exp!$J276,questionario!$A$22:$N$22,0)))),\"\")))","v":""},{"$f":"IF(G276=\"\",\"\",(IFERROR((INDEX(questionario!$Q$22:$AB$42,(MATCH(dados_exp!$G276,questionario!$Q$22:$Q$42,0)),(MATCH(dados_exp!$J276,questionario!$Q$22:$AB$22,0)))),\"\")))","v":""},{"$f":"IFERROR((INDEX(questionario!$B$47:$N$66,(MATCH((dados_exp!$G276&dados_exp!$H276),questionario!$B$47:$B$66,0)),(MATCH(dados_exp!$J276,questionario!$B$46:$N$46,0)))),\"\")","v":""},{"$f":"IFERROR((INDEX(questionario!$O$47:$AB$66,(MATCH((dados_exp!$G276&dados_exp!$I276),questionario!$O$47:$O$66,0)),(MATCH(dados_exp!$J276,questionario!$O$46:$AB$46,0)))),\"\")","v":""},"X",null,null,null,"X",null,null,null,"X",null,null,null,null,null,"X",null,null,null,"X"]
[{"$f":"IF(G277=\"\",\"\",(IF(questionario!$C$8=\"\",\"\",questionario!$C$8)))","v":""},{"$f":"IF(G277=\"\",\"\",(IF(questionario!$C$15=\"\",\"\",questionario!$C$15)))","v":""},{"$f":"IF(G277=\"\",\"\",(IF(questionario!$L$8=\"\",\"\",questionario!$L$8)))","v":""},{"$f":"IF(C277=\"\",\"\",(IF(questionario!$L$11=\"\",\"\",questionario!$L$11)))","v":""},"X","Cacau2026",{"$f":"IF(aux_cadastros!$A$7=\"\",\"\",aux_cadastros!$A$7)","v":"Cacau"},{"$f":"IFERROR((VLOOKUP(G277,questionario!$C$47:$D$66,2,0)),\"\")","v":""},{"$f":"IFERROR((VLOOKUP(G277,questionario!$Q$47:$R$66,2,0)),\"\")","v":""},2026,{"$f":"IF(G277=\"\",\"\",(IFERROR((INDEX(questionario!$A$23:$N$42,(MATCH((dados_exp!$G277&\"R$\"),questionario!$A$23:$A$42,0)),(MATCH(dados_exp!$J277,questionario!$A$22:$N$22,0)))),\"\")))","v":""},{"$f":"IF(G277=\"\",\"\",(IFERROR((INDEX(questionario!$Q$22:$AB$42,(MATCH(dados_exp!$G277,questionario!$Q$22:$Q$42,0)),(MATCH(dados_exp!$J277,questionario!$Q$22:$AB$22,0)))),\"\")))","v":""},{"$f":"IFERROR((INDEX(questionario!$B$47:$N$66,(MATCH((dados_exp!$G277&dados_exp!$H277),questionario!$B$47:$B$66,0)),(MATCH(dados_exp!$J277,questionario!$B$46:$N$46,0)))),\"\")","v":""},{"$f":"IFERROR((INDEX(questionario!$O$47:$AB$66,(MATCH((dados_exp!$G277&dados_exp!$I277),questionario!$O$47:$O$66,0)),(MATCH(dados_exp!$J277,questionario!$O$46:$AB$46,0)))),\"\")","v":""},"X",null,null,null,"X",null,null,null,"X",null,null,null,null,null,"X",null,null,null,"X"]
[{"$f":"IF(G278=\"\",\"\",(IF(questionario!$C$8=\"\",\"\",questionario!$C$8)))","v":""},{"$f":"IF(G278=\"\",\"\",(IF(questionario!$C$15=\"\",\"\",questionario!$C$15)))","v":""},{"$f":"IF(G278=\"\",\"\",(IF(questionario!$L$8=\"\",\"\",questionario!$L$8)))","v":""},{"$f":"IF(C278=\"\",\"\",(IF(questionario!$L$11=\"\",\"\",questionario!$L$11)))","v":""},"X","Castanha2026",{"$f":"IF(aux_cadastros!$A$8=\"\",\"\",aux_cadastros!$A$8)","v":"Castanha"},{"$f":"IFERROR((VLOOKUP(G278,questionario!$C$47:$D$66,2,0)),\"\")","v":""},{"$f":"IFERROR((VLOOKUP(G278,questionario!$Q$47:$R$66,2,0)),\"\")","v":""},2026,{"$f":"IF(G278=\"\",\"\",(IFERROR((INDEX(questionario!$A$23:$N$42,(MATCH((dados_exp!$G278&\"R$\"),questionario!$A$23:$A$42,0)),(MATCH(dados_exp!$J278,questionario!$A$22:$N$22,0)))),\"\")))","v":""},{"$f":"IF(G278=\"\",\"\",(IFERROR((INDEX(questionario!$Q$22:$AB$42,(MATCH(dados_exp!$G278,questionario!$Q$22:$Q$42,0)),(MATCH(dados_exp!$J278,questionario!$Q$22:$AB$22,0)))),\"\")))","v":""},{"$f":"IFERROR((INDEX(questionario!$B$47:$N$66,(MATCH((dados_exp!$G278&dados_exp!$H278),questionario!$B$47:$B$66,0)),(MATCH(dados_exp!$J278,questionario!$B$46:$N$46,0)))),\"\")","v":""},{"$f":"IFERROR((INDEX(questionario!$O$47:$AB$66,(MATCH((dados_exp!$G278&dados_exp!$I278),questionario!$O$47:$O$66,0)),(MATCH(dados_exp!$J278,questionario!$O$46:$AB$46,0)))),\"\")","v":""},"X",null,null,null,"X",null,null,null,"X",null,null,null,null,null,"X",null,null,null,"X"]
[{"$f":"IF(G279=\"\",\"\",(IF(questionario!$C$8=\"\",\"\",questionario!$C$8)))","v":""},{"$f":"IF(G279=\"\",\"\",(IF(questionario!$C$15=\"\",\"\",questionario!$C$15)))","v":""},{"$f":"IF(G279=\"\",\"\",(IF(questionario!$L$8=\"\",\"\",questionario!$L$8)))","v":""},{"$f":"IF(C279=\"\",\"\",(IF(questionario!$L$11=\"\",\"\",questionario!$L$11)))","v":""},"X","Copaíba2026",{"$f":"IF(aux_cadastros!$A$9=\"\",\"\",aux_cadastros!$A$9)","v":"Copaíba"},{"$f":"IFERROR((VLOOKUP(G279,questionario!$C$47:$D$66,2,0)),\"\")","v":""},{"$f":"IFERROR((VLOOKUP(G279,questionario!$Q$47:$R$66,2,0)),\"\")","v":""},2026,{"$f":"IF(G279=\"\",\"\",(IFERROR((INDEX(questionario!$A$23:$N$42,(MATCH((dados_exp!$G279&\"R$\"),questionario!$A$23:$A$42,0)),(MATCH(dados_exp!$J279,questionario!$A$22:$N$22,0)))),\"\")))","v":""},{"$f":"IF(G279=\"\",\"\",(IFERROR((INDEX(questionario!$Q$22:$AB$42,(MATCH(dados_exp!$G279,questionario!$Q$22:$Q$42,0)),(MATCH(dados_exp!$J279,questionario!$Q$22:$AB$22,0)))),\"\")))","v":""},{"$f":"IFERROR((INDEX(questionario!$B$47:$N$66,(MATCH((dados_exp!$G279&dados_exp!$H279),questionario!$B$47:$B$66,0)),(MATCH(dados_exp!$J279,questionario!$B$46:$N$46,0)))),\"\")","v":""},{"$f":"IFERROR((INDEX(questionario!$O$47:$AB$66,(MATCH((dados_exp!$G279&dados_exp!$I279),questionario!$O$47:$O$66,0)),(MATCH(dados_exp!$J279,questionario!$O$46:$AB$46,0)))),\"\")","v":""},"X",null,null,null,"X",null,null,null,"X",null,null,null,null,null,"X",null,null,null,"X"]
[{"$f":"IF(G280=\"\",\"\",(IF(questionario!$C$8=\"\",\"\",questionario!$C$8)))","v":""},{"$f":"IF(G280=\"\",\"\",(IF(questionario!$C$15=\"\",\"\",questionario!$C$15)))","v":""},{"$f":"IF(G280=\"\",\"\",(IF(questionario!$L$8=\"\",\"\",questionario!$L$8)))","v":""},{"$f":"IF(C280=\"\",\"\",(IF(questionario!$L$11=\"\",\"\",questionario!$L$11)))","v":""},"X","Fibras2026",{"$f":"IF(aux_cadastros!$A$10=\"\",\"\",aux_cadastros!$A$10)","v":"Fibras"},{"$f":"IFERROR((VLOOKUP(G280,questionario!$C$47:$D$66,2,0)),\"\")","v":""},{"$f":"IFERROR((VLOOKUP(G280,questionario!$Q$47:$R$66,2,0)),\"\")","v":""},2026,{"$f":"IF(G280=\"\",\"\",(IFERROR((INDEX(questionario!$A$23:$N$42,(MATCH((dados_exp!$G280&\"R$\"),questionario!$A$23:$A$42,0)),(MATCH(dados_exp!$J280,questionario!$A$22:$N$22,0)))),\"\")))","v":""},{"$f":"IF(G280=\"\",\"\",(IFERROR((INDEX(questionario!$Q$22:$AB$42,(MATCH(dados_exp!$G280,questionario!$Q$22:$Q$42,0)),(MATCH(dados_exp!$J280,questionario!$Q$22:$AB$22,0)))),\"\")))","v":""},{"$f":"IFERROR((INDEX(questionario!$B$47:$N$66,(MATCH((dados_exp!$G280&dados_exp!$H280),questionario!$B$47:$B$66,0)),(MATCH(dados_exp!$J280,questionario!$B$46:$N$46,0)))),\"\")","v":""},{"$f":"IFERROR((INDEX(questionario!$O$47:$AB$66,(MATCH((dados_exp!$G280&dados_exp!$I280),questionario!$O$47:$O$66,0)),(MATCH(dados_exp!$J280,questionario!$O$46:$AB$46,0)))),\"\")","v":""},"X",null,null,null,"X",null,null,null,"X",null,null,null,null,null,"X",null,null,null,"X"]
[{"$f":"IF(G281=\"\",\"\",(IF(questionario!$C$8=\"\",\"\",questionario!$C$8)))","v":""},{"$f":"IF(G281=\"\",\"\",(IF(questionario!$C$15=\"\",\"\",questionario!$C$15)))","v":""},{"$f":"IF(G281=\"\",\"\",(IF(questionario!$L$8=\"\",\"\",questionario!$L$8)))","v":""},{"$f":"IF(C281=\"\",\"\",(IF(questionario!$L$11=\"\",\"\",questionario!$L$11)))","v":""},"X","Guaraná2026",{"$f":"IF(aux_cadastros!$A$11=\"\",\"\",aux_cadastros!$A$11)","v":"Guaraná"},{"$f":"IFERROR((VLOOKUP(G281,questionario!$C$47:$D$66,2,0)),\"\")","v":""},{"$f":"IFERROR((VLOOKUP(G281,questionario!$Q$47:$R$66,2,0)),\"\")","v":""},2026,{"$f":"IF(G281=\"\",\"\",(IFERROR((INDEX(questionario!$A$23:$N$42,(MATCH((dados_exp!$G281&\"R$\"),questionario!$A$23:$A$42,0)),(MATCH(dados_exp!$J281,questionario!$A$22:$N$22,0)))),\"\")))","v":""},{"$f":"IF(G281=\"\",\"\",(IFERROR((INDEX(questionario!$Q$22:$AB$42,(MATCH(dados_exp!$G281,questionario!$Q$22:$Q$42,0)),(MATCH(dados_exp!$J281,questionario!$Q$22:$AB$22,0)))),\"\")))","v":""},{"$f":"IFERROR((INDEX(questionario!$B$47:$N$66,(MATCH((dados_exp!$G281&dados_exp!$H281),questionario!$B$47:$B$66,0)),(MATCH(dados_exp!$J281,questionario!$B$46:$N$46,0)))),\"\")","v":""},{"$f":"IFERROR((INDEX(questionario!$O$47:$AB$66,(MATCH((dados_exp!$G281&dados_exp!$I281),questionario!$O$47:$O$66,0)),(MATCH(dados_exp!$J281,questionario!$O$46:$AB$46,0)))),\"\")","v":""},"X",null,null,null,"X",null,null,null,"X",null,null,null,null,null,"X",null,null,null,"X"]
[{"$f":"IF(G282=\"\",\"\",(IF(questionario!$C$8=\"\",\"\",questionario!$C$8)))","v":""},{"$f":"IF(G282=\"\",\"\",(IF(questionario!$C$15=\"\",\"\",questionario!$C$15)))","v":""},{"$f":"IF(G282=\"\",\"\",(IF(questionario!$L$8=\"\",\"\",questionario!$L$8)))","v":""},{"$f":"IF(C282=\"\",\"\",(IF(questionario!$L$11=\"\",\"\",questionario!$L$11)))","v":""},"X","Madeira2026",{"$f":"IF(aux_cadastros!$A$12=\"\",\"\",aux_cadastros!$A$12)","v":"Madeira"},{"$f":"IFERROR((VLOOKUP(G282,questionario!$C$47:$D$66,2,0)),\"\")","v":""},{"$f":"IFERROR((VLOOKUP(G282,questionario!$Q$47:$R$66,2,0)),\"\")","v":""},2026,{"$f":"IF(G282=\"\",\"\",(IFERROR((INDEX(questionario!$A$23:$N$42,(MATCH((dados_exp!$G282&\"R$\"),questionario!$A$23:$A$42,0)),(MATCH(dados_exp!$J282,questionario!$A$22:$N$22,0)))),\"\")))","v":""},{"$f":"IF(G282=\"\",\"\",(IFERROR((INDEX(questionario!$Q$22:$AB$42,(MATCH(dados_exp!$G282,questionario!$Q$22:$Q$42,0)),(MATCH(dados_exp!$J282,questionario!$Q$22:$AB$22,0)))),\"\")))","v":""},{"$f":"IFERROR((INDEX(questionario!$B$47:$N$66,(MATCH((dados_exp!$G282&dados_exp!$H282),questionario!$B$47:$B$66,0)),(MATCH(dados_exp!$J282,questionario!$B$46:$N$46,0)))),\"\")","v":""},{"$f":"IFERROR((INDEX(questionario!$O$47:$AB$66,(MATCH((dados_exp!$G282&dados_exp!$I282),questionario!$O$47:$O$66,0)),(MATCH(dados_exp!$J282,questionario!$O$46:$AB$46,0)))),\"\")","v":""},"X",null,null,null,"X",null,null,null,"X",null,null,null,null,null,"X",null,null,null,"X"]
[{"$f":"IF(G283=\"\",\"\",(IF(questionario!$C$8=\"\",\"\",questionario!$C$8)))","v":""},{"$f":"IF(G283=\"\",\"\",(IF(questionario!$C$15=\"\",\"\",questionario!$C$15)))","v":""},{"$f":"IF(G283=\"\",\"\",(IF(questionario!$L$8=\"\",\"\",questionario!$L$8)))","v":""},{"$f":"IF(C283=\"\",\"\",(IF(questionario!$L$11=\"\",\"\",questionario!$L$11)))","v":""},"X","Mel2026",{"$f":"IF(aux_cadastros!$A$13=\"\",\"\",aux_cadastros!$A$13)","v":"Mel"},{"$f":"IFERROR((VLOOKUP(G283,questionario!$C$47:$D$66,2,0)),\"\")","v":""},{"$f":"IFERROR((VLOOKUP(G283,questionario!$Q$47:$R$66,2,0)),\"\")","v":""},2026,{"$f":"IF(G283=\"\",\"\",(IFERROR((INDEX(questionario!$A$23:$N$42,(MATCH((dados_exp!$G283&\"R$\"),questionario!$A$23:$A$42,0)),(MATCH(dados_exp!$J283,questionario!$A$22:$N$22,0)))),\"\")))","v":""},{"$f":"IF(G283=\"\",\"\",(IFERROR((INDEX(questionario!$Q$22:$AB$42,(MATCH(dados_exp!$G283,questionario!$Q$22:$Q$42,0)),(MATCH(dados_exp!$J283,questionario!$Q$22:$AB$22,0)))),\"\")))","v":""},{"$f":"IFERROR((INDEX(questionario!$B$47:$N$66,(MATCH((dados_exp!$G283&dados_exp!$H283),questionario!$B$47:$B$66,0)),(MATCH(dados_exp!$J283,questionario!$B$46:$N$46,0)))),\"\")","v":""},{"$f":"IFERROR((INDEX(questionario!$O$47:$AB$66,(MATCH((dados_exp!$G283&dados_exp!$I283),questionario!$O$47:$O$66,0)),(MATCH(dados_exp!$J283,questionario!$O$46:$AB$46,0)))),\"\")","v":""},"X",null,null,null,"X",null,null,null,"X",null,null,null,null,null,"X",null,null,null,"X"]
[{"$f":"IF(G284=\"\",\"\",(IF(questionario!$C$8=\"\",\"\",questionario!$C$8)))","v":""},{"$f":"IF(G284=\"\",\"\",(IF(questionario!$C$15=\"\",\"\",questionario!$C$15)))","v":""},{"$f":"IF(G284=\"\",\"\",(IF(questionario!$L$8=\"\",\"\",questionario!$L$8)))","v":""},{"$f":"IF(C284=\"\",\"\",(IF(questionario!$L$11=\"\",\"\",questionario!$L$11)))","v":""},"X","Oleaginosas2026",{"$f":"IF(aux_cadastros!$A$14=\"\",\"\",aux_cadastros!$A$14)","v":"Oleaginosas"},{"$f":"IFERROR((VLOOKUP(G284,questionario!$C$47:$D$66,2,0)),\"\")","v":""},{"$f":"IFERROR((VLOOKUP(G284,questionario!$Q$47:$R$66,2,0)),\"\")","v":""},2026,{"$f":"IF(G284=\"\",\"\",(IFERROR((INDEX(questionario!$A$23:$N$42,(MATCH((dados_exp!$G284&\"R$\"),questionario!$A$23:$A$42,0)),(MATCH(dados_exp!$J284,questionario!$A$22:$N$22,0)))),\"\")))","v":""},{"$f":"IF(G284=\"\",\"\",(IFERROR((INDEX(questionario!$Q$22:$AB$42,(MATCH(dados_exp!$G284,questionario!$Q$22:$Q$42,0)),(MATCH(dados_exp!$J284,questionario!$Q$22:$AB$22,0)))),\"\")))","v":""},{"$f":"IFERROR((INDEX(questionario!$B$47:$N$66,(MATCH((dados_exp!$G284&dados_exp!$H284),questionario!$B$47:$B$66,0)),(MATCH(dados_exp!$J284,questionario!$B$46:$N$46,0)))),\"\")","v":""},{"$f":"IFERROR((INDEX(questionario!$O$47:$AB$66,(MATCH((dados_exp!$G284&dados_exp!$I284),questionario!$O$47:$O$66,0)),(MATCH(dados_exp!$J284,questionario!$O$46:$AB$46,0)))),\"\")","v":""},"X",null,null,null,"X",null,null,null,"X",null,null,null,null,null,"X",null,null,null,"X"]
[{"$f":"IF(G285=\"\",\"\",(IF(questionario!$C$8=\"\",\"\",questionario!$C$8)))","v":""},{"$f":"IF(G285=\"\",\"\",(IF(questionario!$C$15=\"\",\"\",questionario!$C$15)))","v":""},{"$f":"IF(G285=\"\",\"\",(IF(questionario!$L$8=\"\",\"\",questionario!$L$8)))","v":""},{"$f":"IF(C285=\"\",\"\",(IF(questionario!$L$11=\"\",\"\",questionario!$L$11)))","v":""},"X","Óleos2026",{"$f":"IF(aux_cadastros!$A$15=\"\",\"\",aux_cadastros!$A$15)","v":"Óleos"},{"$f":"IFERROR((VLOOKUP(G285,questionario!$C$47:$D$66,2,0)),\"\")","v":""},{"$f":"IFERROR((VLOOKUP(G285,questionario!$Q$47:$R$66,2,0)),\"\")","v":""},2026,{"$f":"IF(G285=\"\",\"\",(IFERROR((INDEX(questionario!$A$23:$N$42,(MATCH((dados_exp!$G285&\"R$\"),questionario!$A$23:$A$42,0)),(MATCH(dados_exp!$J285,questionario!$A$22:$N$22,0)))),\"\")))","v":""},{"$f":"IF(G285=\"\",\"\",(IFERROR((INDEX(questionario!$Q$22:$AB$42,(MATCH(dados_exp!$G285,questionario!$Q$22:$Q$42,0)),(MATCH(dados_exp!$J285,questionario!$Q$22:$AB$22,0)))),\"\")))","v":""},{"$f":"IFERROR((INDEX(questionario!$B$47:$N$66,(MATCH((dados_exp!$G285&dados_exp!$H285),questionario!$B$47:$B$66,0)),(MATCH(dados_exp!$J285,questionario!$B$46:$N$46,0)))),\"\")","v":""},{"$f":"IFERROR((INDEX(questionario!$O$47:$AB$66,(MATCH((dados_exp!$G285&dados_exp!$I285),questionario!$O$47:$O$66,0)),(MATCH(dados_exp!$J285,questionario!$O$46:$AB$46,0)))),\"\")","v":""},"X",null,null,null,"X",null,null,null,"X",null,null,null,null,null,"X",null,null,null,"X"]
[{"$f":"IF(G286=\"\",\"\",(IF(questionario!$C$8=\"\",\"\",questionario!$C$8)))","v":""},{"$f":"IF(G286=\"\",\"\",(IF(questionario!$C$15=\"\",\"\",questionario!$C$15)))","v":""},{"$f":"IF(G286=\"\",\"\",(IF(questionario!$L$8=\"\",\"\",questionario!$L$8)))","v":""},{"$f":"IF(C286=\"\",\"\",(IF(questionario!$L$11=\"\",\"\",questionario!$L$11)))","v":""},"X","Pescado2026",{"$f":"IF(aux_cadastros!$A$16=\"\",\"\",aux_cadastros!$A$16)","v":"Pescado"},{"$f":"IFERROR((VLOOKUP(G286,questionario!$C$47:$D$66,2,0)),\"\")","v":""},{"$f":"IFERROR((VLOOKUP(G286,questionario!$Q$47:$R$66,2,0)),\"\")","v":""},2026,{"$f":"IF(G286=\"\",\"\",(IFERROR((INDEX(questionario!$A$23:$N$42,(MATCH((dados_exp!$G286&\"R$\"),questionario!$A$23:$A$42,0)),(MATCH(dados_exp!$J286,questionario!$A$22:$N$22,0)))),\"\")))","v":""},{"$f":"IF(G286=\"\",\"\",(IFERROR((INDEX(questionario!$Q$22:$AB$42,(MATCH(dados_exp!$G286,questionario!$Q$22:$Q$42,0)),(MATCH(dados_exp!$J286,questionario!$Q$22:$AB$22,0)))),\"\")))","v":""},{"$f":"IFERROR((INDEX(questionario!$B$47:$N$66,(MATCH((dados_exp!$G286&dados_exp!$H286),questionario!$B$47:$B$66,0)),(MATCH(dados_exp!$J286,questionario!$B$46:$N$46,0)))),\"\")","v":""},{"$f":"IFERROR((INDEX(questionario!$O$47:$AB$66,(MATCH((dados_exp!$G286&dados_exp!$I286),questionario!$O$47:$O$66,0)),(MATCH(dados_exp!$J286,questionario!$O$46:$AB$46,0)))),\"\")","v":""},"X",null,null,null,"X",null,null,null,"X",null,null,null,null,null,"X",null,null,null,"X"]
[{"$f":"IF(G287=\"\",\"\",(IF(questionario!$C$8=\"\",\"\",questionario!$C$8)))","v":""},{"$f":"IF(G287=\"\",\"\",(IF(questionario!$C$15=\"\",\"\",questionario!$C$15)))","v":""},{"$f":"IF(G287=\"\",\"\",(IF(questionario!$L$8=\"\",\"\",questionario!$L$8)))","v":""},{"$f":"IF(C287=\"\",\"\",(IF(questionario!$L$11=\"\",\"\",questionario!$L$11)))","v":""},"X","Turismo2026",{"$f":"IF(aux_cadastros!$A$17=\"\",\"\",aux_cadastros!$A$17)","v":"Turismo"},{"$f":"IFERROR((VLOOKUP(G287,questionario!$C$47:$D$66,2,0)),\"\")","v":""},{"$f":"IFERROR((VLOOKUP(G287,questionario!$Q$47:$R$66,2,0)),\"\")","v":""},2026,{"$f":"IF(G287=\"\",\"\",(IFERROR((INDEX(questionario!$A$23:$N$42,(MATCH((dados_exp!$G287&\"R$\"),questionario!$A$23:$A$42,0)),(MATCH(dados_exp!$J287,questionario!$A$22:$N$22,0)))),\"\")))","v":""},{"$f":"IF(G287=\"\",\"\",(IFERROR((INDEX(questionario!$Q$22:$AB$42,(MATCH(dados_exp!$G287,questionario!$Q$22:$Q$42,0)),(MATCH(dados_exp!$J287,questionario!$Q$22:$AB$22,0)))),\"\")))","v":""},{"$f":"IFERROR((INDEX(questionario!$B$47:$N$66,(MATCH((dados_exp!$G287&dados_exp!$H287),questionario!$B$47:$B$66,0)),(MATCH(dados_exp!$J287,questionario!$B$46:$N$46,0)))),\"\")","v":""},{"$f":"IFERROR((INDEX(questionario!$O$47:$AB$66,(MATCH((dados_exp!$G287&dados_exp!$I287),questionario!$O$47:$O$66,0)),(MATCH(dados_exp!$J287,questionario!$O$46:$AB$46,0)))),\"\")","v":""},"X",null,null,null,"X",null,null,null,"X",null,null,null,null,null,"X",null,null,null,"X"]
[{"$f":"IF(G288=\"\",\"\",(IF(questionario!$C$8=\"\",\"\",questionario!$C$8)))","v":""},{"$f":"IF(G288=\"\",\"\",(IF(questionario!$C$15=\"\",\"\",questionario!$C$15)))","v":""},{"$f":"IF(G288=\"\",\"\",(IF(questionario!$L$8=\"\",\"\",questionario!$L$8)))","v":""},{"$f":"IF(C288=\"\",\"\",(IF(questionario!$L$11=\"\",\"\",questionario!$L$11)))","v":""},"X","Agricultura de base familiar2026",{"$f":"IF(aux_cadastros!$A$18=\"\",\"\",aux_cadastros!$A$18)","v":"Agricultura de base familiar"},{"$f":"IFERROR((VLOOKUP(G288,questionario!$C$47:$D$66,2,0)),\"\")","v":""},{"$f":"IFERROR((VLOOKUP(G288,questionario!$Q$47:$R$66,2,0)),\"\")","v":""},2026,{"$f":"IF(G288=\"\",\"\",(IFERROR((INDEX(questionario!$A$23:$N$42,(MATCH((dados_exp!$G288&\"R$\"),questionario!$A$23:$A$42,0)),(MATCH(dados_exp!$J288,questionario!$A$22:$N$22,0)))),\"\")))","v":""},{"$f":"IF(G288=\"\",\"\",(IFERROR((INDEX(questionario!$Q$22:$AB$42,(MATCH(dados_exp!$G288,questionario!$Q$22:$Q$42,0)),(MATCH(dados_exp!$J288,questionario!$Q$22:$AB$22,0)))),\"\")))","v":""},{"$f":"IFERROR((INDEX(questionario!$B$47:$N$66,(MATCH((dados_exp!$G288&dados_exp!$H288),questionario!$B$47:$B$66,0)),(MATCH(dados_exp!$J288,questionario!$B$46:$N$46,0)))),\"\")","v":""},{"$f":"IFERROR((INDEX(questionario!$O$47:$AB$66,(MATCH((dados_exp!$G288&dados_exp!$I288),questionario!$O$47:$O$66,0)),(MATCH(dados_exp!$J288,questionario!$O$46:$AB$46,0)))),\"\")","v":""},"X",null,null,null,"X",null,null,null,"X",null,null,null,null,null,"X",null,null,null,"X"]
[{"$f":"IF(G289=\"\",\"\",(IF(questionario!$C$8=\"\",\"\",questionario!$C$8)))","v":""},{"$f":"IF(G289=\"\",\"\",(IF(questionario!$C$15=\"\",\"\",questionario!$C$15)))","v":""},{"$f":"IF(G289=\"\",\"\",(IF(questionario!$L$8=\"\",\"\",questionario!$L$8)))","v":""},{"$f":"IF(C289=\"\",\"\",(IF(questionario!$L$11=\"\",\"\",questionario!$L$11)))","v":""},"X","Pirarucu2026",{"$f":"IF(aux_cadastros!$A$19=\"\",\"\",aux_cadastros!$A$19)","v":"Pirarucu"},{"$f":"IFERROR((VLOOKUP(G289,questionario!$C$47:$D$66,2,0)),\"\")","v":""},{"$f":"IFERROR((VLOOKUP(G289,questionario!$Q$47:$R$66,2,0)),\"\")","v":""},2026,{"$f":"IF(G289=\"\",\"\",(IFERROR((INDEX(questionario!$A$23:$N$42,(MATCH((dados_exp!$G289&\"R$\"),questionario!$A$23:$A$42,0)),(MATCH(dados_exp!$J289,questionario!$A$22:$N$22,0)))),\"\")))","v":""},{"$f":"IF(G289=\"\",\"\",(IFERROR((INDEX(questionario!$Q$22:$AB$42,(MATCH(dados_exp!$G289,questionario!$Q$22:$Q$42,0)),(MATCH(dados_exp!$J289,questionario!$Q$22:$AB$22,0)))),\"\")))","v":""},{"$f":"IFERROR((INDEX(questionario!$B$47:$N$66,(MATCH((dados_exp!$G289&dados_exp!$H289),questionario!$B$47:$B$66,0)),(MATCH(dados_exp!$J289,questionario!$B$46:$N$46,0)))),\"\")","v":""},{"$f":"IFERROR((INDEX(questionario!$O$47:$AB$66,(MATCH((dados_exp!$G289&dados_exp!$I289),questionario!$O$47:$O$66,0)),(MATCH(dados_exp!$J289,questionario!$O$46:$AB$46,0)))),\"\")","v":""},"X",null,null,null,"X",null,null,null,"X",null,null,null,null,null,"X",null,null,null,"X"]
[{"$f":"IF(G290=\"\",\"\",(IF(questionario!$C$8=\"\",\"\",questionario!$C$8)))","v":""},{"$f":"IF(G290=\"\",\"\",(IF(questionario!$C$15=\"\",\"\",questionario!$C$15)))","v":""},{"$f":"IF(G290=\"\",\"\",(IF(questionario!$L$8=\"\",\"\",questionario!$L$8)))","v":""},{"$f":"IF(C290=\"\",\"\",(IF(questionario!$L$11=\"\",\"\",questionario!$L$11)))","v":""},"X","Bacalhau de Pirarucu2026",{"$f":"IF(aux_cadastros!$A$20=\"\",\"\",aux_cadastros!$A$20)","v":"Bacalhau de Pirarucu"},{"$f":"IFERROR((VLOOKUP(G290,questionario!$C$47:$D$66,2,0)),\"\")","v":""},{"$f":"IFERROR((VLOOKUP(G290,questionario!$Q$47:$R$66,2,0)),\"\")","v":""},2026,{"$f":"IF(G290=\"\",\"\",(IFERROR((INDEX(questionario!$A$23:$N$42,(MATCH((dados_exp!$G290&\"R$\"),questionario!$A$23:$A$42,0)),(MATCH(dados_exp!$J290,questionario!$A$22:$N$22,0)))),\"\")))","v":""},{"$f":"IF(G290=\"\",\"\",(IFERROR((INDEX(questionario!$Q$22:$AB$42,(MATCH(dados_exp!$G290,questionario!$Q$22:$Q$42,0)),(MATCH(dados_exp!$J290,questionario!$Q$22:$AB$22,0)))),\"\")))","v":""},{"$f":"IFERROR((INDEX(questionario!$B$47:$N$66,(MATCH((dados_exp!$G290&dados_exp!$H290),questionario!$B$47:$B$66,0)),(MATCH(dados_exp!$J290,questionario!$B$46:$N$46,0)))),\"\")","v":""},{"$f":"IFERROR((INDEX(questionario!$O$47:$AB$66,(MATCH((dados_exp!$G290&dados_exp!$I290),questionario!$O$47:$O$66,0)),(MATCH(dados_exp!$J290,questionario!$O$46:$AB$46,0)))),\"\")","v":""},"X",null,null,null,"X",null,null,null,"X",null,null,null,null,null,"X",null,null,null,"X"]
[{"$f":"IF(G291=\"\",\"\",(IF(questionario!$C$8=\"\",\"\",questionario!$C$8)))","v":""},{"$f":"IF(G291=\"\",\"\",(IF(questionario!$C$15=\"\",\"\",questionario!$C$15)))","v":""},{"$f":"IF(G291=\"\",\"\",(IF(questionario!$L$8=\"\",\"\",questionario!$L$8)))","v":""},{"$f":"IF(C291=\"\",\"\",(IF(questionario!$L$11=\"\",\"\",questionario!$L$11)))","v":""},"X","2026",{"$f":"IF(aux_cadastros!$A$21=\"\",\"\",aux_cadastros!$A$21)","v":""},{"$f":"IFERROR((VLOOKUP(G291,questionario!$C$47:$D$66,2,0)),\"\")","v":""},{"$f":"IFERROR((VLOOKUP(G291,questionario!$Q$47:$R$66,2,0)),\"\")","v":""},2026,{"$f":"IF(G291=\"\",\"\",(IFERROR((INDEX(questionario!$A$23:$N$42,(MATCH((dados_exp!$G291&\"R$\"),questionario!$A$23:$A$42,0)),(MATCH(dados_exp!$J291,questionario!$A$22:$N$22,0)))),\"\")))","v":""},{"$f":"IF(G291=\"\",\"\",(IFERROR((INDEX(questionario!$Q$22:$AB$42,(MATCH(dados_exp!$G291,questionario!$Q$22:$Q$42,0)),(MATCH(dados_exp!$J291,questionario!$Q$22:$AB$22,0)))),\"\")))","v":""},{"$f":"IFERROR((INDEX(questionario!$B$47:$N$66,(MATCH((dados_exp!$G291&dados_exp!$H291),questionario!$B$47:$B$66,0)),(MATCH(dados_exp!$J291,questionario!$B$46:$N$46,0)))),\"\")","v":""},{"$f":"IFERROR((INDEX(questionario!$O$47:$AB$66,(MATCH((dados_exp!$G291&dados_exp!$I291),questionario!$O$47:$O$66,0)),(MATCH(dados_exp!$J291,questionario!$O$46:$AB$46,0)))),\"\")","v":""},"X",null,null,null,"X",null,null,null,"X",null,null,null,null,null,"X",null,null,null,"X"]
[{"$f":"IF(G292=\"\",\"\",(IF(questionario!$C$8=\"\",\"\",questionario!$C$8)))","v":""},{"$f":"IF(G292=\"\",\"\",(IF(questionario!$C$15=\"\",\"\",questionario!$C$15)))","v":""},{"$f":"IF(G292=\"\",\"\",(IF(questionario!$L$8=\"\",\"\",questionario!$L$8)))","v":""},{"$f":"IF(C292=\"\",\"\",(IF(questionario!$L$11=\"\",\"\",questionario!$L$11)))","v":""},"X","2026",{"$f":"IF(aux_cadastros!$A$22=\"\",\"\",aux_cadastros!$A$22)","v":""},{"$f":"IFERROR((VLOOKUP(G292,questionario!$C$47:$D$66,2,0)),\"\")","v":""},{"$f":"IFERROR((VLOOKUP(G292,questionario!$Q$47:$R$66,2,0)),\"\")","v":""},2026,{"$f":"IF(G292=\"\",\"\",(IFERROR((INDEX(questionario!$A$23:$N$42,(MATCH((dados_exp!$G292&\"R$\"),questionario!$A$23:$A$42,0)),(MATCH(dados_exp!$J292,questionario!$A$22:$N$22,0)))),\"\")))","v":""},{"$f":"IF(G292=\"\",\"\",(IFERROR((INDEX(questionario!$Q$22:$AB$42,(MATCH(dados_exp!$G292,questionario!$Q$22:$Q$42,0)),(MATCH(dados_exp!$J292,questionario!$Q$22:$AB$22,0)))),\"\")))","v":""},{"$f":"IFERROR((INDEX(questionario!$B$47:$N$66,(MATCH((dados_exp!$G292&dados_exp!$H292),questionario!$B$47:$B$66,0)),(MATCH(dados_exp!$J292,questionario!$B$46:$N$46,0)))),\"\")","v":""},{"$f":"IFERROR((INDEX(questionario!$O$47:$AB$66,(MATCH((dados_exp!$G292&dados_exp!$I292),questionario!$O$47:$O$66,0)),(MATCH(dados_exp!$J292,questionario!$O$46:$AB$46,0)))),\"\")","v":""},"X",null,null,null,"X",null,null,null,"X",null,null,null,null,null,"X",null,null,null,"X"]
[{"$f":"IF(G293=\"\",\"\",(IF(questionario!$C$8=\"\",\"\",questionario!$C$8)))","v":""},{"$f":"IF(G293=\"\",\"\",(IF(questionario!$C$15=\"\",\"\",questionario!$C$15)))","v":""},{"$f":"IF(G293=\"\",\"\",(IF(questionario!$L$8=\"\",\"\",questionario!$L$8)))","v":""},{"$f":"IF(C293=\"\",\"\",(IF(questionario!$L$11=\"\",\"\",questionario!$L$11)))","v":""},"X","2026",{"$f":"IF(aux_cadastros!$A$23=\"\",\"\",aux_cadastros!$A$23)","v":""},{"$f":"IFERROR((VLOOKUP(G293,questionario!$C$47:$D$66,2,0)),\"\")","v":""},{"$f":"IFERROR((VLOOKUP(G293,questionario!$Q$47:$R$66,2,0)),\"\")","v":""},2026,{"$f":"IF(G293=\"\",\"\",(IFERROR((INDEX(questionario!$A$23:$N$42,(MATCH((dados_exp!$G293&\"R$\"),questionario!$A$23:$A$42,0)),(MATCH(dados_exp!$J293,questionario!$A$22:$N$22,0)))),\"\")))","v":""},{"$f":"IF(G293=\"\",\"\",(IFERROR((INDEX(questionario!$Q$22:$AB$42,(MATCH(dados_exp!$G293,questionario!$Q$22:$Q$42,0)),(MATCH(dados_exp!$J293,questionario!$Q$22:$AB$22,0)))),\"\")))","v":""},{"$f":"IFERROR((INDEX(questionario!$B$47:$N$66,(MATCH((dados_exp!$G293&dados_exp!$H293),questionario!$B$47:$B$66,0)),(MATCH(dados_exp!$J293,questionario!$B$46:$N$46,0)))),\"\")","v":""},{"$f":"IFERROR((INDEX(questionario!$O$47:$AB$66,(MATCH((dados_exp!$G293&dados_exp!$I293),questionario!$O$47:$O$66,0)),(MATCH(dados_exp!$J293,questionario!$O$46:$AB$46,0)))),\"\")","v":""},"X",null,null,null,"X",null,null,null,"X",null,null,null,null,null,"X",null,null,null,"X"]
[{"$f":"IF(G294=\"\",\"\",(IF(questionario!$C$8=\"\",\"\",questionario!$C$8)))","v":""},{"$f":"IF(G294=\"\",\"\",(IF(questionario!$C$15=\"\",\"\",questionario!$C$15)))","v":""},{"$f":"IF(G294=\"\",\"\",(IF(questionario!$L$8=\"\",\"\",questionario!$L$8)))","v":""},{"$f":"IF(C294=\"\",\"\",(IF(questionario!$L$11=\"\",\"\",questionario!$L$11)))","v":""},"X","2026",{"$f":"IF(aux_cadastros!$A$24=\"\",\"\",aux_cadastros!$A$24)","v":""},{"$f":"IFERROR((VLOOKUP(G294,questionario!$C$47:$D$66,2,0)),\"\")","v":""},{"$f":"IFERROR((VLOOKUP(G294,questionario!$Q$47:$R$66,2,0)),\"\")","v":""},2026,{"$f":"IF(G294=\"\",\"\",(IFERROR((INDEX(questionario!$A$23:$N$42,(MATCH((dados_exp!$G294&\"R$\"),questionario!$A$23:$A$42,0)),(MATCH(dados_exp!$J294,questionario!$A$22:$N$22,0)))),\"\")))","v":""},{"$f":"IF(G294=\"\",\"\",(IFERROR((INDEX(questionario!$Q$22:$AB$42,(MATCH(dados_exp!$G294,questionario!$Q$22:$Q$42,0)),(MATCH(dados_exp!$J294,questionario!$Q$22:$AB$22,0)))),\"\")))","v":""},{"$f":"IFERROR((INDEX(questionario!$B$47:$N$66,(MATCH((dados_exp!$G294&dados_exp!$H294),questionario!$B$47:$B$66,0)),(MATCH(dados_exp!$J294,questionario!$B$46:$N$46,0)))),\"\")","v":""},{"$f":"IFERROR((INDEX(questionario!$O$47:$AB$66,(MATCH((dados_exp!$G294&dados_exp!$I294),questionario!$O$47:$O$66,0)),(MATCH(dados_exp!$J294,questionario!$O$46:$AB$46,0)))),\"\")","v":""},"X",null,null,null,"X",null,null,null,"X",null,null,null,null,null,"X",null,null,null,"X"]
[{"$f":"IF(G295=\"\",\"\",(IF(questionario!$C$8=\"\",\"\",questionario!$C$8)))","v":""},{"$f":"IF(G295=\"\",\"\",(IF(questionario!$C$15=\"\",\"\",questionario!$C$15)))","v":""},{"$f":"IF(G295=\"\",\"\",(IF(questionario!$L$8=\"\",\"\",questionario!$L$8)))","v":""},{"$f":"IF(C295=\"\",\"\",(IF(questionario!$L$11=\"\",\"\",questionario!$L$11)))","v":""},"X","2026",{"$f":"IF(aux_cadastros!$A$25=\"\",\"\",aux_cadastros!$A$25)","v":""},{"$f":"IFERROR((VLOOKUP(G295,questionario!$C$47:$D$66,2,0)),\"\")","v":""},{"$f":"IFERROR((VLOOKUP(G295,questionario!$Q$47:$R$66,2,0)),\"\")","v":""},2026,{"$f":"IF(G295=\"\",\"\",(IFERROR((INDEX(questionario!$A$23:$N$42,(MATCH((dados_exp!$G295&\"R$\"),questionario!$A$23:$A$42,0)),(MATCH(dados_exp!$J295,questionario!$A$22:$N$22,0)))),\"\")))","v":""},{"$f":"IF(G295=\"\",\"\",(IFERROR((INDEX(questionario!$Q$22:$AB$42,(MATCH(dados_exp!$G295,questionario!$Q$22:$Q$42,0)),(MATCH(dados_exp!$J295,questionario!$Q$22:$AB$22,0)))),\"\")))","v":""},{"$f":"IFERROR((INDEX(questionario!$B$47:$N$66,(MATCH((dados_exp!$G295&dados_exp!$H295),questionario!$B$47:$B$66,0)),(MATCH(dados_exp!$J295,questionario!$B$46:$N$46,0)))),\"\")","v":""},{"$f":"IFERROR((INDEX(questionario!$O$47:$AB$66,(MATCH((dados_exp!$G295&dados_exp!$I295),questionario!$O$47:$O$66,0)),(MATCH(dados_exp!$J295,questionario!$O$46:$AB$46,0)))),\"\")","v":""},"X",null,null,null,"X",null,null,null,"X",null,null,null,null,null,"X",null,null,null,"X"]
[{"$f":"IF(G296=\"\",\"\",(IF(questionario!$C$8=\"\",\"\",questionario!$C$8)))","v":""},{"$f":"IF(G296=\"\",\"\",(IF(questionario!$C$15=\"\",\"\",questionario!$C$15)))","v":""},{"$f":"IF(G296=\"\",\"\",(IF(questionario!$L$8=\"\",\"\",questionario!$L$8)))","v":""},{"$f":"IF(C296=\"\",\"\",(IF(questionario!$L$11=\"\",\"\",questionario!$L$11)))","v":""},"X","2026",{"$f":"IF(aux_cadastros!$A$26=\"\",\"\",aux_cadastros!$A$26)","v":""},{"$f":"IFERROR((VLOOKUP(G296,questionario!$C$47:$D$66,2,0)),\"\")","v":""},{"$f":"IFERROR((VLOOKUP(G296,questionario!$Q$47:$R$66,2,0)),\"\")","v":""},2026,{"$f":"IF(G296=\"\",\"\",(IFERROR((INDEX(questionario!$A$23:$N$42,(MATCH((dados_exp!$G296&\"R$\"),questionario!$A$23:$A$42,0)),(MATCH(dados_exp!$J296,questionario!$A$22:$N$22,0)))),\"\")))","v":""},{"$f":"IF(G296=\"\",\"\",(IFERROR((INDEX(questionario!$Q$22:$AB$42,(MATCH(dados_exp!$G296,questionario!$Q$22:$Q$42,0)),(MATCH(dados_exp!$J296,questionario!$Q$22:$AB$22,0)))),\"\")))","v":""},{"$f":"IFERROR((INDEX(questionario!$B$47:$N$66,(MATCH((dados_exp!$G296&dados_exp!$H296),questionario!$B$47:$B$66,0)),(MATCH(dados_exp!$J296,questionario!$B$46:$N$46,0)))),\"\")","v":""},{"$f":"IFERROR((INDEX(questionario!$O$47:$AB$66,(MATCH((dados_exp!$G296&dados_exp!$I296),questionario!$O$47:$O$66,0)),(MATCH(dados_exp!$J296,questionario!$O$46:$AB$46,0)))),\"\")","v":""},"X",null,null,null,"X",null,null,null,"X",null,null,null,null,null,"X",null,null,null,"X"]
[{"$f":"IF(G297=\"\",\"\",(IF(questionario!$C$8=\"\",\"\",questionario!$C$8)))","v":""},{"$f":"IF(G297=\"\",\"\",(IF(questionario!$C$15=\"\",\"\",questionario!$C$15)))","v":""},{"$f":"IF(G297=\"\",\"\",(IF(questionario!$L$8=\"\",\"\",questionario!$L$8)))","v":""},{"$f":"IF(C297=\"\",\"\",(IF(questionario!$L$11=\"\",\"\",questionario!$L$11)))","v":""},"X","2026",{"$f":"IF(aux_cadastros!$A$27=\"\",\"\",aux_cadastros!$A$27)","v":""},{"$f":"IFERROR((VLOOKUP(G297,questionario!$C$47:$D$66,2,0)),\"\")","v":""},{"$f":"IFERROR((VLOOKUP(G297,questionario!$Q$47:$R$66,2,0)),\"\")","v":""},2026,{"$f":"IF(G297=\"\",\"\",(IFERROR((INDEX(questionario!$A$23:$N$42,(MATCH((dados_exp!$G297&\"R$\"),questionario!$A$23:$A$42,0)),(MATCH(dados_exp!$J297,questionario!$A$22:$N$22,0)))),\"\")))","v":""},{"$f":"IF(G297=\"\",\"\",(IFERROR((INDEX(questionario!$Q$22:$AB$42,(MATCH(dados_exp!$G297,questionario!$Q$22:$Q$42,0)),(MATCH(dados_exp!$J297,questionario!$Q$22:$AB$22,0)))),\"\")))","v":""},{"$f":"IFERROR((INDEX(questionario!$B$47:$N$66,(MATCH((dados_exp!$G297&dados_exp!$H297),questionario!$B$47:$B$66,0)),(MATCH(dados_exp!$J297,questionario!$B$46:$N$46,0)))),\"\")","v":""},{"$f":"IFERROR((INDEX(questionario!$O$47:$AB$66,(MATCH((dados_exp!$G297&dados_exp!$I297),questionario!$O$47:$O$66,0)),(MATCH(dados_exp!$J297,questionario!$O$46:$AB$46,0)))),\"\")","v":""},"X",null,null,null,"X",null,null,null,"X",null,null,null,null,null,"X",null,null,null,"X"]
[{"$f":"IF(G298=\"\",\"\",(IF(questionario!$C$8=\"\",\"\",questionario!$C$8)))","v":""},{"$f":"IF(G298=\"\",\"\",(IF(questionario!$C$15=\"\",\"\",questionario!$C$15)))","v":""},{"$f":"IF(G298=\"\",\"\",(IF(questionario!$L$8=\"\",\"\",questionario!$L$8)))","v":""},{"$f":"IF(C298=\"\",\"\",(IF(questionario!$L$11=\"\",\"\",questionario!$L$11)))","v":""},"X","2026",{"$f":"IF(aux_cadastros!$A$28=\"\",\"\",aux_cadastros!$A$28)","v":""},{"$f":"IFERROR((VLOOKUP(G298,questionario!$C$47:$D$66,2,0)),\"\")","v":""},{"$f":"IFERROR((VLOOKUP(G298,questionario!$Q$47:$R$66,2,0)),\"\")","v":""},2026,{"$f":"IF(G298=\"\",\"\",(IFERROR((INDEX(questionario!$A$23:$N$42,(MATCH((dados_exp!$G298&\"R$\"),questionario!$A$23:$A$42,0)),(MATCH(dados_exp!$J298,questionario!$A$22:$N$22,0)))),\"\")))","v":""},{"$f":"IF(G298=\"\",\"\",(IFERROR((INDEX(questionario!$Q$22:$AB$42,(MATCH(dados_exp!$G298,questionario!$Q$22:$Q$42,0)),(MATCH(dados_exp!$J298,questionario!$Q$22:$AB$22,0)))),\"\")))","v":""},{"$f":"IFERROR((INDEX(questionario!$B$47:$N$66,(MATCH((dados_exp!$G298&dados_exp!$H298),questionario!$B$47:$B$66,0)),(MATCH(dados_exp!$J298,questionario!$B$46:$N$46,0)))),\"\")","v":""},{"$f":"IFERROR((INDEX(questionario!$O$47:$AB$66,(MATCH((dados_exp!$G298&dados_exp!$I298),questionario!$O$47:$O$66,0)),(MATCH(dados_exp!$J298,questionario!$O$46:$AB$46,0)))),\"\")","v":""},"X",null,null,null,"X",null,null,null,"X",null,null,null,null,null,"X",null,null,null,"X"]
[{"$f":"IF(G299=\"\",\"\",(IF(questionario!$C$8=\"\",\"\",questionario!$C$8)))","v":""},{"$f":"IF(G299=\"\",\"\",(IF(questionario!$C$15=\"\",\"\",questionario!$C$15)))","v":""},{"$f":"IF(G299=\"\",\"\",(IF(questionario!$L$8=\"\",\"\",questionario!$L$8)))","v":""},{"$f":"IF(C299=\"\",\"\",(IF(questionario!$L$11=\"\",\"\",questionario!$L$11)))","v":""},"X","2026",{"$f":"IF(aux_cadastros!$A$29=\"\",\"\",aux_cadastros!$A$29)","v":""},{"$f":"IFERROR((VLOOKUP(G299,questionario!$C$47:$D$66,2,0)),\"\")","v":""},{"$f":"IFERROR((VLOOKUP(G299,questionario!$Q$47:$R$66,2,0)),\"\")","v":""},2026,{"$f":"IF(G299=\"\",\"\",(IFERROR((INDEX(questionario!$A$23:$N$42,(MATCH((dados_exp!$G299&\"R$\"),questionario!$A$23:$A$42,0)),(MATCH(dados_exp!$J299,questionario!$A$22:$N$22,0)))),\"\")))","v":""},{"$f":"IF(G299=\"\",\"\",(IFERROR((INDEX(questionario!$Q$22:$AB$42,(MATCH(dados_exp!$G299,questionario!$Q$22:$Q$42,0)),(MATCH(dados_exp!$J299,questionario!$Q$22:$AB$22,0)))),\"\")))","v":""},{"$f":"IFERROR((INDEX(questionario!$B$47:$N$66,(MATCH((dados_exp!$G299&dados_exp!$H299),questionario!$B$47:$B$66,0)),(MATCH(dados_exp!$J299,questionario!$B$46:$N$46,0)))),\"\")","v":""},{"$f":"IFERROR((INDEX(questionario!$O$47:$AB$66,(MATCH((dados_exp!$G299&dados_exp!$I299),questionario!$O$47:$O$66,0)),(MATCH(dados_exp!$J299,questionario!$O$46:$AB$46,0)))),\"\")","v":""},"X",null,null,null,"X",null,null,null,"X",null,null,null,null,null,"X",null,null,null,"X"]
[{"$f":"IF(G300=\"\",\"\",(IF(questionario!$C$8=\"\",\"\",questionario!$C$8)))","v":""},{"$f":"IF(G300=\"\",\"\",(IF(questionario!$C$15=\"\",\"\",questionario!$C$15)))","v":""},{"$f":"IF(G300=\"\",\"\",(IF(questionario!$L$8=\"\",\"\",questionario!$L$8)))","v":""},{"$f":"IF(C300=\"\",\"\",(IF(questionario!$L$11=\"\",\"\",questionario!$L$11)))","v":""},"X","2026",{"$f":"IF(aux_cadastros!$A$30=\"\",\"\",aux_cadastros!$A$30)","v":""},{"$f":"IFERROR((VLOOKUP(G300,questionario!$C$47:$D$66,2,0)),\"\")","v":""},{"$f":"IFERROR((VLOOKUP(G300,questionario!$Q$47:$R$66,2,0)),\"\")","v":""},2026,{"$f":"IF(G300=\"\",\"\",(IFERROR((INDEX(questionario!$A$23:$N$42,(MATCH((dados_exp!$G300&\"R$\"),questionario!$A$23:$A$42,0)),(MATCH(dados_exp!$J300,questionario!$A$22:$N$22,0)))),\"\")))","v":""},{"$f":"IF(G300=\"\",\"\",(IFERROR((INDEX(questionario!$Q$22:$AB$42,(MATCH(dados_exp!$G300,questionario!$Q$22:$Q$42,0)),(MATCH(dados_exp!$J300,questionario!$Q$22:$AB$22,0)))),\"\")))","v":""},{"$f":"IFERROR((INDEX(questionario!$B$47:$N$66,(MATCH((dados_exp!$G300&dados_exp!$H300),questionario!$B$47:$B$66,0)),(MATCH(dados_exp!$J300,questionario!$B$46:$N$46,0)))),\"\")","v":""},{"$f":"IFERROR((INDEX(questionario!$O$47:$AB$66,(MATCH((dados_exp!$G300&dados_exp!$I300),questionario!$O$47:$O$66,0)),(MATCH(dados_exp!$J300,questionario!$O$46:$AB$46,0)))),\"\")","v":""},"X",null,null,null,"X",null,null,null,"X",null,null,null,null,null,"X",null,null,null,"X"]
[{"$f":"IF(G301=\"\",\"\",(IF(questionario!$C$8=\"\",\"\",questionario!$C$8)))","v":""},{"$f":"IF(G301=\"\",\"\",(IF(questionario!$C$15=\"\",\"\",questionario!$C$15)))","v":""},{"$f":"IF(G301=\"\",\"\",(IF(questionario!$L$8=\"\",\"\",questionario!$L$8)))","v":""},{"$f":"IF(C301=\"\",\"\",(IF(questionario!$L$11=\"\",\"\",questionario!$L$11)))","v":""},"X","2026",{"$f":"IF(aux_cadastros!$A$31=\"\",\"\",aux_cadastros!$A$31)","v":""},{"$f":"IFERROR((VLOOKUP(G301,questionario!$C$47:$D$66,2,0)),\"\")","v":""},{"$f":"IFERROR((VLOOKUP(G301,questionario!$Q$47:$R$66,2,0)),\"\")","v":""},2026,{"$f":"IF(G301=\"\",\"\",(IFERROR((INDEX(questionario!$A$23:$N$42,(MATCH((dados_exp!$G301&\"R$\"),questionario!$A$23:$A$42,0)),(MATCH(dados_exp!$J301,questionario!$A$22:$N$22,0)))),\"\")))","v":""},{"$f":"IF(G301=\"\",\"\",(IFERROR((INDEX(questionario!$Q$22:$AB$42,(MATCH(dados_exp!$G301,questionario!$Q$22:$Q$42,0)),(MATCH(dados_exp!$J301,questionario!$Q$22:$AB$22,0)))),\"\")))","v":""},{"$f":"IFERROR((INDEX(questionario!$B$47:$N$66,(MATCH((dados_exp!$G301&dados_exp!$H301),questionario!$B$47:$B$66,0)),(MATCH(dados_exp!$J301,questionario!$B$46:$N$46,0)))),\"\")","v":""},{"$f":"IFERROR((INDEX(questionario!$O$47:$AB$66,(MATCH((dados_exp!$G301&dados_exp!$I301),questionario!$O$47:$O$66,0)),(MATCH(dados_exp!$J301,questionario!$O$46:$AB$46,0)))),\"\")","v":""},"X",null,null,null,"X",null,null,null,"X",null,null,null,null,null,"X",null,null,null,"X"]

{"sheet":"novos produtos","index":5,"n_rows":14,"n_cols":5,"rows_kept":14,"cut":false,"hidden":true,"merged":[[13,2,13,3],[5,1,5,3],[5,4,5,7],[7,2,7,3],[11,1,11,3],[11,4,11,7]]}
[]
[]
[]
[]
[]
[null,"INSERIR NOVOS PRODUTOS",null,null,"Digite abaixo o novo produto que aparecerá no questionário"]
[]
[null,null,"Produto"]
[]
[]
[]
[null,"INSERIR NOVA UNIDADE DE MEDIDA",null,null,"Digite abaixo a nova unidade de medida que aparecerá no questionário"]
[]
[null,null,"Unidade de Medida"]

{"sheet":"aux_cadastros","index":6,"n_rows":20,"n_cols":6,"rows_kept":20,"cut":false,"hidden":true,"merged":[]}
["Produtos","Unidades",null,null,null,"Ano"]
["Açaí","Kg",null,null,null,2017]
["Aquicultura","Litros",null,null,null,2018]
["Artesanato","m³",null,null,null,2019]
["Babaçu","Ton",null,null,null,2020]
["Borrachas","Pessoas",null,null,null,2021]
["Cacau",null,null,null,null,2022]
["Castanha",null,null,null,null,2023]
["Copaíba",null,null,null,null,2024]
["Fibras",null,null,null,null,2025]
["Guaraná",null,null,null,null,2026]
["Madeira"]
["Mel"]
["Oleaginosas"]
["Óleos"]
["Pescado"]
["Turismo"]
["Agricultura de base familiar"]
["Pirarucu"]
["Bacalhau de Pirarucu"]

{"sheet":"con_def","index":7,"n_rows":8,"n_cols":3,"rows_kept":8,"cut":false,"hidden":false,"merged":[]}
[]
[]
[]
[]
[null,"Conceito","Definição"]
[]
[null,"Primeiro ano medido (marco zero)","Para medir as mudanças que o projeto proporcionou, deve ser definido um ano como marco zero (também chamado valor inicial ou linha de base). O marco zero pode ser entendido como a condição inicial do projeto"]
[null,"Pontuação das respostas","Foram definidos três níveis de qualidade gerencial e governança com uma \npontuação que depende das respostas dadas em relação à 12 variáveis \npré-definidas: \n1. Baixo (1-8, nível 1); \n2. Médio (9-17, nível 2); e\n3. Alto (18-24, nível 3)."]

{"sheet":"habilitando","index":8,"n_rows":180,"n_cols":2,"rows_kept":180,"cut":false,"hidden":false,"merged":[[6,1,6,7]]}
[]
[]
[]
[]
[]
[]
[null,"Prezado usuário (a),                                                                                                                                                                                                                                        Para que a planilha possa ofertar todos seus recursos disponíveis de automatização é necessário verificar se o seu excel (MSOffice) está habilitado para execução de MACROS, para tanto, siga o passo a passo a seguir:"]
[]
[null,"1) Ir em ARQUIVO"]
[]
[]
[]
[]
[]
[]
[]
[]
[]
[]
[]
[null,"2) Clicar em OPÇÕES"]
[]
[]
[]
[]
[]
[]
[]
[]
[]
[]
[]
[]
[]
[]
[]
[]
[]
[]
[]
[]
[]
[]
[]
[]
[]
[]
[]
[null,"2) Ir em ARQUIVO"]
[]
[]
[]
[]
[]
[]
[]
[]
[]
[null,"3) Clicar em Central de Confiabilidade"]
[]
[]
[]
[]
[]
[]
[]
[]
[]
[]
[]
[]
[]
[]
[]
[]
[]
[]
[]
[]
[]
[]
[]
[]
[]
[]
[]
[]
[]
[]
[]
[]
[]
[]
[]
[]
[]
[]
[null,"4) Clicar em Configuraçãoes da Central de Confiabilidade"]
[]
[]
[]
[]
[]
[]
[]
[]
[]
[]
[]
[]
[]
[]
[]
[]
[]
[]
[]
[]
[]
[]
[]
[]
[]
[]
[]
[]
[]
[]
[]
[]
[]
[]
[]
[]
[]
[]
[]
[null,"5) Clicar em Configuraçãoes de Macro"]
[]
[]
[]
[]
[]
[]
[]
[]
[]
[]
[]
[]
[]
[]
[]
[]
[]
[]
[]
[]
[]
[]
[]
[]
[]
[]
[]
[]
[]
[]
[]
[]
[]
[]
[]
[]
[]
[]
[]
[]
[null,"6) Selecionar a opção Habilitar todas as macros"]
[null,"7) Clicar em OK"]