{"text_format":"1","workbook":"xlsx","n_sheets":13,"sheets":["Listas","Instruções ","1.Informações do Projeto","2. Componente_Produtos_Serviços","3.Recursos Humanos","4.Itens de Orçamento","5. Cronograma","Instruções RH e Orçamento","Exemplos Orçamento e Alocação","Quadro Usos - FA","Quadro Usos - Contrapartida","Acompanhamento","Plan3"],"not_rendered":{"charts":0,"images":6,"macros":1,"external_links":0,"defined_names":21,"comments":0,"pivot_tables":0},"unopened":[],"bounds":{"document_bytes":16777216,"sheet_cells":100000,"rows_first":2000,"rows_last":500,"rows_between":2000,"halvings":0,"cell_chars":16384,"cell_head_chars":4096},"cells_cut":0,"cells_raw":0,"read":"whole","date_system":"1900"}

{"sheet":"Listas","index":0,"n_rows":27,"n_cols":30,"rows_kept":27,"cut":false,"hidden":true,"merged":[]}
["Componente0","Componente1","Componente2","Componente3","Componente4","Componente5","Componente6","Componente7","Componente8",null,null,null,null,null,null,null,null,"Lista1","Lista2",null,null,"Categoria",null,"Fonte de Recurso",null,"Meses",null,"Tipo de Equipe",null,"Período"]
["< Selecione o Produto ou Serviço >","< Selecione o Produto ou Serviço >","< Selecione o Produto ou Serviço >","< Selecione o Produto ou Serviço >","< Selecione o Produto ou Serviço >","< Selecione o Produto ou Serviço >","< Selecione o Produto ou Serviço >","< Selecione o Produto ou Serviço >","< Selecione o Produto ou Serviço >",null,null,null,null,null,null,null,null,"< Selecione o Componente >","Componente0",null,null,"< Selecione a Categoria >",null,"< Selecione a Fonte de Recurso >",null,{"$f":"0*0","v":0},null,"< Selecione a Equipe >"]
[null,{"$f":"IF('2. Componente_Produtos_Serviços'!$E9=B20,\"\",'2. Componente_Produtos_Serviços'!$E9)","v":"A1. Detalhamento do diagnóstico"},{"$f":"IF('2. Componente_Produtos_Serviços'!$E16=C20,\"\",'2. Componente_Produtos_Serviços'!$E16)","v":"B1 . Produto 1"},{"$f":"IF('2. Componente_Produtos_Serviços'!$E23=D20,\"\",'2. Componente_Produtos_Serviços'!$E23)","v":"B2 . Produto 1"},{"$f":"IF('2. Componente_Produtos_Serviços'!$E30=E20,\"\",'2. Componente_Produtos_Serviços'!$E30)","v":"C1 . Produto 1"},{"$f":"IF('2. Componente_Produtos_Serviços'!$E37=F20,\"\",'2. Componente_Produtos_Serviços'!$E37)","v":"C2 . Produto 1"},{"$f":"IF('2. Componente_Produtos_Serviços'!$E44=G20,\"\",'2. Componente_Produtos_Serviços'!$E44)","v":"D. Produto 1"},{"$f":"IF('2. Componente_Produtos_Serviços'!$E51=H20,\"\",'2. Componente_Produtos_Serviços'!$E51)","v":0},{"$f":"IF('2. Componente_Produtos_Serviços'!$E58=I20,\"\",'2. Componente_Produtos_Serviços'!$E58)","v":0},null,null,null,null,null,null,null,null,{"$f":"IF('2. Componente_Produtos_Serviços'!D9=R20,\"\",'2. Componente_Produtos_Serviços'!D9)","v":"A Transversal"},"Componente1",null,null,"Consultorias e prestação de serviços especializados",null,"Apoio FA",null,1,null,"Técnica",null,"P"]
[null,{"$f":"IF('2. Componente_Produtos_Serviços'!$E10=B21,\"\",'2. Componente_Produtos_Serviços'!$E10)","v":"A2.Mobilização"},{"$f":"IF('2. Componente_Produtos_Serviços'!$E17=C21,\"\",'2. Componente_Produtos_Serviços'!$E17)","v":"B1 . Produto 2"},{"$f":"IF('2. Componente_Produtos_Serviços'!$E24=D21,\"\",'2. Componente_Produtos_Serviços'!$E24)","v":"B2 . Produto 2"},{"$f":"IF('2. Componente_Produtos_Serviços'!$E31=E21,\"\",'2. Componente_Produtos_Serviços'!$E31)","v":"C1 . Produto 2"},{"$f":"IF('2. Componente_Produtos_Serviços'!$E38=F21,\"\",'2. Componente_Produtos_Serviços'!$E38)","v":"C2 . Produto 2"},{"$f":"IF('2. Componente_Produtos_Serviços'!$E45=G21,\"\",'2. Componente_Produtos_Serviços'!$E45)","v":"D. Produto 2"},{"$f":"IF('2. Componente_Produtos_Serviços'!$E52=H21,\"\",'2. Componente_Produtos_Serviços'!$E52)","v":0},{"$f":"IF('2. Componente_Produtos_Serviços'!$E59=I21,\"\",'2. Componente_Produtos_Serviços'!$E59)","v":0},null,null,null,null,null,null,null,null,{"$f":"IF('2. Componente_Produtos_Serviços'!D16=R21,\"\",'2. Componente_Produtos_Serviços'!D16)","v":"B1 Fortalecimento da produção de alimentos - Formação de capacidades e apoio técnico para a agricultura familiar"},"Componente2",null,null,"Serviços de Apoio",null,"Contrapartida",null,2,null,"Adm. Financeira"]
[null,{"$f":"IF('2. Componente_Produtos_Serviços'!$E11=B22,\"\",'2. Componente_Produtos_Serviços'!$E11)","v":"A3. Interlocução e multiplicação de conhecimento do PNAE"},{"$f":"IF('2. Componente_Produtos_Serviços'!$E18=C22,\"\",'2. Componente_Produtos_Serviços'!$E18)","v":"B1 . Produto 3"},{"$f":"IF('2. Componente_Produtos_Serviços'!$E25=D22,\"\",'2. Componente_Produtos_Serviços'!$E25)","v":"B2 . Produto 3"},{"$f":"IF('2. Componente_Produtos_Serviços'!$E32=E22,\"\",'2. Componente_Produtos_Serviços'!$E32)","v":"C1 . Produto 3"},{"$f":"IF('2. Componente_Produtos_Serviços'!$E39=F22,\"\",'2. Componente_Produtos_Serviços'!$E39)","v":"C2 . Produto 3"},{"$f":"IF('2. Componente_Produtos_Serviços'!$E46=G22,\"\",'2. Componente_Produtos_Serviços'!$E46)","v":"D. Produto 3"},{"$f":"IF('2. Componente_Produtos_Serviços'!$E53=H22,\"\",'2. Componente_Produtos_Serviços'!$E53)","v":0},{"$f":"IF('2. Componente_Produtos_Serviços'!$E60=I22,\"\",'2. Componente_Produtos_Serviços'!$E60)","v":0},null,null,null,null,null,null,null,null,{"$f":"IF('2. Componente_Produtos_Serviços'!D23=R22,\"\",'2. Componente_Produtos_Serviços'!D23)","v":"B2 Fortalecimento da produção de alimentos - Fortalecimento da infraestrutura produtiva da agricultura familiar"},"Componente3",null,null,"Obras Civis e Instalações",null,null,null,3]
[null,{"$f":"IF('2. Componente_Produtos_Serviços'!$E12=B23,\"\",'2. Componente_Produtos_Serviços'!$E12)","v":"A4. Relatório de aprendizados"},{"$f":"IF('2. Componente_Produtos_Serviços'!$E19=C23,\"\",'2. Componente_Produtos_Serviços'!$E19)","v":"B1 . Produto 4"},{"$f":"IF('2. Componente_Produtos_Serviços'!$E26=D23,\"\",'2. Componente_Produtos_Serviços'!$E26)","v":"B2 . Produto 4"},{"$f":"IF('2. Componente_Produtos_Serviços'!$E33=E23,\"\",'2. Componente_Produtos_Serviços'!$E33)","v":"C1 . Produto 4"},{"$f":"IF('2. Componente_Produtos_Serviços'!$E40=F23,\"\",'2. Componente_Produtos_Serviços'!$E40)","v":"C2 . Produto 4"},{"$f":"IF('2. Componente_Produtos_Serviços'!$E47=G23,\"\",'2. Componente_Produtos_Serviços'!$E47)","v":"D. Produto 4"},{"$f":"IF('2. Componente_Produtos_Serviços'!$E54=H23,\"\",'2. Componente_Produtos_Serviços'!$E54)","v":0},{"$f":"IF('2. Componente_Produtos_Serviços'!$E61=I23,\"\",'2. Componente_Produtos_Serviços'!$E61)","v":0},null,null,null,null,null,null,null,null,{"$f":"IF('2. Componente_Produtos_Serviços'!D30=R23,\"\",'2. Componente_Produtos_Serviços'!D30)","v":"C1 Fortalecimento da aquisição e do consumo de alimentos - Formação de capacidades e apoio técnico para as redes públicas de ensino"},"Componente4",null,null,"Máquinas, equipamentos e outros bens",null,null,null,4]
[null,{"$f":"IF('2. Componente_Produtos_Serviços'!$E13=B24,\"\",'2. Componente_Produtos_Serviços'!$E13)","v":"A5 . Produto 1 (opcional)"},{"$f":"IF('2. Componente_Produtos_Serviços'!$E20=C24,\"\",'2. Componente_Produtos_Serviços'!$E20)","v":"B1 . Produto 5"},{"$f":"IF('2. Componente_Produtos_Serviços'!$E27=D24,\"\",'2. Componente_Produtos_Serviços'!$E27)","v":"B2 . Produto 5"},{"$f":"IF('2. Componente_Produtos_Serviços'!$E34=E24,\"\",'2. Componente_Produtos_Serviços'!$E34)","v":"C1 . Produto 5"},{"$f":"IF('2. Componente_Produtos_Serviços'!$E41=F24,\"\",'2. Componente_Produtos_Serviços'!$E41)","v":"C2 . Produto 5"},{"$f":"IF('2. Componente_Produtos_Serviços'!$E48=G24,\"\",'2. Componente_Produtos_Serviços'!$E48)","v":"D. Produto 5"},{"$f":"IF('2. Componente_Produtos_Serviços'!$E55=H24,\"\",'2. Componente_Produtos_Serviços'!$E55)","v":0},{"$f":"IF('2. Componente_Produtos_Serviços'!$E62=I24,\"\",'2. Componente_Produtos_Serviços'!$E62)","v":0},null,null,null,null,null,null,null,null,{"$f":"IF('2. Componente_Produtos_Serviços'!D37=R24,\"\",'2. Componente_Produtos_Serviços'!D37)","v":"C2 Fortalecimento da aquisição e do consumo de alimentos - Fortalecimento da infraestrutura das redes públicas de ensino"},"Componente5",null,null,"Insumos",null,null,null,5]
[null,{"$f":"IF('2. Componente_Produtos_Serviços'!$E14=B25,\"\",'2. Componente_Produtos_Serviços'!$E14)","v":"A6 . Produto 1 (opcional)"},{"$f":"IF('2. Componente_Produtos_Serviços'!$E21=C25,\"\",'2. Componente_Produtos_Serviços'!$E21)","v":"B1 . Produto 6"},{"$f":"IF('2. Componente_Produtos_Serviços'!$E28=D25,\"\",'2. Componente_Produtos_Serviços'!$E28)","v":"B2 . Produto 6"},{"$f":"IF('2. Componente_Produtos_Serviços'!$E35=E25,\"\",'2. Componente_Produtos_Serviços'!$E35)","v":"C1 . Produto 6"},{"$f":"IF('2. Componente_Produtos_Serviços'!$E42=F25,\"\",'2. Componente_Produtos_Serviços'!$E42)","v":"C2 . Produto 6"},{"$f":"IF('2. Componente_Produtos_Serviços'!$E49=G25,\"\",'2. Componente_Produtos_Serviços'!$E49)","v":"D. Produto 6"},{"$f":"IF('2. Componente_Produtos_Serviços'!$E56=H25,\"\",'2. Componente_Produtos_Serviços'!$E56)","v":0},{"$f":"IF('2. Componente_Produtos_Serviços'!$E63=I25,\"\",'2. Componente_Produtos_Serviços'!$E63)","v":0},null,null,null,null,null,null,null,null,{"$f":"IF('2. Componente_Produtos_Serviços'!D44=R25,\"\",'2. Componente_Produtos_Serviços'!D44)","v":"D Gestão do projeto"},"Componente6",null,null,"Logística",null,null,null,6]
[null,{"$f":"IF('2. Componente_Produtos_Serviços'!$E15=B26,\"\",'2. Componente_Produtos_Serviços'!$E15)","v":"A7 . Produto 1 (opcional)"},{"$f":"IF('2. Componente_Produtos_Serviços'!$E22=C26,\"\",'2. Componente_Produtos_Serviços'!$E22)","v":"B1 . Produto 7"},{"$f":"IF('2. Componente_Produtos_Serviços'!$E29=D26,\"\",'2. Componente_Produtos_Serviços'!$E29)","v":"B2 . Produto 7"},{"$f":"IF('2. Componente_Produtos_Serviços'!$E36=E26,\"\",'2. Componente_Produtos_Serviços'!$E36)","v":"C1 . Produto 7"},{"$f":"IF('2. Componente_Produtos_Serviços'!$E43=F26,\"\",'2. Componente_Produtos_Serviços'!$E43)","v":"C2 . Produto 7"},{"$f":"IF('2. Componente_Produtos_Serviços'!$E50=G26,\"\",'2. Componente_Produtos_Serviços'!$E50)","v":"D. Produto 7"},{"$f":"IF('2. Componente_Produtos_Serviços'!$E57=H26,\"\",'2. Componente_Produtos_Serviços'!$E57)","v":0},{"$f":"IF('2. Componente_Produtos_Serviços'!$E64=I26,\"\",'2. Componente_Produtos_Serviços'!$E64)","v":0},null,null,null,null,null,null,null,null,{"$f":"IF('2. Componente_Produtos_Serviços'!D51=R26,\"\",'2. Componente_Produtos_Serviços'!D51)","v":0},"Componente7",null,null,"Apoios Especiais",null,null,null,7]
[null,null,null,null,null,null,null,null,null,null,null,null,null,null,null,null,null,{"$f":"IF('2. Componente_Produtos_Serviços'!D58=R27,\"\",'2. Componente_Produtos_Serviços'!D58)","v":0},"Componente8",null,null,"Despesas Administrativas",null,null,null,8]
[null,null,null,null,null,null,null,null,null,null,null,null,null,null,null,null,null,{"$f":"IF('2. Componente_Produtos_Serviços'!D65=R28,\"\",'2. Componente_Produtos_Serviços'!D65)","v":""},null,null,null,null,null,null,null,9]
[null,null,null,null,null,null,null,null,null,null,null,null,null,null,null,null,null,{"$f":"IF('2. Componente_Produtos_Serviços'!D72=R29,\"\",'2. Componente_Produtos_Serviços'!D72)","v":""},null,null,null,null,null,null,null,10]
[null,null,null,null,null,null,null,null,null,null,null,null,null,null,null,null,null,{"$f":"IF('2. Componente_Produtos_Serviços'!D79=R30,\"\",'2. Componente_Produtos_Serviços'!D79)","v":""},null,null,null,null,null,null,null,11]
[null,null,null,null,null,null,null,null,null,null,null,null,null,null,null,null,null,{"$f":"IF('2. Componente_Produtos_Serviços'!D94=R31,\"\",'2. Componente_Produtos_Serviços'!D94)","v":""},null,null,null,null,null,null,null,12]
[null,null,null,null,null,null,null,null,null,null,null,null,null,null,null,null,null,{"$f":"IF('2. Componente_Produtos_Serviços'!D109=R32,\"\",'2. Componente_Produtos_Serviços'!D109)","v":""}]
[null,null,null,null,null,null,null,null,null,null,null,null,null,null,null,null,null,{"$f":"IF('2. Componente_Produtos_Serviços'!D124=R33,\"\",'2. Componente_Produtos_Serviços'!D124)","v":""}]
[null,null,null,null,null,null,null,null,null,null,null,null,null,null,null,null,null,{"$f":"IF('2. Componente_Produtos_Serviços'!D139=R34,\"\",'2. Componente_Produtos_Serviços'!D139)","v":""}]
[]
[]
["Area para formatação","C1 . Produto 1","C2 . Produto 1","C3 . Produto 1","C4 . Produto 1","C5 . Produto 1","C6 . Produto 1","C7 . Produto 1","C8 . Produto 1",null,null,null,null,null,null,null,null,"Componente 1"]
[null,"C1 . Produto 2","C2 . Produto 2","C3 . Produto 2","C4 . Produto 2","C5 . Produto 2","C6 . Produto 2","C7 . Produto 2","C8 . Produto 2",null,null,null,null,null,null,null,null,"Componente 2"]
[null,"C1 . Produto 3","C2 . Produto 3","C3 . Produto 3","C4 . Produto 3","C5 . Produto 3","C6 . Produto 3","C7 . Produto 3","C8 . Produto 3",null,null,null,null,null,null,null,null,"Componente 3"]
[null,"C1 . Produto 4","C2 . Produto 4","C3 . Produto 4","C4 . Produto 4","C5 . Produto 4","C6 . Produto 4","C7 . Produto 4","C8 . Produto 4",null,null,null,null,null,null,null,null,"Componente 4"]
[null,"C1 . Produto 5","C2 . Produto 5","C3 . Produto 5","C4 . Produto 5","C5 . Produto 5","C6 . Produto 5","C7 . Produto 5","C8 . Produto 5",null,null,null,null,null,null,null,null,"Componente 5"]
[null,"C1 . Produto 6","C2 . Produto 6","C3 . Produto 6","C4 . Produto 6","C5 . Produto 6","C6 . Produto 6","C7 . Produto 6","C8 . Produto 6",null,null,null,null,null,null,null,null,"Componente 6"]
[null,"C1 . Produto 7","C2 . Produto 7","C3 . Produto 7","C4 . Produto 7","C5 . Produto 7","C6 . Produto 7","C7 . Produto 7","C8 . Produto 7",null,null,null,null,null,null,null,null,"Componente 7"]
[null,null,null,null,null,null,null,null,null,null,null,null,null,null,null,null,null,"Componente 8"]

{"sheet":"Instruções ","index":1,"n_rows":21,"n_cols":2,"rows_kept":21,"cut":false,"hidden":false,"merged":[]}
[null,"v 3"]
[null,"02.abr.2024"]
[]
[null,"Instruções de Preenchimento:"]
[]
[null,"Atenção! Preencha somente as células em amarelo das abas desta planilha."]
[]
[null,"1. Na aba \"1.Informações do Projeto\" , preencha as informações básicas do projeto."]
[]
[null,"2.  Preencha a aba \"2. Componente_Produtos_Serviços\". Defina Produtos e Serviços por Componente.\nDefina um nome resumido para cada um dos produtos e/ou serviços propostos e em seguida faça uma descrição sucinta conforme informado no modelo de Consulta Prévia. \nSão permitidos até 7 produtos ou serviços por Componente.  Caso seja necessário um número maior, entrar em contato com a equipe do Fundo Amazônia."]
[]
[]
[null,"3. Preencha a aba \"3.Recursos Humanos\" de acordo com as instruções específicas na aba \"Instruções RH e Orçamento\". \nPreencha de forma sequencial sem pular linhas entre as informações."]
[]
[null,"4.  Preencha a aba \"4.Itens de Orçamento\" de acordo com as instruções específicas apresentadas na própria aba. \nPreencha de forma sequencial sem pular linhas entre as informações."]
[]
[null,"5.  Preencha a aba \"5. Cronograma\" de acordo com as instruções específicas apresentadas na própria aba."]
[]
[null," NÃO preencher as abas  \"Quadro Usos - FA\" e \"Quadro de Usos - Contrapartida\"\nElas serão preenchidas automaticamente e  apresentarão  visões consolidadas das informações orçamentárias propostas."]
[]
[null,"ATENÇÃO: USAR PREFERENCIALMENTE O SISTEMA WINDOWS. \nALGUNS RECURSOS NÃO FUNCIONAM CORRETAMENTE NO MAC."]

{"sheet":"1.Informações do Projeto","index":2,"n_rows":14,"n_cols":3,"rows_kept":14,"cut":false,"hidden":false,"merged":[[3,2,3,3],[5,2,5,3]]}
[]
[]
[]
[null,null,"Atenção! Preencha somente as células em amarelo"]
[]
[null,null," Informações Básicas do Projeto"]
[]
["Nome da Organização",null,"Nome da Organização:"]
["Título do Projeto",null,"Titulo do Projeto:"]
["Seu nome",null,"Contato:"]
["Email@email.com",null,"Email:"]
["(xx) xxxxx-xxxx",null,"Telefone (xx) xxxxx-xxxx:"]
["mm",null,"Duração do projeto (em meses):"]
["mm-aaaa",null,"Data de referência (mm.aaaa):"]

{"sheet":"2. Componente_Produtos_Serviços","index":3,"n_rows":58,"n_cols":13,"rows_kept":58,"cut":false,"hidden":false,"merged":[[5,3,5,5],[3,3,3,5],[15,2,21,2],[15,3,21,3],[8,2,14,2],[8,3,14,3],[43,2,49,2],[43,3,49,3],[22,2,28,2],[22,3,28,3],[29,2,35,2],[29,3,35,3],[36,2,42,2],[36,3,42,3]]}
[]
[]
[null,null,null,null,null,null,null,"NÃO preencher essa coluna. Preenchimento automático"]
[null,null,null,"Atenção! Preencha somente as células em amarelo ",null,null,null,"Somatório Valor Estimado\n(R$)"]
[]
[null,null,null,"Produtos e Serviços Propostos",null,null,null,{"$f":"SUM(H9:H870)","v":0}]
[]
[null,null,null,"Componente\n\n(Preencha todos os 4 Componentes)","Produto ou Serviço - Nome Resumido\n\n(Preencha até 7  Produtos  por Componente)","Descrição - Preencher conforme informado no Modelo de Consulta Prévia\n\n(Preenchimento Não Obrigatório)",null,"Valor Estimado (R$)\n(Disponível após preenchimento dos Itens de Orçamento)"]
[null,null,"Componente A","A Transversal","A1. Detalhamento do diagnóstico",null,null,{"$f":"SUMIFS('4.Itens de Orçamento'!O:O,'4.Itens de Orçamento'!E:E,E9,'4.Itens de Orçamento'!D:D,$D9)","v":0},null,null,null,null,"A Transversal"]
[null,null,null,null,"A2.Mobilização",null,null,{"$f":"SUMIFS('4.Itens de Orçamento'!O:O,'4.Itens de Orçamento'!E:E,E10,'4.Itens de Orçamento'!D:D,$D9)","v":0},null,null,null,null,"B1 Fortalecimento da produção de alimentos - Formação de capacidades e apoio técnico para a agricultura familiar"]
[null,null,null,null,"A3. Interlocução e multiplicação de conhecimento do PNAE",null,null,{"$f":"SUMIFS('4.Itens de Orçamento'!O:O,'4.Itens de Orçamento'!E:E,E11,'4.Itens de Orçamento'!D:D,$D9)","v":0},null,null,null,null,"B2 Fortalecimento da produção de alimentos - Fortalecimento da infraestrutura produtiva da agricultura familiar"]
[null,null,null,null,"A4. Relatório de aprendizados",null,null,{"$f":"SUMIFS('4.Itens de Orçamento'!O:O,'4.Itens de Orçamento'!E:E,E12,'4.Itens de Orçamento'!D:D,$D9)","v":0},null,null,null,null,"C1 Fortalecimento da aquisição e do consumo de alimentos - Formação de capacidades e apoio técnico para as redes públicas de ensino"]
["A5 . Produto 1 (opcional)",null,null,null,"A5 . Produto 1 (opcional)",null,null,{"$f":"SUMIFS('4.Itens de Orçamento'!O:O,'4.Itens de Orçamento'!E:E,E13,'4.Itens de Orçamento'!D:D,$D9)","v":0},null,null,null,null,"C2 Fortalecimento da aquisição e do consumo de alimentos - Fortalecimento da infraestrutura das redes públicas de ensino"]
["A6 . Produto 1 (opcional)",null,null,null,"A6 . Produto 1 (opcional)",null,null,{"$f":"SUMIFS('4.Itens de Orçamento'!O:O,'4.Itens de Orçamento'!E:E,E14,'4.Itens de Orçamento'!D:D,$D9)","v":0},null,null,null,null,"D Gestão do projeto"]
["A7 . Produto 1 (opcional)",null,null,null,"A7 . Produto 1 (opcional)",null,null,{"$f":"SUMIFS('4.Itens de Orçamento'!O:O,'4.Itens de Orçamento'!E:E,E15,'4.Itens de Orçamento'!D:D,$D9)","v":0}]
["B1 . Produto 1",null,"Componente B\nEixo 1","B1 Fortalecimento da produção de alimentos - Formação de capacidades e apoio técnico para a agricultura familiar","B1 . Produto 1",null,null,{"$f":"SUMIFS('4.Itens de Orçamento'!O:O,'4.Itens de Orçamento'!E:E,E16,'4.Itens de Orçamento'!D:D,$D16)","v":0}]
["B1 . Produto 2",null,null,null,"B1 . Produto 2",null,null,{"$f":"SUMIFS('4.Itens de Orçamento'!O:O,'4.Itens de Orçamento'!E:E,E17,'4.Itens de Orçamento'!D:D,$D16)","v":0},null,null,null,null,"A1. Detalhamento do diagnóstico"]
["B1 . Produto 3",null,null,null,"B1 . Produto 3",null,null,{"$f":"SUMIFS('4.Itens de Orçamento'!O:O,'4.Itens de Orçamento'!E:E,E18,'4.Itens de Orçamento'!D:D,$D16)","v":0},null,null,null,null,"A2.Mobilização"]
["B1 . Produto 4",null,null,null,"B1 . Produto 4",null,null,{"$f":"SUMIFS('4.Itens de Orçamento'!O:O,'4.Itens de Orçamento'!E:E,E19,'4.Itens de Orçamento'!D:D,$D16)","v":0},null,null,null,null,"A3. Interlocução e multiplicação de conhecimento do PNAE"]
["B1 . Produto 5",null,null,null,"B1 . Produto 5",null,null,{"$f":"SUMIFS('4.Itens de Orçamento'!O:O,'4.Itens de Orçamento'!E:E,E20,'4.Itens de Orçamento'!D:D,$D16)","v":0},null,null,null,null,"A4. Relatório de aprendizados"]
["B1 . Produto 6",null,null,null,"B1 . Produto 6",null,null,{"$f":"SUMIFS('4.Itens de Orçamento'!O:O,'4.Itens de Orçamento'!E:E,E21,'4.Itens de Orçamento'!D:D,$D16)","v":0},null,null,null,null,{"$f":"E13","v":"A5 . Produto 1 (opcional)"}]
["B1 . Produto 7",null,null,null,"B1 . Produto 7",null,null,{"$f":"SUMIFS('4.Itens de Orçamento'!O:O,'4.Itens de Orçamento'!E:E,E22,'4.Itens de Orçamento'!D:D,$D16)","v":0},null,null,null,null,{"$f":"E14","v":"A6 . Produto 1 (opcional)"}]
["B2 . Produto 1",null,"Componente B\nEixo 2","B2 Fortalecimento da produção de alimentos - Fortalecimento da infraestrutura produtiva da agricultura familiar","B2 . Produto 1",null,null,{"$f":"SUMIFS('4.Itens de Orçamento'!O:O,'4.Itens de Orçamento'!E:E,E23,'4.Itens de Orçamento'!D:D,$D23)","v":0},null,null,null,null,"A7 . Produto 1 (opcional)"]
["B2 . Produto 2",null,null,null,"B2 . Produto 2",null,null,{"$f":"SUMIFS('4.Itens de Orçamento'!O:O,'4.Itens de Orçamento'!E:E,E24,'4.Itens de Orçamento'!D:D,$D23)","v":0},null,null,null,null,"B1 . Produto 1"]
["B2 . Produto 3",null,null,null,"B2 . Produto 3",null,null,{"$f":"SUMIFS('4.Itens de Orçamento'!O:O,'4.Itens de Orçamento'!E:E,E25,'4.Itens de Orçamento'!D:D,$D23)","v":0},null,null,null,null,"B1 . Produto 2"]
["B2 . Produto 4",null,null,null,"B2 . Produto 4",null,null,{"$f":"SUMIFS('4.Itens de Orçamento'!O:O,'4.Itens de Orçamento'!E:E,E26,'4.Itens de Orçamento'!D:D,$D23)","v":0},null,null,null,null,"B1 . Produto 3"]
["B2 . Produto 5",null,null,null,"B2 . Produto 5",null,null,{"$f":"SUMIFS('4.Itens de Orçamento'!O:O,'4.Itens de Orçamento'!E:E,E27,'4.Itens de Orçamento'!D:D,$D23)","v":0},null,null,null,null,"B1 . Produto 4"]
["B2 . Produto 6",null,null,null,"B2 . Produto 6",null,null,{"$f":"SUMIFS('4.Itens de Orçamento'!O:O,'4.Itens de Orçamento'!E:E,E28,'4.Itens de Orçamento'!D:D,$D23)","v":0},null,null,null,null,"B1 . Produto 5"]
["B2 . Produto 7",null,null,null,"B2 . Produto 7",null,null,{"$f":"SUMIFS('4.Itens de Orçamento'!O:O,'4.Itens de Orçamento'!E:E,E29,'4.Itens de Orçamento'!D:D,$D23)","v":0},null,null,null,null,"B1 . Produto 6"]
["C1 . Produto 1",null,"Componente C\nEixo 1","C1 Fortalecimento da aquisição e do consumo de alimentos - Formação de capacidades e apoio técnico para as redes públicas de ensino","C1 . Produto 1",null,null,{"$f":"SUMIFS('4.Itens de Orçamento'!O:O,'4.Itens de Orçamento'!E:E,E30,'4.Itens de Orçamento'!D:D,$D30)","v":0},null,null,null,null,"B1 . Produto 7"]
["C1 . Produto 2",null,null,null,"C1 . Produto 2",null,null,{"$f":"SUMIFS('4.Itens de Orçamento'!O:O,'4.Itens de Orçamento'!E:E,E31,'4.Itens de Orçamento'!D:D,$D30)","v":0},null,null,null,null,"B2 . Produto 1"]
["C1 . Produto 3",null,null,null,"C1 . Produto 3",null,null,{"$f":"SUMIFS('4.Itens de Orçamento'!O:O,'4.Itens de Orçamento'!E:E,E32,'4.Itens de Orçamento'!D:D,$D30)","v":0},null,null,null,null,"B2 . Produto 2"]
["C1 . Produto 4",null,null,null,"C1 . Produto 4",null,null,{"$f":"SUMIFS('4.Itens de Orçamento'!O:O,'4.Itens de Orçamento'!E:E,E33,'4.Itens de Orçamento'!D:D,$D30)","v":0},null,null,null,null,"B2 . Produto 3"]
["C1 . Produto 5",null,null,null,"C1 . Produto 5",null,null,{"$f":"SUMIFS('4.Itens de Orçamento'!O:O,'4.Itens de Orçamento'!E:E,E34,'4.Itens de Orçamento'!D:D,$D30)","v":0},null,null,null,null,"B2 . Produto 4"]
["C1 . Produto 6",null,null,null,"C1 . Produto 6",null,null,{"$f":"SUMIFS('4.Itens de Orçamento'!O:O,'4.Itens de Orçamento'!E:E,E35,'4.Itens de Orçamento'!D:D,$D30)","v":0},null,null,null,null,"B2 . Produto 5"]
["C1 . Produto 7",null,null,null,"C1 . Produto 7",null,null,{"$f":"SUMIFS('4.Itens de Orçamento'!O:O,'4.Itens de Orçamento'!E:E,E36,'4.Itens de Orçamento'!D:D,$D30)","v":0},null,null,null,null,"B2 . Produto 6"]
["C2 . Produto 1",null,"Componente C\nEixo 2","C2 Fortalecimento da aquisição e do consumo de alimentos - Fortalecimento da infraestrutura das redes públicas de ensino","C2 . Produto 1",null,null,{"$f":"SUMIFS('4.Itens de Orçamento'!O:O,'4.Itens de Orçamento'!E:E,E37,'4.Itens de Orçamento'!D:D,$D37)","v":0},null,null,null,null,"B2 . Produto 7"]
["C2 . Produto 2",null,null,null,"C2 . Produto 2",null,null,{"$f":"SUMIFS('4.Itens de Orçamento'!O:O,'4.Itens de Orçamento'!E:E,E38,'4.Itens de Orçamento'!D:D,$D37)","v":0},null,null,null,null,"C1 . Produto 1"]
["C2 . Produto 3",null,null,null,"C2 . Produto 3",null,null,{"$f":"SUMIFS('4.Itens de Orçamento'!O:O,'4.Itens de Orçamento'!E:E,E39,'4.Itens de Orçamento'!D:D,$D37)","v":0},null,null,null,null,"C1 . Produto 2"]
["C2 . Produto 4",null,null,null,"C2 . Produto 4",null,null,{"$f":"SUMIFS('4.Itens de Orçamento'!O:O,'4.Itens de Orçamento'!E:E,E40,'4.Itens de Orçamento'!D:D,$D37)","v":0},null,null,null,null,"C1 . Produto 3"]
["C2 . Produto 5",null,null,null,"C2 . Produto 5",null,null,{"$f":"SUMIFS('4.Itens de Orçamento'!O:O,'4.Itens de Orçamento'!E:E,E41,'4.Itens de Orçamento'!D:D,$D37)","v":0},null,null,null,null,"C1 . Produto 4"]
["C2 . Produto 6",null,null,null,"C2 . Produto 6",null,null,{"$f":"SUMIFS('4.Itens de Orçamento'!O:O,'4.Itens de Orçamento'!E:E,E42,'4.Itens de Orçamento'!D:D,$D37)","v":0},null,null,null,null,"C1 . Produto 5"]
["C2 . Produto 7",null,null,null,"C2 . Produto 7",null,null,{"$f":"SUMIFS('4.Itens de Orçamento'!O:O,'4.Itens de Orçamento'!E:E,E43,'4.Itens de Orçamento'!D:D,$D37)","v":0},null,null,null,null,"C1 . Produto 6"]
["D. Produto 1",null,"Componente D","D Gestão do projeto","D. Produto 1",null,null,{"$f":"SUMIFS('4.Itens de Orçamento'!O:O,'4.Itens de Orçamento'!E:E,E44,'4.Itens de Orçamento'!D:D,$D44)","v":0},null,null,null,null,"C1 . Produto 7"]
["D. Produto 2",null,null,null,"D. Produto 2",null,null,{"$f":"SUMIFS('4.Itens de Orçamento'!O:O,'4.Itens de Orçamento'!E:E,E45,'4.Itens de Orçamento'!D:D,$D44)","v":0},null,null,null,null,"C2 . Produto 1"]
["D. Produto 3",null,null,null,"D. Produto 3",null,null,{"$f":"SUMIFS('4.Itens de Orçamento'!O:O,'4.Itens de Orçamento'!E:E,E46,'4.Itens de Orçamento'!D:D,$D44)","v":0},null,null,null,null,"C2 . Produto 2"]
["D. Produto 4",null,null,null,"D. Produto 4",null,null,{"$f":"SUMIFS('4.Itens de Orçamento'!O:O,'4.Itens de Orçamento'!E:E,E47,'4.Itens de Orçamento'!D:D,$D44)","v":0},null,null,null,null,"C2 . Produto 3"]
["D. Produto 5",null,null,null,"D. Produto 5",null,null,{"$f":"SUMIFS('4.Itens de Orçamento'!O:O,'4.Itens de Orçamento'!E:E,E48,'4.Itens de Orçamento'!D:D,$D44)","v":0},null,null,null,null,"C2 . Produto 4"]
["D. Produto 6",null,null,null,"D. Produto 6",null,null,{"$f":"SUMIFS('4.Itens de Orçamento'!O:O,'4.Itens de Orçamento'!E:E,E49,'4.Itens de Orçamento'!D:D,$D44)","v":0},null,null,null,null,"C2 . Produto 5"]
["D. Produto 7",null,null,null,"D. Produto 7",null,null,{"$f":"SUMIFS('4.Itens de Orçamento'!O:O,'4.Itens de Orçamento'!E:E,E50,'4.Itens de Orçamento'!D:D,$D44)","v":0},null,null,null,null,"C2 . Produto 6"]
[null,null,null,null,null,null,null,null,null,null,null,null,"C2 . Produto 7"]
[null,null,null,null,null,null,null,null,null,null,null,null,"D. Produto 1"]
[null,null,null,null,null,null,null,null,null,null,null,null,"D. Produto 2"]
[null,null,null,null,null,null,null,null,null,null,null,null,"D. Produto 3"]
[null,null,null,null,null,null,null,null,null,null,null,null,"D. Produto 4"]
[null,null,null,null,null,null,null,null,null,null,null,null,"D. Produto 5"]
[null,null,null,null,null,null,null,null,null,null,null,null,"D. Produto 6"]
[null,null,null,null,null,null,null,null,null,null,null,null,"D. Produto 7"]

{"sheet":"3.Recursos Humanos","index":4,"n_rows":146,"n_cols":46,"rows_kept":146,"cut":false,"hidden":false,"merged":[[1,39,1,43],[6,3,6,10],[1,15,1,19],[1,21,1,25],[1,27,1,31],[1,33,1,37]]}
[]
[null,null,null,null,null,null,null,null,null,null,null,null,null,null,null,"ANO 1 do Projeto",null,null,null,null,null,"ANO 2 do Projeto",null,null,null,null,null,"ANO 3 do Projeto",null,null,null,null,null,"ANO 4 do Projeto",null,null,null,null,null,"ANO 5 do Projeto"]
[null,null,null,null,null,null,null,null,null,null,null,null,null,null,null,null,null,null,null,null,null,null,null,null,null,null,null,null,null,null,null,null,null,null,null,null,null,null,null," Atenção! O total do projeto deve ser no máximo de 48 meses. Só utilize esse ano, se o total do ANO 1 não for de 12 meses."]
[null,null,null,"Atenção! Preencha somente as células em amarelo ",null,null,null,null,null,null,null,null,null,null,null,null,null,null,null,null,null,"Índice de Reajuste ANO 2",0,null,null,null,null,"Índice de Reajuste ANO 3",0,null,null,null,null,"Índice de Reajuste ANO 4",0,null,null,null,null,"Índice de Reajuste ANO 5",0,null,null,null,null,"Somatório Total Estimado\n(R$)"]
[]
["NÃO EXCLUIR! ",null,null,"Atividades Propostas: Recursos Humanos",null,null,"NÃO EXCLUIR! COLUNAS PARA FÓRMULAS!",null,null,null,null,null,null,null,null,"0",null,null,null,"Não preencher as colunas azuis! Preenchimento automático",null,"0",null,null,{"$f":"V6*1","v":0},null,null,"12",null,null,{"$f":"AB6*1","v":12},null,null,"07",null,null,{"$f":"AH6*1","v":7},null,null,"7",null,null,{"$f":"AN6*1","v":7},null,null,{"$f":"SUM(AT9:AT145)","v":0}]
[null,null,null,"*Após preencher esta aba, caso seja feita alguma alteração nos nomes dos Componentes definidos na aba  2.Componente_Produtos_Serviços, a substituição do texto não será realizada automaticamente. \nPara corrigir a alteração, basta clicar na célula com o nome a ser substituído e selecionar a nova opção."]
[{"$f":"SUM(A9:A145)+8","v":8},null,null,"Componente","Produto ","Categoria","Detalhe da Categoria","Fonte","Total Estimado","Nome do Colaborador","Cargo\n(Ex.: Coord. Financeiro, Coord. Geral, Assistente Técnico ...)","Tipo de Contrato \n(Ex.: CLT, Autônomo, RPA, Estatuto ...)","Equipe\n(Técnica ou Adm Financ.)","Fonte de Recurso",null,"Salário Médio Mensal (R$)\nANO 1","13º","1/3 adicional de férias","% Alocação \nANO 1","Valor Estimado -  Ano 1 (R$)\n(Salário médio x Nº meses do Ano x % Alocação)",null,"Salário Médio Mensal (R$)\nANO 2\n(Salário Ano1 * Reajuste ANO 2)","13º","1/3 adicional de férias","% Alocação \nANO 2","Valor Estimado -  Ano 2 (R$)\n(Salário médio x Nº meses do Ano x % Alocação ANO 2)",null,"Salário Médio Mensal (R$)\nANO 3\n(Salário Ano2 * Reajuste ANO 3)","13º","1/3 adicional de férias","% Alocação \nANO 3","Valor Estimado -  Ano 3 (R$)\n(Salário médio x Nº meses do Ano x % Alocação ANO 3)",null,"Salário Médio Mensal (R$)\nANO 4\n(Salário Ano 3 * Reajuste ANO 4)","13º","1/3 adicional de férias","% Alocação \nANO 4","Valor Estimado -  Ano 4 (R$)\n(Salário médio x Nº meses do Ano x % Alocação ANO 4)",null,"Salário Médio Mensal (R$)\nANO 5\n(Salário Ano 4 * Reajuste ANO 5)","13º","1/3 adicional de férias","% Alocação \nANO 5","Valor Estimado -  Ano 5 (R$)\n(Salário médio x Nº meses do Ano x % Alocação ANO 5)",null,"Valor Estimado -  Total (R$)\n(Ano1 + Ano2 + Ano3 + Ano4)"]
[{"$f":"IF(OR(D9=\"< selecione o Componente >\",E9=\"\",D9=\"\"),0,1)","v":0},{"$f":"VLOOKUP(D9,Listas!$R$2:$S$12,2,FALSE)","v":"Componente0"},null,"< Selecione o Componente >","Recursos Humanos","Recursos Humanos Próprios",{"$f":"K9","v":0},{"$f":"N9","v":"< Selecione a Fonte de Recurso >"},{"$f":"AT9","v":0},null,null,null,"< Selecione a Equipe >","< Selecione a Fonte de Recurso >",null,null,null,null,null,{"$f":"P9*$P$6*S9+Q9+R9","v":0},null,{"$f":"IF(Y$6=0,0,P9+P9*W$4)","v":0},null,null,null,{"$f":"V9*Y9*$V$6+W9+X9","v":0},null,{"$f":"IF(AE$6=0,0,V9+V9*AC$4)","v":0},null,null,{"$f":"IF(AE$6=0,0,Y9)","v":0},{"$f":"AB9*AE9*AB$6+AC9+AD9","v":0},null,{"$f":"IF(AK$6=0,0,AB9+AB9*AI$4)","v":0},null,null,0.3,{"$f":"AH9*AK9*AH$6+AI9+AJ9","v":0},null,{"$f":"IF(AQ$6=0,0,AH9+AH9*AO$4)","v":0},null,null,0.5,{"$f":"AN9*AQ9*AN$6+AO9+AP9","v":0},null,{"$f":"T9+Z9+AF9+AL9+AR9","v":0}]
[{"$f":"IF(OR(D10=\"< selecione o Componente >\",E10=\"\",D10=\"\"),0,1)","v":0},{"$f":"VLOOKUP(D10,Listas!$R$2:$S$12,2,FALSE)","v":"Componente0"},null,"< Selecione o Componente >","Recursos Humanos","Recursos Humanos Próprios",{"$f":"K10","v":0},{"$f":"N10","v":"< Selecione a Fonte de Recurso >"},{"$f":"AT10","v":0},null,null,null,"< Selecione a Equipe >","< Selecione a Fonte de Recurso >",null,null,null,null,null,{"$f":"P10*$P$6*S10+Q10+R10","v":0},null,0,null,null,{"$f":"IF(Y$6=0,0,S10)","v":0},{"$f":"V10*Y10*$V$6+W10+X10","v":0},null,0,null,null,{"$f":"IF(AE$6=0,0,Y10)","v":0},{"$f":"AB10*AE10*AB$6+AC10+AD10","v":0},null,0,null,null,{"$f":"IF(AK$6=0,0,AE10)","v":0},{"$f":"AH10*AK10*AH$6+AI10+AJ10","v":0},null,0,null,null,null,{"$f":"AN10*AQ10*AN$6+AO10+AP10","v":0},null,{"$f":"T10+Z10+AF10+AL10+AR10","v":0}]
[0,{"$f":"VLOOKUP(D11,Listas!$R$2:$S$12,2,FALSE)","v":"Componente0"},null,"< Selecione o Componente >","Recursos Humanos","Recursos Humanos Próprios",0,"< Selecione a Fonte de Recurso >",0,null,null,null,"< Selecione a Equipe >","< Selecione a Fonte de Recurso >",null,null,null,null,null,0,null,0,null,null,0,0,null,0,null,null,0,0,null,0,null,null,0,0,null,0,null,null,{"$f":"IF(AQ$6=0,0,AK11)","v":0},0,null,0]
[0,{"$f":"VLOOKUP(D12,Listas!$R$2:$S$12,2,FALSE)","v":"Componente0"},null,"< Selecione o Componente >","Recursos Humanos","Recursos Humanos Próprios",0,"< Selecione a Fonte de Recurso >",0,null,null,null,"< Selecione a Equipe >","< Selecione a Fonte de Recurso >",null,null,null,null,null,0,null,0,null,null,0,0,null,0,null,null,0,0,null,0,null,null,0,0,null,0,null,null,0,0,null,0]
[0,{"$f":"VLOOKUP(D13,Listas!$R$2:$S$12,2,FALSE)","v":"Componente0"},null,"< Selecione o Componente >","Recursos Humanos","Recursos Humanos Próprios",0,"< Selecione a Fonte de Recurso >",0,null,null,null,"< Selecione a Equipe >","< Selecione a Fonte de Recurso >",null,null,null,null,null,0,null,0,null,null,null,0,null,0,null,null,0,0,null,0,null,null,0,0,null,0,null,null,0,0,null,0]
[0,{"$f":"VLOOKUP(D14,Listas!$R$2:$S$12,2,FALSE)","v":"Componente0"},null,"< Selecione o Componente >","Recursos Humanos","Recursos Humanos Próprios",0,"< Selecione a Fonte de Recurso >",0,null,null,null,"< Selecione a Equipe >","< Selecione a Fonte de Recurso >",null,null,null,null,null,0,null,0,null,null,0,0,null,0,null,null,0,0,null,0,null,null,0,0,null,0,null,null,0,0,null,0]
[0,{"$f":"VLOOKUP(D15,Listas!$R$2:$S$12,2,FALSE)","v":"Componente0"},null,"< Selecione o Componente >","Recursos Humanos","Recursos Humanos Próprios",0,"< Selecione a Fonte de Recurso >",0,null,null,null,"< Selecione a Equipe >","< Selecione a Fonte de Recurso >",null,null,null,null,null,0,null,0,null,null,0,0,null,0,null,null,0,0,null,0,null,null,0,0,null,0,null,null,0,0,null,0]
[0,{"$f":"VLOOKUP(D16,Listas!$R$2:$S$12,2,FALSE)","v":"Componente0"},null,"< Selecione o Componente >","Recursos Humanos","Recursos Humanos Próprios",0,"< Selecione a Fonte de Recurso >",0,null,null,null,"< Selecione a Equipe >","< Selecione a Fonte de Recurso >",null,null,null,null,null,0,null,0,null,null,0,0,null,0,null,null,0,0,null,0,null,null,0,0,null,0,null,null,0,0,null,0]
[0,{"$f":"VLOOKUP(D17,Listas!$R$2:$S$12,2,FALSE)","v":"Componente0"},null,"< Selecione o Componente >","Recursos Humanos","Recursos Humanos Próprios",0,"< Selecione a Fonte de Recurso >",0,null,null,null,"< Selecione a Equipe >","< Selecione a Fonte de Recurso >",null,null,null,null,null,0,null,0,null,null,0,0,null,0,null,null,0,0,null,0,null,null,0,0,null,0,null,null,0,0,null,0]
[0,{"$f":"VLOOKUP(D18,Listas!$R$2:$S$12,2,FALSE)","v":"Componente0"},null,"< Selecione o Componente >","Recursos Humanos","Recursos Humanos Próprios",0,"< Selecione a Fonte de Recurso >",0,null,null,null,"< Selecione a Equipe >","< Selecione a Fonte de Recurso >",null,null,null,null,null,0,null,0,null,null,0,0,null,0,null,null,0,0,null,0,null,null,0,0,null,0,null,null,0,0,null,0]
[0,{"$f":"VLOOKUP(D19,Listas!$R$2:$S$12,2,FALSE)","v":"Componente0"},null,"< Selecione o Componente >","Recursos Humanos","Recursos Humanos Próprios",0,"< Selecione a Fonte de Recurso >",0,null,null,null,"< Selecione a Equipe >","< Selecione a Fonte de Recurso >",null,null,null,null,null,0,null,0,null,null,0,0,null,0,null,null,0,0,null,0,null,null,0,0,null,0,null,null,0,0,null,0]
[0,{"$f":"VLOOKUP(D20,Listas!$R$2:$S$12,2,FALSE)","v":"Componente0"},null,"< Selecione o Componente >","Recursos Humanos","Recursos Humanos Próprios",0,"< Selecione a Fonte de Recurso >",0,null,null,null,"< Selecione a Equipe >","< Selecione a Fonte de Recurso >",null,null,null,null,null,0,null,0,null,null,0,0,null,0,null,null,0,0,null,0,null,null,0,0,null,0,null,null,0,0,null,0]
[0,{"$f":"VLOOKUP(D21,Listas!$R$2:$S$12,2,FALSE)","v":"Componente0"},null,"< Selecione o Componente >","Recursos Humanos","Recursos Humanos Próprios",0,"< Selecione a Fonte de Recurso >",0,null,null,null,"< Selecione a Equipe >","< Selecione a Fonte de Recurso >",null,null,null,null,null,0,null,0,null,null,0,0,null,0,null,null,0,0,null,0,null,null,0,0,null,0,null,null,0,0,null,0]
[0,{"$f":"VLOOKUP(D22,Listas!$R$2:$S$12,2,FALSE)","v":"Componente0"},null,"< Selecione o Componente >","Recursos Humanos","Recursos Humanos Próprios",0,"< Selecione a Fonte de Recurso >",0,null,null,null,"< Selecione a Equipe >","< Selecione a Fonte de Recurso >",null,null,null,null,null,0,null,0,null,null,0,0,null,0,null,null,0,0,null,0,null,null,0,0,null,0,null,null,0,0,null,0]
[0,{"$f":"VLOOKUP(D23,Listas!$R$2:$S$12,2,FALSE)","v":"Componente0"},null,"< Selecione o Componente >","Recursos Humanos","Recursos Humanos Próprios",0,"< Selecione a Fonte de Recurso >",0,null,null,null,"< Selecione a Equipe >","< Selecione a Fonte de Recurso >",null,null,null,null,null,0,null,0,null,null,0,0,null,0,null,null,0,0,null,0,null,null,0,0,null,0,null,null,0,0,null,0]
[0,{"$f":"VLOOKUP(D24,Listas!$R$2:$S$12,2,FALSE)","v":"Componente0"},null,"< Selecione o Componente >","Recursos Humanos","Recursos Humanos Próprios",0,"< Selecione a Fonte de Recurso >",0,null,null,null,"< Selecione a Equipe >","< Selecione a Fonte de Recurso >",null,null,null,null,null,0,null,0,null,null,0,0,null,0,null,null,0,0,null,0,null,null,0,0,null,0,null,null,0,0,null,0]
[0,{"$f":"VLOOKUP(D25,Listas!$R$2:$S$12,2,FALSE)","v":"Componente0"},null,"< Selecione o Componente >","Recursos Humanos","Recursos Humanos Próprios",0,"< Selecione a Fonte de Recurso >",0,null,null,null,"< Selecione a Equipe >","< Selecione a Fonte de Recurso >",null,null,null,null,null,0,null,0,null,null,0,0,null,0,null,null,0,0,null,0,null,null,0,0,null,0,null,null,0,0,null,0]
[0,{"$f":"VLOOKUP(D26,Listas!$R$2:$S$12,2,FALSE)","v":"Componente0"},null,"< Selecione o Componente >","Recursos Humanos","Recursos Humanos Próprios",0,"< Selecione a Fonte de Recurso >",0,null,null,null,"< Selecione a Equipe >","< Selecione a Fonte de Recurso >",null,null,null,null,null,0,null,0,null,null,0,0,null,0,null,null,0,0,null,0,null,null,0,0,null,0,null,null,0,0,null,0]
[0,{"$f":"VLOOKUP(D27,Listas!$R$2:$S$12,2,FALSE)","v":"Componente0"},null,"< Selecione o Componente >","Recursos Humanos","Recursos Humanos Próprios",0,"< Selecione a Fonte de Recurso >",0,null,null,null,"< Selecione a Equipe >","< Selecione a Fonte de Recurso >",null,null,null,null,null,0,null,0,null,null,0,0,null,0,null,null,0,0,null,0,null,null,0,0,null,0,null,null,0,0,null,0]
[0,{"$f":"VLOOKUP(D28,Listas!$R$2:$S$12,2,FALSE)","v":"Componente0"},null,"< Selecione o Componente >","Recursos Humanos","Recursos Humanos Próprios",0,"< Selecione a Fonte de Recurso >",0,null,null,null,"< Selecione a Equipe >","< Selecione a Fonte de Recurso >",null,null,null,null,null,0,null,0,null,null,0,0,null,0,null,null,0,0,null,0,null,null,0,0,null,0,null,null,0,0,null,0]
[0,{"$f":"VLOOKUP(D29,Listas!$R$2:$S$12,2,FALSE)","v":"Componente0"},null,"< Selecione o Componente >","Recursos Humanos","Recursos Humanos Próprios",0,"< Selecione a Fonte de Recurso >",0,null,null,null,"< Selecione a Equipe >","< Selecione a Fonte de Recurso >",null,null,null,null,null,0,null,0,null,null,0,0,null,0,null,null,0,0,null,0,null,null,0,0,null,0,null,null,0,0,null,0]
[0,{"$f":"VLOOKUP(D30,Listas!$R$2:$S$12,2,FALSE)","v":"Componente0"},null,"< Selecione o Componente >","Recursos Humanos","Recursos Humanos Próprios",0,"< Selecione a Fonte de Recurso >",0,null,null,null,"< Selecione a Equipe >","< Selecione a Fonte de Recurso >",null,null,null,null,null,0,null,0,null,null,0,0,null,0,null,null,0,0,null,0,null,null,0,0,null,0,null,null,0,0,null,0]
[0,{"$f":"VLOOKUP(D31,Listas!$R$2:$S$12,2,FALSE)","v":"Componente0"},null,"< Selecione o Componente >","Recursos Humanos","Recursos Humanos Próprios",0,"< Selecione a Fonte de Recurso >",0,null,null,null,"< Selecione a Equipe >","< Selecione a Fonte de Recurso >",null,null,null,null,null,0,null,0,null,null,0,0,null,0,null,null,0,0,null,0,null,null,0,0,null,0,null,null,0,0,null,0]
[0,{"$f":"VLOOKUP(D32,Listas!$R$2:$S$12,2,FALSE)","v":"Componente0"},null,"< Selecione o Componente >","Recursos Humanos","Recursos Humanos Próprios",0,"< Selecione a Fonte de Recurso >",0,null,null,null,"< Selecione a Equipe >","< Selecione a Fonte de Recurso >",null,null,null,null,null,0,null,0,null,null,0,0,null,0,null,null,0,0,null,0,null,null,0,0,null,0,null,null,0,0,null,0]
[0,{"$f":"VLOOKUP(D33,Listas!$R$2:$S$12,2,FALSE)","v":"Componente0"},null,"< Selecione o Componente >","Recursos Humanos","Recursos Humanos Próprios",0,"< Selecione a Fonte de Recurso >",0,null,null,null,"< Selecione a Equipe >","< Selecione a Fonte de Recurso >",null,null,null,null,null,0,null,0,null,null,0,0,null,0,null,null,0,0,null,0,null,null,0,0,null,0,null,null,0,0,null,0]
[0,{"$f":"VLOOKUP(D34,Listas!$R$2:$S$12,2,FALSE)","v":"Componente0"},null,"< Selecione o Componente >","Recursos Humanos","Recursos Humanos Próprios",0,"< Selecione a Fonte de Recurso >",0,null,null,null,"< Selecione a Equipe >","< Selecione a Fonte de Recurso >",null,null,null,null,null,0,null,0,null,null,0,0,null,0,null,null,0,0,null,0,null,null,0,0,null,0,null,null,0,0,null,0]
[0,{"$f":"VLOOKUP(D35,Listas!$R$2:$S$12,2,FALSE)","v":"Componente0"},null,"< Selecione o Componente >","Recursos Humanos","Recursos Humanos Próprios",0,"< Selecione a Fonte de Recurso >",0,null,null,null,"< Selecione a Equipe >","< Selecione a Fonte de Recurso >",null,null,null,null,null,0,null,0,null,null,0,0,null,0,null,null,0,0,null,0,null,null,0,0,null,0,null,null,0,0,null,0]
[0,{"$f":"VLOOKUP(D36,Listas!$R$2:$S$12,2,FALSE)","v":"Componente0"},null,"< Selecione o Componente >","Recursos Humanos","Recursos Humanos Próprios",0,"< Selecione a Fonte de Recurso >",0,null,null,null,"< Selecione a Equipe >","< Selecione a Fonte de Recurso >",null,null,null,null,null,0,null,0,null,null,0,0,null,0,null,null,0,0,null,0,null,null,0,0,null,0,null,null,0,0,null,0]
[0,{"$f":"VLOOKUP(D37,Listas!$R$2:$S$12,2,FALSE)","v":"Componente0"},null,"< Selecione o Componente >","Recursos Humanos","Recursos Humanos Próprios",0,"< Selecione a Fonte de Recurso >",0,null,null,null,"< Selecione a Equipe >","< Selecione a Fonte de Recurso >",null,null,null,null,null,0,null,0,null,null,0,0,null,0,null,null,0,0,null,0,null,null,0,0,null,0,null,null,0,0,null,0]
[0,{"$f":"VLOOKUP(D38,Listas!$R$2:$S$12,2,FALSE)","v":"Componente0"},null,"< Selecione o Componente >","Recursos Humanos","Recursos Humanos Próprios",0,"< Selecione a Fonte de Recurso >",0,null,null,null,"< Selecione a Equipe >","< Selecione a Fonte de Recurso >",null,null,null,null,null,0,null,0,null,null,0,0,null,0,null,null,0,0,null,0,null,null,0,0,null,0,null,null,0,0,null,0]
[0,{"$f":"VLOOKUP(D39,Listas!$R$2:$S$12,2,FALSE)","v":"Componente0"},null,"< Selecione o Componente >","Recursos Humanos","Recursos Humanos Próprios",0,"< Selecione a Fonte de Recurso >",0,null,null,null,"< Selecione a Equipe >","< Selecione a Fonte de Recurso >",null,null,null,null,null,0,null,0,null,null,0,0,null,0,null,null,0,0,null,0,null,null,0,0,null,0,null,null,0,0,null,0]
[0,{"$f":"VLOOKUP(D40,Listas!$R$2:$S$12,2,FALSE)","v":"Componente0"},null,"< Selecione o Componente >","Recursos Humanos","Recursos Humanos Próprios",0,"< Selecione a Fonte de Recurso >",0,null,null,null,"< Selecione a Equipe >","< Selecione a Fonte de Recurso >",null,null,null,null,null,0,null,0,null,null,0,0,null,0,null,null,0,0,null,0,null,null,0,0,null,0,null,null,0,0,null,0]
[0,{"$f":"VLOOKUP(D41,Listas!$R$2:$S$12,2,FALSE)","v":"Componente0"},null,"< Selecione o Componente >","Recursos Humanos","Recursos Humanos Próprios",0,"< Selecione a Fonte de Recurso >",0,null,null,null,"< Selecione a Equipe >","< Selecione a Fonte de Recurso >",null,null,null,null,null,0,null,{"$f":"IF(Y$6=0,0,P41+P41*W$4)","v":0},null,null,{"$f":"IF(Y$6=0,0,S41)","v":0},0,null,{"$f":"IF(AE$6=0,0,V41+V41*AC$4)","v":0},null,null,0,0,null,{"$f":"IF(AK$6=0,0,AB41+AB41*AI$4)","v":0},null,null,0,0,null,{"$f":"IF(AQ$6=0,0,AH41+AH41*AO$4)","v":0},null,null,0,0,null,{"$f":"T41+Z41+AF41+AL41+AR41","v":0}]
[0,{"$f":"VLOOKUP(D42,Listas!$R$2:$S$12,2,FALSE)","v":"Componente0"},null,"< Selecione o Componente >","Recursos Humanos","Recursos Humanos Próprios",0,"< Selecione a Fonte de Recurso >",0,null,null,null,"< Selecione a Equipe >","< Selecione a Fonte de Recurso >",null,null,null,null,null,0,null,0,null,null,0,0,null,0,null,null,0,0,null,0,null,null,0,0,null,0,null,null,0,0,null,0]
[0,{"$f":"VLOOKUP(D43,Listas!$R$2:$S$12,2,FALSE)","v":"Componente0"},null,"< Selecione o Componente >","Recursos Humanos","Recursos Humanos Próprios",0,"< Selecione a Fonte de Recurso >",0,null,null,null,"< Selecione a Equipe >","< Selecione a Fonte de Recurso >",null,null,null,null,null,0,null,0,null,null,0,0,null,0,null,null,0,0,null,0,null,null,0,0,null,0,null,null,0,0,null,0]
[0,{"$f":"VLOOKUP(D44,Listas!$R$2:$S$12,2,FALSE)","v":"Componente0"},null,"< Selecione o Componente >","Recursos Humanos","Recursos Humanos Próprios",0,"< Selecione a Fonte de Recurso >",0,null,null,null,"< Selecione a Equipe >","< Selecione a Fonte de Recurso >",null,null,null,null,null,0,null,0,null,null,0,0,null,0,null,null,0,0,null,0,null,null,0,0,null,0,null,null,0,0,null,0]
[0,{"$f":"VLOOKUP(D45,Listas!$R$2:$S$12,2,FALSE)","v":"Componente0"},null,"< Selecione o Componente >","Recursos Humanos","Recursos Humanos Próprios",0,"< Selecione a Fonte de Recurso >",0,null,null,null,"< Selecione a Equipe >","< Selecione a Fonte de Recurso >",null,null,null,null,null,0,null,0,null,null,0,0,null,0,null,null,0,0,null,0,null,null,0,0,null,0,null,null,0,0,null,0]
[0,{"$f":"VLOOKUP(D46,Listas!$R$2:$S$12,2,FALSE)","v":"Componente0"},null,"< Selecione o Componente >","Recursos Humanos","Recursos Humanos Próprios",0,"< Selecione a Fonte de Recurso >",0,null,null,null,"< Selecione a Equipe >","< Selecione a Fonte de Recurso >",null,null,null,null,null,0,null,0,null,null,0,0,null,0,null,null,0,0,null,0,null,null,0,0,null,0,null,null,0,0,null,0]
[0,{"$f":"VLOOKUP(D47,Listas!$R$2:$S$12,2,FALSE)","v":"Componente0"},null,"< Selecione o Componente >","Recursos Humanos","Recursos Humanos Próprios",{"$f":"K47","v":0},{"$f":"N47","v":"< Selecione a Fonte de Recurso >"},{"$f":"AT47","v":0},null,null,null,"< Selecione a Equipe >","< Selecione a Fonte de Recurso >",null,null,null,null,null,0,null,0,null,null,0,0,null,0,null,null,0,0,null,0,null,null,0,0,null,0,null,null,0,0,null,0]
[0,{"$f":"VLOOKUP(D48,Listas!$R$2:$S$12,2,FALSE)","v":"Componente0"},null,"< Selecione o Componente >","Recursos Humanos","Recursos Humanos Próprios",0,"< Selecione a Fonte de Recurso >",0,null,null,null,"< Selecione a Equipe >","< Selecione a Fonte de Recurso >",null,null,null,null,null,0,null,0,null,null,0,0,null,0,null,null,0,0,null,0,null,null,0,0,null,0,null,null,0,0,null,0]
[0,{"$f":"VLOOKUP(D49,Listas!$R$2:$S$12,2,FALSE)","v":"Componente0"},null,"< Selecione o Componente >","Recursos Humanos","Recursos Humanos Próprios",0,"< Selecione a Fonte de Recurso >",0,null,null,null,"< Selecione a Equipe >","< Selecione a Fonte de Recurso >",null,null,null,null,null,0,null,0,null,null,0,0,null,0,null,null,0,0,null,0,null,null,0,0,null,0,null,null,0,0,null,0]
[0,{"$f":"VLOOKUP(D50,Listas!$R$2:$S$12,2,FALSE)","v":"Componente0"},null,"< Selecione o Componente >","Recursos Humanos","Recursos Humanos Próprios",0,"< Selecione a Fonte de Recurso >",0,null,null,null,"< Selecione a Equipe >","< Selecione a Fonte de Recurso >",null,null,null,null,null,0,null,0,null,null,0,0,null,0,null,null,0,0,null,0,null,null,0,0,null,0,null,null,0,0,null,0]
[0,{"$f":"VLOOKUP(D51,Listas!$R$2:$S$12,2,FALSE)","v":"Componente0"},null,"< Selecione o Componente >","Recursos Humanos","Recursos Humanos Próprios",0,"< Selecione a Fonte de Recurso >",0,null,null,null,"< Selecione a Equipe >","< Selecione a Fonte de Recurso >",null,null,null,null,null,0,null,0,null,null,0,0,null,0,null,null,0,0,null,0,null,null,0,0,null,0,null,null,0,0,null,0]
[0,{"$f":"VLOOKUP(D52,Listas!$R$2:$S$12,2,FALSE)","v":"Componente0"},null,"< Selecione o Componente >","Recursos Humanos","Recursos Humanos Próprios",0,"< Selecione a Fonte de Recurso >",0,null,null,null,"< Selecione a Equipe >","< Selecione a Fonte de Recurso >",null,null,null,null,null,0,null,0,null,null,0,0,null,0,null,null,0,0,null,0,null,null,0,0,null,0,null,null,0,0,null,0]
[0,{"$f":"VLOOKUP(D53,Listas!$R$2:$S$12,2,FALSE)","v":"Componente0"},null,"< Selecione o Componente >","Recursos Humanos","Recursos Humanos Próprios",0,"< Selecione a Fonte de Recurso >",0,null,null,null,"< Selecione a Equipe >","< Selecione a Fonte de Recurso >",null,null,null,null,null,0,null,0,null,null,0,0,null,0,null,null,0,0,null,0,null,null,0,0,null,0,null,null,0,0,null,0]
[0,{"$f":"VLOOKUP(D54,Listas!$R$2:$S$12,2,FALSE)","v":"Componente0"},null,"< Selecione o Componente >","Recursos Humanos","Recursos Humanos Próprios",0,"< Selecione a Fonte de Recurso >",0,null,null,null,"< Selecione a Equipe >","< Selecione a Fonte de Recurso >",null,null,null,null,null,0,null,0,null,null,0,0,null,0,null,null,0,0,null,0,null,null,0,0,null,0,null,null,0,0,null,0]
[0,{"$f":"VLOOKUP(D55,Listas!$R$2:$S$12,2,FALSE)","v":"Componente0"},null,"< Selecione o Componente >","Recursos Humanos","Recursos Humanos Próprios",0,"< Selecione a Fonte de Recurso >",0,null,null,null,"< Selecione a Equipe >","< Selecione a Fonte de Recurso >",null,null,null,null,null,0,null,0,null,null,0,0,null,0,null,null,0,0,null,0,null,null,0,0,null,0,null,null,0,0,null,0]
[0,{"$f":"VLOOKUP(D56,Listas!$R$2:$S$12,2,FALSE)","v":"Componente0"},null,"< Selecione o Componente >","Recursos Humanos","Recursos Humanos Próprios",0,"< Selecione a Fonte de Recurso >",0,null,null,null,"< Selecione a Equipe >","< Selecione a Fonte de Recurso >",null,null,null,null,null,0,null,0,null,null,0,0,null,0,null,null,0,0,null,0,null,null,0,0,null,0,null,null,0,0,null,0]
[0,{"$f":"VLOOKUP(D57,Listas!$R$2:$S$12,2,FALSE)","v":"Componente0"},null,"< Selecione o Componente >","Recursos Humanos","Recursos Humanos Próprios",0,"< Selecione a Fonte de Recurso >",0,null,null,null,"< Selecione a Equipe >","< Selecione a Fonte de Recurso >",null,null,null,null,null,0,null,0,null,null,0,0,null,0,null,null,0,0,null,0,null,null,0,0,null,0,null,null,0,0,null,0]
[0,{"$f":"VLOOKUP(D58,Listas!$R$2:$S$12,2,FALSE)","v":"Componente0"},null,"< Selecione o Componente >","Recursos Humanos","Recursos Humanos Próprios",0,"< Selecione a Fonte de Recurso >",0,null,null,null,"< Selecione a Equipe >","< Selecione a Fonte de Recurso >",null,null,null,null,null,0,null,0,null,null,0,0,null,0,null,null,0,0,null,0,null,null,0,0,null,0,null,null,0,0,null,0]
[0,{"$f":"VLOOKUP(D59,Listas!$R$2:$S$12,2,FALSE)","v":"Componente0"},null,"< Selecione o Componente >","Recursos Humanos","Recursos Humanos Próprios",0,"< Selecione a Fonte de Recurso >",0,null,null,null,"< Selecione a Equipe >","< Selecione a Fonte de Recurso >",null,null,null,null,null,0,null,0,null,null,0,0,null,0,null,null,0,0,null,0,null,null,0,0,null,0,null,null,0,0,null,0]
[0,{"$f":"VLOOKUP(D60,Listas!$R$2:$S$12,2,FALSE)","v":"Componente0"},null,"< Selecione o Componente >","Recursos Humanos","Recursos Humanos Próprios",0,"< Selecione a Fonte de Recurso >",0,null,null,null,"< Selecione a Equipe >","< Selecione a Fonte de Recurso >",null,null,null,null,null,0,null,0,null,null,0,0,null,0,null,null,0,0,null,0,null,null,0,0,null,0,null,null,0,0,null,0]
[0,{"$f":"VLOOKUP(D61,Listas!$R$2:$S$12,2,FALSE)","v":"Componente0"},null,"< Selecione o Componente >","Recursos Humanos","Recursos Humanos Próprios",0,"< Selecione a Fonte de Recurso >",0,null,null,null,"< Selecione a Equipe >","< Selecione a Fonte de Recurso >",null,null,null,null,null,0,null,0,null,null,0,0,null,0,null,null,0,0,null,0,null,null,0,0,null,0,null,null,0,0,null,0]
[0,{"$f":"VLOOKUP(D62,Listas!$R$2:$S$12,2,FALSE)","v":"Componente0"},null,"< Selecione o Componente >","Recursos Humanos","Recursos Humanos Próprios",0,"< Selecione a Fonte de Recurso >",0,null,null,null,"< Selecione a Equipe >","< Selecione a Fonte de Recurso >",null,null,null,null,null,0,null,0,null,null,0,0,null,0,null,null,0,0,null,0,null,null,0,0,null,0,null,null,0,0,null,0]
[0,{"$f":"VLOOKUP(D63,Listas!$R$2:$S$12,2,FALSE)","v":"Componente0"},null,"< Selecione o Componente >","Recursos Humanos","Recursos Humanos Próprios",0,"< Selecione a Fonte de Recurso >",0,null,null,null,"< Selecione a Equipe >","< Selecione a Fonte de Recurso >",null,null,null,null,null,0,null,0,null,null,0,0,null,0,null,null,0,0,null,0,null,null,0,0,null,0,null,null,0,0,null,0]
[0,{"$f":"VLOOKUP(D64,Listas!$R$2:$S$12,2,FALSE)","v":"Componente0"},null,"< Selecione o Componente >","Recursos Humanos","Recursos Humanos Próprios",0,"< Selecione a Fonte de Recurso >",0,null,null,null,"< Selecione a Equipe >","< Selecione a Fonte de Recurso >",null,null,null,null,null,0,null,0,null,null,0,0,null,0,null,null,0,0,null,0,null,null,0,0,null,0,null,null,0,0,null,0]
[0,{"$f":"VLOOKUP(D65,Listas!$R$2:$S$12,2,FALSE)","v":"Componente0"},null,"< Selecione o Componente >","Recursos Humanos","Recursos Humanos Próprios",0,"< Selecione a Fonte de Recurso >",0,null,null,null,"< Selecione a Equipe >","< Selecione a Fonte de Recurso >",null,null,null,null,null,0,null,0,null,null,0,0,null,0,null,null,0,0,null,0,null,null,0,0,null,0,null,null,0,0,null,0]
[0,{"$f":"VLOOKUP(D66,Listas!$R$2:$S$12,2,FALSE)","v":"Componente0"},null,"< Selecione o Componente >","Recursos Humanos","Recursos Humanos Próprios",0,"< Selecione a Fonte de Recurso >",0,null,null,null,"< Selecione a Equipe >","< Selecione a Fonte de Recurso >",null,null,null,null,null,0,null,0,null,null,0,0,null,0,null,null,0,0,null,0,null,null,0,0,null,0,null,null,0,0,null,0]
[0,{"$f":"VLOOKUP(D67,Listas!$R$2:$S$12,2,FALSE)","v":"Componente0"},null,"< Selecione o Componente >","Recursos Humanos","Recursos Humanos Próprios",0,"< Selecione a Fonte de Recurso >",0,null,null,null,"< Selecione a Equipe >","< Selecione a Fonte de Recurso >",null,null,null,null,null,0,null,0,null,null,0,0,null,0,null,null,0,0,null,0,null,null,0,0,null,0,null,null,0,0,null,0]
[0,{"$f":"VLOOKUP(D68,Listas!$R$2:$S$12,2,FALSE)","v":"Componente0"},null,"< Selecione o Componente >","Recursos Humanos","Recursos Humanos Próprios",0,"< Selecione a Fonte de Recurso >",0,null,null,null,"< Selecione a Equipe >","< Selecione a Fonte de Recurso >",null,null,null,null,null,0,null,0,null,null,0,0,null,0,null,null,0,0,null,0,null,null,0,0,null,0,null,null,0,0,null,0]
[0,{"$f":"VLOOKUP(D69,Listas!$R$2:$S$12,2,FALSE)","v":"Componente0"},null,"< Selecione o Componente >","Recursos Humanos","Recursos Humanos Próprios",0,"< Selecione a Fonte de Recurso >",0,null,null,null,"< Selecione a Equipe >","< Selecione a Fonte de Recurso >",null,null,null,null,null,0,null,0,null,null,0,0,null,0,null,null,0,0,null,0,null,null,0,0,null,0,null,null,0,0,null,0]
[0,{"$f":"VLOOKUP(D70,Listas!$R$2:$S$12,2,FALSE)","v":"Componente0"},null,"< Selecione o Componente >","Recursos Humanos","Recursos Humanos Próprios",0,"< Selecione a Fonte de Recurso >",0,null,null,null,"< Selecione a Equipe >","< Selecione a Fonte de Recurso >",null,null,null,null,null,0,null,0,null,null,0,0,null,0,null,null,0,0,null,0,null,null,0,0,null,0,null,null,0,0,null,0]
[0,{"$f":"VLOOKUP(D71,Listas!$R$2:$S$12,2,FALSE)","v":"Componente0"},null,"< Selecione o Componente >","Recursos Humanos","Recursos Humanos Próprios",0,"< Selecione a Fonte de Recurso >",0,null,null,null,"< Selecione a Equipe >","< Selecione a Fonte de Recurso >",null,null,null,null,null,0,null,0,null,null,0,0,null,0,null,null,0,0,null,0,null,null,0,0,null,0,null,null,0,0,null,0]
[0,{"$f":"VLOOKUP(D72,Listas!$R$2:$S$12,2,FALSE)","v":"Componente0"},null,"< Selecione o Componente >","Recursos Humanos","Recursos Humanos Próprios",0,"< Selecione a Fonte de Recurso >",0,null,null,null,"< Selecione a Equipe >","< Selecione a Fonte de Recurso >",null,null,null,null,null,0,null,0,null,null,0,0,null,0,null,null,0,0,null,0,null,null,0,0,null,0,null,null,0,0,null,0]
[0,{"$f":"VLOOKUP(D73,Listas!$R$2:$S$12,2,FALSE)","v":"Componente0"},null,"< Selecione o Componente >","Recursos Humanos","Recursos Humanos Próprios",0,"< Selecione a Fonte de Recurso >",0,null,null,null,"< Selecione a Equipe >","< Selecione a Fonte de Recurso >",null,null,null,null,null,0,null,{"$f":"IF(Y$6=0,0,P73+P73*W$4)","v":0},null,null,{"$f":"IF(Y$6=0,0,S73)","v":0},0,null,{"$f":"IF(AE$6=0,0,V73+V73*AC$4)","v":0},null,null,0,0,null,{"$f":"IF(AK$6=0,0,AB73+AB73*AI$4)","v":0},null,null,0,0,null,{"$f":"IF(AQ$6=0,0,AH73+AH73*AO$4)","v":0},null,null,0,0,null,{"$f":"T73+Z73+AF73+AL73+AR73","v":0}]
[{"$f":"IF(OR(D74=\"< selecione o Componente >\",E74=\"\",D74=\"\"),0,1)","v":0},{"$f":"VLOOKUP(D74,Listas!$R$2:$S$12,2,FALSE)","v":"Componente0"},null,"< Selecione o Componente >","Recursos Humanos","Recursos Humanos Próprios",{"$f":"K74","v":0},{"$f":"N74","v":"< Selecione a Fonte de Recurso >"},{"$f":"AT74","v":0},null,null,null,"< Selecione a Equipe >","< Selecione a Fonte de Recurso >",null,null,null,null,null,{"$f":"P74*$P$6*S74+Q74+R74","v":0},null,0,null,null,0,{"$f":"V74*Y74*$V$6+W74+X74","v":0},null,0,null,null,{"$f":"IF(AE$6=0,0,Y74)","v":0},{"$f":"AB74*AE74*AB$6+AC74+AD74","v":0},null,0,null,null,{"$f":"IF(AK$6=0,0,AE74)","v":0},{"$f":"AH74*AK74*AH$6+AI74+AJ74","v":0},null,0,null,null,{"$f":"IF(AQ$6=0,0,AK74)","v":0},{"$f":"AN74*AQ74*AN$6+AO74+AP74","v":0},null,0]
[0,{"$f":"VLOOKUP(D75,Listas!$R$2:$S$12,2,FALSE)","v":"Componente0"},null,"< Selecione o Componente >","Recursos Humanos","Recursos Humanos Próprios",0,"< Selecione a Fonte de Recurso >",0,null,null,null,"< Selecione a Equipe >","< Selecione a Fonte de Recurso >",null,null,null,null,null,0,null,0,null,null,0,0,null,0,null,null,0,0,null,0,null,null,0,0,null,0,null,null,0,0,null,0]
[0,{"$f":"VLOOKUP(D76,Listas!$R$2:$S$12,2,FALSE)","v":"Componente0"},null,"< Selecione o Componente >","Recursos Humanos","Recursos Humanos Próprios",0,"< Selecione a Fonte de Recurso >",0,null,null,null,"< Selecione a Equipe >","< Selecione a Fonte de Recurso >",null,null,null,null,null,0,null,0,null,null,0,0,null,0,null,null,0,0,null,0,null,null,0,0,null,0,null,null,0,0,null,0]
[0,{"$f":"VLOOKUP(D77,Listas!$R$2:$S$12,2,FALSE)","v":"Componente0"},null,"< Selecione o Componente >","Recursos Humanos","Recursos Humanos Próprios",0,"< Selecione a Fonte de Recurso >",0,null,null,null,"< Selecione a Equipe >","< Selecione a Fonte de Recurso >",null,null,null,null,null,0,null,0,null,null,0,0,null,0,null,null,0,0,null,0,null,null,0,0,null,0,null,null,0,0,null,0]
[0,{"$f":"VLOOKUP(D78,Listas!$R$2:$S$12,2,FALSE)","v":"Componente0"},null,"< Selecione o Componente >","Recursos Humanos","Recursos Humanos Próprios",0,"< Selecione a Fonte de Recurso >",0,null,null,null,"< Selecione a Equipe >","< Selecione a Fonte de Recurso >",null,null,null,null,null,0,null,0,null,null,0,0,null,0,null,null,0,0,null,0,null,null,0,0,null,0,null,null,0,0,null,0]
[0,{"$f":"VLOOKUP(D79,Listas!$R$2:$S$12,2,FALSE)","v":"Componente0"},null,"< Selecione o Componente >","Recursos Humanos","Recursos Humanos Próprios",0,"< Selecione a Fonte de Recurso >",0,null,null,null,"< Selecione a Equipe >","< Selecione a Fonte de Recurso >",null,null,null,null,null,0,null,0,null,null,0,0,null,0,null,null,0,0,null,0,null,null,0,0,null,0,null,null,0,0,null,0]
[0,{"$f":"VLOOKUP(D80,Listas!$R$2:$S$12,2,FALSE)","v":"Componente0"},null,"< Selecione o Componente >","Recursos Humanos","Recursos Humanos Próprios",0,"< Selecione a Fonte de Recurso >",0,null,null,null,"< Selecione a Equipe >","< Selecione a Fonte de Recurso >",null,null,null,null,null,0,null,0,null,null,0,0,null,0,null,null,0,0,null,0,null,null,0,0,null,0,null,null,0,0,null,0]
[0,{"$f":"VLOOKUP(D81,Listas!$R$2:$S$12,2,FALSE)","v":"Componente0"},null,"< Selecione o Componente >","Recursos Humanos","Recursos Humanos Próprios",0,"< Selecione a Fonte de Recurso >",0,null,null,null,"< Selecione a Equipe >","< Selecione a Fonte de Recurso >",null,null,null,null,null,0,null,0,null,null,0,0,null,0,null,null,0,0,null,0,null,null,0,0,null,0,null,null,0,0,null,0]
[0,{"$f":"VLOOKUP(D82,Listas!$R$2:$S$12,2,FALSE)","v":"Componente0"},null,"< Selecione o Componente >","Recursos Humanos","Recursos Humanos Próprios",0,"< Selecione a Fonte de Recurso >",0,null,null,null,"< Selecione a Equipe >","< Selecione a Fonte de Recurso >",null,null,null,null,null,0,null,0,null,null,0,0,null,0,null,null,0,0,null,0,null,null,0,0,null,0,null,null,0,0,null,0]
[0,{"$f":"VLOOKUP(D83,Listas!$R$2:$S$12,2,FALSE)","v":"Componente0"},null,"< Selecione o Componente >","Recursos Humanos","Recursos Humanos Próprios",0,"< Selecione a Fonte de Recurso >",0,null,null,null,"< Selecione a Equipe >","< Selecione a Fonte de Recurso >",null,null,null,null,null,0,null,0,null,null,0,0,null,0,null,null,0,0,null,0,null,null,0,0,null,0,null,null,0,0,null,0]
[0,{"$f":"VLOOKUP(D84,Listas!$R$2:$S$12,2,FALSE)","v":"Componente0"},null,"< Selecione o Componente >","Recursos Humanos","Recursos Humanos Próprios",0,"< Selecione a Fonte de Recurso >",0,null,null,null,"< Selecione a Equipe >","< Selecione a Fonte de Recurso >",null,null,null,null,null,0,null,0,null,null,0,0,null,0,null,null,0,0,null,0,null,null,0,0,null,0,null,null,0,0,null,0]
[0,{"$f":"VLOOKUP(D85,Listas!$R$2:$S$12,2,FALSE)","v":"Componente0"},null,"< Selecione o Componente >","Recursos Humanos","Recursos Humanos Próprios",0,"< Selecione a Fonte de Recurso >",0,null,null,null,"< Selecione a Equipe >","< Selecione a Fonte de Recurso >",null,null,null,null,null,0,null,0,null,null,0,0,null,0,null,null,0,0,null,0,null,null,0,0,null,0,null,null,0,0,null,0]
[0,{"$f":"VLOOKUP(D86,Listas!$R$2:$S$12,2,FALSE)","v":"Componente0"},null,"< Selecione o Componente >","Recursos Humanos","Recursos Humanos Próprios",0,"< Selecione a Fonte de Recurso >",0,null,null,null,"< Selecione a Equipe >","< Selecione a Fonte de Recurso >",null,null,null,null,null,0,null,0,null,null,0,0,null,0,null,null,0,0,null,0,null,null,0,0,null,0,null,null,0,0,null,0]
[0,{"$f":"VLOOKUP(D87,Listas!$R$2:$S$12,2,FALSE)","v":"Componente0"},null,"< Selecione o Componente >","Recursos Humanos","Recursos Humanos Próprios",0,"< Selecione a Fonte de Recurso >",0,null,null,null,"< Selecione a Equipe >","< Selecione a Fonte de Recurso >",null,null,null,null,null,0,null,0,null,null,0,0,null,0,null,null,0,0,null,0,null,null,0,0,null,0,null,null,0,0,null,0]
[0,{"$f":"VLOOKUP(D88,Listas!$R$2:$S$12,2,FALSE)","v":"Componente0"},null,"< Selecione o Componente >","Recursos Humanos","Recursos Humanos Próprios",0,"< Selecione a Fonte de Recurso >",0,null,null,null,"< Selecione a Equipe >","< Selecione a Fonte de Recurso >",null,null,null,null,null,0,null,0,null,null,0,0,null,0,null,null,0,0,null,0,null,null,0,0,null,0,null,null,0,0,null,0]
[0,{"$f":"VLOOKUP(D89,Listas!$R$2:$S$12,2,FALSE)","v":"Componente0"},null,"< Selecione o Componente >","Recursos Humanos","Recursos Humanos Próprios",0,"< Selecione a Fonte de Recurso >",0,null,null,null,"< Selecione a Equipe >","< Selecione a Fonte de Recurso >",null,null,null,null,null,0,null,0,null,null,0,0,null,0,null,null,0,0,null,0,null,null,0,0,null,0,null,null,0,0,null,0]
[0,{"$f":"VLOOKUP(D90,Listas!$R$2:$S$12,2,FALSE)","v":"Componente0"},null,"< Selecione o Componente >","Recursos Humanos","Recursos Humanos Próprios",0,"< Selecione a Fonte de Recurso >",0,null,null,null,"< Selecione a Equipe >","< Selecione a Fonte de Recurso >",null,null,null,null,null,0,null,0,null,null,0,0,null,0,null,null,0,0,null,0,null,null,0,0,null,0,null,null,0,0,null,0]
[0,{"$f":"VLOOKUP(D91,Listas!$R$2:$S$12,2,FALSE)","v":"Componente0"},null,"< Selecione o Componente >","Recursos Humanos","Recursos Humanos Próprios",0,"< Selecione a Fonte de Recurso >",0,null,null,null,"< Selecione a Equipe >","< Selecione a Fonte de Recurso >",null,null,null,null,null,0,null,0,null,null,0,0,null,0,null,null,0,0,null,0,null,null,0,0,null,0,null,null,0,0,null,0]
[0,{"$f":"VLOOKUP(D92,Listas!$R$2:$S$12,2,FALSE)","v":"Componente0"},null,"< Selecione o Componente >","Recursos Humanos","Recursos Humanos Próprios",0,"< Selecione a Fonte de Recurso >",0,null,null,null,"< Selecione a Equipe >","< Selecione a Fonte de Recurso >",null,null,null,null,null,0,null,0,null,null,0,0,null,0,null,null,0,0,null,0,null,null,0,0,null,0,null,null,0,0,null,0]
[0,{"$f":"VLOOKUP(D93,Listas!$R$2:$S$12,2,FALSE)","v":"Componente0"},null,"< Selecione o Componente >","Recursos Humanos","Recursos Humanos Próprios",0,"< Selecione a Fonte de Recurso >",0,null,null,null,"< Selecione a Equipe >","< Selecione a Fonte de Recurso >",null,null,null,null,null,0,null,0,null,null,0,0,null,0,null,null,0,0,null,0,null,null,0,0,null,0,null,null,0,0,null,0]
[0,{"$f":"VLOOKUP(D94,Listas!$R$2:$S$12,2,FALSE)","v":"Componente0"},null,"< Selecione o Componente >","Recursos Humanos","Recursos Humanos Próprios",0,"< Selecione a Fonte de Recurso >",0,null,null,null,"< Selecione a Equipe >","< Selecione a Fonte de Recurso >",null,null,null,null,null,0,null,0,null,null,0,0,null,0,null,null,0,0,null,0,null,null,0,0,null,0,null,null,0,0,null,0]
[0,{"$f":"VLOOKUP(D95,Listas!$R$2:$S$12,2,FALSE)","v":"Componente0"},null,"< Selecione o Componente >","Recursos Humanos","Recursos Humanos Próprios",0,"< Selecione a Fonte de Recurso >",0,null,null,null,"< Selecione a Equipe >","< Selecione a Fonte de Recurso >",null,null,null,null,null,0,null,0,null,null,0,0,null,0,null,null,0,0,null,0,null,null,0,0,null,0,null,null,0,0,null,0]
[0,{"$f":"VLOOKUP(D96,Listas!$R$2:$S$12,2,FALSE)","v":"Componente0"},null,"< Selecione o Componente >","Recursos Humanos","Recursos Humanos Próprios",0,"< Selecione a Fonte de Recurso >",0,null,null,null,"< Selecione a Equipe >","< Selecione a Fonte de Recurso >",null,null,null,null,null,0,null,0,null,null,0,0,null,0,null,null,0,0,null,0,null,null,0,0,null,0,null,null,0,0,null,0]
[0,{"$f":"VLOOKUP(D97,Listas!$R$2:$S$12,2,FALSE)","v":"Componente0"},null,"< Selecione o Componente >","Recursos Humanos","Recursos Humanos Próprios",0,"< Selecione a Fonte de Recurso >",0,null,null,null,"< Selecione a Equipe >","< Selecione a Fonte de Recurso >",null,null,null,null,null,0,null,0,null,null,0,0,null,0,null,null,0,0,null,0,null,null,0,0,null,0,null,null,0,0,null,0]
[0,{"$f":"VLOOKUP(D98,Listas!$R$2:$S$12,2,FALSE)","v":"Componente0"},null,"< Selecione o Componente >","Recursos Humanos","Recursos Humanos Próprios",0,"< Selecione a Fonte de Recurso >",0,null,null,null,"< Selecione a Equipe >","< Selecione a Fonte de Recurso >",null,null,null,null,null,0,null,0,null,null,0,0,null,0,null,null,0,0,null,0,null,null,0,0,null,0,null,null,0,0,null,0]
[0,{"$f":"VLOOKUP(D99,Listas!$R$2:$S$12,2,FALSE)","v":"Componente0"},null,"< Selecione o Componente >","Recursos Humanos","Recursos Humanos Próprios",0,"< Selecione a Fonte de Recurso >",0,null,null,null,"< Selecione a Equipe >","< Selecione a Fonte de Recurso >",null,null,null,null,null,0,null,0,null,null,0,0,null,0,null,null,0,0,null,0,null,null,0,0,null,0,null,null,0,0,null,0]
[0,{"$f":"VLOOKUP(D100,Listas!$R$2:$S$12,2,FALSE)","v":"Componente0"},null,"< Selecione o Componente >","Recursos Humanos","Recursos Humanos Próprios",0,"< Selecione a Fonte de Recurso >",0,null,null,null,"< Selecione a Equipe >","< Selecione a Fonte de Recurso >",null,null,null,null,null,0,null,0,null,null,0,0,null,0,null,null,0,0,null,0,null,null,0,0,null,0,null,null,0,0,null,0]
[0,{"$f":"VLOOKUP(D101,Listas!$R$2:$S$12,2,FALSE)","v":"Componente0"},null,"< Selecione o Componente >","Recursos Humanos","Recursos Humanos Próprios",0,"< Selecione a Fonte de Recurso >",0,null,null,null,"< Selecione a Equipe >","< Selecione a Fonte de Recurso >",null,null,null,null,null,0,null,0,null,null,0,0,null,0,null,null,0,0,null,0,null,null,0,0,null,0,null,null,0,0,null,0]
[0,{"$f":"VLOOKUP(D102,Listas!$R$2:$S$12,2,FALSE)","v":"Componente0"},null,"< Selecione o Componente >","Recursos Humanos","Recursos Humanos Próprios",0,"< Selecione a Fonte de Recurso >",0,null,null,null,"< Selecione a Equipe >","< Selecione a Fonte de Recurso >",null,null,null,null,null,0,null,0,null,null,0,0,null,0,null,null,0,0,null,0,null,null,0,0,null,0,null,null,0,0,null,0]
[0,{"$f":"VLOOKUP(D103,Listas!$R$2:$S$12,2,FALSE)","v":"Componente0"},null,"< Selecione o Componente >","Recursos Humanos","Recursos Humanos Próprios",0,"< Selecione a Fonte de Recurso >",0,null,null,null,"< Selecione a Equipe >","< Selecione a Fonte de Recurso >",null,null,null,null,null,0,null,0,null,null,0,0,null,0,null,null,0,0,null,0,null,null,0,0,null,0,null,null,0,0,null,0]
[0,{"$f":"VLOOKUP(D104,Listas!$R$2:$S$12,2,FALSE)","v":"Componente0"},null,"< Selecione o Componente >","Recursos Humanos","Recursos Humanos Próprios",0,"< Selecione a Fonte de Recurso >",0,null,null,null,"< Selecione a Equipe >","< Selecione a Fonte de Recurso >",null,null,null,null,null,0,null,0,null,null,0,0,null,0,null,null,0,0,null,0,null,null,0,0,null,0,null,null,0,0,null,0]
[0,{"$f":"VLOOKUP(D105,Listas!$R$2:$S$12,2,FALSE)","v":"Componente0"},null,"< Selecione o Componente >","Recursos Humanos","Recursos Humanos Próprios",0,"< Selecione a Fonte de Recurso >",0,null,null,null,"< Selecione a Equipe >","< Selecione a Fonte de Recurso >",null,null,null,null,null,0,null,{"$f":"IF(Y$6=0,0,P105+P105*W$4)","v":0},null,null,{"$f":"IF(Y$6=0,0,S105)","v":0},0,null,{"$f":"IF(AE$6=0,0,V105+V105*AC$4)","v":0},null,null,0,0,null,{"$f":"IF(AK$6=0,0,AB105+AB105*AI$4)","v":0},null,null,0,0,null,{"$f":"IF(AQ$6=0,0,AH105+AH105*AO$4)","v":0},null,null,0,0,null,{"$f":"T105+Z105+AF105+AL105+AR105","v":0}]
[0,{"$f":"VLOOKUP(D106,Listas!$R$2:$S$12,2,FALSE)","v":"Componente0"},null,"< Selecione o Componente >","Recursos Humanos","Recursos Humanos Próprios",0,"< Selecione a Fonte de Recurso >",0,null,null,null,"< Selecione a Equipe >","< Selecione a Fonte de Recurso >",null,null,null,null,null,0,null,0,null,null,0,0,null,0,null,null,0,0,null,0,null,null,0,0,null,0,null,null,0,0,null,0]
[0,{"$f":"VLOOKUP(D107,Listas!$R$2:$S$12,2,FALSE)","v":"Componente0"},null,"< Selecione o Componente >","Recursos Humanos","Recursos Humanos Próprios",0,"< Selecione a Fonte de Recurso >",0,null,null,null,"< Selecione a Equipe >","< Selecione a Fonte de Recurso >",null,null,null,null,null,0,null,0,null,null,0,0,null,0,null,null,0,0,null,0,null,null,0,0,null,0,null,null,0,0,null,0]
[0,{"$f":"VLOOKUP(D108,Listas!$R$2:$S$12,2,FALSE)","v":"Componente0"},null,"< Selecione o Componente >","Recursos Humanos","Recursos Humanos Próprios",0,"< Selecione a Fonte de Recurso >",0,null,null,null,"< Selecione a Equipe >","< Selecione a Fonte de Recurso >",null,null,null,null,null,0,null,0,null,null,0,0,null,0,null,null,0,0,null,0,null,null,0,0,null,0,null,null,0,0,null,0]
[0,{"$f":"VLOOKUP(D109,Listas!$R$2:$S$12,2,FALSE)","v":"Componente0"},null,"< Selecione o Componente >","Recursos Humanos","Recursos Humanos Próprios",0,"< Selecione a Fonte de Recurso >",0,null,null,null,"< Selecione a Equipe >","< Selecione a Fonte de Recurso >",null,null,null,null,null,0,null,0,null,null,0,0,null,0,null,null,0,0,null,0,null,null,0,0,null,0,null,null,0,0,null,0]
[0,{"$f":"VLOOKUP(D110,Listas!$R$2:$S$12,2,FALSE)","v":"Componente0"},null,"< Selecione o Componente >","Recursos Humanos","Recursos Humanos Próprios",0,"< Selecione a Fonte de Recurso >",0,null,null,null,"< Selecione a Equipe >","< Selecione a Fonte de Recurso >",null,null,null,null,null,0,null,0,null,null,0,0,null,0,null,null,0,0,null,0,null,null,0,0,null,0,null,null,0,0,null,0]
[0,{"$f":"VLOOKUP(D111,Listas!$R$2:$S$12,2,FALSE)","v":"Componente0"},null,"< Selecione o Componente >","Recursos Humanos","Recursos Humanos Próprios",0,"< Selecione a Fonte de Recurso >",0,null,null,null,"< Selecione a Equipe >","< Selecione a Fonte de Recurso >",null,null,null,null,null,0,null,0,null,null,0,0,null,0,null,null,0,0,null,0,null,null,0,0,null,0,null,null,0,0,null,0]
[0,{"$f":"VLOOKUP(D112,Listas!$R$2:$S$12,2,FALSE)","v":"Componente0"},null,"< Selecione o Componente >","Recursos Humanos","Recursos Humanos Próprios",0,"< Selecione a Fonte de Recurso >",0,null,null,null,"< Selecione a Equipe >","< Selecione a Fonte de Recurso >",null,null,null,null,null,0,null,0,null,null,0,0,null,0,null,null,0,0,null,0,null,null,0,0,null,0,null,null,0,0,null,0]
[0,{"$f":"VLOOKUP(D113,Listas!$R$2:$S$12,2,FALSE)","v":"Componente0"},null,"< Selecione o Componente >","Recursos Humanos","Recursos Humanos Próprios",0,"< Selecione a Fonte de Recurso >",0,null,null,null,"< Selecione a Equipe >","< Selecione a Fonte de Recurso >",null,null,null,null,null,0,null,0,null,null,0,0,null,0,null,null,0,0,null,0,null,null,0,0,null,0,null,null,0,0,null,0]
[0,{"$f":"VLOOKUP(D114,Listas!$R$2:$S$12,2,FALSE)","v":"Componente0"},null,"< Selecione o Componente >","Recursos Humanos","Recursos Humanos Próprios",0,"< Selecione a Fonte de Recurso >",0,null,null,null,"< Selecione a Equipe >","< Selecione a Fonte de Recurso >",null,null,null,null,null,0,null,0,null,null,0,0,null,0,null,null,0,0,null,0,null,null,0,0,null,0,null,null,0,0,null,0]
[0,{"$f":"VLOOKUP(D115,Listas!$R$2:$S$12,2,FALSE)","v":"Componente0"},null,"< Selecione o Componente >","Recursos Humanos","Recursos Humanos Próprios",0,"< Selecione a Fonte de Recurso >",0,null,null,null,"< Selecione a Equipe >","< Selecione a Fonte de Recurso >",null,null,null,null,null,0,null,0,null,null,0,0,null,0,null,null,0,0,null,0,null,null,0,0,null,0,null,null,0,0,null,0]
[0,{"$f":"VLOOKUP(D116,Listas!$R$2:$S$12,2,FALSE)","v":"Componente0"},null,"< Selecione o Componente >","Recursos Humanos","Recursos Humanos Próprios",0,"< Selecione a Fonte de Recurso >",0,null,null,null,"< Selecione a Equipe >","< Selecione a Fonte de Recurso >",null,null,null,null,null,0,null,0,null,null,0,0,null,0,null,null,0,0,null,0,null,null,0,0,null,0,null,null,0,0,null,0]
[0,{"$f":"VLOOKUP(D117,Listas!$R$2:$S$12,2,FALSE)","v":"Componente0"},null,"< Selecione o Componente >","Recursos Humanos","Recursos Humanos Próprios",0,"< Selecione a Fonte de Recurso >",0,null,null,null,"< Selecione a Equipe >","< Selecione a Fonte de Recurso >",null,null,null,null,null,0,null,0,null,null,0,0,null,0,null,null,0,0,null,0,null,null,0,0,null,0,null,null,0,0,null,0]
[0,{"$f":"VLOOKUP(D118,Listas!$R$2:$S$12,2,FALSE)","v":"Componente0"},null,"< Selecione o Componente >","Recursos Humanos","Recursos Humanos Próprios",0,"< Selecione a Fonte de Recurso >",0,null,null,null,"< Selecione a Equipe >","< Selecione a Fonte de Recurso >",null,null,null,null,null,0,null,0,null,null,0,0,null,0,null,null,0,0,null,0,null,null,0,0,null,0,null,null,0,0,null,0]
[0,{"$f":"VLOOKUP(D119,Listas!$R$2:$S$12,2,FALSE)","v":"Componente0"},null,"< Selecione o Componente >","Recursos Humanos","Recursos Humanos Próprios",0,"< Selecione a Fonte de Recurso >",0,null,null,null,"< Selecione a Equipe >","< Selecione a Fonte de Recurso >",null,null,null,null,null,0,null,0,null,null,0,0,null,0,null,null,0,0,null,0,null,null,0,0,null,0,null,null,0,0,null,0]
[0,{"$f":"VLOOKUP(D120,Listas!$R$2:$S$12,2,FALSE)","v":"Componente0"},null,"< Selecione o Componente >","Recursos Humanos","Recursos Humanos Próprios",0,"< Selecione a Fonte de Recurso >",0,null,null,null,"< Selecione a Equipe >","< Selecione a Fonte de Recurso >",null,null,null,null,null,0,null,0,null,null,0,0,null,0,null,null,0,0,null,0,null,null,0,0,null,0,null,null,0,0,null,0]
[0,{"$f":"VLOOKUP(D121,Listas!$R$2:$S$12,2,FALSE)","v":"Componente0"},null,"< Selecione o Componente >","Recursos Humanos","Recursos Humanos Próprios",0,"< Selecione a Fonte de Recurso >",0,null,null,null,"< Selecione a Equipe >","< Selecione a Fonte de Recurso >",null,null,null,null,null,0,null,0,null,null,0,0,null,0,null,null,0,0,null,0,null,null,0,0,null,0,null,null,0,0,null,0]
[0,{"$f":"VLOOKUP(D122,Listas!$R$2:$S$12,2,FALSE)","v":"Componente0"},null,"< Selecione o Componente >","Recursos Humanos","Recursos Humanos Próprios",0,"< Selecione a Fonte de Recurso >",0,null,null,null,"< Selecione a Equipe >","< Selecione a Fonte de Recurso >",null,null,null,null,null,0,null,0,null,null,0,0,null,0,null,null,0,0,null,0,null,null,0,0,null,0,null,null,0,0,null,0]
[0,{"$f":"VLOOKUP(D123,Listas!$R$2:$S$12,2,FALSE)","v":"Componente0"},null,"< Selecione o Componente >","Recursos Humanos","Recursos Humanos Próprios",0,"< Selecione a Fonte de Recurso >",0,null,null,null,"< Selecione a Equipe >","< Selecione a Fonte de Recurso >",null,null,null,null,null,0,null,0,null,null,0,0,null,0,null,null,0,0,null,0,null,null,0,0,null,0,null,null,0,0,null,0]
[0,{"$f":"VLOOKUP(D124,Listas!$R$2:$S$12,2,FALSE)","v":"Componente0"},null,"< Selecione o Componente >","Recursos Humanos","Recursos Humanos Próprios",0,"< Selecione a Fonte de Recurso >",0,null,null,null,"< Selecione a Equipe >","< Selecione a Fonte de Recurso >",null,null,null,null,null,0,null,0,null,null,0,0,null,0,null,null,0,0,null,0,null,null,0,0,null,0,null,null,0,0,null,0]
[0,{"$f":"VLOOKUP(D125,Listas!$R$2:$S$12,2,FALSE)","v":"Componente0"},null,"< Selecione o Componente >","Recursos Humanos","Recursos Humanos Próprios",0,"< Selecione a Fonte de Recurso >",0,null,null,null,"< Selecione a Equipe >","< Selecione a Fonte de Recurso >",null,null,null,null,null,0,null,0,null,null,0,0,null,0,null,null,0,0,null,0,null,null,0,0,null,0,null,null,0,0,null,0]
[0,{"$f":"VLOOKUP(D126,Listas!$R$2:$S$12,2,FALSE)","v":"Componente0"},null,"< Selecione o Componente >","Recursos Humanos","Recursos Humanos Próprios",0,"< Selecione a Fonte de Recurso >",0,null,null,null,"< Selecione a Equipe >","< Selecione a Fonte de Recurso >",null,null,null,null,null,0,null,0,null,null,0,0,null,0,null,null,0,0,null,0,null,null,0,0,null,0,null,null,0,0,null,0]
[0,{"$f":"VLOOKUP(D127,Listas!$R$2:$S$12,2,FALSE)","v":"Componente0"},null,"< Selecione o Componente >","Recursos Humanos","Recursos Humanos Próprios",0,"< Selecione a Fonte de Recurso >",0,null,null,null,"< Selecione a Equipe >","< Selecione a Fonte de Recurso >",null,null,null,null,null,0,null,0,null,null,0,0,null,0,null,null,0,0,null,0,null,null,0,0,null,0,null,null,0,0,null,0]
[0,{"$f":"VLOOKUP(D128,Listas!$R$2:$S$12,2,FALSE)","v":"Componente0"},null,"< Selecione o Componente >","Recursos Humanos","Recursos Humanos Próprios",0,"< Selecione a Fonte de Recurso >",0,null,null,null,"< Selecione a Equipe >","< Selecione a Fonte de Recurso >",null,null,null,null,null,0,null,0,null,null,0,0,null,0,null,null,0,0,null,0,null,null,0,0,null,0,null,null,0,0,null,0]
[0,{"$f":"VLOOKUP(D129,Listas!$R$2:$S$12,2,FALSE)","v":"Componente0"},null,"< Selecione o Componente >","Recursos Humanos","Recursos Humanos Próprios",0,"< Selecione a Fonte de Recurso >",0,null,null,null,"< Selecione a Equipe >","< Selecione a Fonte de Recurso >",null,null,null,null,null,0,null,0,null,null,0,0,null,0,null,null,0,0,null,0,null,null,0,0,null,0,null,null,0,0,null,0]
[0,{"$f":"VLOOKUP(D130,Listas!$R$2:$S$12,2,FALSE)","v":"Componente0"},null,"< Selecione o Componente >","Recursos Humanos","Recursos Humanos Próprios",0,"< Selecione a Fonte de Recurso >",0,null,null,null,"< Selecione a Equipe >","< Selecione a Fonte de Recurso >",null,null,null,null,null,0,null,0,null,null,0,0,null,0,null,null,0,0,null,0,null,null,0,0,null,0,null,null,0,0,null,0]
[0,{"$f":"VLOOKUP(D131,Listas!$R$2:$S$12,2,FALSE)","v":"Componente0"},null,"< Selecione o Componente >","Recursos Humanos","Recursos Humanos Próprios",0,"< Selecione a Fonte de Recurso >",0,null,null,null,"< Selecione a Equipe >","< Selecione a Fonte de Recurso >",null,null,null,null,null,0,null,0,null,null,0,0,null,0,null,null,0,0,null,0,null,null,0,0,null,0,null,null,0,0,null,0]
[0,{"$f":"VLOOKUP(D132,Listas!$R$2:$S$12,2,FALSE)","v":"Componente0"},null,"< Selecione o Componente >","Recursos Humanos","Recursos Humanos Próprios",0,"< Selecione a Fonte de Recurso >",0,null,null,null,"< Selecione a Equipe >","< Selecione a Fonte de Recurso >",null,null,null,null,null,0,null,0,null,null,0,0,null,0,null,null,0,0,null,0,null,null,0,0,null,0,null,null,0,0,null,0]
[0,{"$f":"VLOOKUP(D133,Listas!$R$2:$S$12,2,FALSE)","v":"Componente0"},null,"< Selecione o Componente >","Recursos Humanos","Recursos Humanos Próprios",0,"< Selecione a Fonte de Recurso >",0,null,null,null,"< Selecione a Equipe >","< Selecione a Fonte de Recurso >",null,null,null,null,null,0,null,0,null,null,0,0,null,0,null,null,0,0,null,0,null,null,0,0,null,0,null,null,0,0,null,0]
[0,{"$f":"VLOOKUP(D134,Listas!$R$2:$S$12,2,FALSE)","v":"Componente0"},null,"< Selecione o Componente >","Recursos Humanos","Recursos Humanos Próprios",0,"< Selecione a Fonte de Recurso >",0,null,null,null,"< Selecione a Equipe >","< Selecione a Fonte de Recurso >",null,null,null,null,null,0,null,0,null,null,0,0,null,0,null,null,0,0,null,0,null,null,0,0,null,0,null,null,0,0,null,0]
[0,{"$f":"VLOOKUP(D135,Listas!$R$2:$S$12,2,FALSE)","v":"Componente0"},null,"< Selecione o Componente >","Recursos Humanos","Recursos Humanos Próprios",0,"< Selecione a Fonte de Recurso >",0,null,null,null,"< Selecione a Equipe >","< Selecione a Fonte de Recurso >",null,null,null,null,null,0,null,0,null,null,0,0,null,0,null,null,0,0,null,0,null,null,0,0,null,0,null,null,0,0,null,0]
[0,{"$f":"VLOOKUP(D136,Listas!$R$2:$S$12,2,FALSE)","v":"Componente0"},null,"< Selecione o Componente >","Recursos Humanos","Recursos Humanos Próprios",0,"< Selecione a Fonte de Recurso >",0,null,null,null,"< Selecione a Equipe >","< Selecione a Fonte de Recurso >",null,null,null,null,null,0,null,0,null,null,0,0,null,0,null,null,0,0,null,0,null,null,0,0,null,0,null,null,0,0,null,0]
[0,{"$f":"VLOOKUP(D137,Listas!$R$2:$S$12,2,FALSE)","v":"Componente0"},null,"< Selecione o Componente >","Recursos Humanos","Recursos Humanos Próprios",0,"< Selecione a Fonte de Recurso >",0,null,null,null,"< Selecione a Equipe >","< Selecione a Fonte de Recurso >",null,null,null,null,null,0,null,{"$f":"IF(Y$6=0,0,P137+P137*W$4)","v":0},null,null,{"$f":"IF(Y$6=0,0,S137)","v":0},0,null,{"$f":"IF(AE$6=0,0,V137+V137*AC$4)","v":0},null,null,0,0,null,{"$f":"IF(AK$6=0,0,AB137+AB137*AI$4)","v":0},null,null,0,0,null,{"$f":"IF(AQ$6=0,0,AH137+AH137*AO$4)","v":0},null,null,0,0,null,{"$f":"T137+Z137+AF137+AL137+AR137","v":0}]
[{"$f":"IF(OR(D138=\"< selecione o Componente >\",E138=\"\",D138=\"\"),0,1)","v":0},{"$f":"VLOOKUP(D138,Listas!$R$2:$S$12,2,FALSE)","v":"Componente0"},null,"< Selecione o Componente >","Recursos Humanos","Recursos Humanos Próprios",{"$f":"K138","v":0},{"$f":"N138","v":"< Selecione a Fonte de Recurso >"},{"$f":"AT138","v":0},null,null,null,"< Selecione a Equipe >","< Selecione a Fonte de Recurso >",null,null,null,null,null,{"$f":"P138*$P$6*S138+Q138+R138","v":0},null,0,null,null,0,{"$f":"V138*Y138*$V$6+W138+X138","v":0},null,0,null,null,{"$f":"IF(AE$6=0,0,Y138)","v":0},{"$f":"AB138*AE138*AB$6+AC138+AD138","v":0},null,0,null,null,{"$f":"IF(AK$6=0,0,AE138)","v":0},{"$f":"AH138*AK138*AH$6+AI138+AJ138","v":0},null,0,null,null,{"$f":"IF(AQ$6=0,0,AK138)","v":0},{"$f":"AN138*AQ138*AN$6+AO138+AP138","v":0},null,0]
[0,{"$f":"VLOOKUP(D139,Listas!$R$2:$S$12,2,FALSE)","v":"Componente0"},null,"< Selecione o Componente >","Recursos Humanos","Recursos Humanos Próprios",0,"< Selecione a Fonte de Recurso >",0,null,null,null,"< Selecione a Equipe >","< Selecione a Fonte de Recurso >",null,null,null,null,null,0,null,0,null,null,0,0,null,0,null,null,0,0,null,0,null,null,0,0,null,0,null,null,0,0,null,0]
[0,{"$f":"VLOOKUP(D140,Listas!$R$2:$S$12,2,FALSE)","v":"Componente0"},null,"< Selecione o Componente >","Recursos Humanos","Recursos Humanos Próprios",0,"< Selecione a Fonte de Recurso >",0,null,null,null,"< Selecione a Equipe >","< Selecione a Fonte de Recurso >",null,null,null,null,null,0,null,0,null,null,0,0,null,0,null,null,0,0,null,0,null,null,0,0,null,0,null,null,0,0,null,0]
[0,{"$f":"VLOOKUP(D141,Listas!$R$2:$S$12,2,FALSE)","v":"Componente0"},null,"< Selecione o Componente >","Recursos Humanos","Recursos Humanos Próprios",0,"< Selecione a Fonte de Recurso >",0,null,null,null,"< Selecione a Equipe >","< Selecione a Fonte de Recurso >",null,null,null,null,null,0,null,0,null,null,0,0,null,0,null,null,0,0,null,0,null,null,0,0,null,0,null,null,0,0,null,0]
[0,{"$f":"VLOOKUP(D142,Listas!$R$2:$S$12,2,FALSE)","v":"Componente0"},null,"< Selecione o Componente >","Recursos Humanos","Recursos Humanos Próprios",0,"< Selecione a Fonte de Recurso >",0,null,null,null,"< Selecione a Equipe >","< Selecione a Fonte de Recurso >",null,null,null,null,null,0,null,0,null,null,0,0,null,0,null,null,0,0,null,0,null,null,0,0,null,0,null,null,0,0,null,0]
[0,{"$f":"VLOOKUP(D143,Listas!$R$2:$S$12,2,FALSE)","v":"Componente0"},null,"< Selecione o Componente >","Recursos Humanos","Recursos Humanos Próprios",0,"< Selecione a Fonte de Recurso >",0,null,null,null,"< Selecione a Equipe >","< Selecione a Fonte de Recurso >",null,null,null,null,null,0,null,0,null,null,0,0,null,0,null,null,0,0,null,0,null,null,0,0,null,0,null,null,0,0,null,0]
[0,{"$f":"VLOOKUP(D144,Listas!$R$2:$S$12,2,FALSE)","v":"Componente0"},null,"< Selecione o Componente >","Recursos Humanos","Recursos Humanos Próprios",0,"< Selecione a Fonte de Recurso >",0,null,null,null,"< Selecione a Equipe >","< Selecione a Fonte de Recurso >",null,null,null,null,null,0,null,0,null,null,0,0,null,0,null,null,0,0,null,0,null,null,0,0,null,0,null,null,0,0,null,0]
[0,{"$f":"VLOOKUP(D145,Listas!$R$2:$S$12,2,FALSE)","v":"Componente0"},null,"< Selecione o Componente >","Recursos Humanos","Recursos Humanos Próprios",0,"< Selecione a Fonte de Recurso >",0,null,null,null,"< Selecione a Equipe >","< Selecione a Fonte de Recurso >",null,null,null,null,null,0,null,0,null,null,0,0,null,0,null,null,0,0,null,0,null,null,{"$f":"IF(AK$6=0,0,AE145)","v":0},0,null,0,null,null,{"$f":"IF(AQ$6=0,0,AK145)","v":0},0,null,0]
[null,null,null,"-","-","-","-",null,null,"-","-","-","-","-",null,"-","-","-","-","-",null,"-",null,null,"-",null,null,"-",null,null,"-","-",null,"-","-","-","-","-",null,"-",null,null,"-","-",null,"-"]

{"sheet":"4.Itens de Orçamento","index":5,"n_rows":1000,"n_cols":15,"rows_kept":1000,"cut":false,"hidden":false,"merged":[[6,3,6,5]]}
[]
[]
[null,null,null,null,null,null,null,null,null,null,null,null,null,null,"NÃO preencher essa coluna. Preenchimento automático"]
[null,null,null,"Atenção! Preencha somente as células em amarelo ",null,null,null,null,null,null,null,null,null,null,"Somatório Total Estimado\n(R$)"]
[]
["NÃO EXCLUIR! ",null,null,"Atividades Propostas: Item de Orçamento",null,null,null,"NÂO EXCLUIR! COLUNAS PARA FÓRMULAS!",null,null,null,null,null,null,{"$f":"SUM(O9:O1000)","v":0}]
[null,null,null,"*Após preencher esta aba, caso seja feita alguma alteração nos nomes dos Componentes e/ou Produtos ou Serviços definidos na aba  2.Componente_Produtos_Serviços, a substituição do texto não será realizada automaticamente. \nPara corrigir a alteração, basta clicar na célula com o nome a ser substituído e selecionar a nova opção."]
[{"$f":"SUM(A9:A145)+8","v":8},null,null,"Componente","Produto ou Serviço","Categoria","Item\n(campo livre)","Fonte","Total","Detalhamento do Item \n(campo livre)","Quantidade\n(Valores Inteiros)","Unidade de Referência\n(Unidade, Km, Litro, Metros ...)","Valor Unitário (R$)","Fonte de Recurso","Valor Total Estimado (R$)\n(Valor Unitário x Quantidade)"]
[{"$f":"IF(OR(E9=\"< selecione o Produto ou Serviço >\",E9=\"\"),0,1)","v":0},{"$f":"VLOOKUP(D9,Listas!$R$2:$S$12,2,FALSE)","v":"Componente0"},null,"< Selecione o Componente >","< Selecione o Produto ou Serviço >",null,null,null,null,null,null,null,null,"< Selecione a Fonte de Recurso >",{"$f":"K9*M9","v":0}]
[{"$f":"IF(OR(E10=\"< selecione o Produto ou Serviço >\",E10=\"\"),0,1)","v":0},{"$f":"VLOOKUP(D10,Listas!$R$2:$S$12,2,FALSE)","v":"Componente0"},null,"< Selecione o Componente >","< Selecione o Produto ou Serviço >",null,null,{"$f":"N10","v":"< Selecione a Fonte de Recurso >"},{"$f":"O10","v":0},null,null,null,null,"< Selecione a Fonte de Recurso >",{"$f":"K10*M10","v":0}]
[0,{"$f":"VLOOKUP(D11,Listas!$R$2:$S$12,2,FALSE)","v":"Componente0"},null,"< Selecione o Componente >","< Selecione o Produto ou Serviço >",null,null,"< Selecione a Fonte de Recurso >",0,null,null,null,null,"< Selecione a Fonte de Recurso >",0]
[0,{"$f":"VLOOKUP(D12,Listas!$R$2:$S$12,2,FALSE)","v":"Componente0"},null,"< Selecione o Componente >","< Selecione o Produto ou Serviço >",null,null,"< Selecione a Fonte de Recurso >",0,null,null,null,null,"< Selecione a Fonte de Recurso >",{"$f":"K12*M12","v":0}]
[0,{"$f":"VLOOKUP(D13,Listas!$R$2:$S$12,2,FALSE)","v":"Componente0"},null,"< Selecione o Componente >","< Selecione o Produto ou Serviço >",null,null,"< Selecione a Fonte de Recurso >",0,null,null,null,null,"< Selecione a Fonte de Recurso >",{"$f":"K13*M13","v":0}]
[0,{"$f":"VLOOKUP(D14,Listas!$R$2:$S$12,2,FALSE)","v":"Componente0"},null,"< Selecione o Componente >","< Selecione o Produto ou Serviço >",null,null,"< Selecione a Fonte de Recurso >",0,null,null,null,null,"< Selecione a Fonte de Recurso >",{"$f":"K14*M14","v":0}]
[0,{"$f":"VLOOKUP(D15,Listas!$R$2:$S$12,2,FALSE)","v":"Componente0"},null,"< Selecione o Componente >","< Selecione o Produto ou Serviço >",null,null,"< Selecione a Fonte de Recurso >",0,null,null,null,null,"< Selecione a Fonte de Recurso >",{"$f":"K15*M15","v":0}]
[0,{"$f":"VLOOKUP(D16,Listas!$R$2:$S$12,2,FALSE)","v":"Componente0"},null,"< Selecione o Componente >","< Selecione o Produto ou Serviço >",null,null,"< Selecione a Fonte de Recurso >",0,null,null,null,null,"< Selecione a Fonte de Recurso >",{"$f":"K16*M16","v":0}]
[0,{"$f":"VLOOKUP(D17,Listas!$R$2:$S$12,2,FALSE)","v":"Componente0"},null,"< Selecione o Componente >","< Selecione o Produto ou Serviço >",null,null,"< Selecione a Fonte de Recurso >",0,null,null,null,null,"< Selecione a Fonte de Recurso >",0]
[0,{"$f":"VLOOKUP(D18,Listas!$R$2:$S$12,2,FALSE)","v":"Componente0"},null,"< Selecione o Componente >","< Selecione o Produto ou Serviço >",null,null,"< Selecione a Fonte de Recurso >",0,null,null,null,null,"< Selecione a Fonte de Recurso >",0]
[0,{"$f":"VLOOKUP(D19,Listas!$R$2:$S$12,2,FALSE)","v":"Componente0"},null,"< Selecione o Componente >","< Selecione o Produto ou Serviço >",null,null,"< Selecione a Fonte de Recurso >",0,null,null,null,null,"< Selecione a Fonte de Recurso >",0]
[0,{"$f":"VLOOKUP(D20,Listas!$R$2:$S$12,2,FALSE)","v":"Componente0"},null,"< Selecione o Componente >","< Selecione o Produto ou Serviço >",null,null,"< Selecione a Fonte de Recurso >",0,null,null,null,null,"< Selecione a Fonte de Recurso >",0]
[0,{"$f":"VLOOKUP(D21,Listas!$R$2:$S$12,2,FALSE)","v":"Componente0"},null,"< Selecione o Componente >","< Selecione o Produto ou Serviço >",null,null,"< Selecione a Fonte de Recurso >",0,null,null,null,null,"< Selecione a Fonte de Recurso >",0]
[0,{"$f":"VLOOKUP(D22,Listas!$R$2:$S$12,2,FALSE)","v":"Componente0"},null,"< Selecione o Componente >","< Selecione o Produto ou Serviço >",null,null,"< Selecione a Fonte de Recurso >",0,null,null,null,null,"< Selecione a Fonte de Recurso >",0]
[0,{"$f":"VLOOKUP(D23,Listas!$R$2:$S$12,2,FALSE)","v":"Componente0"},null,"< Selecione o Componente >","< Selecione o Produto ou Serviço >",null,null,"< Selecione a Fonte de Recurso >",0,null,null,null,null,"< Selecione a Fonte de Recurso >",0]
[0,{"$f":"VLOOKUP(D24,Listas!$R$2:$S$12,2,FALSE)","v":"Componente0"},null,"< Selecione o Componente >","< Selecione o Produto ou Serviço >",null,null,"< Selecione a Fonte de Recurso >",0,null,null,null,null,"< Selecione a Fonte de Recurso >",0]
[0,{"$f":"VLOOKUP(D25,Listas!$R$2:$S$12,2,FALSE)","v":"Componente0"},null,"< Selecione o Componente >","< Selecione o Produto ou Serviço >",null,null,"< Selecione a Fonte de Recurso >",0,null,null,null,null,"< Selecione a Fonte de Recurso >",0]
[0,{"$f":"VLOOKUP(D26,Listas!$R$2:$S$12,2,FALSE)","v":"Componente0"},null,"< Selecione o Componente >","< Selecione o Produto ou Serviço >",null,null,"< Selecione a Fonte de Recurso >",0,null,null,null,null,"< Selecione a Fonte de Recurso >",0]
[0,{"$f":"VLOOKUP(D27,Listas!$R$2:$S$12,2,FALSE)","v":"Componente0"},null,"< Selecione o Componente >","< Selecione o Produto ou Serviço >",null,null,"< Selecione a Fonte de Recurso >",0,null,null,null,null,"< Selecione a Fonte de Recurso >",0]
[0,{"$f":"VLOOKUP(D28,Listas!$R$2:$S$12,2,FALSE)","v":"Componente0"},null,"< Selecione o Componente >","< Selecione o Produto ou Serviço >",null,null,"< Selecione a Fonte de Recurso >",0,null,null,null,null,"< Selecione a Fonte de Recurso >",0]
[0,{"$f":"VLOOKUP(D29,Listas!$R$2:$S$12,2,FALSE)","v":"Componente0"},null,"< Selecione o Componente >","< Selecione o Produto ou Serviço >",null,null,"< Selecione a Fonte de Recurso >",0,null,null,null,null,"< Selecione a Fonte de Recurso >",0]
[0,{"$f":"VLOOKUP(D30,Listas!$R$2:$S$12,2,FALSE)","v":"Componente0"},null,"< Selecione o Componente >","< Selecione o Produto ou Serviço >",null,null,"< Selecione a Fonte de Recurso >",0,null,null,null,null,"< Selecione a Fonte de Recurso >",0]
[0,{"$f":"VLOOKUP(D31,Listas!$R$2:$S$12,2,FALSE)","v":"Componente0"},null,"< Selecione o Componente >","< Selecione o Produto ou Serviço >",null,null,"< Selecione a Fonte de Recurso >",0,null,null,null,null,"< Selecione a Fonte de Recurso >",0]
[0,{"$f":"VLOOKUP(D32,Listas!$R$2:$S$12,2,FALSE)","v":"Componente0"},null,"< Selecione o Componente >","< Selecione o Produto ou Serviço >",null,null,"< Selecione a Fonte de Recurso >",0,null,null,null,null,"< Selecione a Fonte de Recurso >",0]
[0,{"$f":"VLOOKUP(D33,Listas!$R$2:$S$12,2,FALSE)","v":"Componente0"},null,"< Selecione o Componente >","< Selecione o Produto ou Serviço >",null,null,"< Selecione a Fonte de Recurso >",0,null,null,null,null,"< Selecione a Fonte de Recurso >",0]
[0,{"$f":"VLOOKUP(D34,Listas!$R$2:$S$12,2,FALSE)","v":"Componente0"},null,"< Selecione o Componente >","< Selecione o Produto ou Serviço >",null,null,"< Selecione a Fonte de Recurso >",0,null,null,null,null,"< Selecione a Fonte de Recurso >",0]
[0,{"$f":"VLOOKUP(D35,Listas!$R$2:$S$12,2,FALSE)","v":"Componente0"},null,"< Selecione o Componente >","< Selecione o Produto ou Serviço >",null,null,"< Selecione a Fonte de Recurso >",0,null,null,null,null,"< Selecione a Fonte de Recurso >",0]
[0,{"$f":"VLOOKUP(D36,Listas!$R$2:$S$12,2,FALSE)","v":"Componente0"},null,"< Selecione o Componente >","< Selecione o Produto ou Serviço >",null,null,"< Selecione a Fonte de Recurso >",0,null,null,null,null,"< Selecione a Fonte de Recurso >",0]
[0,{"$f":"VLOOKUP(D37,Listas!$R$2:$S$12,2,FALSE)","v":"Componente0"},null,"< Selecione o Componente >","< Selecione o Produto ou Serviço >",null,null,"< Selecione a Fonte de Recurso >",0,null,null,null,null,"< Selecione a Fonte de Recurso >",0]
[0,{"$f":"VLOOKUP(D38,Listas!$R$2:$S$12,2,FALSE)","v":"Componente0"},null,"< Selecione o Componente >","< Selecione o Produto ou Serviço >",null,null,"< Selecione a Fonte de Recurso >",0,null,null,null,null,"< Selecione a Fonte de Recurso >",0]
[0,{"$f":"VLOOKUP(D39,Listas!$R$2:$S$12,2,FALSE)","v":"Componente0"},null,"< Selecione o Componente >","< Selecione o Produto ou Serviço >",null,null,"< Selecione a Fonte de Recurso >",0,null,null,null,null,"< Selecione a Fonte de Recurso >",0]
[0,{"$f":"VLOOKUP(D40,Listas!$R$2:$S$12,2,FALSE)","v":"Componente0"},null,"< Selecione o Componente >","< Selecione o Produto ou Serviço >",null,null,"< Selecione a Fonte de Recurso >",0,null,null,null,null,"< Selecione a Fonte de Recurso >",0]
[0,{"$f":"VLOOKUP(D41,Listas!$R$2:$S$12,2,FALSE)","v":"Componente0"},null,"< Selecione o Componente >","< Selecione o Produto ou Serviço >",null,null,"< Selecione a Fonte de Recurso >",0,null,null,null,null,"< Selecione a Fonte de Recurso >",0]
[0,{"$f":"VLOOKUP(D42,Listas!$R$2:$S$12,2,FALSE)","v":"Componente0"},null,"< Selecione o Componente >","< Selecione o Produto ou Serviço >",null,null,"< Selecione a Fonte de Recurso >",0,null,null,null,null,"< Selecione a Fonte de Recurso >",0]
[0,{"$f":"VLOOKUP(D43,Listas!$R$2:$S$12,2,FALSE)","v":"Componente0"},null,"< Selecione o Componente >","< Selecione o Produto ou Serviço >",null,null,"< Selecione a Fonte de Recurso >",0,null,null,null,null,"< Selecione a Fonte de Recurso >",0]
[0,{"$f":"VLOOKUP(D44,Listas!$R$2:$S$12,2,FALSE)","v":"Componente0"},null,"< Selecione o Componente >","< Selecione o Produto ou Serviço >",null,null,"< Selecione a Fonte de Recurso >",0,null,null,null,null,"< Selecione a Fonte de Recurso >",0]
[0,{"$f":"VLOOKUP(D45,Listas!$R$2:$S$12,2,FALSE)","v":"Componente0"},null,"< Selecione o Componente >","< Selecione o Produto ou Serviço >",null,null,"< Selecione a Fonte de Recurso >",0,null,null,null,null,"< Selecione a Fonte de Recurso >",0]
[0,{"$f":"VLOOKUP(D46,Listas!$R$2:$S$12,2,FALSE)","v":"Componente0"},null,"< Selecione o Componente >","< Selecione o Produto ou Serviço >",null,null,"< Selecione a Fonte de Recurso >",0,null,null,null,null,"< Selecione a Fonte de Recurso >",0]
[0,{"$f":"VLOOKUP(D47,Listas!$R$2:$S$12,2,FALSE)","v":"Componente0"},null,"< Selecione o Componente >","< Selecione o Produto ou Serviço >",null,null,"< Selecione a Fonte de Recurso >",0,null,null,null,null,"< Selecione a Fonte de Recurso >",0]
[0,{"$f":"VLOOKUP(D48,Listas!$R$2:$S$12,2,FALSE)","v":"Componente0"},null,"< Selecione o Componente >","< Selecione o Produto ou Serviço >",null,null,"< Selecione a Fonte de Recurso >",0,null,null,null,null,"< Selecione a Fonte de Recurso >",0]
[0,{"$f":"VLOOKUP(D49,Listas!$R$2:$S$12,2,FALSE)","v":"Componente0"},null,"< Selecione o Componente >","< Selecione o Produto ou Serviço >",null,null,"< Selecione a Fonte de Recurso >",0,null,null,null,null,"< Selecione a Fonte de Recurso >",0]
[0,{"$f":"VLOOKUP(D50,Listas!$R$2:$S$12,2,FALSE)","v":"Componente0"},null,"< Selecione o Componente >","< Selecione o Produto ou Serviço >",null,null,"< Selecione a Fonte de Recurso >",0,null,null,null,null,"< Selecione a Fonte de Recurso >",0]
[0,{"$f":"VLOOKUP(D51,Listas!$R$2:$S$12,2,FALSE)","v":"Componente0"},null,"< Selecione o Componente >","< Selecione o Produto ou Serviço >",null,null,"< Selecione a Fonte de Recurso >",0,null,null,null,null,"< Selecione a Fonte de Recurso >",0]
[0,{"$f":"VLOOKUP(D52,Listas!$R$2:$S$12,2,FALSE)","v":"Componente0"},null,"< Selecione o Componente >","< Selecione o Produto ou Serviço >",null,null,"< Selecione a Fonte de Recurso >",0,null,null,null,null,"< Selecione a Fonte de Recurso >",0]
[0,{"$f":"VLOOKUP(D53,Listas!$R$2:$S$12,2,FALSE)","v":"Componente0"},null,"< Selecione o Componente >","< Selecione o Produto ou Serviço >",null,null,"< Selecione a Fonte de Recurso >",0,null,null,null,null,"< Selecione a Fonte de Recurso >",0]
[0,{"$f":"VLOOKUP(D54,Listas!$R$2:$S$12,2,FALSE)","v":"Componente0"},null,"< Selecione o Componente >","< Selecione o Produto ou Serviço >",null,null,"< Selecione a Fonte de Recurso >",0,null,null,null,null,"< Selecione a Fonte de Recurso >",0]
[0,{"$f":"VLOOKUP(D55,Listas!$R$2:$S$12,2,FALSE)","v":"Componente0"},null,"< Selecione o Componente >","< Selecione o Produto ou Serviço >",null,null,"< Selecione a Fonte de Recurso >",0,null,null,null,null,"< Selecione a Fonte de Recurso >",0]
[0,{"$f":"VLOOKUP(D56,Listas!$R$2:$S$12,2,FALSE)","v":"Componente0"},null,"< Selecione o Componente >","< Selecione o Produto ou Serviço >",null,null,"< Selecione a Fonte de Recurso >",0,null,null,null,null,"< Selecione a Fonte de Recurso >",0]
[0,{"$f":"VLOOKUP(D57,Listas!$R$2:$S$12,2,FALSE)","v":"Componente0"},null,"< Selecione o Componente >","< Selecione o Produto ou Serviço >",null,null,"< Selecione a Fonte de Recurso >",0,null,null,null,null,"< Selecione a Fonte de Recurso >",0]
[0,{"$f":"VLOOKUP(D58,Listas!$R$2:$S$12,2,FALSE)","v":"Componente0"},null,"< Selecione o Componente >","< Selecione o Produto ou Serviço >",null,null,"< Selecione a Fonte de Recurso >",0,null,null,null,null,"< Selecione a Fonte de Recurso >",0]
[0,{"$f":"VLOOKUP(D59,Listas!$R$2:$S$12,2,FALSE)","v":"Componente0"},null,"< Selecione o Componente >","< Selecione o Produto ou Serviço >",null,null,"< Selecione a Fonte de Recurso >",0,null,null,null,null,"< Selecione a Fonte de Recurso >",0]
[0,{"$f":"VLOOKUP(D60,Listas!$R$2:$S$12,2,FALSE)","v":"Componente0"},null,"< Selecione o Componente >","< Selecione o Produto ou Serviço >",null,null,"< Selecione a Fonte de Recurso >",0,null,null,null,null,"< Selecione a Fonte de Recurso >",0]
[0,{"$f":"VLOOKUP(D61,Listas!$R$2:$S$12,2,FALSE)","v":"Componente0"},null,"< Selecione o Componente >","< Selecione o Produto ou Serviço >",null,null,"< Selecione a Fonte de Recurso >",0,null,null,null,null,"< Selecione a Fonte de Recurso >",0]
[0,{"$f":"VLOOKUP(D62,Listas!$R$2:$S$12,2,FALSE)","v":"Componente0"},null,"< Selecione o Componente >","< Selecione o Produto ou Serviço >",null,null,"< Selecione a Fonte de Recurso >",0,null,null,null,null,"< Selecione a Fonte de Recurso >",0]
[0,{"$f":"VLOOKUP(D63,Listas!$R$2:$S$12,2,FALSE)","v":"Componente0"},null,"< Selecione o Componente >","< Selecione o Produto ou Serviço >",null,null,"< Selecione a Fonte de Recurso >",0,null,null,null,null,"< Selecione a Fonte de Recurso >",0]
[0,{"$f":"VLOOKUP(D64,Listas!$R$2:$S$12,2,FALSE)","v":"Componente0"},null,"< Selecione o Componente >","< Selecione o Produto ou Serviço >",null,null,"< Selecione a Fonte de Recurso >",0,null,null,null,null,"< Selecione a Fonte de Recurso >",0]
[0,{"$f":"VLOOKUP(D65,Listas!$R$2:$S$12,2,FALSE)","v":"Componente0"},null,"< Selecione o Componente >","< Selecione o Produto ou Serviço >",null,null,"< Selecione a Fonte de Recurso >",0,null,null,null,null,"< Selecione a Fonte de Recurso >",0]
[0,{"$f":"VLOOKUP(D66,Listas!$R$2:$S$12,2,FALSE)","v":"Componente0"},null,"< Selecione o Componente >","< Selecione o Produto ou Serviço >",null,null,"< Selecione a Fonte de Recurso >",0,null,null,null,null,"< Selecione a Fonte de Recurso >",0]
[0,{"$f":"VLOOKUP(D67,Listas!$R$2:$S$12,2,FALSE)","v":"Componente0"},null,"< Selecione o Componente >","< Selecione o Produto ou Serviço >",null,null,"< Selecione a Fonte de Recurso >",0,null,null,null,null,"< Selecione a Fonte de Recurso >",0]
[0,{"$f":"VLOOKUP(D68,Listas!$R$2:$S$12,2,FALSE)","v":"Componente0"},null,"< Selecione o Componente >","< Selecione o Produto ou Serviço >",null,null,"< Selecione a Fonte de Recurso >",0,null,null,null,null,"< Selecione a Fonte de Recurso >",0]
[0,{"$f":"VLOOKUP(D69,Listas!$R$2:$S$12,2,FALSE)","v":"Componente0"},null,"< Selecione o Componente >","< Selecione o Produto ou Serviço >",null,null,"< Selecione a Fonte de Recurso >",0,null,null,null,null,"< Selecione a Fonte de Recurso >",0]
[0,{"$f":"VLOOKUP(D70,Listas!$R$2:$S$12,2,FALSE)","v":"Componente0"},null,"< Selecione o Componente >","< Selecione o Produto ou Serviço >",null,null,"< Selecione a Fonte de Recurso >",0,null,null,null,null,"< Selecione a Fonte de Recurso >",0]
[0,{"$f":"VLOOKUP(D71,Listas!$R$2:$S$12,2,FALSE)","v":"Componente0"},null,"< Selecione o Componente >","< Selecione o Produto ou Serviço >",null,null,"< Selecione a Fonte de Recurso >",0,null,null,null,null,"< Selecione a Fonte de Recurso >",0]
[0,{"$f":"VLOOKUP(D72,Listas!$R$2:$S$12,2,FALSE)","v":"Componente0"},null,"< Selecione o Componente >","< Selecione o Produto ou Serviço >",null,null,"< Selecione a Fonte de Recurso >",0,null,null,null,null,"< Selecione a Fonte de Recurso >",0]
[0,{"$f":"VLOOKUP(D73,Listas!$R$2:$S$12,2,FALSE)","v":"Componente0"},null,"< Selecione o Componente >","< Selecione o Produto ou Serviço >",null,null,"< Selecione a Fonte de Recurso >",0,null,null,null,null,"< Selecione a Fonte de Recurso >",0]
[{"$f":"IF(OR(E74=\"< selecione o Produto ou Serviço >\",E74=\"\"),0,1)","v":0},{"$f":"VLOOKUP(D74,Listas!$R$2:$S$12,2,FALSE)","v":"Componente0"},null,"< Selecione o Componente >","< Selecione o Produto ou Serviço >",null,null,{"$f":"N74","v":"< Selecione a Fonte de Recurso >"},{"$f":"O74","v":0},null,null,null,null,"< Selecione a Fonte de Recurso >",{"$f":"K74*M74","v":0}]
[0,{"$f":"VLOOKUP(D75,Listas!$R$2:$S$12,2,FALSE)","v":"Componente0"},null,"< Selecione o Componente >","< Selecione o Produto ou Serviço >",null,null,"< Selecione a Fonte de Recurso >",0,null,null,null,null,"< Selecione a Fonte de Recurso >",0]
[0,{"$f":"VLOOKUP(D76,Listas!$R$2:$S$12,2,FALSE)","v":"Componente0"},null,"< Selecione o Componente >","< Selecione o Produto ou Serviço >",null,null,"< Selecione a Fonte de Recurso >",0,null,null,null,null,"< Selecione a Fonte de Recurso >",0]
[0,{"$f":"VLOOKUP(D77,Listas!$R$2:$S$12,2,FALSE)","v":"Componente0"},null,"< Selecione o Componente >","< Selecione o Produto ou Serviço >",null,null,"< Selecione a Fonte de Recurso >",0,null,null,null,null,"< Selecione a Fonte de Recurso >",0]
[0,{"$f":"VLOOKUP(D78,Listas!$R$2:$S$12,2,FALSE)","v":"Componente0"},null,"< Selecione o Componente >","< Selecione o Produto ou Serviço >",null,null,"< Selecione a Fonte de Recurso >",0,null,null,null,null,"< Selecione a Fonte de Recurso >",0]
[0,{"$f":"VLOOKUP(D79,Listas!$R$2:$S$12,2,FALSE)","v":"Componente0"},null,"< Selecione o Componente >","< Selecione o Produto ou Serviço >",null,null,"< Selecione a Fonte de Recurso >",0,null,null,null,null,"< Selecione a Fonte de Recurso >",0]
[0,{"$f":"VLOOKUP(D80,Listas!$R$2:$S$12,2,FALSE)","v":"Componente0"},null,"< Selecione o Componente >","< Selecione o Produto ou Serviço >",null,null,"< Selecione a Fonte de Recurso >",0,null,null,null,null,"< Selecione a Fonte de Recurso >",0]
[0,{"$f":"VLOOKUP(D81,Listas!$R$2:$S$12,2,FALSE)","v":"Componente0"},null,"< Selecione o Componente >","< Selecione o Produto ou Serviço >",null,null,"< Selecione a Fonte de Recurso >",0,null,null,null,null,"< Selecione a Fonte de Recurso >",0]
[0,{"$f":"VLOOKUP(D82,Listas!$R$2:$S$12,2,FALSE)","v":"Componente0"},null,"< Selecione o Componente >","< Selecione o Produto ou Serviço >",null,null,"< Selecione a Fonte de Recurso >",0,null,null,null,null,"< Selecione a Fonte de Recurso >",0]
[0,{"$f":"VLOOKUP(D83,Listas!$R$2:$S$12,2,FALSE)","v":"Componente0"},null,"< Selecione o Componente >","< Selecione o Produto ou Serviço >",null,null,"< Selecione a Fonte de Recurso >",0,null,null,null,null,"< Selecione a Fonte de Recurso >",0]
[0,{"$f":"VLOOKUP(D84,Listas!$R$2:$S$12,2,FALSE)","v":"Componente0"},null,"< Selecione o Componente >","< Selecione o Produto ou Serviço >",null,null,"< Selecione a Fonte de Recurso >",0,null,null,null,null,"< Selecione a Fonte de Recurso >",0]
[0,{"$f":"VLOOKUP(D85,Listas!$R$2:$S$12,2,FALSE)","v":"Componente0"},null,"< Selecione o Componente >","< Selecione o Produto ou Serviço >",null,null,"< Selecione a Fonte de Recurso >",0,null,null,null,null,"< Selecione a Fonte de Recurso >",0]
[0,{"$f":"VLOOKUP(D86,Listas!$R$2:$S$12,2,FALSE)","v":"Componente0"},null,"< Selecione o Componente >","< Selecione o Produto ou Serviço >",null,null,"< Selecione a Fonte de Recurso >",0,null,null,null,null,"< Selecione a Fonte de Recurso >",0]
[0,{"$f":"VLOOKUP(D87,Listas!$R$2:$S$12,2,FALSE)","v":"Componente0"},null,"< Selecione o Componente >","< Selecione o Produto ou Serviço >",null,null,"< Selecione a Fonte de Recurso >",0,null,null,null,null,"< Selecione a Fonte de Recurso >",0]
[0,{"$f":"VLOOKUP(D88,Listas!$R$2:$S$12,2,FALSE)","v":"Componente0"},null,"< Selecione o Componente >","< Selecione o Produto ou Serviço >",null,null,"< Selecione a Fonte de Recurso >",0,null,null,null,null,"< Selecione a Fonte de Recurso >",0]
[0,{"$f":"VLOOKUP(D89,Listas!$R$2:$S$12,2,FALSE)","v":"Componente0"},null,"< Selecione o Componente >","< Selecione o Produto ou Serviço >",null,null,"< Selecione a Fonte de Recurso >",0,null,null,null,null,"< Selecione a Fonte de Recurso >",0]
[0,{"$f":"VLOOKUP(D90,Listas!$R$2:$S$12,2,FALSE)","v":"Componente0"},null,"< Selecione o Componente >","< Selecione o Produto ou Serviço >",null,null,"< Selecione a Fonte de Recurso >",0,null,null,null,null,"< Selecione a Fonte de Recurso >",0]
[0,{"$f":"VLOOKUP(D91,Listas!$R$2:$S$12,2,FALSE)","v":"Componente0"},null,"< Selecione o Componente >","< Selecione o Produto ou Serviço >",null,null,"< Selecione a Fonte de Recurso >",0,null,null,null,null,"< Selecione a Fonte de Recurso >",0]
[0,{"$f":"VLOOKUP(D92,Listas!$R$2:$S$12,2,FALSE)","v":"Componente0"},null,"< Selecione o Componente >","< Selecione o Produto ou Serviço >",null,null,"< Selecione a Fonte de Recurso >",0,null,null,null,null,"< Selecione a Fonte de Recurso >",0]
[0,{"$f":"VLOOKUP(D93,Listas!$R$2:$S$12,2,FALSE)","v":"Componente0"},null,"< Selecione o Componente >","< Selecione o Produto ou Serviço >",null,null,"< Selecione a Fonte de Recurso >",0,null,null,null,null,"< Selecione a Fonte de Recurso >",0]
[0,{"$f":"VLOOKUP(D94,Listas!$R$2:$S$12,2,FALSE)","v":"Componente0"},null,"< Selecione o Componente >","< Selecione o Produto ou Serviço >",null,null,"< Selecione a Fonte de Recurso >",0,null,null,null,null,"< Selecione a Fonte de Recurso >",0]
[0,{"$f":"VLOOKUP(D95,Listas!$R$2:$S$12,2,FALSE)","v":"Componente0"},null,"< Selecione o Componente >","< Selecione o Produto ou Serviço >",null,null,"< Selecione a Fonte de Recurso >",0,null,null,null,null,"< Selecione a Fonte de Recurso >",0]
[0,{"$f":"VLOOKUP(D96,Listas!$R$2:$S$12,2,FALSE)","v":"Componente0"},null,"< Selecione o Componente >","< Selecione o Produto ou Serviço >",null,null,"< Selecione a Fonte de Recurso >",0,null,null,null,null,"< Selecione a Fonte de Recurso >",0]
[0,{"$f":"VLOOKUP(D97,Listas!$R$2:$S$12,2,FALSE)","v":"Componente0"},null,"< Selecione o Componente >","< Selecione o Produto ou Serviço >",null,null,"< Selecione a Fonte de Recurso >",0,null,null,null,null,"< Selecione a Fonte de Recurso >",0]
[0,{"$f":"VLOOKUP(D98,Listas!$R$2:$S$12,2,FALSE)","v":"Componente0"},null,"< Selecione o Componente >","< Selecione o Produto ou Serviço >",null,null,"< Selecione a Fonte de Recurso >",0,null,null,null,null,"< Selecione a Fonte de Recurso >",0]
[0,{"$f":"VLOOKUP(D99,Listas!$R$2:$S$12,2,FALSE)","v":"Componente0"},null,"< Selecione o Componente >","< Selecione o Produto ou Serviço >",null,null,"< Selecione a Fonte de Recurso >",0,null,null,null,null,"< Selecione a Fonte de Recurso >",0]
[0,{"$f":"VLOOKUP(D100,Listas!$R$2:$S$12,2,FALSE)","v":"Componente0"},null,"< Selecione o Componente >","< Selecione o Produto ou Serviço >",null,null,"< Selecione a Fonte de Recurso >",0,null,null,null,null,"< Selecione a Fonte de Recurso >",0]
[0,{"$f":"VLOOKUP(D101,Listas!$R$2:$S$12,2,FALSE)","v":"Componente0"},null,"< Selecione o Componente >","< Selecione o Produto ou Serviço >",null,null,"< Selecione a Fonte de Recurso >",0,null,null,null,null,"< Selecione a Fonte de Recurso >",0]
[0,{"$f":"VLOOKUP(D102,Listas!$R$2:$S$12,2,FALSE)","v":"Componente0"},null,"< Selecione o Componente >","< Selecione o Produto ou Serviço >",null,null,"< Selecione a Fonte de Recurso >",0,null,null,null,null,"< Selecione a Fonte de Recurso >",0]
[0,{"$f":"VLOOKUP(D103,Listas!$R$2:$S$12,2,FALSE)","v":"Componente0"},null,"< Selecione o Componente >","< Selecione o Produto ou Serviço >",null,null,"< Selecione a Fonte de Recurso >",0,null,null,null,null,"< Selecione a Fonte de Recurso >",0]
[0,{"$f":"VLOOKUP(D104,Listas!$R$2:$S$12,2,FALSE)","v":"Componente0"},null,"< Selecione o Componente >","< Selecione o Produto ou Serviço >",null,null,"< Selecione a Fonte de Recurso >",0,null,null,null,null,"< Selecione a Fonte de Recurso >",0]
[0,{"$f":"VLOOKUP(D105,Listas!$R$2:$S$12,2,FALSE)","v":"Componente0"},null,"< Selecione o Componente >","< Selecione o Produto ou Serviço >",null,null,"< Selecione a Fonte de Recurso >",0,null,null,null,null,"< Selecione a Fonte de Recurso >",0]
[0,{"$f":"VLOOKUP(D106,Listas!$R$2:$S$12,2,FALSE)","v":"Componente0"},null,"< Selecione o Componente >","< Selecione o Produto ou Serviço >",null,null,"< Selecione a Fonte de Recurso >",0,null,null,null,null,"< Selecione a Fonte de Recurso >",0]
[0,{"$f":"VLOOKUP(D107,Listas!$R$2:$S$12,2,FALSE)","v":"Componente0"},null,"< Selecione o Componente >","< Selecione o Produto ou Serviço >",null,null,"< Selecione a Fonte de Recurso >",0,null,null,null,null,"< Selecione a Fonte de Recurso >",0]
[0,{"$f":"VLOOKUP(D108,Listas!$R$2:$S$12,2,FALSE)","v":"Componente0"},null,"< Selecione o Componente >","< Selecione o Produto ou Serviço >",null,null,"< Selecione a Fonte de Recurso >",0,null,null,null,null,"< Selecione a Fonte de Recurso >",0]
[0,{"$f":"VLOOKUP(D109,Listas!$R$2:$S$12,2,FALSE)","v":"Componente0"},null,"< Selecione o Componente >","< Selecione o Produto ou Serviço >",null,null,"< Selecione a Fonte de Recurso >",0,null,null,null,null,"< Selecione a Fonte de Recurso >",0]
[0,{"$f":"VLOOKUP(D110,Listas!$R$2:$S$12,2,FALSE)","v":"Componente0"},null,"< Selecione o Componente >","< Selecione o Produto ou Serviço >",null,null,"< Selecione a Fonte de Recurso >",0,null,null,null,null,"< Selecione a Fonte de Recurso >",0]
[0,{"$f":"VLOOKUP(D111,Listas!$R$2:$S$12,2,FALSE)","v":"Componente0"},null,"< Selecione o Componente >","< Selecione o Produto ou Serviço >",null,null,"< Selecione a Fonte de Recurso >",0,null,null,null,null,"< Selecione a Fonte de Recurso >",0]
[0,{"$f":"VLOOKUP(D112,Listas!$R$2:$S$12,2,FALSE)","v":"Componente0"},null,"< Selecione o Componente >","< Selecione o Produto ou Serviço >",null,null,"< Selecione a Fonte de Recurso >",0,null,null,null,null,"< Selecione a Fonte de Recurso >",0]
[0,{"$f":"VLOOKUP(D113,Listas!$R$2:$S$12,2,FALSE)","v":"Componente0"},null,"< Selecione o Componente >","< Selecione o Produto ou Serviço >",null,null,"< Selecione a Fonte de Recurso >",0,null,null,null,null,"< Selecione a Fonte de Recurso >",0]
[0,{"$f":"VLOOKUP(D114,Listas!$R$2:$S$12,2,FALSE)","v":"Componente0"},null,"< Selecione o Componente >","< Selecione o Produto ou Serviço >",null,null,"< Selecione a Fonte de Recurso >",0,null,null,null,null,"< Selecione a Fonte de Recurso >",0]
[0,{"$f":"VLOOKUP(D115,Listas!$R$2:$S$12,2,FALSE)","v":"Componente0"},null,"< Selecione o Componente >","< Selecione o Produto ou Serviço >",null,null,"< Selecione a Fonte de Recurso >",0,null,null,null,null,"< Selecione a Fonte de Recurso >",0]
[0,{"$f":"VLOOKUP(D116,Listas!$R$2:$S$12,2,FALSE)","v":"Componente0"},null,"< Selecione o Componente >","< Selecione o Produto ou Serviço >",null,null,"< Selecione a Fonte de Recurso >",0,null,null,null,null,"< Selecione a Fonte de Recurso >",0]
[0,{"$f":"VLOOKUP(D117,Listas!$R$2:$S$12,2,FALSE)","v":"Componente0"},null,"< Selecione o Componente >","< Selecione o Produto ou Serviço >",null,null,"< Selecione a Fonte de Recurso >",0,null,null,null,null,"< Selecione a Fonte de Recurso >",0]
[0,{"$f":"VLOOKUP(D118,Listas!$R$2:$S$12,2,FALSE)","v":"Componente0"},null,"< Selecione o Componente >","< Selecione o Produto ou Serviço >",null,null,"< Selecione a Fonte de Recurso >",0,null,null,null,null,"< Selecione a Fonte de Recurso >",0]
[0,{"$f":"VLOOKUP(D119,Listas!$R$2:$S$12,2,FALSE)","v":"Componente0"},null,"< Selecione o Componente >","< Selecione o Produto ou Serviço >",null,null,"< Selecione a Fonte de Recurso >",0,null,null,null,null,"< Selecione a Fonte de Recurso >",0]
[0,{"$f":"VLOOKUP(D120,Listas!$R$2:$S$12,2,FALSE)","v":"Componente0"},null,"< Selecione o Componente >","< Selecione o Produto ou Serviço >",null,null,"< Selecione a Fonte de Recurso >",0,null,null,null,null,"< Selecione a Fonte de Recurso >",0]
[0,{"$f":"VLOOKUP(D121,Listas!$R$2:$S$12,2,FALSE)","v":"Componente0"},null,"< Selecione o Componente >","< Selecione o Produto ou Serviço >",null,null,"< Selecione a Fonte de Recurso >",0,null,null,null,null,"< Selecione a Fonte de Recurso >",0]
[0,{"$f":"VLOOKUP(D122,Listas!$R$2:$S$12,2,FALSE)","v":"Componente0"},null,"< Selecione o Componente >","< Selecione o Produto ou Serviço >",null,null,"< Selecione a Fonte de Recurso >",0,null,null,null,null,"< Selecione a Fonte de Recurso >",0]
[0,{"$f":"VLOOKUP(D123,Listas!$R$2:$S$12,2,FALSE)","v":"Componente0"},null,"< Selecione o Componente >","< Selecione o Produto ou Serviço >",null,null,"< Selecione a Fonte de Recurso >",0,null,null,null,null,"< Selecione a Fonte de Recurso >",0]
[0,{"$f":"VLOOKUP(D124,Listas!$R$2:$S$12,2,FALSE)","v":"Componente0"},null,"< Selecione o Componente >","< Selecione o Produto ou Serviço >",null,null,"< Selecione a Fonte de Recurso >",0,null,null,null,null,"< Selecione a Fonte de Recurso >",0]
[0,{"$f":"VLOOKUP(D125,Listas!$R$2:$S$12,2,FALSE)","v":"Componente0"},null,"< Selecione o Componente >","< Selecione o Produto ou Serviço >",null,null,"< Selecione a Fonte de Recurso >",0,null,null,null,null,"< Selecione a Fonte de Recurso >",0]
[0,{"$f":"VLOOKUP(D126,Listas!$R$2:$S$12,2,FALSE)","v":"Componente0"},null,"< Selecione o Componente >","< Selecione o Produto ou Serviço >",null,null,"< Selecione a Fonte de Recurso >",0,null,null,null,null,"< Selecione a Fonte de Recurso >",0]
[0,{"$f":"VLOOKUP(D127,Listas!$R$2:$S$12,2,FALSE)","v":"Componente0"},null,"< Selecione o Componente >","< Selecione o Produto ou Serviço >",null,null,"< Selecione a Fonte de Recurso >",0,null,null,null,null,"< Selecione a Fonte de Recurso >",0]
[0,{"$f":"VLOOKUP(D128,Listas!$R$2:$S$12,2,FALSE)","v":"Componente0"},null,"< Selecione o Componente >","< Selecione o Produto ou Serviço >",null,null,"< Selecione a Fonte de Recurso >",0,null,null,null,null,"< Selecione a Fonte de Recurso >",0]
[0,{"$f":"VLOOKUP(D129,Listas!$R$2:$S$12,2,FALSE)","v":"Componente0"},null,"< Selecione o Componente >","< Selecione o Produto ou Serviço >",null,null,"< Selecione a Fonte de Recurso >",0,null,null,null,null,"< Selecione a Fonte de Recurso >",0]
[0,{"$f":"VLOOKUP(D130,Listas!$R$2:$S$12,2,FALSE)","v":"Componente0"},null,"< Selecione o Componente >","< Selecione o Produto ou Serviço >",null,null,"< Selecione a Fonte de Recurso >",0,null,null,null,null,"< Selecione a Fonte de Recurso >",0]
[0,{"$f":"VLOOKUP(D131,Listas!$R$2:$S$12,2,FALSE)","v":"Componente0"},null,"< Selecione o Componente >","< Selecione o Produto ou Serviço >",null,null,"< Selecione a Fonte de Recurso >",0,null,null,null,null,"< Selecione a Fonte de Recurso >",0]
[0,{"$f":"VLOOKUP(D132,Listas!$R$2:$S$12,2,FALSE)","v":"Componente0"},null,"< Selecione o Componente >","< Selecione o Produto ou Serviço >",null,null,"< Selecione a Fonte de Recurso >",0,null,null,null,null,"< Selecione a Fonte de Recurso >",0]
[0,{"$f":"VLOOKUP(D133,Listas!$R$2:$S$12,2,FALSE)","v":"Componente0"},null,"< Selecione o Componente >","< Selecione o Produto ou Serviço >",null,null,"< Selecione a Fonte de Recurso >",0,null,null,null,null,"< Selecione a Fonte de Recurso >",0]
[0,{"$f":"VLOOKUP(D134,Listas!$R$2:$S$12,2,FALSE)","v":"Componente0"},null,"< Selecione o Componente >","< Selecione o Produto ou Serviço >",null,null,"< Selecione a Fonte de Recurso >",0,null,null,null,null,"< Selecione a Fonte de Recurso >",0]
[0,{"$f":"VLOOKUP(D135,Listas!$R$2:$S$12,2,FALSE)","v":"Componente0"},null,"< Selecione o Componente >","< Selecione o Produto ou Serviço >",null,null,"< Selecione a Fonte de Recurso >",0,null,null,null,null,"< Selecione a Fonte de Recurso >",0]
[0,{"$f":"VLOOKUP(D136,Listas!$R$2:$S$12,2,FALSE)","v":"Componente0"},null,"< Selecione o Componente >","< Selecione o Produto ou Serviço >",null,null,"< Selecione a Fonte de Recurso >",0,null,null,null,null,"< Selecione a Fonte de Recurso >",0]
[0,{"$f":"VLOOKUP(D137,Listas!$R$2:$S$12,2,FALSE)","v":"Componente0"},null,"< Selecione o Componente >","< Selecione o Produto ou Serviço >",null,null,"< Selecione a Fonte de Recurso >",0,null,null,null,null,"< Selecione a Fonte de Recurso >",0]
[{"$f":"IF(OR(E138=\"< selecione o Produto ou Serviço >\",E138=\"\"),0,1)","v":0},{"$f":"VLOOKUP(D138,Listas!$R$2:$S$12,2,FALSE)","v":"Componente0"},null,"< Selecione o Componente >","< Selecione o Produto ou Serviço >",null,null,{"$f":"N138","v":"< Selecione a Fonte de Recurso >"},{"$f":"O138","v":0},null,null,null,null,"< Selecione a Fonte de Recurso >",{"$f":"K138*M138","v":0}]
[0,{"$f":"VLOOKUP(D139,Listas!$R$2:$S$12,2,FALSE)","v":"Componente0"},null,"< Selecione o Componente >","< Selecione o Produto ou Serviço >",null,null,"< Selecione a Fonte de Recurso >",0,null,null,null,null,"< Selecione a Fonte de Recurso >",0]
[0,{"$f":"VLOOKUP(D140,Listas!$R$2:$S$12,2,FALSE)","v":"Componente0"},null,"< Selecione o Componente >","< Selecione o Produto ou Serviço >",null,null,"< Selecione a Fonte de Recurso >",0,null,null,null,null,"< Selecione a Fonte de Recurso >",0]
[0,{"$f":"VLOOKUP(D141,Listas!$R$2:$S$12,2,FALSE)","v":"Componente0"},null,"< Selecione o Componente >","< Selecione o Produto ou Serviço >",null,null,"< Selecione a Fonte de Recurso >",0,null,null,null,null,"< Selecione a Fonte de Recurso >",0]
[0,{"$f":"VLOOKUP(D142,Listas!$R$2:$S$12,2,FALSE)","v":"Componente0"},null,"< Selecione o Componente >","< Selecione o Produto ou Serviço >",null,null,"< Selecione a Fonte de Recurso >",0,null,null,null,null,"< Selecione a Fonte de Recurso >",0]
[0,{"$f":"VLOOKUP(D143,Listas!$R$2:$S$12,2,FALSE)","v":"Componente0"},null,"< Selecione o Componente >","< Selecione o Produto ou Serviço >",null,null,"< Selecione a Fonte de Recurso >",0,null,null,null,null,"< Selecione a Fonte de Recurso >",0]
[0,{"$f":"VLOOKUP(D144,Listas!$R$2:$S$12,2,FALSE)","v":"Componente0"},null,"< Selecione o Componente >","< Selecione o Produto ou Serviço >",null,null,"< Selecione a Fonte de Recurso >",0,null,null,null,null,"< Selecione a Fonte de Recurso >",0]
[0,{"$f":"VLOOKUP(D145,Listas!$R$2:$S$12,2,FALSE)","v":"Componente0"},null,"< Selecione o Componente >","< Selecione o Produto ou Serviço >",null,null,"< Selecione a Fonte de Recurso >",0,null,null,null,null,"< Selecione a Fonte de Recurso >",0]
[{"$f":"IF(OR(E146=\"< selecione o Produto ou Serviço >\",E146=\"\"),0,1)","v":0},{"$f":"VLOOKUP(D146,Listas!$R$2:$S$12,2,FALSE)","v":"Componente0"},null,"< Selecione o Componente >","< Selecione o Produto ou Serviço >",null,null,"< Selecione a Fonte de Recurso >",0,null,null,null,null,"< Selecione a Fonte de Recurso >",0]
[0,{"$f":"VLOOKUP(D147,Listas!$R$2:$S$12,2,FALSE)","v":"Componente0"},null,"< Selecione o Componente >","< Selecione o Produto ou Serviço >",null,null,"< Selecione a Fonte de Recurso >",0,null,null,null,null,"< Selecione a Fonte de Recurso >",0]
[0,{"$f":"VLOOKUP(D148,Listas!$R$2:$S$12,2,FALSE)","v":"Componente0"},null,"< Selecione o Componente >","< Selecione o Produto ou Serviço >",null,null,"< Selecione a Fonte de Recurso >",0,null,null,null,null,"< Selecione a Fonte de Recurso >",0]
[0,{"$f":"VLOOKUP(D149,Listas!$R$2:$S$12,2,FALSE)","v":"Componente0"},null,"< Selecione o Componente >","< Selecione o Produto ou Serviço >",null,null,"< Selecione a Fonte de Recurso >",0,null,null,null,null,"< Selecione a Fonte de Recurso >",0]
[0,{"$f":"VLOOKUP(D150,Listas!$R$2:$S$12,2,FALSE)","v":"Componente0"},null,"< Selecione o Componente >","< Selecione o Produto ou Serviço >",null,null,"< Selecione a Fonte de Recurso >",0,null,null,null,null,"< Selecione a Fonte de Recurso >",0]
[0,{"$f":"VLOOKUP(D151,Listas!$R$2:$S$12,2,FALSE)","v":"Componente0"},null,"< Selecione o Componente >","< Selecione o Produto ou Serviço >",null,null,"< Selecione a Fonte de Recurso >",0,null,null,null,null,"< Selecione a Fonte de Recurso >",0]
[0,{"$f":"VLOOKUP(D152,Listas!$R$2:$S$12,2,FALSE)","v":"Componente0"},null,"< Selecione o Componente >","< Selecione o Produto ou Serviço >",null,null,"< Selecione a Fonte de Recurso >",0,null,null,null,null,"< Selecione a Fonte de Recurso >",0]
[0,{"$f":"VLOOKUP(D153,Listas!$R$2:$S$12,2,FALSE)","v":"Componente0"},null,"< Selecione o Componente >","< Selecione o Produto ou Serviço >",null,null,"< Selecione a Fonte de Recurso >",0,null,null,null,null,"< Selecione a Fonte de Recurso >",0]
[0,{"$f":"VLOOKUP(D154,Listas!$R$2:$S$12,2,FALSE)","v":"Componente0"},null,"< Selecione o Componente >","< Selecione o Produto ou Serviço >",null,null,"< Selecione a Fonte de Recurso >",0,null,null,null,null,"< Selecione a Fonte de Recurso >",0]
[0,{"$f":"VLOOKUP(D155,Listas!$R$2:$S$12,2,FALSE)","v":"Componente0"},null,"< Selecione o Componente >","< Selecione o Produto ou Serviço >",null,null,"< Selecione a Fonte de Recurso >",0,null,null,null,null,"< Selecione a Fonte de Recurso >",0]
[0,{"$f":"VLOOKUP(D156,Listas!$R$2:$S$12,2,FALSE)","v":"Componente0"},null,"< Selecione o Componente >","< Selecione o Produto ou Serviço >",null,null,"< Selecione a Fonte de Recurso >",0,null,null,null,null,"< Selecione a Fonte de Recurso >",0]
[0,{"$f":"VLOOKUP(D157,Listas!$R$2:$S$12,2,FALSE)","v":"Componente0"},null,"< Selecione o Componente >","< Selecione o Produto ou Serviço >",null,null,"< Selecione a Fonte de Recurso >",0,null,null,null,null,"< Selecione a Fonte de Recurso >",0]
[0,{"$f":"VLOOKUP(D158,Listas!$R$2:$S$12,2,FALSE)","v":"Componente0"},null,"< Selecione o Componente >","< Selecione o Produto ou Serviço >",null,null,"< Selecione a Fonte de Recurso >",0,null,null,null,null,"< Selecione a Fonte de Recurso >",0]
[0,{"$f":"VLOOKUP(D159,Listas!$R$2:$S$12,2,FALSE)","v":"Componente0"},null,"< Selecione o Componente >","< Selecione o Produto ou Serviço >",null,null,"< Selecione a Fonte de Recurso >",0,null,null,null,null,"< Selecione a Fonte de Recurso >",0]
[0,{"$f":"VLOOKUP(D160,Listas!$R$2:$S$12,2,FALSE)","v":"Componente0"},null,"< Selecione o Componente >","< Selecione o Produto ou Serviço >",null,null,"< Selecione a Fonte de Recurso >",0,null,null,null,null,"< Selecione a Fonte de Recurso >",0]
[0,{"$f":"VLOOKUP(D161,Listas!$R$2:$S$12,2,FALSE)","v":"Componente0"},null,"< Selecione o Componente >","< Selecione o Produto ou Serviço >",null,null,"< Selecione a Fonte de Recurso >",0,null,null,null,null,"< Selecione a Fonte de Recurso >",0]
[0,{"$f":"VLOOKUP(D162,Listas!$R$2:$S$12,2,FALSE)","v":"Componente0"},null,"< Selecione o Componente >","< Selecione o Produto ou Serviço >",null,null,"< Selecione a Fonte de Recurso >",0,null,null,null,null,"< Selecione a Fonte de Recurso >",0]
[0,{"$f":"VLOOKUP(D163,Listas!$R$2:$S$12,2,FALSE)","v":"Componente0"},null,"< Selecione o Componente >","< Selecione o Produto ou Serviço >",null,null,"< Selecione a Fonte de Recurso >",0,null,null,null,null,"< Selecione a Fonte de Recurso >",0]
[0,{"$f":"VLOOKUP(D164,Listas!$R$2:$S$12,2,FALSE)","v":"Componente0"},null,"< Selecione o Componente >","< Selecione o Produto ou Serviço >",null,null,"< Selecione a Fonte de Recurso >",0,null,null,null,null,"< Selecione a Fonte de Recurso >",0]
[0,{"$f":"VLOOKUP(D165,Listas!$R$2:$S$12,2,FALSE)","v":"Componente0"},null,"< Selecione o Componente >","< Selecione o Produto ou Serviço >",null,null,"< Selecione a Fonte de Recurso >",0,null,null,null,null,"< Selecione a Fonte de Recurso >",0]
[0,{"$f":"VLOOKUP(D166,Listas!$R$2:$S$12,2,FALSE)","v":"Componente0"},null,"< Selecione o Componente >","< Selecione o Produto ou Serviço >",null,null,"< Selecione a Fonte de Recurso >",0,null,null,null,null,"< Selecione a Fonte de Recurso >",0]
[0,{"$f":"VLOOKUP(D167,Listas!$R$2:$S$12,2,FALSE)","v":"Componente0"},null,"< Selecione o Componente >","< Selecione o Produto ou Serviço >",null,null,"< Selecione a Fonte de Recurso >",0,null,null,null,null,"< Selecione a Fonte de Recurso >",0]
[0,{"$f":"VLOOKUP(D168,Listas!$R$2:$S$12,2,FALSE)","v":"Componente0"},null,"< Selecione o Componente >","< Selecione o Produto ou Serviço >",null,null,"< Selecione a Fonte de Recurso >",0,null,null,null,null,"< Selecione a Fonte de Recurso >",0]
[0,{"$f":"VLOOKUP(D169,Listas!$R$2:$S$12,2,FALSE)","v":"Componente0"},null,"< Selecione o Componente >","< Selecione o Produto ou Serviço >",null,null,"< Selecione a Fonte de Recurso >",0,null,null,null,null,"< Selecione a Fonte de Recurso >",0]
[0,{"$f":"VLOOKUP(D170,Listas!$R$2:$S$12,2,FALSE)","v":"Componente0"},null,"< Selecione o Componente >","< Selecione o Produto ou Serviço >",null,null,"< Selecione a Fonte de Recurso >",0,null,null,null,null,"< Selecione a Fonte de Recurso >",0]
[0,{"$f":"VLOOKUP(D171,Listas!$R$2:$S$12,2,FALSE)","v":"Componente0"},null,"< Selecione o Componente >","< Selecione o Produto ou Serviço >",null,null,"< Selecione a Fonte de Recurso >",0,null,null,null,null,"< Selecione a Fonte de Recurso >",0]
[0,{"$f":"VLOOKUP(D172,Listas!$R$2:$S$12,2,FALSE)","v":"Componente0"},null,"< Selecione o Componente >","< Selecione o Produto ou Serviço >",null,null,"< Selecione a Fonte de Recurso >",0,null,null,null,null,"< Selecione a Fonte de Recurso >",0]
[0,{"$f":"VLOOKUP(D173,Listas!$R$2:$S$12,2,FALSE)","v":"Componente0"},null,"< Selecione o Componente >","< Selecione o Produto ou Serviço >",null,null,"< Selecione a Fonte de Recurso >",0,null,null,null,null,"< Selecione a Fonte de Recurso >",0]
[0,{"$f":"VLOOKUP(D174,Listas!$R$2:$S$12,2,FALSE)","v":"Componente0"},null,"< Selecione o Componente >","< Selecione o Produto ou Serviço >",null,null,"< Selecione a Fonte de Recurso >",0,null,null,null,null,"< Selecione a Fonte de Recurso >",0]
[0,{"$f":"VLOOKUP(D175,Listas!$R$2:$S$12,2,FALSE)","v":"Componente0"},null,"< Selecione o Componente >","< Selecione o Produto ou Serviço >",null,null,"< Selecione a Fonte de Recurso >",0,null,null,null,null,"< Selecione a Fonte de Recurso >",0]
[0,{"$f":"VLOOKUP(D176,Listas!$R$2:$S$12,2,FALSE)","v":"Componente0"},null,"< Selecione o Componente >","< Selecione o Produto ou Serviço >",null,null,"< Selecione a Fonte de Recurso >",0,null,null,null,null,"< Selecione a Fonte de Recurso >",0]
[0,{"$f":"VLOOKUP(D177,Listas!$R$2:$S$12,2,FALSE)","v":"Componente0"},null,"< Selecione o Componente >","< Selecione o Produto ou Serviço >",null,null,"< Selecione a Fonte de Recurso >",0,null,null,null,null,"< Selecione a Fonte de Recurso >",0]
[0,{"$f":"VLOOKUP(D178,Listas!$R$2:$S$12,2,FALSE)","v":"Componente0"},null,"< Selecione o Componente >","< Selecione o Produto ou Serviço >",null,null,"< Selecione a Fonte de Recurso >",0,null,null,null,null,"< Selecione a Fonte de Recurso >",0]
[0,{"$f":"VLOOKUP(D179,Listas!$R$2:$S$12,2,FALSE)","v":"Componente0"},null,"< Selecione o Componente >","< Selecione o Produto ou Serviço >",null,null,"< Selecione a Fonte de Recurso >",0,null,null,null,null,"< Selecione a Fonte de Recurso >",0]
[0,{"$f":"VLOOKUP(D180,Listas!$R$2:$S$12,2,FALSE)","v":"Componente0"},null,"< Selecione o Componente >","< Selecione o Produto ou Serviço >",null,null,"< Selecione a Fonte de Recurso >",0,null,null,null,null,"< Selecione a Fonte de Recurso >",0]
[0,{"$f":"VLOOKUP(D181,Listas!$R$2:$S$12,2,FALSE)","v":"Componente0"},null,"< Selecione o Componente >","< Selecione o Produto ou Serviço >",null,null,"< Selecione a Fonte de Recurso >",0,null,null,null,null,"< Selecione a Fonte de Recurso >",0]
[0,{"$f":"VLOOKUP(D182,Listas!$R$2:$S$12,2,FALSE)","v":"Componente0"},null,"< Selecione o Componente >","< Selecione o Produto ou Serviço >",null,null,"< Selecione a Fonte de Recurso >",0,null,null,null,null,"< Selecione a Fonte de Recurso >",0]
[0,{"$f":"VLOOKUP(D183,Listas!$R$2:$S$12,2,FALSE)","v":"Componente0"},null,"< Selecione o Componente >","< Selecione o Produto ou Serviço >",null,null,"< Selecione a Fonte de Recurso >",0,null,null,null,null,"< Selecione a Fonte de Recurso >",0]
[0,{"$f":"VLOOKUP(D184,Listas!$R$2:$S$12,2,FALSE)","v":"Componente0"},null,"< Selecione o Componente >","< Selecione o Produto ou Serviço >",null,null,"< Selecione a Fonte de Recurso >",0,null,null,null,null,"< Selecione a Fonte de Recurso >",0]
[0,{"$f":"VLOOKUP(D185,Listas!$R$2:$S$12,2,FALSE)","v":"Componente0"},null,"< Selecione o Componente >","< Selecione o Produto ou Serviço >",null,null,"< Selecione a Fonte de Recurso >",0,null,null,null,null,"< Selecione a Fonte de Recurso >",0]
[0,{"$f":"VLOOKUP(D186,Listas!$R$2:$S$12,2,FALSE)","v":"Componente0"},null,"< Selecione o Componente >","< Selecione o Produto ou Serviço >",null,null,"< Selecione a Fonte de Recurso >",0,null,null,null,null,"< Selecione a Fonte de Recurso >",0]
[0,{"$f":"VLOOKUP(D187,Listas!$R$2:$S$12,2,FALSE)","v":"Componente0"},null,"< Selecione o Componente >","< Selecione o Produto ou Serviço >",null,null,"< Selecione a Fonte de Recurso >",0,null,null,null,null,"< Selecione a Fonte de Recurso >",0]
[0,{"$f":"VLOOKUP(D188,Listas!$R$2:$S$12,2,FALSE)","v":"Componente0"},null,"< Selecione o Componente >","< Selecione o Produto ou Serviço >",null,null,"< Selecione a Fonte de Recurso >",0,null,null,null,null,"< Selecione a Fonte de Recurso >",0]
[0,{"$f":"VLOOKUP(D189,Listas!$R$2:$S$12,2,FALSE)","v":"Componente0"},null,"< Selecione o Componente >","< Selecione o Produto ou Serviço >",null,null,"< Selecione a Fonte de Recurso >",0,null,null,null,null,"< Selecione a Fonte de Recurso >",0]
[0,{"$f":"VLOOKUP(D190,Listas!$R$2:$S$12,2,FALSE)","v":"Componente0"},null,"< Selecione o Componente >","< Selecione o Produto ou Serviço >",null,null,"< Selecione a Fonte de Recurso >",0,null,null,null,null,"< Selecione a Fonte de Recurso >",0]
[0,{"$f":"VLOOKUP(D191,Listas!$R$2:$S$12,2,FALSE)","v":"Componente0"},null,"< Selecione o Componente >","< Selecione o Produto ou Serviço >",null,null,"< Selecione a Fonte de Recurso >",0,null,null,null,null,"< Selecione a Fonte de Recurso >",0]
[0,{"$f":"VLOOKUP(D192,Listas!$R$2:$S$12,2,FALSE)","v":"Componente0"},null,"< Selecione o Componente >","< Selecione o Produto ou Serviço >",null,null,"< Selecione a Fonte de Recurso >",0,null,null,null,null,"< Selecione a Fonte de Recurso >",0]
[0,{"$f":"VLOOKUP(D193,Listas!$R$2:$S$12,2,FALSE)","v":"Componente0"},null,"< Selecione o Componente >","< Selecione o Produto ou Serviço >",null,null,"< Selecione a Fonte de Recurso >",0,null,null,null,null,"< Selecione a Fonte de Recurso >",0]
[0,{"$f":"VLOOKUP(D194,Listas!$R$2:$S$12,2,FALSE)","v":"Componente0"},null,"< Selecione o Componente >","< Selecione o Produto ou Serviço >",null,null,"< Selecione a Fonte de Recurso >",0,null,null,null,null,"< Selecione a Fonte de Recurso >",0]
[0,{"$f":"VLOOKUP(D195,Listas!$R$2:$S$12,2,FALSE)","v":"Componente0"},null,"< Selecione o Componente >","< Selecione o Produto ou Serviço >",null,null,"< Selecione a Fonte de Recurso >",0,null,null,null,null,"< Selecione a Fonte de Recurso >",0]
[0,{"$f":"VLOOKUP(D196,Listas!$R$2:$S$12,2,FALSE)","v":"Componente0"},null,"< Selecione o Componente >","< Selecione o Produto ou Serviço >",null,null,"< Selecione a Fonte de Recurso >",0,null,null,null,null,"< Selecione a Fonte de Recurso >",0]
[0,{"$f":"VLOOKUP(D197,Listas!$R$2:$S$12,2,FALSE)","v":"Componente0"},null,"< Selecione o Componente >","< Selecione o Produto ou Serviço >",null,null,"< Selecione a Fonte de Recurso >",0,null,null,null,null,"< Selecione a Fonte de Recurso >",0]
[0,{"$f":"VLOOKUP(D198,Listas!$R$2:$S$12,2,FALSE)","v":"Componente0"},null,"< Selecione o Componente >","< Selecione o Produto ou Serviço >",null,null,"< Selecione a Fonte de Recurso >",0,null,null,null,null,"< Selecione a Fonte de Recurso >",0]
[0,{"$f":"VLOOKUP(D199,Listas!$R$2:$S$12,2,FALSE)","v":"Componente0"},null,"< Selecione o Componente >","< Selecione o Produto ou Serviço >",null,null,"< Selecione a Fonte de Recurso >",0,null,null,null,null,"< Selecione a Fonte de Recurso >",0]
[0,{"$f":"VLOOKUP(D200,Listas!$R$2:$S$12,2,FALSE)","v":"Componente0"},null,"< Selecione o Componente >","< Selecione o Produto ou Serviço >",null,null,"< Selecione a Fonte de Recurso >",0,null,null,null,null,"< Selecione a Fonte de Recurso >",0]
[0,{"$f":"VLOOKUP(D201,Listas!$R$2:$S$12,2,FALSE)","v":"Componente0"},null,"< Selecione o Componente >","< Selecione o Produto ou Serviço >",null,null,"< Selecione a Fonte de Recurso >",0,null,null,null,null,"< Selecione a Fonte de Recurso >",0]
[0,{"$f":"VLOOKUP(D202,Listas!$R$2:$S$12,2,FALSE)","v":"Componente0"},null,"< Selecione o Componente >","< Selecione o Produto ou Serviço >",null,null,{"$f":"N202","v":"< Selecione a Fonte de Recurso >"},{"$f":"O202","v":0},null,null,null,null,"< Selecione a Fonte de Recurso >",{"$f":"K202*M202","v":0}]
[0,{"$f":"VLOOKUP(D203,Listas!$R$2:$S$12,2,FALSE)","v":"Componente0"},null,"< Selecione o Componente >","< Selecione o Produto ou Serviço >",null,null,"< Selecione a Fonte de Recurso >",0,null,null,null,null,"< Selecione a Fonte de Recurso >",0]
[0,{"$f":"VLOOKUP(D204,Listas!$R$2:$S$12,2,FALSE)","v":"Componente0"},null,"< Selecione o Componente >","< Selecione o Produto ou Serviço >",null,null,"< Selecione a Fonte de Recurso >",0,null,null,null,null,"< Selecione a Fonte de Recurso >",0]
[0,{"$f":"VLOOKUP(D205,Listas!$R$2:$S$12,2,FALSE)","v":"Componente0"},null,"< Selecione o Componente >","< Selecione o Produto ou Serviço >",null,null,"< Selecione a Fonte de Recurso >",0,null,null,null,null,"< Selecione a Fonte de Recurso >",0]
[0,{"$f":"VLOOKUP(D206,Listas!$R$2:$S$12,2,FALSE)","v":"Componente0"},null,"< Selecione o Componente >","< Selecione o Produto ou Serviço >",null,null,"< Selecione a Fonte de Recurso >",0,null,null,null,null,"< Selecione a Fonte de Recurso >",0]
[0,{"$f":"VLOOKUP(D207,Listas!$R$2:$S$12,2,FALSE)","v":"Componente0"},null,"< Selecione o Componente >","< Selecione o Produto ou Serviço >",null,null,"< Selecione a Fonte de Recurso >",0,null,null,null,null,"< Selecione a Fonte de Recurso >",0]
[0,{"$f":"VLOOKUP(D208,Listas!$R$2:$S$12,2,FALSE)","v":"Componente0"},null,"< Selecione o Componente >","< Selecione o Produto ou Serviço >",null,null,"< Selecione a Fonte de Recurso >",0,null,null,null,null,"< Selecione a Fonte de Recurso >",0]
[0,{"$f":"VLOOKUP(D209,Listas!$R$2:$S$12,2,FALSE)","v":"Componente0"},null,"< Selecione o Componente >","< Selecione o Produto ou Serviço >",null,null,"< Selecione a Fonte de Recurso >",0,null,null,null,null,"< Selecione a Fonte de Recurso >",0]
[{"$f":"IF(OR(E210=\"< selecione o Produto ou Serviço >\",E210=\"\"),0,1)","v":0},{"$f":"VLOOKUP(D210,Listas!$R$2:$S$12,2,FALSE)","v":"Componente0"},null,"< Selecione o Componente >","< Selecione o Produto ou Serviço >",null,null,"< Selecione a Fonte de Recurso >",0,null,null,null,null,"< Selecione a Fonte de Recurso >",0]
[0,{"$f":"VLOOKUP(D211,Listas!$R$2:$S$12,2,FALSE)","v":"Componente0"},null,"< Selecione o Componente >","< Selecione o Produto ou Serviço >",null,null,"< Selecione a Fonte de Recurso >",0,null,null,null,null,"< Selecione a Fonte de Recurso >",0]
[0,{"$f":"VLOOKUP(D212,Listas!$R$2:$S$12,2,FALSE)","v":"Componente0"},null,"< Selecione o Componente >","< Selecione o Produto ou Serviço >",null,null,"< Selecione a Fonte de Recurso >",0,null,null,null,null,"< Selecione a Fonte de Recurso >",0]
[0,{"$f":"VLOOKUP(D213,Listas!$R$2:$S$12,2,FALSE)","v":"Componente0"},null,"< Selecione o Componente >","< Selecione o Produto ou Serviço >",null,null,"< Selecione a Fonte de Recurso >",0,null,null,null,null,"< Selecione a Fonte de Recurso >",0]
[0,{"$f":"VLOOKUP(D214,Listas!$R$2:$S$12,2,FALSE)","v":"Componente0"},null,"< Selecione o Componente >","< Selecione o Produto ou Serviço >",null,null,"< Selecione a Fonte de Recurso >",0,null,null,null,null,"< Selecione a Fonte de Recurso >",0]
[0,{"$f":"VLOOKUP(D215,Listas!$R$2:$S$12,2,FALSE)","v":"Componente0"},null,"< Selecione o Componente >","< Selecione o Produto ou Serviço >",null,null,"< Selecione a Fonte de Recurso >",0,null,null,null,null,"< Selecione a Fonte de Recurso >",0]
[0,{"$f":"VLOOKUP(D216,Listas!$R$2:$S$12,2,FALSE)","v":"Componente0"},null,"< Selecione o Componente >","< Selecione o Produto ou Serviço >",null,null,"< Selecione a Fonte de Recurso >",0,null,null,null,null,"< Selecione a Fonte de Recurso >",0]
[0,{"$f":"VLOOKUP(D217,Listas!$R$2:$S$12,2,FALSE)","v":"Componente0"},null,"< Selecione o Componente >","< Selecione o Produto ou Serviço >",null,null,"< Selecione a Fonte de Recurso >",0,null,null,null,null,"< Selecione a Fonte de Recurso >",0]
[0,{"$f":"VLOOKUP(D218,Listas!$R$2:$S$12,2,FALSE)","v":"Componente0"},null,"< Selecione o Componente >","< Selecione o Produto ou Serviço >",null,null,"< Selecione a Fonte de Recurso >",0,null,null,null,null,"< Selecione a Fonte de Recurso >",0]
[0,{"$f":"VLOOKUP(D219,Listas!$R$2:$S$12,2,FALSE)","v":"Componente0"},null,"< Selecione o Componente >","< Selecione o Produto ou Serviço >",null,null,"< Selecione a Fonte de Recurso >",0,null,null,null,null,"< Selecione a Fonte de Recurso >",0]
[0,{"$f":"VLOOKUP(D220,Listas!$R$2:$S$12,2,FALSE)","v":"Componente0"},null,"< Selecione o Componente >","< Selecione o Produto ou Serviço >",null,null,"< Selecione a Fonte de Recurso >",0,null,null,null,null,"< Selecione a Fonte de Recurso >",0]
[0,{"$f":"VLOOKUP(D221,Listas!$R$2:$S$12,2,FALSE)","v":"Componente0"},null,"< Selecione o Componente >","< Selecione o Produto ou Serviço >",null,null,"< Selecione a Fonte de Recurso >",0,null,null,null,null,"< Selecione a Fonte de Recurso >",0]
[0,{"$f":"VLOOKUP(D222,Listas!$R$2:$S$12,2,FALSE)","v":"Componente0"},null,"< Selecione o Componente >","< Selecione o Produto ou Serviço >",null,null,"< Selecione a Fonte de Recurso >",0,null,null,null,null,"< Selecione a Fonte de Recurso >",0]
[0,{"$f":"VLOOKUP(D223,Listas!$R$2:$S$12,2,FALSE)","v":"Componente0"},null,"< Selecione o Componente >","< Selecione o Produto ou Serviço >",null,null,"< Selecione a Fonte de Recurso >",0,null,null,null,null,"< Selecione a Fonte de Recurso >",0]
[0,{"$f":"VLOOKUP(D224,Listas!$R$2:$S$12,2,FALSE)","v":"Componente0"},null,"< Selecione o Componente >","< Selecione o Produto ou Serviço >",null,null,"< Selecione a Fonte de Recurso >",0,null,null,null,null,"< Selecione a Fonte de Recurso >",0]
[0,{"$f":"VLOOKUP(D225,Listas!$R$2:$S$12,2,FALSE)","v":"Componente0"},null,"< Selecione o Componente >","< Selecione o Produto ou Serviço >",null,null,"< Selecione a Fonte de Recurso >",0,null,null,null,null,"< Selecione a Fonte de Recurso >",0]
[0,{"$f":"VLOOKUP(D226,Listas!$R$2:$S$12,2,FALSE)","v":"Componente0"},null,"< Selecione o Componente >","< Selecione o Produto ou Serviço >",null,null,"< Selecione a Fonte de Recurso >",0,null,null,null,null,"< Selecione a Fonte de Recurso >",0]
[0,{"$f":"VLOOKUP(D227,Listas!$R$2:$S$12,2,FALSE)","v":"Componente0"},null,"< Selecione o Componente >","< Selecione o Produto ou Serviço >",null,null,"< Selecione a Fonte de Recurso >",0,null,null,null,null,"< Selecione a Fonte de Recurso >",0]
[0,{"$f":"VLOOKUP(D228,Listas!$R$2:$S$12,2,FALSE)","v":"Componente0"},null,"< Selecione o Componente >","< Selecione o Produto ou Serviço >",null,null,"< Selecione a Fonte de Recurso >",0,null,null,null,null,"< Selecione a Fonte de Recurso >",0]
[0,{"$f":"VLOOKUP(D229,Listas!$R$2:$S$12,2,FALSE)","v":"Componente0"},null,"< Selecione o Componente >","< Selecione o Produto ou Serviço >",null,null,"< Selecione a Fonte de Recurso >",0,null,null,null,null,"< Selecione a Fonte de Recurso >",0]
[0,{"$f":"VLOOKUP(D230,Listas!$R$2:$S$12,2,FALSE)","v":"Componente0"},null,"< Selecione o Componente >","< Selecione o Produto ou Serviço >",null,null,"< Selecione a Fonte de Recurso >",0,null,null,null,null,"< Selecione a Fonte de Recurso >",0]
[0,{"$f":"VLOOKUP(D231,Listas!$R$2:$S$12,2,FALSE)","v":"Componente0"},null,"< Selecione o Componente >","< Selecione o Produto ou Serviço >",null,null,"< Selecione a Fonte de Recurso >",0,null,null,null,null,"< Selecione a Fonte de Recurso >",0]
[0,{"$f":"VLOOKUP(D232,Listas!$R$2:$S$12,2,FALSE)","v":"Componente0"},null,"< Selecione o Componente >","< Selecione o Produto ou Serviço >",null,null,"< Selecione a Fonte de Recurso >",0,null,null,null,null,"< Selecione a Fonte de Recurso >",0]
[0,{"$f":"VLOOKUP(D233,Listas!$R$2:$S$12,2,FALSE)","v":"Componente0"},null,"< Selecione o Componente >","< Selecione o Produto ou Serviço >",null,null,"< Selecione a Fonte de Recurso >",0,null,null,null,null,"< Selecione a Fonte de Recurso >",0]
[0,{"$f":"VLOOKUP(D234,Listas!$R$2:$S$12,2,FALSE)","v":"Componente0"},null,"< Selecione o Componente >","< Selecione o Produto ou Serviço >",null,null,"< Selecione a Fonte de Recurso >",0,null,null,null,null,"< Selecione a Fonte de Recurso >",0]
[0,{"$f":"VLOOKUP(D235,Listas!$R$2:$S$12,2,FALSE)","v":"Componente0"},null,"< Selecione o Componente >","< Selecione o Produto ou Serviço >",null,null,"< Selecione a Fonte de Recurso >",0,null,null,null,null,"< Selecione a Fonte de Recurso >",0]
[0,{"$f":"VLOOKUP(D236,Listas!$R$2:$S$12,2,FALSE)","v":"Componente0"},null,"< Selecione o Componente >","< Selecione o Produto ou Serviço >",null,null,"< Selecione a Fonte de Recurso >",0,null,null,null,null,"< Selecione a Fonte de Recurso >",0]
[0,{"$f":"VLOOKUP(D237,Listas!$R$2:$S$12,2,FALSE)","v":"Componente0"},null,"< Selecione o Componente >","< Selecione o Produto ou Serviço >",null,null,"< Selecione a Fonte de Recurso >",0,null,null,null,null,"< Selecione a Fonte de Recurso >",0]
[0,{"$f":"VLOOKUP(D238,Listas!$R$2:$S$12,2,FALSE)","v":"Componente0"},null,"< Selecione o Componente >","< Selecione o Produto ou Serviço >",null,null,"< Selecione a Fonte de Recurso >",0,null,null,null,null,"< Selecione a Fonte de Recurso >",0]
[0,{"$f":"VLOOKUP(D239,Listas!$R$2:$S$12,2,FALSE)","v":"Componente0"},null,"< Selecione o Componente >","< Selecione o Produto ou Serviço >",null,null,"< Selecione a Fonte de Recurso >",0,null,null,null,null,"< Selecione a Fonte de Recurso >",0]
[0,{"$f":"VLOOKUP(D240,Listas!$R$2:$S$12,2,FALSE)","v":"Componente0"},null,"< Selecione o Componente >","< Selecione o Produto ou Serviço >",null,null,"< Selecione a Fonte de Recurso >",0,null,null,null,null,"< Selecione a Fonte de Recurso >",0]
[0,{"$f":"VLOOKUP(D241,Listas!$R$2:$S$12,2,FALSE)","v":"Componente0"},null,"< Selecione o Componente >","< Selecione o Produto ou Serviço >",null,null,"< Selecione a Fonte de Recurso >",0,null,null,null,null,"< Selecione a Fonte de Recurso >",0]
[0,{"$f":"VLOOKUP(D242,Listas!$R$2:$S$12,2,FALSE)","v":"Componente0"},null,"< Selecione o Componente >","< Selecione o Produto ou Serviço >",null,null,"< Selecione a Fonte de Recurso >",0,null,null,null,null,"< Selecione a Fonte de Recurso >",0]
[0,{"$f":"VLOOKUP(D243,Listas!$R$2:$S$12,2,FALSE)","v":"Componente0"},null,"< Selecione o Componente >","< Selecione o Produto ou Serviço >",null,null,"< Selecione a Fonte de Recurso >",0,null,null,null,null,"< Selecione a Fonte de Recurso >",0]
[0,{"$f":"VLOOKUP(D244,Listas!$R$2:$S$12,2,FALSE)","v":"Componente0"},null,"< Selecione o Componente >","< Selecione o Produto ou Serviço >",null,null,"< Selecione a Fonte de Recurso >",0,null,null,null,null,"< Selecione a Fonte de Recurso >",0]
[0,{"$f":"VLOOKUP(D245,Listas!$R$2:$S$12,2,FALSE)","v":"Componente0"},null,"< Selecione o Componente >","< Selecione o Produto ou Serviço >",null,null,"< Selecione a Fonte de Recurso >",0,null,null,null,null,"< Selecione a Fonte de Recurso >",0]
[0,{"$f":"VLOOKUP(D246,Listas!$R$2:$S$12,2,FALSE)","v":"Componente0"},null,"< Selecione o Componente >","< Selecione o Produto ou Serviço >",null,null,"< Selecione a Fonte de Recurso >",0,null,null,null,null,"< Selecione a Fonte de Recurso >",0]
[0,{"$f":"VLOOKUP(D247,Listas!$R$2:$S$12,2,FALSE)","v":"Componente0"},null,"< Selecione o Componente >","< Selecione o Produto ou Serviço >",null,null,"< Selecione a Fonte de Recurso >",0,null,null,null,null,"< Selecione a Fonte de Recurso >",0]
[0,{"$f":"VLOOKUP(D248,Listas!$R$2:$S$12,2,FALSE)","v":"Componente0"},null,"< Selecione o Componente >","< Selecione o Produto ou Serviço >",null,null,"< Selecione a Fonte de Recurso >",0,null,null,null,null,"< Selecione a Fonte de Recurso >",0]
[0,{"$f":"VLOOKUP(D249,Listas!$R$2:$S$12,2,FALSE)","v":"Componente0"},null,"< Selecione o Componente >","< Selecione o Produto ou Serviço >",null,null,"< Selecione a Fonte de Recurso >",0,null,null,null,null,"< Selecione a Fonte de Recurso >",0]
[0,{"$f":"VLOOKUP(D250,Listas!$R$2:$S$12,2,FALSE)","v":"Componente0"},null,"< Selecione o Componente >","< Selecione o Produto ou Serviço >",null,null,"< Selecione a Fonte de Recurso >",0,null,null,null,null,"< Selecione a Fonte de Recurso >",0]
[0,{"$f":"VLOOKUP(D251,Listas!$R$2:$S$12,2,FALSE)","v":"Componente0"},null,"< Selecione o Componente >","< Selecione o Produto ou Serviço >",null,null,"< Selecione a Fonte de Recurso >",0,null,null,null,null,"< Selecione a Fonte de Recurso >",0]
[0,{"$f":"VLOOKUP(D252,Listas!$R$2:$S$12,2,FALSE)","v":"Componente0"},null,"< Selecione o Componente >","< Selecione o Produto ou Serviço >",null,null,"< Selecione a Fonte de Recurso >",0,null,null,null,null,"< Selecione a Fonte de Recurso >",0]
[0,{"$f":"VLOOKUP(D253,Listas!$R$2:$S$12,2,FALSE)","v":"Componente0"},null,"< Selecione o Componente >","< Selecione o Produto ou Serviço >",null,null,"< Selecione a Fonte de Recurso >",0,null,null,null,null,"< Selecione a Fonte de Recurso >",0]
[0,{"$f":"VLOOKUP(D254,Listas!$R$2:$S$12,2,FALSE)","v":"Componente0"},null,"< Selecione o Componente >","< Selecione o Produto ou Serviço >",null,null,"< Selecione a Fonte de Recurso >",0,null,null,null,null,"< Selecione a Fonte de Recurso >",0]
[0,{"$f":"VLOOKUP(D255,Listas!$R$2:$S$12,2,FALSE)","v":"Componente0"},null,"< Selecione o Componente >","< Selecione o Produto ou Serviço >",null,null,"< Selecione a Fonte de Recurso >",0,null,null,null,null,"< Selecione a Fonte de Recurso >",0]
[0,{"$f":"VLOOKUP(D256,Listas!$R$2:$S$12,2,FALSE)","v":"Componente0"},null,"< Selecione o Componente >","< Selecione o Produto ou Serviço >",null,null,"< Selecione a Fonte de Recurso >",0,null,null,null,null,"< Selecione a Fonte de Recurso >",0]
[0,{"$f":"VLOOKUP(D257,Listas!$R$2:$S$12,2,FALSE)","v":"Componente0"},null,"< Selecione o Componente >","< Selecione o Produto ou Serviço >",null,null,"< Selecione a Fonte de Recurso >",0,null,null,null,null,"< Selecione a Fonte de Recurso >",0]
[0,{"$f":"VLOOKUP(D258,Listas!$R$2:$S$12,2,FALSE)","v":"Componente0"},null,"< Selecione o Componente >","< Selecione o Produto ou Serviço >",null,null,"< Selecione a Fonte de Recurso >",0,null,null,null,null,"< Selecione a Fonte de Recurso >",0]
[0,{"$f":"VLOOKUP(D259,Listas!$R$2:$S$12,2,FALSE)","v":"Componente0"},null,"< Selecione o Componente >","< Selecione o Produto ou Serviço >",null,null,"< Selecione a Fonte de Recurso >",0,null,null,null,null,"< Selecione a Fonte de Recurso >",0]
[0,{"$f":"VLOOKUP(D260,Listas!$R$2:$S$12,2,FALSE)","v":"Componente0"},null,"< Selecione o Componente >","< Selecione o Produto ou Serviço >",null,null,"< Selecione a Fonte de Recurso >",0,null,null,null,null,"< Selecione a Fonte de Recurso >",0]
[0,{"$f":"VLOOKUP(D261,Listas!$R$2:$S$12,2,FALSE)","v":"Componente0"},null,"< Selecione o Componente >","< Selecione o Produto ou Serviço >",null,null,"< Selecione a Fonte de Recurso >",0,null,null,null,null,"< Selecione a Fonte de Recurso >",0]
[0,{"$f":"VLOOKUP(D262,Listas!$R$2:$S$12,2,FALSE)","v":"Componente0"},null,"< Selecione o Componente >","< Selecione o Produto ou Serviço >",null,null,"< Selecione a Fonte de Recurso >",0,null,null,null,null,"< Selecione a Fonte de Recurso >",0]
[0,{"$f":"VLOOKUP(D263,Listas!$R$2:$S$12,2,FALSE)","v":"Componente0"},null,"< Selecione o Componente >","< Selecione o Produto ou Serviço >",null,null,"< Selecione a Fonte de Recurso >",0,null,null,null,null,"< Selecione a Fonte de Recurso >",0]
[0,{"$f":"VLOOKUP(D264,Listas!$R$2:$S$12,2,FALSE)","v":"Componente0"},null,"< Selecione o Componente >","< Selecione o Produto ou Serviço >",null,null,"< Selecione a Fonte de Recurso >",0,null,null,null,null,"< Selecione a Fonte de Recurso >",0]
[0,{"$f":"VLOOKUP(D265,Listas!$R$2:$S$12,2,FALSE)","v":"Componente0"},null,"< Selecione o Componente >","< Selecione o Produto ou Serviço >",null,null,"< Selecione a Fonte de Recurso >",0,null,null,null,null,"< Selecione a Fonte de Recurso >",0]
[0,{"$f":"VLOOKUP(D266,Listas!$R$2:$S$12,2,FALSE)","v":"Componente0"},null,"< Selecione o Componente >","< Selecione o Produto ou Serviço >",null,null,{"$f":"N266","v":"< Selecione a Fonte de Recurso >"},{"$f":"O266","v":0},null,null,null,null,"< Selecione a Fonte de Recurso >",{"$f":"K266*M266","v":0}]
[0,{"$f":"VLOOKUP(D267,Listas!$R$2:$S$12,2,FALSE)","v":"Componente0"},null,"< Selecione o Componente >","< Selecione o Produto ou Serviço >",null,null,"< Selecione a Fonte de Recurso >",0,null,null,null,null,"< Selecione a Fonte de Recurso >",0]
[0,{"$f":"VLOOKUP(D268,Listas!$R$2:$S$12,2,FALSE)","v":"Componente0"},null,"< Selecione o Componente >","< Selecione o Produto ou Serviço >",null,null,"< Selecione a Fonte de Recurso >",0,null,null,null,null,"< Selecione a Fonte de Recurso >",0]
[0,{"$f":"VLOOKUP(D269,Listas!$R$2:$S$12,2,FALSE)","v":"Componente0"},null,"< Selecione o Componente >","< Selecione o Produto ou Serviço >",null,null,"< Selecione a Fonte de Recurso >",0,null,null,null,null,"< Selecione a Fonte de Recurso >",0]
[0,{"$f":"VLOOKUP(D270,Listas!$R$2:$S$12,2,FALSE)","v":"Componente0"},null,"< Selecione o Componente >","< Selecione o Produto ou Serviço >",null,null,"< Selecione a Fonte de Recurso >",0,null,null,null,null,"< Selecione a Fonte de Recurso >",0]
[0,{"$f":"VLOOKUP(D271,Listas!$R$2:$S$12,2,FALSE)","v":"Componente0"},null,"< Selecione o Componente >","< Selecione o Produto ou Serviço >",null,null,"< Selecione a Fonte de Recurso >",0,null,null,null,null,"< Selecione a Fonte de Recurso >",0]
[0,{"$f":"VLOOKUP(D272,Listas!$R$2:$S$12,2,FALSE)","v":"Componente0"},null,"< Selecione o Componente >","< Selecione o Produto ou Serviço >",null,null,"< Selecione a Fonte de Recurso >",0,null,null,null,null,"< Selecione a Fonte de Recurso >",0]
[0,{"$f":"VLOOKUP(D273,Listas!$R$2:$S$12,2,FALSE)","v":"Componente0"},null,"< Selecione o Componente >","< Selecione o Produto ou Serviço >",null,null,"< Selecione a Fonte de Recurso >",0,null,null,null,null,"< Selecione a Fonte de Recurso >",0]
[{"$f":"IF(OR(E274=\"< selecione o Produto ou Serviço >\",E274=\"\"),0,1)","v":0},{"$f":"VLOOKUP(D274,Listas!$R$2:$S$12,2,FALSE)","v":"Componente0"},null,"< Selecione o Componente >","< Selecione o Produto ou Serviço >",null,null,"< Selecione a Fonte de Recurso >",0,null,null,null,null,"< Selecione a Fonte de Recurso >",0]
[0,{"$f":"VLOOKUP(D275,Listas!$R$2:$S$12,2,FALSE)","v":"Componente0"},null,"< Selecione o Componente >","< Selecione o Produto ou Serviço >",null,null,"< Selecione a Fonte de Recurso >",0,null,null,null,null,"< Selecione a Fonte de Recurso >",0]
[0,{"$f":"VLOOKUP(D276,Listas!$R$2:$S$12,2,FALSE)","v":"Componente0"},null,"< Selecione o Componente >","< Selecione o Produto ou Serviço >",null,null,"< Selecione a Fonte de Recurso >",0,null,null,null,null,"< Selecione a Fonte de Recurso >",0]
[0,{"$f":"VLOOKUP(D277,Listas!$R$2:$S$12,2,FALSE)","v":"Componente0"},null,"< Selecione o Componente >","< Selecione o Produto ou Serviço >",null,null,"< Selecione a Fonte de Recurso >",0,null,null,null,null,"< Selecione a Fonte de Recurso >",0]
[0,{"$f":"VLOOKUP(D278,Listas!$R$2:$S$12,2,FALSE)","v":"Componente0"},null,"< Selecione o Componente >","< Selecione o Produto ou Serviço >",null,null,"< Selecione a Fonte de Recurso >",0,null,null,null,null,"< Selecione a Fonte de Recurso >",0]
[0,{"$f":"VLOOKUP(D279,Listas!$R$2:$S$12,2,FALSE)","v":"Componente0"},null,"< Selecione o Componente >","< Selecione o Produto ou Serviço >",null,null,"< Selecione a Fonte de Recurso >",0,null,null,null,null,"< Selecione a Fonte de Recurso >",0]
[0,{"$f":"VLOOKUP(D280,Listas!$R$2:$S$12,2,FALSE)","v":"Componente0"},null,"< Selecione o Componente >","< Selecione o Produto ou Serviço >",null,null,"< Selecione a Fonte de Recurso >",0,null,null,null,null,"< Selecione a Fonte de Recurso >",0]
[0,{"$f":"VLOOKUP(D281,Listas!$R$2:$S$12,2,FALSE)","v":"Componente0"},null,"< Selecione o Componente >","< Selecione o Produto ou Serviço >",null,null,"< Selecione a Fonte de Recurso >",0,null,null,null,null,"< Selecione a Fonte de Recurso >",0]
[0,{"$f":"VLOOKUP(D282,Listas!$R$2:$S$12,2,FALSE)","v":"Componente0"},null,"< Selecione o Componente >","< Selecione o Produto ou Serviço >",null,null,"< Selecione a Fonte de Recurso >",0,null,null,null,null,"< Selecione a Fonte de Recurso >",0]
[0,{"$f":"VLOOKUP(D283,Listas!$R$2:$S$12,2,FALSE)","v":"Componente0"},null,"< Selecione o Componente >","< Selecione o Produto ou Serviço >",null,null,"< Selecione a Fonte de Recurso >",0,null,null,null,null,"< Selecione a Fonte de Recurso >",0]
[0,{"$f":"VLOOKUP(D284,Listas!$R$2:$S$12,2,FALSE)","v":"Componente0"},null,"< Selecione o Componente >","< Selecione o Produto ou Serviço >",null,null,"< Selecione a Fonte de Recurso >",0,null,null,null,null,"< Selecione a Fonte de Recurso >",0]
[0,{"$f":"VLOOKUP(D285,Listas!$R$2:$S$12,2,FALSE)","v":"Componente0"},null,"< Selecione o Componente >","< Selecione o Produto ou Serviço >",null,null,"< Selecione a Fonte de Recurso >",0,null,null,null,null,"< Selecione a Fonte de Recurso >",0]
[0,{"$f":"VLOOKUP(D286,Listas!$R$2:$S$12,2,FALSE)","v":"Componente0"},null,"< Selecione o Componente >","< Selecione o Produto ou Serviço >",null,null,"< Selecione a Fonte de Recurso >",0,null,null,null,null,"< Selecione a Fonte de Recurso >",0]
[0,{"$f":"VLOOKUP(D287,Listas!$R$2:$S$12,2,FALSE)","v":"Componente0"},null,"< Selecione o Componente >","< Selecione o Produto ou Serviço >",null,null,"< Selecione a Fonte de Recurso >",0,null,null,null,null,"< Selecione a Fonte de Recurso >",0]
[0,{"$f":"VLOOKUP(D288,Listas!$R$2:$S$12,2,FALSE)","v":"Componente0"},null,"< Selecione o Componente >","< Selecione o Produto ou Serviço >",null,null,"< Selecione a Fonte de Recurso >",0,null,null,null,null,"< Selecione a Fonte de Recurso >",0]
[0,{"$f":"VLOOKUP(D289,Listas!$R$2:$S$12,2,FALSE)","v":"Componente0"},null,"< Selecione o Componente >","< Selecione o Produto ou Serviço >",null,null,"< Selecione a Fonte de Recurso >",0,null,null,null,null,"< Selecione a Fonte de Recurso >",0]
[0,{"$f":"VLOOKUP(D290,Listas!$R$2:$S$12,2,FALSE)","v":"Componente0"},null,"< Selecione o Componente >","< Selecione o Produto ou Serviço >",null,null,"< Selecione a Fonte de Recurso >",0,null,null,null,null,"< Selecione a Fonte de Recurso >",0]
[0,{"$f":"VLOOKUP(D291,Listas!$R$2:$S$12,2,FALSE)","v":"Componente0"},null,"< Selecione o Componente >","< Selecione o Produto ou Serviço >",null,null,"< Selecione a Fonte de Recurso >",0,null,null,null,null,"< Selecione a Fonte de Recurso >",0]
[0,{"$f":"VLOOKUP(D292,Listas!$R$2:$S$12,2,FALSE)","v":"Componente0"},null,"< Selecione o Componente >","< Selecione o Produto ou Serviço >",null,null,"< Selecione a Fonte de Recurso >",0,null,null,null,null,"< Selecione a Fonte de Recurso >",0]
[0,{"$f":"VLOOKUP(D293,Listas!$R$2:$S$12,2,FALSE)","v":"Componente0"},null,"< Selecione o Componente >","< Selecione o Produto ou Serviço >",null,null,"< Selecione a Fonte de Recurso >",0,null,null,null,null,"< Selecione a Fonte de Recurso >",0]
[0,{"$f":"VLOOKUP(D294,Listas!$R$2:$S$12,2,FALSE)","v":"Componente0"},null,"< Selecione o Componente >","< Selecione o Produto ou Serviço >",null,null,"< Selecione a Fonte de Recurso >",0,null,null,null,null,"< Selecione a Fonte de Recurso >",0]
[0,{"$f":"VLOOKUP(D295,Listas!$R$2:$S$12,2,FALSE)","v":"Componente0"},null,"< Selecione o Componente >","< Selecione o Produto ou Serviço >",null,null,"< Selecione a Fonte de Recurso >",0,null,null,null,null,"< Selecione a Fonte de Recurso >",0]
[0,{"$f":"VLOOKUP(D296,Listas!$R$2:$S$12,2,FALSE)","v":"Componente0"},null,"< Selecione o Componente >","< Selecione o Produto ou Serviço >",null,null,"< Selecione a Fonte de Recurso >",0,null,null,null,null,"< Selecione a Fonte de Recurso >",0]
[0,{"$f":"VLOOKUP(D297,Listas!$R$2:$S$12,2,FALSE)","v":"Componente0"},null,"< Selecione o Componente >","< Selecione o Produto ou Serviço >",null,null,"< Selecione a Fonte de Recurso >",0,null,null,null,null,"< Selecione a Fonte de Recurso >",0]
[0,{"$f":"VLOOKUP(D298,Listas!$R$2:$S$12,2,FALSE)","v":"Componente0"},null,"< Selecione o Componente >","< Selecione o Produto ou Serviço >",null,null,"< Selecione a Fonte de Recurso >",0,null,null,null,null,"< Selecione a Fonte de Recurso >",0]
[0,{"$f":"VLOOKUP(D299,Listas!$R$2:$S$12,2,FALSE)","v":"Componente0"},null,"< Selecione o Componente >","< Selecione o Produto ou Serviço >",null,null,"< Selecione a Fonte de Recurso >",0,null,null,null,null,"< Selecione a Fonte de Recurso >",0]
[0,{"$f":"VLOOKUP(D300,Listas!$R$2:$S$12,2,FALSE)","v":"Componente0"},null,"< Selecione o Componente >","< Selecione o Produto ou Serviço >",null,null,"< Selecione a Fonte de Recurso >",0,null,null,null,null,"< Selecione a Fonte de Recurso >",0]
[0,{"$f":"VLOOKUP(D301,Listas!$R$2:$S$12,2,FALSE)","v":"Componente0"},null,"< Selecione o Componente >","< Selecione o Produto ou Serviço >",null,null,"< Selecione a Fonte de Recurso >",0,null,null,null,null,"< Selecione a Fonte de Recurso >",0]
[0,{"$f":"VLOOKUP(D302,Listas!$R$2:$S$12,2,FALSE)","v":"Componente0"},null,"< Selecione o Componente >","< Selecione o Produto ou Serviço >",null,null,"< Selecione a Fonte de Recurso >",0,null,null,null,null,"< Selecione a Fonte de Recurso >",0]
[0,{"$f":"VLOOKUP(D303,Listas!$R$2:$S$12,2,FALSE)","v":"Componente0"},null,"< Selecione o Componente >","< Selecione o Produto ou Serviço >",null,null,"< Selecione a Fonte de Recurso >",0,null,null,null,null,"< Selecione a Fonte de Recurso >",0]
[0,{"$f":"VLOOKUP(D304,Listas!$R$2:$S$12,2,FALSE)","v":"Componente0"},null,"< Selecione o Componente >","< Selecione o Produto ou Serviço >",null,null,"< Selecione a Fonte de Recurso >",0,null,null,null,null,"< Selecione a Fonte de Recurso >",0]
[0,{"$f":"VLOOKUP(D305,Listas!$R$2:$S$12,2,FALSE)","v":"Componente0"},null,"< Selecione o Componente >","< Selecione o Produto ou Serviço >",null,null,"< Selecione a Fonte de Recurso >",0,null,null,null,null,"< Selecione a Fonte de Recurso >",0]
[0,{"$f":"VLOOKUP(D306,Listas!$R$2:$S$12,2,FALSE)","v":"Componente0"},null,"< Selecione o Componente >","< Selecione o Produto ou Serviço >",null,null,"< Selecione a Fonte de Recurso >",0,null,null,null,null,"< Selecione a Fonte de Recurso >",0]
[0,{"$f":"VLOOKUP(D307,Listas!$R$2:$S$12,2,FALSE)","v":"Componente0"},null,"< Selecione o Componente >","< Selecione o Produto ou Serviço >",null,null,"< Selecione a Fonte de Recurso >",0,null,null,null,null,"< Selecione a Fonte de Recurso >",0]
[0,{"$f":"VLOOKUP(D308,Listas!$R$2:$S$12,2,FALSE)","v":"Componente0"},null,"< Selecione o Componente >","< Selecione o Produto ou Serviço >",null,null,"< Selecione a Fonte de Recurso >",0,null,null,null,null,"< Selecione a Fonte de Recurso >",0]
[0,{"$f":"VLOOKUP(D309,Listas!$R$2:$S$12,2,FALSE)","v":"Componente0"},null,"< Selecione o Componente >","< Selecione o Produto ou Serviço >",null,null,"< Selecione a Fonte de Recurso >",0,null,null,null,null,"< Selecione a Fonte de Recurso >",0]
[0,{"$f":"VLOOKUP(D310,Listas!$R$2:$S$12,2,FALSE)","v":"Componente0"},null,"< Selecione o Componente >","< Selecione o Produto ou Serviço >",null,null,"< Selecione a Fonte de Recurso >",0,null,null,null,null,"< Selecione a Fonte de Recurso >",0]
[0,{"$f":"VLOOKUP(D311,Listas!$R$2:$S$12,2,FALSE)","v":"Componente0"},null,"< Selecione o Componente >","< Selecione o Produto ou Serviço >",null,null,"< Selecione a Fonte de Recurso >",0,null,null,null,null,"< Selecione a Fonte de Recurso >",0]
[0,{"$f":"VLOOKUP(D312,Listas!$R$2:$S$12,2,FALSE)","v":"Componente0"},null,"< Selecione o Componente >","< Selecione o Produto ou Serviço >",null,null,"< Selecione a Fonte de Recurso >",0,null,null,null,null,"< Selecione a Fonte de Recurso >",0]
[0,{"$f":"VLOOKUP(D313,Listas!$R$2:$S$12,2,FALSE)","v":"Componente0"},null,"< Selecione o Componente >","< Selecione o Produto ou Serviço >",null,null,"< Selecione a Fonte de Recurso >",0,null,null,null,null,"< Selecione a Fonte de Recurso >",0]
[0,{"$f":"VLOOKUP(D314,Listas!$R$2:$S$12,2,FALSE)","v":"Componente0"},null,"< Selecione o Componente >","< Selecione o Produto ou Serviço >",null,null,"< Selecione a Fonte de Recurso >",0,null,null,null,null,"< Selecione a Fonte de Recurso >",0]
[0,{"$f":"VLOOKUP(D315,Listas!$R$2:$S$12,2,FALSE)","v":"Componente0"},null,"< Selecione o Componente >","< Selecione o Produto ou Serviço >",null,null,"< Selecione a Fonte de Recurso >",0,null,null,null,null,"< Selecione a Fonte de Recurso >",0]
[0,{"$f":"VLOOKUP(D316,Listas!$R$2:$S$12,2,FALSE)","v":"Componente0"},null,"< Selecione o Componente >","< Selecione o Produto ou Serviço >",null,null,"< Selecione a Fonte de Recurso >",0,null,null,null,null,"< Selecione a Fonte de Recurso >",0]
[0,{"$f":"VLOOKUP(D317,Listas!$R$2:$S$12,2,FALSE)","v":"Componente0"},null,"< Selecione o Componente >","< Selecione o Produto ou Serviço >",null,null,"< Selecione a Fonte de Recurso >",0,null,null,null,null,"< Selecione a Fonte de Recurso >",0]
[0,{"$f":"VLOOKUP(D318,Listas!$R$2:$S$12,2,FALSE)","v":"Componente0"},null,"< Selecione o Componente >","< Selecione o Produto ou Serviço >",null,null,"< Selecione a Fonte de Recurso >",0,null,null,null,null,"< Selecione a Fonte de Recurso >",0]
[0,{"$f":"VLOOKUP(D319,Listas!$R$2:$S$12,2,FALSE)","v":"Componente0"},null,"< Selecione o Componente >","< Selecione o Produto ou Serviço >",null,null,"< Selecione a Fonte de Recurso >",0,null,null,null,null,"< Selecione a Fonte de Recurso >",0]
[0,{"$f":"VLOOKUP(D320,Listas!$R$2:$S$12,2,FALSE)","v":"Componente0"},null,"< Selecione o Componente >","< Selecione o Produto ou Serviço >",null,null,"< Selecione a Fonte de Recurso >",0,null,null,null,null,"< Selecione a Fonte de Recurso >",0]
[0,{"$f":"VLOOKUP(D321,Listas!$R$2:$S$12,2,FALSE)","v":"Componente0"},null,"< Selecione o Componente >","< Selecione o Produto ou Serviço >",null,null,"< Selecione a Fonte de Recurso >",0,null,null,null,null,"< Selecione a Fonte de Recurso >",0]
[0,{"$f":"VLOOKUP(D322,Listas!$R$2:$S$12,2,FALSE)","v":"Componente0"},null,"< Selecione o Componente >","< Selecione o Produto ou Serviço >",null,null,"< Selecione a Fonte de Recurso >",0,null,null,null,null,"< Selecione a Fonte de Recurso >",0]
[0,{"$f":"VLOOKUP(D323,Listas!$R$2:$S$12,2,FALSE)","v":"Componente0"},null,"< Selecione o Componente >","< Selecione o Produto ou Serviço >",null,null,"< Selecione a Fonte de Recurso >",0,null,null,null,null,"< Selecione a Fonte de Recurso >",0]
[0,{"$f":"VLOOKUP(D324,Listas!$R$2:$S$12,2,FALSE)","v":"Componente0"},null,"< Selecione o Componente >","< Selecione o Produto ou Serviço >",null,null,"< Selecione a Fonte de Recurso >",0,null,null,null,null,"< Selecione a Fonte de Recurso >",0]
[0,{"$f":"VLOOKUP(D325,Listas!$R$2:$S$12,2,FALSE)","v":"Componente0"},null,"< Selecione o Componente >","< Selecione o Produto ou Serviço >",null,null,"< Selecione a Fonte de Recurso >",0,null,null,null,null,"< Selecione a Fonte de Recurso >",0]
[0,{"$f":"VLOOKUP(D326,Listas!$R$2:$S$12,2,FALSE)","v":"Componente0"},null,"< Selecione o Componente >","< Selecione o Produto ou Serviço >",null,null,"< Selecione a Fonte de Recurso >",0,null,null,null,null,"< Selecione a Fonte de Recurso >",0]
[0,{"$f":"VLOOKUP(D327,Listas!$R$2:$S$12,2,FALSE)","v":"Componente0"},null,"< Selecione o Componente >","< Selecione o Produto ou Serviço >",null,null,"< Selecione a Fonte de Recurso >",0,null,null,null,null,"< Selecione a Fonte de Recurso >",0]
[0,{"$f":"VLOOKUP(D328,Listas!$R$2:$S$12,2,FALSE)","v":"Componente0"},null,"< Selecione o Componente >","< Selecione o Produto ou Serviço >",null,null,"< Selecione a Fonte de Recurso >",0,null,null,null,null,"< Selecione a Fonte de Recurso >",0]
[0,{"$f":"VLOOKUP(D329,Listas!$R$2:$S$12,2,FALSE)","v":"Componente0"},null,"< Selecione o Componente >","< Selecione o Produto ou Serviço >",null,null,"< Selecione a Fonte de Recurso >",0,null,null,null,null,"< Selecione a Fonte de Recurso >",0]
[0,{"$f":"VLOOKUP(D330,Listas!$R$2:$S$12,2,FALSE)","v":"Componente0"},null,"< Selecione o Componente >","< Selecione o Produto ou Serviço >",null,null,{"$f":"N330","v":"< Selecione a Fonte de Recurso >"},{"$f":"O330","v":0},null,null,null,null,"< Selecione a Fonte de Recurso >",{"$f":"K330*M330","v":0}]
[0,{"$f":"VLOOKUP(D331,Listas!$R$2:$S$12,2,FALSE)","v":"Componente0"},null,"< Selecione o Componente >","< Selecione o Produto ou Serviço >",null,null,"< Selecione a Fonte de Recurso >",0,null,null,null,null,"< Selecione a Fonte de Recurso >",0]
[0,{"$f":"VLOOKUP(D332,Listas!$R$2:$S$12,2,FALSE)","v":"Componente0"},null,"< Selecione o Componente >","< Selecione o Produto ou Serviço >",null,null,"< Selecione a Fonte de Recurso >",0,null,null,null,null,"< Selecione a Fonte de Recurso >",0]
[0,{"$f":"VLOOKUP(D333,Listas!$R$2:$S$12,2,FALSE)","v":"Componente0"},null,"< Selecione o Componente >","< Selecione o Produto ou Serviço >",null,null,"< Selecione a Fonte de Recurso >",0,null,null,null,null,"< Selecione a Fonte de Recurso >",0]
[0,{"$f":"VLOOKUP(D334,Listas!$R$2:$S$12,2,FALSE)","v":"Componente0"},null,"< Selecione o Componente >","< Selecione o Produto ou Serviço >",null,null,"< Selecione a Fonte de Recurso >",0,null,null,null,null,"< Selecione a Fonte de Recurso >",0]
[0,{"$f":"VLOOKUP(D335,Listas!$R$2:$S$12,2,FALSE)","v":"Componente0"},null,"< Selecione o Componente >","< Selecione o Produto ou Serviço >",null,null,"< Selecione a Fonte de Recurso >",0,null,null,null,null,"< Selecione a Fonte de Recurso >",0]
[0,{"$f":"VLOOKUP(D336,Listas!$R$2:$S$12,2,FALSE)","v":"Componente0"},null,"< Selecione o Componente >","< Selecione o Produto ou Serviço >",null,null,"< Selecione a Fonte de Recurso >",0,null,null,null,null,"< Selecione a Fonte de Recurso >",0]
[0,{"$f":"VLOOKUP(D337,Listas!$R$2:$S$12,2,FALSE)","v":"Componente0"},null,"< Selecione o Componente >","< Selecione o Produto ou Serviço >",null,null,"< Selecione a Fonte de Recurso >",0,null,null,null,null,"< Selecione a Fonte de Recurso >",0]
[{"$f":"IF(OR(E338=\"< selecione o Produto ou Serviço >\",E338=\"\"),0,1)","v":0},{"$f":"VLOOKUP(D338,Listas!$R$2:$S$12,2,FALSE)","v":"Componente0"},null,"< Selecione o Componente >","< Selecione o Produto ou Serviço >",null,null,"< Selecione a Fonte de Recurso >",0,null,null,null,null,"< Selecione a Fonte de Recurso >",0]
[0,{"$f":"VLOOKUP(D339,Listas!$R$2:$S$12,2,FALSE)","v":"Componente0"},null,"< Selecione o Componente >","< Selecione o Produto ou Serviço >",null,null,"< Selecione a Fonte de Recurso >",0,null,null,null,null,"< Selecione a Fonte de Recurso >",0]
[0,{"$f":"VLOOKUP(D340,Listas!$R$2:$S$12,2,FALSE)","v":"Componente0"},null,"< Selecione o Componente >","< Selecione o Produto ou Serviço >",null,null,"< Selecione a Fonte de Recurso >",0,null,null,null,null,"< Selecione a Fonte de Recurso >",0]
[0,{"$f":"VLOOKUP(D341,Listas!$R$2:$S$12,2,FALSE)","v":"Componente0"},null,"< Selecione o Componente >","< Selecione o Produto ou Serviço >",null,null,"< Selecione a Fonte de Recurso >",0,null,null,null,null,"< Selecione a Fonte de Recurso >",0]
[0,{"$f":"VLOOKUP(D342,Listas!$R$2:$S$12,2,FALSE)","v":"Componente0"},null,"< Selecione o Componente >","< Selecione o Produto ou Serviço >",null,null,"< Selecione a Fonte de Recurso >",0,null,null,null,null,"< Selecione a Fonte de Recurso >",0]
[0,{"$f":"VLOOKUP(D343,Listas!$R$2:$S$12,2,FALSE)","v":"Componente0"},null,"< Selecione o Componente >","< Selecione o Produto ou Serviço >",null,null,"< Selecione a Fonte de Recurso >",0,null,null,null,null,"< Selecione a Fonte de Recurso >",0]
[0,{"$f":"VLOOKUP(D344,Listas!$R$2:$S$12,2,FALSE)","v":"Componente0"},null,"< Selecione o Componente >","< Selecione o Produto ou Serviço >",null,null,"< Selecione a Fonte de Recurso >",0,null,null,null,null,"< Selecione a Fonte de Recurso >",0]
[0,{"$f":"VLOOKUP(D345,Listas!$R$2:$S$12,2,FALSE)","v":"Componente0"},null,"< Selecione o Componente >","< Selecione o Produto ou Serviço >",null,null,"< Selecione a Fonte de Recurso >",0,null,null,null,null,"< Selecione a Fonte de Recurso >",0]
[0,{"$f":"VLOOKUP(D346,Listas!$R$2:$S$12,2,FALSE)","v":"Componente0"},null,"< Selecione o Componente >","< Selecione o Produto ou Serviço >",null,null,"< Selecione a Fonte de Recurso >",0,null,null,null,null,"< Selecione a Fonte de Recurso >",0]
[0,{"$f":"VLOOKUP(D347,Listas!$R$2:$S$12,2,FALSE)","v":"Componente0"},null,"< Selecione o Componente >","< Selecione o Produto ou Serviço >",null,null,"< Selecione a Fonte de Recurso >",0,null,null,null,null,"< Selecione a Fonte de Recurso >",0]
[0,{"$f":"VLOOKUP(D348,Listas!$R$2:$S$12,2,FALSE)","v":"Componente0"},null,"< Selecione o Componente >","< Selecione o Produto ou Serviço >",null,null,"< Selecione a Fonte de Recurso >",0,null,null,null,null,"< Selecione a Fonte de Recurso >",0]
[0,{"$f":"VLOOKUP(D349,Listas!$R$2:$S$12,2,FALSE)","v":"Componente0"},null,"< Selecione o Componente >","< Selecione o Produto ou Serviço >",null,null,"< Selecione a Fonte de Recurso >",0,null,null,null,null,"< Selecione a Fonte de Recurso >",0]
[0,{"$f":"VLOOKUP(D350,Listas!$R$2:$S$12,2,FALSE)","v":"Componente0"},null,"< Selecione o Componente >","< Selecione o Produto ou Serviço >",null,null,"< Selecione a Fonte de Recurso >",0,null,null,null,null,"< Selecione a Fonte de Recurso >",0]
[0,{"$f":"VLOOKUP(D351,Listas!$R$2:$S$12,2,FALSE)","v":"Componente0"},null,"< Selecione o Componente >","< Selecione o Produto ou Serviço >",null,null,"< Selecione a Fonte de Recurso >",0,null,null,null,null,"< Selecione a Fonte de Recurso >",0]
[0,{"$f":"VLOOKUP(D352,Listas!$R$2:$S$12,2,FALSE)","v":"Componente0"},null,"< Selecione o Componente >","< Selecione o Produto ou Serviço >",null,null,"< Selecione a Fonte de Recurso >",0,null,null,null,null,"< Selecione a Fonte de Recurso >",0]
[0,{"$f":"VLOOKUP(D353,Listas!$R$2:$S$12,2,FALSE)","v":"Componente0"},null,"< Selecione o Componente >","< Selecione o Produto ou Serviço >",null,null,"< Selecione a Fonte de Recurso >",0,null,null,null,null,"< Selecione a Fonte de Recurso >",0]
[0,{"$f":"VLOOKUP(D354,Listas!$R$2:$S$12,2,FALSE)","v":"Componente0"},null,"< Selecione o Componente >","< Selecione o Produto ou Serviço >",null,null,"< Selecione a Fonte de Recurso >",0,null,null,null,null,"< Selecione a Fonte de Recurso >",0]
[0,{"$f":"VLOOKUP(D355,Listas!$R$2:$S$12,2,FALSE)","v":"Componente0"},null,"< Selecione o Componente >","< Selecione o Produto ou Serviço >",null,null,"< Selecione a Fonte de Recurso >",0,null,null,null,null,"< Selecione a Fonte de Recurso >",0]
[0,{"$f":"VLOOKUP(D356,Listas!$R$2:$S$12,2,FALSE)","v":"Componente0"},null,"< Selecione o Componente >","< Selecione o Produto ou Serviço >",null,null,"< Selecione a Fonte de Recurso >",0,null,null,null,null,"< Selecione a Fonte de Recurso >",0]
[0,{"$f":"VLOOKUP(D357,Listas!$R$2:$S$12,2,FALSE)","v":"Componente0"},null,"< Selecione o Componente >","< Selecione o Produto ou Serviço >",null,null,"< Selecione a Fonte de Recurso >",0,null,null,null,null,"< Selecione a Fonte de Recurso >",0]
[0,{"$f":"VLOOKUP(D358,Listas!$R$2:$S$12,2,FALSE)","v":"Componente0"},null,"< Selecione o Componente >","< Selecione o Produto ou Serviço >",null,null,"< Selecione a Fonte de Recurso >",0,null,null,null,null,"< Selecione a Fonte de Recurso >",0]
[0,{"$f":"VLOOKUP(D359,Listas!$R$2:$S$12,2,FALSE)","v":"Componente0"},null,"< Selecione o Componente >","< Selecione o Produto ou Serviço >",null,null,"< Selecione a Fonte de Recurso >",0,null,null,null,null,"< Selecione a Fonte de Recurso >",0]
[0,{"$f":"VLOOKUP(D360,Listas!$R$2:$S$12,2,FALSE)","v":"Componente0"},null,"< Selecione o Componente >","< Selecione o Produto ou Serviço >",null,null,"< Selecione a Fonte de Recurso >",0,null,null,null,null,"< Selecione a Fonte de Recurso >",0]
[0,{"$f":"VLOOKUP(D361,Listas!$R$2:$S$12,2,FALSE)","v":"Componente0"},null,"< Selecione o Componente >","< Selecione o Produto ou Serviço >",null,null,"< Selecione a Fonte de Recurso >",0,null,null,null,null,"< Selecione a Fonte de Recurso >",0]
[0,{"$f":"VLOOKUP(D362,Listas!$R$2:$S$12,2,FALSE)","v":"Componente0"},null,"< Selecione o Componente >","< Selecione o Produto ou Serviço >",null,null,"< Selecione a Fonte de Recurso >",0,null,null,null,null,"< Selecione a Fonte de Recurso >",0]
[0,{"$f":"VLOOKUP(D363,Listas!$R$2:$S$12,2,FALSE)","v":"Componente0"},null,"< Selecione o Componente >","< Selecione o Produto ou Serviço >",null,null,"< Selecione a Fonte de Recurso >",0,null,null,null,null,"< Selecione a Fonte de Recurso >",0]
[0,{"$f":"VLOOKUP(D364,Listas!$R$2:$S$12,2,FALSE)","v":"Componente0"},null,"< Selecione o Componente >","< Selecione o Produto ou Serviço >",null,null,"< Selecione a Fonte de Recurso >",0,null,null,null,null,"< Selecione a Fonte de Recurso >",0]
[0,{"$f":"VLOOKUP(D365,Listas!$R$2:$S$12,2,FALSE)","v":"Componente0"},null,"< Selecione o Componente >","< Selecione o Produto ou Serviço >",null,null,"< Selecione a Fonte de Recurso >",0,null,null,null,null,"< Selecione a Fonte de Recurso >",0]
[0,{"$f":"VLOOKUP(D366,Listas!$R$2:$S$12,2,FALSE)","v":"Componente0"},null,"< Selecione o Componente >","< Selecione o Produto ou Serviço >",null,null,"< Selecione a Fonte de Recurso >",0,null,null,null,null,"< Selecione a Fonte de Recurso >",0]
[0,{"$f":"VLOOKUP(D367,Listas!$R$2:$S$12,2,FALSE)","v":"Componente0"},null,"< Selecione o Componente >","< Selecione o Produto ou Serviço >",null,null,"< Selecione a Fonte de Recurso >",0,null,null,null,null,"< Selecione a Fonte de Recurso >",0]
[0,{"$f":"VLOOKUP(D368,Listas!$R$2:$S$12,2,FALSE)","v":"Componente0"},null,"< Selecione o Componente >","< Selecione o Produto ou Serviço >",null,null,"< Selecione a Fonte de Recurso >",0,null,null,null,null,"< Selecione a Fonte de Recurso >",0]
[0,{"$f":"VLOOKUP(D369,Listas!$R$2:$S$12,2,FALSE)","v":"Componente0"},null,"< Selecione o Componente >","< Selecione o Produto ou Serviço >",null,null,"< Selecione a Fonte de Recurso >",0,null,null,null,null,"< Selecione a Fonte de Recurso >",0]
[0,{"$f":"VLOOKUP(D370,Listas!$R$2:$S$12,2,FALSE)","v":"Componente0"},null,"< Selecione o Componente >","< Selecione o Produto ou Serviço >",null,null,"< Selecione a Fonte de Recurso >",0,null,null,null,null,"< Selecione a Fonte de Recurso >",0]
[0,{"$f":"VLOOKUP(D371,Listas!$R$2:$S$12,2,FALSE)","v":"Componente0"},null,"< Selecione o Componente >","< Selecione o Produto ou Serviço >",null,null,"< Selecione a Fonte de Recurso >",0,null,null,null,null,"< Selecione a Fonte de Recurso >",0]
[0,{"$f":"VLOOKUP(D372,Listas!$R$2:$S$12,2,FALSE)","v":"Componente0"},null,"< Selecione o Componente >","< Selecione o Produto ou Serviço >",null,null,"< Selecione a Fonte de Recurso >",0,null,null,null,null,"< Selecione a Fonte de Recurso >",0]
[0,{"$f":"VLOOKUP(D373,Listas!$R$2:$S$12,2,FALSE)","v":"Componente0"},null,"< Selecione o Componente >","< Selecione o Produto ou Serviço >",null,null,"< Selecione a Fonte de Recurso >",0,null,null,null,null,"< Selecione a Fonte de Recurso >",0]
[0,{"$f":"VLOOKUP(D374,Listas!$R$2:$S$12,2,FALSE)","v":"Componente0"},null,"< Selecione o Componente >","< Selecione o Produto ou Serviço >",null,null,"< Selecione a Fonte de Recurso >",0,null,null,null,null,"< Selecione a Fonte de Recurso >",0]
[0,{"$f":"VLOOKUP(D375,Listas!$R$2:$S$12,2,FALSE)","v":"Componente0"},null,"< Selecione o Componente >","< Selecione o Produto ou Serviço >",null,null,"< Selecione a Fonte de Recurso >",0,null,null,null,null,"< Selecione a Fonte de Recurso >",0]
[0,{"$f":"VLOOKUP(D376,Listas!$R$2:$S$12,2,FALSE)","v":"Componente0"},null,"< Selecione o Componente >","< Selecione o Produto ou Serviço >",null,null,"< Selecione a Fonte de Recurso >",0,null,null,null,null,"< Selecione a Fonte de Recurso >",0]
[0,{"$f":"VLOOKUP(D377,Listas!$R$2:$S$12,2,FALSE)","v":"Componente0"},null,"< Selecione o Componente >","< Selecione o Produto ou Serviço >",null,null,"< Selecione a Fonte de Recurso >",0,null,null,null,null,"< Selecione a Fonte de Recurso >",0]
[0,{"$f":"VLOOKUP(D378,Listas!$R$2:$S$12,2,FALSE)","v":"Componente0"},null,"< Selecione o Componente >","< Selecione o Produto ou Serviço >",null,null,"< Selecione a Fonte de Recurso >",0,null,null,null,null,"< Selecione a Fonte de Recurso >",0]
[0,{"$f":"VLOOKUP(D379,Listas!$R$2:$S$12,2,FALSE)","v":"Componente0"},null,"< Selecione o Componente >","< Selecione o Produto ou Serviço >",null,null,"< Selecione a Fonte de Recurso >",0,null,null,null,null,"< Selecione a Fonte de Recurso >",0]
[0,{"$f":"VLOOKUP(D380,Listas!$R$2:$S$12,2,FALSE)","v":"Componente0"},null,"< Selecione o Componente >","< Selecione o Produto ou Serviço >",null,null,"< Selecione a Fonte de Recurso >",0,null,null,null,null,"< Selecione a Fonte de Recurso >",0]
[0,{"$f":"VLOOKUP(D381,Listas!$R$2:$S$12,2,FALSE)","v":"Componente0"},null,"< Selecione o Componente >","< Selecione o Produto ou Serviço >",null,null,"< Selecione a Fonte de Recurso >",0,null,null,null,null,"< Selecione a Fonte de Recurso >",0]
[0,{"$f":"VLOOKUP(D382,Listas!$R$2:$S$12,2,FALSE)","v":"Componente0"},null,"< Selecione o Componente >","< Selecione o Produto ou Serviço >",null,null,"< Selecione a Fonte de Recurso >",0,null,null,null,null,"< Selecione a Fonte de Recurso >",0]
[0,{"$f":"VLOOKUP(D383,Listas!$R$2:$S$12,2,FALSE)","v":"Componente0"},null,"< Selecione o Componente >","< Selecione o Produto ou Serviço >",null,null,"< Selecione a Fonte de Recurso >",0,null,null,null,null,"< Selecione a Fonte de Recurso >",0]
[0,{"$f":"VLOOKUP(D384,Listas!$R$2:$S$12,2,FALSE)","v":"Componente0"},null,"< Selecione o Componente >","< Selecione o Produto ou Serviço >",null,null,"< Selecione a Fonte de Recurso >",0,null,null,null,null,"< Selecione a Fonte de Recurso >",0]
[0,{"$f":"VLOOKUP(D385,Listas!$R$2:$S$12,2,FALSE)","v":"Componente0"},null,"< Selecione o Componente >","< Selecione o Produto ou Serviço >",null,null,"< Selecione a Fonte de Recurso >",0,null,null,null,null,"< Selecione a Fonte de Recurso >",0]
[0,{"$f":"VLOOKUP(D386,Listas!$R$2:$S$12,2,FALSE)","v":"Componente0"},null,"< Selecione o Componente >","< Selecione o Produto ou Serviço >",null,null,"< Selecione a Fonte de Recurso >",0,null,null,null,null,"< Selecione a Fonte de Recurso >",0]
[0,{"$f":"VLOOKUP(D387,Listas!$R$2:$S$12,2,FALSE)","v":"Componente0"},null,"< Selecione o Componente >","< Selecione o Produto ou Serviço >",null,null,"< Selecione a Fonte de Recurso >",0,null,null,null,null,"< Selecione a Fonte de Recurso >",0]
[0,{"$f":"VLOOKUP(D388,Listas!$R$2:$S$12,2,FALSE)","v":"Componente0"},null,"< Selecione o Componente >","< Selecione o Produto ou Serviço >",null,null,"< Selecione a Fonte de Recurso >",0,null,null,null,null,"< Selecione a Fonte de Recurso >",0]
[0,{"$f":"VLOOKUP(D389,Listas!$R$2:$S$12,2,FALSE)","v":"Componente0"},null,"< Selecione o Componente >","< Selecione o Produto ou Serviço >",null,null,"< Selecione a Fonte de Recurso >",0,null,null,null,null,"< Selecione a Fonte de Recurso >",0]
[0,{"$f":"VLOOKUP(D390,Listas!$R$2:$S$12,2,FALSE)","v":"Componente0"},null,"< Selecione o Componente >","< Selecione o Produto ou Serviço >",null,null,"< Selecione a Fonte de Recurso >",0,null,null,null,null,"< Selecione a Fonte de Recurso >",0]
[0,{"$f":"VLOOKUP(D391,Listas!$R$2:$S$12,2,FALSE)","v":"Componente0"},null,"< Selecione o Componente >","< Selecione o Produto ou Serviço >",null,null,"< Selecione a Fonte de Recurso >",0,null,null,null,null,"< Selecione a Fonte de Recurso >",0]
[0,{"$f":"VLOOKUP(D392,Listas!$R$2:$S$12,2,FALSE)","v":"Componente0"},null,"< Selecione o Componente >","< Selecione o Produto ou Serviço >",null,null,"< Selecione a Fonte de Recurso >",0,null,null,null,null,"< Selecione a Fonte de Recurso >",0]
[0,{"$f":"VLOOKUP(D393,Listas!$R$2:$S$12,2,FALSE)","v":"Componente0"},null,"< Selecione o Componente >","< Selecione o Produto ou Serviço >",null,null,"< Selecione a Fonte de Recurso >",0,null,null,null,null,"< Selecione a Fonte de Recurso >",0]
[0,{"$f":"VLOOKUP(D394,Listas!$R$2:$S$12,2,FALSE)","v":"Componente0"},null,"< Selecione o Componente >","< Selecione o Produto ou Serviço >",null,null,{"$f":"N394","v":"< Selecione a Fonte de Recurso >"},{"$f":"O394","v":0},null,null,null,null,"< Selecione a Fonte de Recurso >",{"$f":"K394*M394","v":0}]
[0,{"$f":"VLOOKUP(D395,Listas!$R$2:$S$12,2,FALSE)","v":"Componente0"},null,"< Selecione o Componente >","< Selecione o Produto ou Serviço >",null,null,"< Selecione a Fonte de Recurso >",0,null,null,null,null,"< Selecione a Fonte de Recurso >",0]
[0,{"$f":"VLOOKUP(D396,Listas!$R$2:$S$12,2,FALSE)","v":"Componente0"},null,"< Selecione o Componente >","< Selecione o Produto ou Serviço >",null,null,"< Selecione a Fonte de Recurso >",0,null,null,null,null,"< Selecione a Fonte de Recurso >",0]
[0,{"$f":"VLOOKUP(D397,Listas!$R$2:$S$12,2,FALSE)","v":"Componente0"},null,"< Selecione o Componente >","< Selecione o Produto ou Serviço >",null,null,"< Selecione a Fonte de Recurso >",0,null,null,null,null,"< Selecione a Fonte de Recurso >",0]
[0,{"$f":"VLOOKUP(D398,Listas!$R$2:$S$12,2,FALSE)","v":"Componente0"},null,"< Selecione o Componente >","< Selecione o Produto ou Serviço >",null,null,"< Selecione a Fonte de Recurso >",0,null,null,null,null,"< Selecione a Fonte de Recurso >",0]
[0,{"$f":"VLOOKUP(D399,Listas!$R$2:$S$12,2,FALSE)","v":"Componente0"},null,"< Selecione o Componente >","< Selecione o Produto ou Serviço >",null,null,"< Selecione a Fonte de Recurso >",0,null,null,null,null,"< Selecione a Fonte de Recurso >",0]
[0,{"$f":"VLOOKUP(D400,Listas!$R$2:$S$12,2,FALSE)","v":"Componente0"},null,"< Selecione o Componente >","< Selecione o Produto ou Serviço >",null,null,"< Selecione a Fonte de Recurso >",0,null,null,null,null,"< Selecione a Fonte de Recurso >",0]
[0,{"$f":"VLOOKUP(D401,Listas!$R$2:$S$12,2,FALSE)","v":"Componente0"},null,"< Selecione o Componente >","< Selecione o Produto ou Serviço >",null,null,"< Selecione a Fonte de Recurso >",0,null,null,null,null,"< Selecione a Fonte de Recurso >",0]
[{"$f":"IF(OR(E402=\"< selecione o Produto ou Serviço >\",E402=\"\"),0,1)","v":0},{"$f":"VLOOKUP(D402,Listas!$R$2:$S$12,2,FALSE)","v":"Componente0"},null,"< Selecione o Componente >","< Selecione o Produto ou Serviço >",null,null,"< Selecione a Fonte de Recurso >",0,null,null,null,null,"< Selecione a Fonte de Recurso >",0]
[0,{"$f":"VLOOKUP(D403,Listas!$R$2:$S$12,2,FALSE)","v":"Componente0"},null,"< Selecione o Componente >","< Selecione o Produto ou Serviço >",null,null,"< Selecione a Fonte de Recurso >",0,null,null,null,null,"< Selecione a Fonte de Recurso >",0]
[0,{"$f":"VLOOKUP(D404,Listas!$R$2:$S$12,2,FALSE)","v":"Componente0"},null,"< Selecione o Componente >","< Selecione o Produto ou Serviço >",null,null,"< Selecione a Fonte de Recurso >",0,null,null,null,null,"< Selecione a Fonte de Recurso >",0]
[0,{"$f":"VLOOKUP(D405,Listas!$R$2:$S$12,2,FALSE)","v":"Componente0"},null,"< Selecione o Componente >","< Selecione o Produto ou Serviço >",null,null,"< Selecione a Fonte de Recurso >",0,null,null,null,null,"< Selecione a Fonte de Recurso >",0]
[0,{"$f":"VLOOKUP(D406,Listas!$R$2:$S$12,2,FALSE)","v":"Componente0"},null,"< Selecione o Componente >","< Selecione o Produto ou Serviço >",null,null,"< Selecione a Fonte de Recurso >",0,null,null,null,null,"< Selecione a Fonte de Recurso >",0]
[0,{"$f":"VLOOKUP(D407,Listas!$R$2:$S$12,2,FALSE)","v":"Componente0"},null,"< Selecione o Componente >","< Selecione o Produto ou Serviço >",null,null,"< Selecione a Fonte de Recurso >",0,null,null,null,null,"< Selecione a Fonte de Recurso >",0]
[0,{"$f":"VLOOKUP(D408,Listas!$R$2:$S$12,2,FALSE)","v":"Componente0"},null,"< Selecione o Componente >","< Selecione o Produto ou Serviço >",null,null,"< Selecione a Fonte de Recurso >",0,null,null,null,null,"< Selecione a Fonte de Recurso >",0]
[0,{"$f":"VLOOKUP(D409,Listas!$R$2:$S$12,2,FALSE)","v":"Componente0"},null,"< Selecione o Componente >","< Selecione o Produto ou Serviço >",null,null,"< Selecione a Fonte de Recurso >",0,null,null,null,null,"< Selecione a Fonte de Recurso >",0]
[0,{"$f":"VLOOKUP(D410,Listas!$R$2:$S$12,2,FALSE)","v":"Componente0"},null,"< Selecione o Componente >","< Selecione o Produto ou Serviço >",null,null,"< Selecione a Fonte de Recurso >",0,null,null,null,null,"< Selecione a Fonte de Recurso >",0]
[0,{"$f":"VLOOKUP(D411,Listas!$R$2:$S$12,2,FALSE)","v":"Componente0"},null,"< Selecione o Componente >","< Selecione o Produto ou Serviço >",null,null,"< Selecione a Fonte de Recurso >",0,null,null,null,null,"< Selecione a Fonte de Recurso >",0]
[0,{"$f":"VLOOKUP(D412,Listas!$R$2:$S$12,2,FALSE)","v":"Componente0"},null,"< Selecione o Componente >","< Selecione o Produto ou Serviço >",null,null,"< Selecione a Fonte de Recurso >",0,null,null,null,null,"< Selecione a Fonte de Recurso >",0]
[0,{"$f":"VLOOKUP(D413,Listas!$R$2:$S$12,2,FALSE)","v":"Componente0"},null,"< Selecione o Componente >","< Selecione o Produto ou Serviço >",null,null,"< Selecione a Fonte de Recurso >",0,null,null,null,null,"< Selecione a Fonte de Recurso >",0]
[0,{"$f":"VLOOKUP(D414,Listas!$R$2:$S$12,2,FALSE)","v":"Componente0"},null,"< Selecione o Componente >","< Selecione o Produto ou Serviço >",null,null,"< Selecione a Fonte de Recurso >",0,null,null,null,null,"< Selecione a Fonte de Recurso >",0]
[0,{"$f":"VLOOKUP(D415,Listas!$R$2:$S$12,2,FALSE)","v":"Componente0"},null,"< Selecione o Componente >","< Selecione o Produto ou Serviço >",null,null,"< Selecione a Fonte de Recurso >",0,null,null,null,null,"< Selecione a Fonte de Recurso >",0]
[0,{"$f":"VLOOKUP(D416,Listas!$R$2:$S$12,2,FALSE)","v":"Componente0"},null,"< Selecione o Componente >","< Selecione o Produto ou Serviço >",null,null,"< Selecione a Fonte de Recurso >",0,null,null,null,null,"< Selecione a Fonte de Recurso >",0]
[0,{"$f":"VLOOKUP(D417,Listas!$R$2:$S$12,2,FALSE)","v":"Componente0"},null,"< Selecione o Componente >","< Selecione o Produto ou Serviço >",null,null,"< Selecione a Fonte de Recurso >",0,null,null,null,null,"< Selecione a Fonte de Recurso >",0]
[0,{"$f":"VLOOKUP(D418,Listas!$R$2:$S$12,2,FALSE)","v":"Componente0"},null,"< Selecione o Componente >","< Selecione o Produto ou Serviço >",null,null,"< Selecione a Fonte de Recurso >",0,null,null,null,null,"< Selecione a Fonte de Recurso >",0]
[0,{"$f":"VLOOKUP(D419,Listas!$R$2:$S$12,2,FALSE)","v":"Componente0"},null,"< Selecione o Componente >","< Selecione o Produto ou Serviço >",null,null,"< Selecione a Fonte de Recurso >",0,null,null,null,null,"< Selecione a Fonte de Recurso >",0]
[0,{"$f":"VLOOKUP(D420,Listas!$R$2:$S$12,2,FALSE)","v":"Componente0"},null,"< Selecione o Componente >","< Selecione o Produto ou Serviço >",null,null,"< Selecione a Fonte de Recurso >",0,null,null,null,null,"< Selecione a Fonte de Recurso >",0]
[0,{"$f":"VLOOKUP(D421,Listas!$R$2:$S$12,2,FALSE)","v":"Componente0"},null,"< Selecione o Componente >","< Selecione o Produto ou Serviço >",null,null,"< Selecione a Fonte de Recurso >",0,null,null,null,null,"< Selecione a Fonte de Recurso >",0]
[0,{"$f":"VLOOKUP(D422,Listas!$R$2:$S$12,2,FALSE)","v":"Componente0"},null,"< Selecione o Componente >","< Selecione o Produto ou Serviço >",null,null,"< Selecione a Fonte de Recurso >",0,null,null,null,null,"< Selecione a Fonte de Recurso >",0]
[0,{"$f":"VLOOKUP(D423,Listas!$R$2:$S$12,2,FALSE)","v":"Componente0"},null,"< Selecione o Componente >","< Selecione o Produto ou Serviço >",null,null,"< Selecione a Fonte de Recurso >",0,null,null,null,null,"< Selecione a Fonte de Recurso >",0]
[0,{"$f":"VLOOKUP(D424,Listas!$R$2:$S$12,2,FALSE)","v":"Componente0"},null,"< Selecione o Componente >","< Selecione o Produto ou Serviço >",null,null,"< Selecione a Fonte de Recurso >",0,null,null,null,null,"< Selecione a Fonte de Recurso >",0]
[0,{"$f":"VLOOKUP(D425,Listas!$R$2:$S$12,2,FALSE)","v":"Componente0"},null,"< Selecione o Componente >","< Selecione o Produto ou Serviço >",null,null,"< Selecione a Fonte de Recurso >",0,null,null,null,null,"< Selecione a Fonte de Recurso >",0]
[0,{"$f":"VLOOKUP(D426,Listas!$R$2:$S$12,2,FALSE)","v":"Componente0"},null,"< Selecione o Componente >","< Selecione o Produto ou Serviço >",null,null,"< Selecione a Fonte de Recurso >",0,null,null,null,null,"< Selecione a Fonte de Recurso >",0]
[0,{"$f":"VLOOKUP(D427,Listas!$R$2:$S$12,2,FALSE)","v":"Componente0"},null,"< Selecione o Componente >","< Selecione o Produto ou Serviço >",null,null,"< Selecione a Fonte de Recurso >",0,null,null,null,null,"< Selecione a Fonte de Recurso >",0]
[0,{"$f":"VLOOKUP(D428,Listas!$R$2:$S$12,2,FALSE)","v":"Componente0"},null,"< Selecione o Componente >","< Selecione o Produto ou Serviço >",null,null,"< Selecione a Fonte de Recurso >",0,null,null,null,null,"< Selecione a Fonte de Recurso >",0]
[0,{"$f":"VLOOKUP(D429,Listas!$R$2:$S$12,2,FALSE)","v":"Componente0"},null,"< Selecione o Componente >","< Selecione o Produto ou Serviço >",null,null,"< Selecione a Fonte de Recurso >",0,null,null,null,null,"< Selecione a Fonte de Recurso >",0]
[0,{"$f":"VLOOKUP(D430,Listas!$R$2:$S$12,2,FALSE)","v":"Componente0"},null,"< Selecione o Componente >","< Selecione o Produto ou Serviço >",null,null,"< Selecione a Fonte de Recurso >",0,null,null,null,null,"< Selecione a Fonte de Recurso >",0]
[0,{"$f":"VLOOKUP(D431,Listas!$R$2:$S$12,2,FALSE)","v":"Componente0"},null,"< Selecione o Componente >","< Selecione o Produto ou Serviço >",null,null,"< Selecione a Fonte de Recurso >",0,null,null,null,null,"< Selecione a Fonte de Recurso >",0]
[0,{"$f":"VLOOKUP(D432,Listas!$R$2:$S$12,2,FALSE)","v":"Componente0"},null,"< Selecione o Componente >","< Selecione o Produto ou Serviço >",null,null,"< Selecione a Fonte de Recurso >",0,null,null,null,null,"< Selecione a Fonte de Recurso >",0]
[0,{"$f":"VLOOKUP(D433,Listas!$R$2:$S$12,2,FALSE)","v":"Componente0"},null,"< Selecione o Componente >","< Selecione o Produto ou Serviço >",null,null,"< Selecione a Fonte de Recurso >",0,null,null,null,null,"< Selecione a Fonte de Recurso >",0]
[0,{"$f":"VLOOKUP(D434,Listas!$R$2:$S$12,2,FALSE)","v":"Componente0"},null,"< Selecione o Componente >","< Selecione o Produto ou Serviço >",null,null,"< Selecione a Fonte de Recurso >",0,null,null,null,null,"< Selecione a Fonte de Recurso >",0]
[0,{"$f":"VLOOKUP(D435,Listas!$R$2:$S$12,2,FALSE)","v":"Componente0"},null,"< Selecione o Componente >","< Selecione o Produto ou Serviço >",null,null,"< Selecione a Fonte de Recurso >",0,null,null,null,null,"< Selecione a Fonte de Recurso >",0]
[0,{"$f":"VLOOKUP(D436,Listas!$R$2:$S$12,2,FALSE)","v":"Componente0"},null,"< Selecione o Componente >","< Selecione o Produto ou Serviço >",null,null,"< Selecione a Fonte de Recurso >",0,null,null,null,null,"< Selecione a Fonte de Recurso >",0]
[0,{"$f":"VLOOKUP(D437,Listas!$R$2:$S$12,2,FALSE)","v":"Componente0"},null,"< Selecione o Componente >","< Selecione o Produto ou Serviço >",null,null,"< Selecione a Fonte de Recurso >",0,null,null,null,null,"< Selecione a Fonte de Recurso >",0]
[0,{"$f":"VLOOKUP(D438,Listas!$R$2:$S$12,2,FALSE)","v":"Componente0"},null,"< Selecione o Componente >","< Selecione o Produto ou Serviço >",null,null,"< Selecione a Fonte de Recurso >",0,null,null,null,null,"< Selecione a Fonte de Recurso >",0]
[0,{"$f":"VLOOKUP(D439,Listas!$R$2:$S$12,2,FALSE)","v":"Componente0"},null,"< Selecione o Componente >","< Selecione o Produto ou Serviço >",null,null,"< Selecione a Fonte de Recurso >",0,null,null,null,null,"< Selecione a Fonte de Recurso >",0]
[0,{"$f":"VLOOKUP(D440,Listas!$R$2:$S$12,2,FALSE)","v":"Componente0"},null,"< Selecione o Componente >","< Selecione o Produto ou Serviço >",null,null,"< Selecione a Fonte de Recurso >",0,null,null,null,null,"< Selecione a Fonte de Recurso >",0]
[0,{"$f":"VLOOKUP(D441,Listas!$R$2:$S$12,2,FALSE)","v":"Componente0"},null,"< Selecione o Componente >","< Selecione o Produto ou Serviço >",null,null,"< Selecione a Fonte de Recurso >",0,null,null,null,null,"< Selecione a Fonte de Recurso >",0]
[0,{"$f":"VLOOKUP(D442,Listas!$R$2:$S$12,2,FALSE)","v":"Componente0"},null,"< Selecione o Componente >","< Selecione o Produto ou Serviço >",null,null,"< Selecione a Fonte de Recurso >",0,null,null,null,null,"< Selecione a Fonte de Recurso >",0]
[0,{"$f":"VLOOKUP(D443,Listas!$R$2:$S$12,2,FALSE)","v":"Componente0"},null,"< Selecione o Componente >","< Selecione o Produto ou Serviço >",null,null,"< Selecione a Fonte de Recurso >",0,null,null,null,null,"< Selecione a Fonte de Recurso >",0]
[0,{"$f":"VLOOKUP(D444,Listas!$R$2:$S$12,2,FALSE)","v":"Componente0"},null,"< Selecione o Componente >","< Selecione o Produto ou Serviço >",null,null,"< Selecione a Fonte de Recurso >",0,null,null,null,null,"< Selecione a Fonte de Recurso >",0]
[0,{"$f":"VLOOKUP(D445,Listas!$R$2:$S$12,2,FALSE)","v":"Componente0"},null,"< Selecione o Componente >","< Selecione o Produto ou Serviço >",null,null,"< Selecione a Fonte de Recurso >",0,null,null,null,null,"< Selecione a Fonte de Recurso >",0]
[0,{"$f":"VLOOKUP(D446,Listas!$R$2:$S$12,2,FALSE)","v":"Componente0"},null,"< Selecione o Componente >","< Selecione o Produto ou Serviço >",null,null,"< Selecione a Fonte de Recurso >",0,null,null,null,null,"< Selecione a Fonte de Recurso >",0]
[0,{"$f":"VLOOKUP(D447,Listas!$R$2:$S$12,2,FALSE)","v":"Componente0"},null,"< Selecione o Componente >","< Selecione o Produto ou Serviço >",null,null,"< Selecione a Fonte de Recurso >",0,null,null,null,null,"< Selecione a Fonte de Recurso >",0]
[0,{"$f":"VLOOKUP(D448,Listas!$R$2:$S$12,2,FALSE)","v":"Componente0"},null,"< Selecione o Componente >","< Selecione o Produto ou Serviço >",null,null,"< Selecione a Fonte de Recurso >",0,null,null,null,null,"< Selecione a Fonte de Recurso >",0]
[0,{"$f":"VLOOKUP(D449,Listas!$R$2:$S$12,2,FALSE)","v":"Componente0"},null,"< Selecione o Componente >","< Selecione o Produto ou Serviço >",null,null,"< Selecione a Fonte de Recurso >",0,null,null,null,null,"< Selecione a Fonte de Recurso >",0]
[0,{"$f":"VLOOKUP(D450,Listas!$R$2:$S$12,2,FALSE)","v":"Componente0"},null,"< Selecione o Componente >","< Selecione o Produto ou Serviço >",null,null,"< Selecione a Fonte de Recurso >",0,null,null,null,null,"< Selecione a Fonte de Recurso >",0]
[0,{"$f":"VLOOKUP(D451,Listas!$R$2:$S$12,2,FALSE)","v":"Componente0"},null,"< Selecione o Componente >","< Selecione o Produto ou Serviço >",null,null,"< Selecione a Fonte de Recurso >",0,null,null,null,null,"< Selecione a Fonte de Recurso >",0]
[0,{"$f":"VLOOKUP(D452,Listas!$R$2:$S$12,2,FALSE)","v":"Componente0"},null,"< Selecione o Componente >","< Selecione o Produto ou Serviço >",null,null,"< Selecione a Fonte de Recurso >",0,null,null,null,null,"< Selecione a Fonte de Recurso >",0]
[0,{"$f":"VLOOKUP(D453,Listas!$R$2:$S$12,2,FALSE)","v":"Componente0"},null,"< Selecione o Componente >","< Selecione o Produto ou Serviço >",null,null,"< Selecione a Fonte de Recurso >",0,null,null,null,null,"< Selecione a Fonte de Recurso >",0]
[0,{"$f":"VLOOKUP(D454,Listas!$R$2:$S$12,2,FALSE)","v":"Componente0"},null,"< Selecione o Componente >","< Selecione o Produto ou Serviço >",null,null,"< Selecione a Fonte de Recurso >",0,null,null,null,null,"< Selecione a Fonte de Recurso >",0]
[0,{"$f":"VLOOKUP(D455,Listas!$R$2:$S$12,2,FALSE)","v":"Componente0"},null,"< Selecione o Componente >","< Selecione o Produto ou Serviço >",null,null,"< Selecione a Fonte de Recurso >",0,null,null,null,null,"< Selecione a Fonte de Recurso >",0]
[0,{"$f":"VLOOKUP(D456,Listas!$R$2:$S$12,2,FALSE)","v":"Componente0"},null,"< Selecione o Componente >","< Selecione o Produto ou Serviço >",null,null,"< Selecione a Fonte de Recurso >",0,null,null,null,null,"< Selecione a Fonte de Recurso >",0]
[0,{"$f":"VLOOKUP(D457,Listas!$R$2:$S$12,2,FALSE)","v":"Componente0"},null,"< Selecione o Componente >","< Selecione o Produto ou Serviço >",null,null,"< Selecione a Fonte de Recurso >",0,null,null,null,null,"< Selecione a Fonte de Recurso >",0]
[0,{"$f":"VLOOKUP(D458,Listas!$R$2:$S$12,2,FALSE)","v":"Componente0"},null,"< Selecione o Componente >","< Selecione o Produto ou Serviço >",null,null,{"$f":"N458","v":"< Selecione a Fonte de Recurso >"},{"$f":"O458","v":0},null,null,null,null,"< Selecione a Fonte de Recurso >",{"$f":"K458*M458","v":0}]
[0,{"$f":"VLOOKUP(D459,Listas!$R$2:$S$12,2,FALSE)","v":"Componente0"},null,"< Selecione o Componente >","< Selecione o Produto ou Serviço >",null,null,"< Selecione a Fonte de Recurso >",0,null,null,null,null,"< Selecione a Fonte de Recurso >",0]
[0,{"$f":"VLOOKUP(D460,Listas!$R$2:$S$12,2,FALSE)","v":"Componente0"},null,"< Selecione o Componente >","< Selecione o Produto ou Serviço >",null,null,"< Selecione a Fonte de Recurso >",0,null,null,null,null,"< Selecione a Fonte de Recurso >",0]
[0,{"$f":"VLOOKUP(D461,Listas!$R$2:$S$12,2,FALSE)","v":"Componente0"},null,"< Selecione o Componente >","< Selecione o Produto ou Serviço >",null,null,"< Selecione a Fonte de Recurso >",0,null,null,null,null,"< Selecione a Fonte de Recurso >",0]
[0,{"$f":"VLOOKUP(D462,Listas!$R$2:$S$12,2,FALSE)","v":"Componente0"},null,"< Selecione o Componente >","< Selecione o Produto ou Serviço >",null,null,"< Selecione a Fonte de Recurso >",0,null,null,null,null,"< Selecione a Fonte de Recurso >",0]
[0,{"$f":"VLOOKUP(D463,Listas!$R$2:$S$12,2,FALSE)","v":"Componente0"},null,"< Selecione o Componente >","< Selecione o Produto ou Serviço >",null,null,"< Selecione a Fonte de Recurso >",0,null,null,null,null,"< Selecione a Fonte de Recurso >",0]
[0,{"$f":"VLOOKUP(D464,Listas!$R$2:$S$12,2,FALSE)","v":"Componente0"},null,"< Selecione o Componente >","< Selecione o Produto ou Serviço >",null,null,"< Selecione a Fonte de Recurso >",0,null,null,null,null,"< Selecione a Fonte de Recurso >",0]
[0,{"$f":"VLOOKUP(D465,Listas!$R$2:$S$12,2,FALSE)","v":"Componente0"},null,"< Selecione o Componente >","< Selecione o Produto ou Serviço >",null,null,"< Selecione a Fonte de Recurso >",0,null,null,null,null,"< Selecione a Fonte de Recurso >",0]
[{"$f":"IF(OR(E466=\"< selecione o Produto ou Serviço >\",E466=\"\"),0,1)","v":0},{"$f":"VLOOKUP(D466,Listas!$R$2:$S$12,2,FALSE)","v":"Componente0"},null,"< Selecione o Componente >","< Selecione o Produto ou Serviço >",null,null,"< Selecione a Fonte de Recurso >",0,null,null,null,null,"< Selecione a Fonte de Recurso >",0]
[0,{"$f":"VLOOKUP(D467,Listas!$R$2:$S$12,2,FALSE)","v":"Componente0"},null,"< Selecione o Componente >","< Selecione o Produto ou Serviço >",null,null,"< Selecione a Fonte de Recurso >",0,null,null,null,null,"< Selecione a Fonte de Recurso >",0]
[0,{"$f":"VLOOKUP(D468,Listas!$R$2:$S$12,2,FALSE)","v":"Componente0"},null,"< Selecione o Componente >","< Selecione o Produto ou Serviço >",null,null,"< Selecione a Fonte de Recurso >",0,null,null,null,null,"< Selecione a Fonte de Recurso >",0]
[0,{"$f":"VLOOKUP(D469,Listas!$R$2:$S$12,2,FALSE)","v":"Componente0"},null,"< Selecione o Componente >","< Selecione o Produto ou Serviço >",null,null,"< Selecione a Fonte de Recurso >",0,null,null,null,null,"< Selecione a Fonte de Recurso >",0]
[0,{"$f":"VLOOKUP(D470,Listas!$R$2:$S$12,2,FALSE)","v":"Componente0"},null,"< Selecione o Componente >","< Selecione o Produto ou Serviço >",null,null,"< Selecione a Fonte de Recurso >",0,null,null,null,null,"< Selecione a Fonte de Recurso >",0]
[0,{"$f":"VLOOKUP(D471,Listas!$R$2:$S$12,2,FALSE)","v":"Componente0"},null,"< Selecione o Componente >","< Selecione o Produto ou Serviço >",null,null,"< Selecione a Fonte de Recurso >",0,null,null,null,null,"< Selecione a Fonte de Recurso >",0]
[0,{"$f":"VLOOKUP(D472,Listas!$R$2:$S$12,2,FALSE)","v":"Componente0"},null,"< Selecione o Componente >","< Selecione o Produto ou Serviço >",null,null,"< Selecione a Fonte de Recurso >",0,null,null,null,null,"< Selecione a Fonte de Recurso >",0]
[0,{"$f":"VLOOKUP(D473,Listas!$R$2:$S$12,2,FALSE)","v":"Componente0"},null,"< Selecione o Componente >","< Selecione o Produto ou Serviço >",null,null,"< Selecione a Fonte de Recurso >",0,null,null,null,null,"< Selecione a Fonte de Recurso >",0]
[0,{"$f":"VLOOKUP(D474,Listas!$R$2:$S$12,2,FALSE)","v":"Componente0"},null,"< Selecione o Componente >","< Selecione o Produto ou Serviço >",null,null,"< Selecione a Fonte de Recurso >",0,null,null,null,null,"< Selecione a Fonte de Recurso >",0]
[0,{"$f":"VLOOKUP(D475,Listas!$R$2:$S$12,2,FALSE)","v":"Componente0"},null,"< Selecione o Componente >","< Selecione o Produto ou Serviço >",null,null,"< Selecione a Fonte de Recurso >",0,null,null,null,null,"< Selecione a Fonte de Recurso >",0]
[0,{"$f":"VLOOKUP(D476,Listas!$R$2:$S$12,2,FALSE)","v":"Componente0"},null,"< Selecione o Componente >","< Selecione o Produto ou Serviço >",null,null,"< Selecione a Fonte de Recurso >",0,null,null,null,null,"< Selecione a Fonte de Recurso >",0]
[0,{"$f":"VLOOKUP(D477,Listas!$R$2:$S$12,2,FALSE)","v":"Componente0"},null,"< Selecione o Componente >","< Selecione o Produto ou Serviço >",null,null,"< Selecione a Fonte de Recurso >",0,null,null,null,null,"< Selecione a Fonte de Recurso >",0]
[0,{"$f":"VLOOKUP(D478,Listas!$R$2:$S$12,2,FALSE)","v":"Componente0"},null,"< Selecione o Componente >","< Selecione o Produto ou Serviço >",null,null,"< Selecione a Fonte de Recurso >",0,null,null,null,null,"< Selecione a Fonte de Recurso >",0]
[0,{"$f":"VLOOKUP(D479,Listas!$R$2:$S$12,2,FALSE)","v":"Componente0"},null,"< Selecione o Componente >","< Selecione o Produto ou Serviço >",null,null,"< Selecione a Fonte de Recurso >",0,null,null,null,null,"< Selecione a Fonte de Recurso >",0]
[0,{"$f":"VLOOKUP(D480,Listas!$R$2:$S$12,2,FALSE)","v":"Componente0"},null,"< Selecione o Componente >","< Selecione o Produto ou Serviço >",null,null,"< Selecione a Fonte de Recurso >",0,null,null,null,null,"< Selecione a Fonte de Recurso >",0]
[0,{"$f":"VLOOKUP(D481,Listas!$R$2:$S$12,2,FALSE)","v":"Componente0"},null,"< Selecione o Componente >","< Selecione o Produto ou Serviço >",null,null,"< Selecione a Fonte de Recurso >",0,null,null,null,null,"< Selecione a Fonte de Recurso >",0]
[0,{"$f":"VLOOKUP(D482,Listas!$R$2:$S$12,2,FALSE)","v":"Componente0"},null,"< Selecione o Componente >","< Selecione o Produto ou Serviço >",null,null,"< Selecione a Fonte de Recurso >",0,null,null,null,null,"< Selecione a Fonte de Recurso >",0]
[0,{"$f":"VLOOKUP(D483,Listas!$R$2:$S$12,2,FALSE)","v":"Componente0"},null,"< Selecione o Componente >","< Selecione o Produto ou Serviço >",null,null,"< Selecione a Fonte de Recurso >",0,null,null,null,null,"< Selecione a Fonte de Recurso >",0]
[0,{"$f":"VLOOKUP(D484,Listas!$R$2:$S$12,2,FALSE)","v":"Componente0"},null,"< Selecione o Componente >","< Selecione o Produto ou Serviço >",null,null,"< Selecione a Fonte de Recurso >",0,null,null,null,null,"< Selecione a Fonte de Recurso >",0]
[0,{"$f":"VLOOKUP(D485,Listas!$R$2:$S$12,2,FALSE)","v":"Componente0"},null,"< Selecione o Componente >","< Selecione o Produto ou Serviço >",null,null,"< Selecione a Fonte de Recurso >",0,null,null,null,null,"< Selecione a Fonte de Recurso >",0]
[0,{"$f":"VLOOKUP(D486,Listas!$R$2:$S$12,2,FALSE)","v":"Componente0"},null,"< Selecione o Componente >","< Selecione o Produto ou Serviço >",null,null,"< Selecione a Fonte de Recurso >",0,null,null,null,null,"< Selecione a Fonte de Recurso >",0]
[0,{"$f":"VLOOKUP(D487,Listas!$R$2:$S$12,2,FALSE)","v":"Componente0"},null,"< Selecione o Componente >","< Selecione o Produto ou Serviço >",null,null,"< Selecione a Fonte de Recurso >",0,null,null,null,null,"< Selecione a Fonte de Recurso >",0]
[0,{"$f":"VLOOKUP(D488,Listas!$R$2:$S$12,2,FALSE)","v":"Componente0"},null,"< Selecione o Componente >","< Selecione o Produto ou Serviço >",null,null,"< Selecione a Fonte de Recurso >",0,null,null,null,null,"< Selecione a Fonte de Recurso >",0]
[0,{"$f":"VLOOKUP(D489,Listas!$R$2:$S$12,2,FALSE)","v":"Componente0"},null,"< Selecione o Componente >","< Selecione o Produto ou Serviço >",null,null,"< Selecione a Fonte de Recurso >",0,null,null,null,null,"< Selecione a Fonte de Recurso >",0]
[0,{"$f":"VLOOKUP(D490,Listas!$R$2:$S$12,2,FALSE)","v":"Componente0"},null,"< Selecione o Componente >","< Selecione o Produto ou Serviço >",null,null,"< Selecione a Fonte de Recurso >",0,null,null,null,null,"< Selecione a Fonte de Recurso >",0]
[0,{"$f":"VLOOKUP(D491,Listas!$R$2:$S$12,2,FALSE)","v":"Componente0"},null,"< Selecione o Componente >","< Selecione o Produto ou Serviço >",null,null,"< Selecione a Fonte de Recurso >",0,null,null,null,null,"< Selecione a Fonte de Recurso >",0]
[0,{"$f":"VLOOKUP(D492,Listas!$R$2:$S$12,2,FALSE)","v":"Componente0"},null,"< Selecione o Componente >","< Selecione o Produto ou Serviço >",null,null,"< Selecione a Fonte de Recurso >",0,null,null,null,null,"< Selecione a Fonte de Recurso >",0]
[0,{"$f":"VLOOKUP(D493,Listas!$R$2:$S$12,2,FALSE)","v":"Componente0"},null,"< Selecione o Componente >","< Selecione o Produto ou Serviço >",null,null,"< Selecione a Fonte de Recurso >",0,null,null,null,null,"< Selecione a Fonte de Recurso >",0]
[0,{"$f":"VLOOKUP(D494,Listas!$R$2:$S$12,2,FALSE)","v":"Componente0"},null,"< Selecione o Componente >","< Selecione o Produto ou Serviço >",null,null,"< Selecione a Fonte de Recurso >",0,null,null,null,null,"< Selecione a Fonte de Recurso >",0]
[0,{"$f":"VLOOKUP(D495,Listas!$R$2:$S$12,2,FALSE)","v":"Componente0"},null,"< Selecione o Componente >","< Selecione o Produto ou Serviço >",null,null,"< Selecione a Fonte de Recurso >",0,null,null,null,null,"< Selecione a Fonte de Recurso >",0]
[0,{"$f":"VLOOKUP(D496,Listas!$R$2:$S$12,2,FALSE)","v":"Componente0"},null,"< Selecione o Componente >","< Selecione o Produto ou Serviço >",null,null,"< Selecione a Fonte de Recurso >",0,null,null,null,null,"< Selecione a Fonte de Recurso >",0]
[0,{"$f":"VLOOKUP(D497,Listas!$R$2:$S$12,2,FALSE)","v":"Componente0"},null,"< Selecione o Componente >","< Selecione o Produto ou Serviço >",null,null,"< Selecione a Fonte de Recurso >",0,null,null,null,null,"< Selecione a Fonte de Recurso >",0]
[0,{"$f":"VLOOKUP(D498,Listas!$R$2:$S$12,2,FALSE)","v":"Componente0"},null,"< Selecione o Componente >","< Selecione o Produto ou Serviço >",null,null,"< Selecione a Fonte de Recurso >",0,null,null,null,null,"< Selecione a Fonte de Recurso >",0]
[0,{"$f":"VLOOKUP(D499,Listas!$R$2:$S$12,2,FALSE)","v":"Componente0"},null,"< Selecione o Componente >","< Selecione o Produto ou Serviço >",null,null,"< Selecione a Fonte de Recurso >",0,null,null,null,null,"< Selecione a Fonte de Recurso >",0]
[0,{"$f":"VLOOKUP(D500,Listas!$R$2:$S$12,2,FALSE)","v":"Componente0"},null,"< Selecione o Componente >","< Selecione o Produto ou Serviço >",null,null,"< Selecione a Fonte de Recurso >",0,null,null,null,null,"< Selecione a Fonte de Recurso >",0]
[0,{"$f":"VLOOKUP(D501,Listas!$R$2:$S$12,2,FALSE)","v":"Componente0"},null,"< Selecione o Componente >","< Selecione o Produto ou Serviço >",null,null,"< Selecione a Fonte de Recurso >",0,null,null,null,null,"< Selecione a Fonte de Recurso >",0]
[0,{"$f":"VLOOKUP(D502,Listas!$R$2:$S$12,2,FALSE)","v":"Componente0"},null,"< Selecione o Componente >","< Selecione o Produto ou Serviço >",null,null,"< Selecione a Fonte de Recurso >",0,null,null,null,null,"< Selecione a Fonte de Recurso >",0]
[0,{"$f":"VLOOKUP(D503,Listas!$R$2:$S$12,2,FALSE)","v":"Componente0"},null,"< Selecione o Componente >","< Selecione o Produto ou Serviço >",null,null,"< Selecione a Fonte de Recurso >",0,null,null,null,null,"< Selecione a Fonte de Recurso >",0]
[0,{"$f":"VLOOKUP(D504,Listas!$R$2:$S$12,2,FALSE)","v":"Componente0"},null,"< Selecione o Componente >","< Selecione o Produto ou Serviço >",null,null,"< Selecione a Fonte de Recurso >",0,null,null,null,null,"< Selecione a Fonte de Recurso >",0]
[0,{"$f":"VLOOKUP(D505,Listas!$R$2:$S$12,2,FALSE)","v":"Componente0"},null,"< Selecione o Componente >","< Selecione o Produto ou Serviço >",null,null,"< Selecione a Fonte de Recurso >",0,null,null,null,null,"< Selecione a Fonte de Recurso >",0]
[0,{"$f":"VLOOKUP(D506,Listas!$R$2:$S$12,2,FALSE)","v":"Componente0"},null,"< Selecione o Componente >","< Selecione o Produto ou Serviço >",null,null,"< Selecione a Fonte de Recurso >",0,null,null,null,null,"< Selecione a Fonte de Recurso >",0]
[0,{"$f":"VLOOKUP(D507,Listas!$R$2:$S$12,2,FALSE)","v":"Componente0"},null,"< Selecione o Componente >","< Selecione o Produto ou Serviço >",null,null,"< Selecione a Fonte de Recurso >",0,null,null,null,null,"< Selecione a Fonte de Recurso >",0]
[0,{"$f":"VLOOKUP(D508,Listas!$R$2:$S$12,2,FALSE)","v":"Componente0"},null,"< Selecione o Componente >","< Selecione o Produto ou Serviço >",null,null,"< Selecione a Fonte de Recurso >",0,null,null,null,null,"< Selecione a Fonte de Recurso >",0]
[0,{"$f":"VLOOKUP(D509,Listas!$R$2:$S$12,2,FALSE)","v":"Componente0"},null,"< Selecione o Componente >","< Selecione o Produto ou Serviço >",null,null,"< Selecione a Fonte de Recurso >",0,null,null,null,null,"< Selecione a Fonte de Recurso >",0]
[0,{"$f":"VLOOKUP(D510,Listas!$R$2:$S$12,2,FALSE)","v":"Componente0"},null,"< Selecione o Componente >","< Selecione o Produto ou Serviço >",null,null,"< Selecione a Fonte de Recurso >",0,null,null,null,null,"< Selecione a Fonte de Recurso >",0]
[0,{"$f":"VLOOKUP(D511,Listas!$R$2:$S$12,2,FALSE)","v":"Componente0"},null,"< Selecione o Componente >","< Selecione o Produto ou Serviço >",null,null,"< Selecione a Fonte de Recurso >",0,null,null,null,null,"< Selecione a Fonte de Recurso >",0]
[0,{"$f":"VLOOKUP(D512,Listas!$R$2:$S$12,2,FALSE)","v":"Componente0"},null,"< Selecione o Componente >","< Selecione o Produto ou Serviço >",null,null,"< Selecione a Fonte de Recurso >",0,null,null,null,null,"< Selecione a Fonte de Recurso >",0]
[0,{"$f":"VLOOKUP(D513,Listas!$R$2:$S$12,2,FALSE)","v":"Componente0"},null,"< Selecione o Componente >","< Selecione o Produto ou Serviço >",null,null,"< Selecione a Fonte de Recurso >",0,null,null,null,null,"< Selecione a Fonte de Recurso >",0]
[0,{"$f":"VLOOKUP(D514,Listas!$R$2:$S$12,2,FALSE)","v":"Componente0"},null,"< Selecione o Componente >","< Selecione o Produto ou Serviço >",null,null,"< Selecione a Fonte de Recurso >",0,null,null,null,null,"< Selecione a Fonte de Recurso >",0]
[0,{"$f":"VLOOKUP(D515,Listas!$R$2:$S$12,2,FALSE)","v":"Componente0"},null,"< Selecione o Componente >","< Selecione o Produto ou Serviço >",null,null,"< Selecione a Fonte de Recurso >",0,null,null,null,null,"< Selecione a Fonte de Recurso >",0]
[0,{"$f":"VLOOKUP(D516,Listas!$R$2:$S$12,2,FALSE)","v":"Componente0"},null,"< Selecione o Componente >","< Selecione o Produto ou Serviço >",null,null,"< Selecione a Fonte de Recurso >",0,null,null,null,null,"< Selecione a Fonte de Recurso >",0]
[0,{"$f":"VLOOKUP(D517,Listas!$R$2:$S$12,2,FALSE)","v":"Componente0"},null,"< Selecione o Componente >","< Selecione o Produto ou Serviço >",null,null,"< Selecione a Fonte de Recurso >",0,null,null,null,null,"< Selecione a Fonte de Recurso >",0]
[0,{"$f":"VLOOKUP(D518,Listas!$R$2:$S$12,2,FALSE)","v":"Componente0"},null,"< Selecione o Componente >","< Selecione o Produto ou Serviço >",null,null,"< Selecione a Fonte de Recurso >",0,null,null,null,null,"< Selecione a Fonte de Recurso >",0]
[0,{"$f":"VLOOKUP(D519,Listas!$R$2:$S$12,2,FALSE)","v":"Componente0"},null,"< Selecione o Componente >","< Selecione o Produto ou Serviço >",null,null,"< Selecione a Fonte de Recurso >",0,null,null,null,null,"< Selecione a Fonte de Recurso >",0]
[0,{"$f":"VLOOKUP(D520,Listas!$R$2:$S$12,2,FALSE)","v":"Componente0"},null,"< Selecione o Componente >","< Selecione o Produto ou Serviço >",null,null,"< Selecione a Fonte de Recurso >",0,null,null,null,null,"< Selecione a Fonte de Recurso >",0]
[0,{"$f":"VLOOKUP(D521,Listas!$R$2:$S$12,2,FALSE)","v":"Componente0"},null,"< Selecione o Componente >","< Selecione o Produto ou Serviço >",null,null,"< Selecione a Fonte de Recurso >",0,null,null,null,null,"< Selecione a Fonte de Recurso >",0]
[0,{"$f":"VLOOKUP(D522,Listas!$R$2:$S$12,2,FALSE)","v":"Componente0"},null,"< Selecione o Componente >","< Selecione o Produto ou Serviço >",null,null,{"$f":"N522","v":"< Selecione a Fonte de Recurso >"},{"$f":"O522","v":0},null,null,null,null,"< Selecione a Fonte de Recurso >",{"$f":"K522*M522","v":0}]
[0,{"$f":"VLOOKUP(D523,Listas!$R$2:$S$12,2,FALSE)","v":"Componente0"},null,"< Selecione o Componente >","< Selecione o Produto ou Serviço >",null,null,"< Selecione a Fonte de Recurso >",0,null,null,null,null,"< Selecione a Fonte de Recurso >",0]
[0,{"$f":"VLOOKUP(D524,Listas!$R$2:$S$12,2,FALSE)","v":"Componente0"},null,"< Selecione o Componente >","< Selecione o Produto ou Serviço >",null,null,"< Selecione a Fonte de Recurso >",0,null,null,null,null,"< Selecione a Fonte de Recurso >",0]
[0,{"$f":"VLOOKUP(D525,Listas!$R$2:$S$12,2,FALSE)","v":"Componente0"},null,"< Selecione o Componente >","< Selecione o Produto ou Serviço >",null,null,"< Selecione a Fonte de Recurso >",0,null,null,null,null,"< Selecione a Fonte de Recurso >",0]
[0,{"$f":"VLOOKUP(D526,Listas!$R$2:$S$12,2,FALSE)","v":"Componente0"},null,"< Selecione o Componente >","< Selecione o Produto ou Serviço >",null,null,"< Selecione a Fonte de Recurso >",0,null,null,null,null,"< Selecione a Fonte de Recurso >",0]
[0,{"$f":"VLOOKUP(D527,Listas!$R$2:$S$12,2,FALSE)","v":"Componente0"},null,"< Selecione o Componente >","< Selecione o Produto ou Serviço >",null,null,"< Selecione a Fonte de Recurso >",0,null,null,null,null,"< Selecione a Fonte de Recurso >",0]
[0,{"$f":"VLOOKUP(D528,Listas!$R$2:$S$12,2,FALSE)","v":"Componente0"},null,"< Selecione o Componente >","< Selecione o Produto ou Serviço >",null,null,"< Selecione a Fonte de Recurso >",0,null,null,null,null,"< Selecione a Fonte de Recurso >",0]
[0,{"$f":"VLOOKUP(D529,Listas!$R$2:$S$12,2,FALSE)","v":"Componente0"},null,"< Selecione o Componente >","< Selecione o Produto ou Serviço >",null,null,"< Selecione a Fonte de Recurso >",0,null,null,null,null,"< Selecione a Fonte de Recurso >",0]
[{"$f":"IF(OR(E530=\"< selecione o Produto ou Serviço >\",E530=\"\"),0,1)","v":0},{"$f":"VLOOKUP(D530,Listas!$R$2:$S$12,2,FALSE)","v":"Componente0"},null,"< Selecione o Componente >","< Selecione o Produto ou Serviço >",null,null,"< Selecione a Fonte de Recurso >",0,null,null,null,null,"< Selecione a Fonte de Recurso >",0]
[0,{"$f":"VLOOKUP(D531,Listas!$R$2:$S$12,2,FALSE)","v":"Componente0"},null,"< Selecione o Componente >","< Selecione o Produto ou Serviço >",null,null,"< Selecione a Fonte de Recurso >",0,null,null,null,null,"< Selecione a Fonte de Recurso >",0]
[0,{"$f":"VLOOKUP(D532,Listas!$R$2:$S$12,2,FALSE)","v":"Componente0"},null,"< Selecione o Componente >","< Selecione o Produto ou Serviço >",null,null,"< Selecione a Fonte de Recurso >",0,null,null,null,null,"< Selecione a Fonte de Recurso >",0]
[0,{"$f":"VLOOKUP(D533,Listas!$R$2:$S$12,2,FALSE)","v":"Componente0"},null,"< Selecione o Componente >","< Selecione o Produto ou Serviço >",null,null,"< Selecione a Fonte de Recurso >",0,null,null,null,null,"< Selecione a Fonte de Recurso >",0]
[0,{"$f":"VLOOKUP(D534,Listas!$R$2:$S$12,2,FALSE)","v":"Componente0"},null,"< Selecione o Componente >","< Selecione o Produto ou Serviço >",null,null,"< Selecione a Fonte de Recurso >",0,null,null,null,null,"< Selecione a Fonte de Recurso >",0]
[0,{"$f":"VLOOKUP(D535,Listas!$R$2:$S$12,2,FALSE)","v":"Componente0"},null,"< Selecione o Componente >","< Selecione o Produto ou Serviço >",null,null,"< Selecione a Fonte de Recurso >",0,null,null,null,null,"< Selecione a Fonte de Recurso >",0]
[0,{"$f":"VLOOKUP(D536,Listas!$R$2:$S$12,2,FALSE)","v":"Componente0"},null,"< Selecione o Componente >","< Selecione o Produto ou Serviço >",null,null,"< Selecione a Fonte de Recurso >",0,null,null,null,null,"< Selecione a Fonte de Recurso >",0]
[0,{"$f":"VLOOKUP(D537,Listas!$R$2:$S$12,2,FALSE)","v":"Componente0"},null,"< Selecione o Componente >","< Selecione o Produto ou Serviço >",null,null,"< Selecione a Fonte de Recurso >",0,null,null,null,null,"< Selecione a Fonte de Recurso >",0]
[0,{"$f":"VLOOKUP(D538,Listas!$R$2:$S$12,2,FALSE)","v":"Componente0"},null,"< Selecione o Componente >","< Selecione o Produto ou Serviço >",null,null,"< Selecione a Fonte de Recurso >",0,null,null,null,null,"< Selecione a Fonte de Recurso >",0]
[0,{"$f":"VLOOKUP(D539,Listas!$R$2:$S$12,2,FALSE)","v":"Componente0"},null,"< Selecione o Componente >","< Selecione o Produto ou Serviço >",null,null,"< Selecione a Fonte de Recurso >",0,null,null,null,null,"< Selecione a Fonte de Recurso >",0]
[0,{"$f":"VLOOKUP(D540,Listas!$R$2:$S$12,2,FALSE)","v":"Componente0"},null,"< Selecione o Componente >","< Selecione o Produto ou Serviço >",null,null,"< Selecione a Fonte de Recurso >",0,null,null,null,null,"< Selecione a Fonte de Recurso >",0]
[0,{"$f":"VLOOKUP(D541,Listas!$R$2:$S$12,2,FALSE)","v":"Componente0"},null,"< Selecione o Componente >","< Selecione o Produto ou Serviço >",null,null,"< Selecione a Fonte de Recurso >",0,null,null,null,null,"< Selecione a Fonte de Recurso >",0]
[0,{"$f":"VLOOKUP(D542,Listas!$R$2:$S$12,2,FALSE)","v":"Componente0"},null,"< Selecione o Componente >","< Selecione o Produto ou Serviço >",null,null,"< Selecione a Fonte de Recurso >",0,null,null,null,null,"< Selecione a Fonte de Recurso >",0]
[0,{"$f":"VLOOKUP(D543,Listas!$R$2:$S$12,2,FALSE)","v":"Componente0"},null,"< Selecione o Componente >","< Selecione o Produto ou Serviço >",null,null,"< Selecione a Fonte de Recurso >",0,null,null,null,null,"< Selecione a Fonte de Recurso >",0]
[0,{"$f":"VLOOKUP(D544,Listas!$R$2:$S$12,2,FALSE)","v":"Componente0"},null,"< Selecione o Componente >","< Selecione o Produto ou Serviço >",null,null,"< Selecione a Fonte de Recurso >",0,null,null,null,null,"< Selecione a Fonte de Recurso >",0]
[0,{"$f":"VLOOKUP(D545,Listas!$R$2:$S$12,2,FALSE)","v":"Componente0"},null,"< Selecione o Componente >","< Selecione o Produto ou Serviço >",null,null,"< Selecione a Fonte de Recurso >",0,null,null,null,null,"< Selecione a Fonte de Recurso >",0]
[0,{"$f":"VLOOKUP(D546,Listas!$R$2:$S$12,2,FALSE)","v":"Componente0"},null,"< Selecione o Componente >","< Selecione o Produto ou Serviço >",null,null,"< Selecione a Fonte de Recurso >",0,null,null,null,null,"< Selecione a Fonte de Recurso >",0]
[0,{"$f":"VLOOKUP(D547,Listas!$R$2:$S$12,2,FALSE)","v":"Componente0"},null,"< Selecione o Componente >","< Selecione o Produto ou Serviço >",null,null,"< Selecione a Fonte de Recurso >",0,null,null,null,null,"< Selecione a Fonte de Recurso >",0]
[0,{"$f":"VLOOKUP(D548,Listas!$R$2:$S$12,2,FALSE)","v":"Componente0"},null,"< Selecione o Componente >","< Selecione o Produto ou Serviço >",null,null,"< Selecione a Fonte de Recurso >",0,null,null,null,null,"< Selecione a Fonte de Recurso >",0]
[0,{"$f":"VLOOKUP(D549,Listas!$R$2:$S$12,2,FALSE)","v":"Componente0"},null,"< Selecione o Componente >","< Selecione o Produto ou Serviço >",null,null,"< Selecione a Fonte de Recurso >",0,null,null,null,null,"< Selecione a Fonte de Recurso >",0]
[0,{"$f":"VLOOKUP(D550,Listas!$R$2:$S$12,2,FALSE)","v":"Componente0"},null,"< Selecione o Componente >","< Selecione o Produto ou Serviço >",null,null,"< Selecione a Fonte de Recurso >",0,null,null,null,null,"< Selecione a Fonte de Recurso >",0]
[0,{"$f":"VLOOKUP(D551,Listas!$R$2:$S$12,2,FALSE)","v":"Componente0"},null,"< Selecione o Componente >","< Selecione o Produto ou Serviço >",null,null,"< Selecione a Fonte de Recurso >",0,null,null,null,null,"< Selecione a Fonte de Recurso >",0]
[0,{"$f":"VLOOKUP(D552,Listas!$R$2:$S$12,2,FALSE)","v":"Componente0"},null,"< Selecione o Componente >","< Selecione o Produto ou Serviço >",null,null,"< Selecione a Fonte de Recurso >",0,null,null,null,null,"< Selecione a Fonte de Recurso >",0]
[0,{"$f":"VLOOKUP(D553,Listas!$R$2:$S$12,2,FALSE)","v":"Componente0"},null,"< Selecione o Componente >","< Selecione o Produto ou Serviço >",null,null,"< Selecione a Fonte de Recurso >",0,null,null,null,null,"< Selecione a Fonte de Recurso >",0]
[0,{"$f":"VLOOKUP(D554,Listas!$R$2:$S$12,2,FALSE)","v":"Componente0"},null,"< Selecione o Componente >","< Selecione o Produto ou Serviço >",null,null,"< Selecione a Fonte de Recurso >",0,null,null,null,null,"< Selecione a Fonte de Recurso >",0]
[0,{"$f":"VLOOKUP(D555,Listas!$R$2:$S$12,2,FALSE)","v":"Componente0"},null,"< Selecione o Componente >","< Selecione o Produto ou Serviço >",null,null,"< Selecione a Fonte de Recurso >",0,null,null,null,null,"< Selecione a Fonte de Recurso >",0]
[0,{"$f":"VLOOKUP(D556,Listas!$R$2:$S$12,2,FALSE)","v":"Componente0"},null,"< Selecione o Componente >","< Selecione o Produto ou Serviço >",null,null,"< Selecione a Fonte de Recurso >",0,null,null,null,null,"< Selecione a Fonte de Recurso >",0]
[0,{"$f":"VLOOKUP(D557,Listas!$R$2:$S$12,2,FALSE)","v":"Componente0"},null,"< Selecione o Componente >","< Selecione o Produto ou Serviço >",null,null,"< Selecione a Fonte de Recurso >",0,null,null,null,null,"< Selecione a Fonte de Recurso >",0]
[0,{"$f":"VLOOKUP(D558,Listas!$R$2:$S$12,2,FALSE)","v":"Componente0"},null,"< Selecione o Componente >","< Selecione o Produto ou Serviço >",null,null,"< Selecione a Fonte de Recurso >",0,null,null,null,null,"< Selecione a Fonte de Recurso >",0]
[0,{"$f":"VLOOKUP(D559,Listas!$R$2:$S$12,2,FALSE)","v":"Componente0"},null,"< Selecione o Componente >","< Selecione o Produto ou Serviço >",null,null,"< Selecione a Fonte de Recurso >",0,null,null,null,null,"< Selecione a Fonte de Recurso >",0]
[0,{"$f":"VLOOKUP(D560,Listas!$R$2:$S$12,2,FALSE)","v":"Componente0"},null,"< Selecione o Componente >","< Selecione o Produto ou Serviço >",null,null,"< Selecione a Fonte de Recurso >",0,null,null,null,null,"< Selecione a Fonte de Recurso >",0]
[0,{"$f":"VLOOKUP(D561,Listas!$R$2:$S$12,2,FALSE)","v":"Componente0"},null,"< Selecione o Componente >","< Selecione o Produto ou Serviço >",null,null,"< Selecione a Fonte de Recurso >",0,null,null,null,null,"< Selecione a Fonte de Recurso >",0]
[0,{"$f":"VLOOKUP(D562,Listas!$R$2:$S$12,2,FALSE)","v":"Componente0"},null,"< Selecione o Componente >","< Selecione o Produto ou Serviço >",null,null,"< Selecione a Fonte de Recurso >",0,null,null,null,null,"< Selecione a Fonte de Recurso >",0]
[0,{"$f":"VLOOKUP(D563,Listas!$R$2:$S$12,2,FALSE)","v":"Componente0"},null,"< Selecione o Componente >","< Selecione o Produto ou Serviço >",null,null,"< Selecione a Fonte de Recurso >",0,null,null,null,null,"< Selecione a Fonte de Recurso >",0]
[0,{"$f":"VLOOKUP(D564,Listas!$R$2:$S$12,2,FALSE)","v":"Componente0"},null,"< Selecione o Componente >","< Selecione o Produto ou Serviço >",null,null,"< Selecione a Fonte de Recurso >",0,null,null,null,null,"< Selecione a Fonte de Recurso >",0]
[0,{"$f":"VLOOKUP(D565,Listas!$R$2:$S$12,2,FALSE)","v":"Componente0"},null,"< Selecione o Componente >","< Selecione o Produto ou Serviço >",null,null,"< Selecione a Fonte de Recurso >",0,null,null,null,null,"< Selecione a Fonte de Recurso >",0]
[0,{"$f":"VLOOKUP(D566,Listas!$R$2:$S$12,2,FALSE)","v":"Componente0"},null,"< Selecione o Componente >","< Selecione o Produto ou Serviço >",null,null,"< Selecione a Fonte de Recurso >",0,null,null,null,null,"< Selecione a Fonte de Recurso >",0]
[0,{"$f":"VLOOKUP(D567,Listas!$R$2:$S$12,2,FALSE)","v":"Componente0"},null,"< Selecione o Componente >","< Selecione o Produto ou Serviço >",null,null,"< Selecione a Fonte de Recurso >",0,null,null,null,null,"< Selecione a Fonte de Recurso >",0]
[0,{"$f":"VLOOKUP(D568,Listas!$R$2:$S$12,2,FALSE)","v":"Componente0"},null,"< Selecione o Componente >","< Selecione o Produto ou Serviço >",null,null,"< Selecione a Fonte de Recurso >",0,null,null,null,null,"< Selecione a Fonte de Recurso >",0]
[0,{"$f":"VLOOKUP(D569,Listas!$R$2:$S$12,2,FALSE)","v":"Componente0"},null,"< Selecione o Componente >","< Selecione o Produto ou Serviço >",null,null,"< Selecione a Fonte de Recurso >",0,null,null,null,null,"< Selecione a Fonte de Recurso >",0]
[0,{"$f":"VLOOKUP(D570,Listas!$R$2:$S$12,2,FALSE)","v":"Componente0"},null,"< Selecione o Componente >","< Selecione o Produto ou Serviço >",null,null,"< Selecione a Fonte de Recurso >",0,null,null,null,null,"< Selecione a Fonte de Recurso >",0]
[0,{"$f":"VLOOKUP(D571,Listas!$R$2:$S$12,2,FALSE)","v":"Componente0"},null,"< Selecione o Componente >","< Selecione o Produto ou Serviço >",null,null,"< Selecione a Fonte de Recurso >",0,null,null,null,null,"< Selecione a Fonte de Recurso >",0]
[0,{"$f":"VLOOKUP(D572,Listas!$R$2:$S$12,2,FALSE)","v":"Componente0"},null,"< Selecione o Componente >","< Selecione o Produto ou Serviço >",null,null,"< Selecione a Fonte de Recurso >",0,null,null,null,null,"< Selecione a Fonte de Recurso >",0]
[0,{"$f":"VLOOKUP(D573,Listas!$R$2:$S$12,2,FALSE)","v":"Componente0"},null,"< Selecione o Componente >","< Selecione o Produto ou Serviço >",null,null,"< Selecione a Fonte de Recurso >",0,null,null,null,null,"< Selecione a Fonte de Recurso >",0]
[0,{"$f":"VLOOKUP(D574,Listas!$R$2:$S$12,2,FALSE)","v":"Componente0"},null,"< Selecione o Componente >","< Selecione o Produto ou Serviço >",null,null,"< Selecione a Fonte de Recurso >",0,null,null,null,null,"< Selecione a Fonte de Recurso >",0]
[0,{"$f":"VLOOKUP(D575,Listas!$R$2:$S$12,2,FALSE)","v":"Componente0"},null,"< Selecione o Componente >","< Selecione o Produto ou Serviço >",null,null,"< Selecione a Fonte de Recurso >",0,null,null,null,null,"< Selecione a Fonte de Recurso >",0]
[0,{"$f":"VLOOKUP(D576,Listas!$R$2:$S$12,2,FALSE)","v":"Componente0"},null,"< Selecione o Componente >","< Selecione o Produto ou Serviço >",null,null,"< Selecione a Fonte de Recurso >",0,null,null,null,null,"< Selecione a Fonte de Recurso >",0]
[0,{"$f":"VLOOKUP(D577,Listas!$R$2:$S$12,2,FALSE)","v":"Componente0"},null,"< Selecione o Componente >","< Selecione o Produto ou Serviço >",null,null,"< Selecione a Fonte de Recurso >",0,null,null,null,null,"< Selecione a Fonte de Recurso >",0]
[0,{"$f":"VLOOKUP(D578,Listas!$R$2:$S$12,2,FALSE)","v":"Componente0"},null,"< Selecione o Componente >","< Selecione o Produto ou Serviço >",null,null,"< Selecione a Fonte de Recurso >",0,null,null,null,null,"< Selecione a Fonte de Recurso >",0]
[0,{"$f":"VLOOKUP(D579,Listas!$R$2:$S$12,2,FALSE)","v":"Componente0"},null,"< Selecione o Componente >","< Selecione o Produto ou Serviço >",null,null,"< Selecione a Fonte de Recurso >",0,null,null,null,null,"< Selecione a Fonte de Recurso >",0]
[0,{"$f":"VLOOKUP(D580,Listas!$R$2:$S$12,2,FALSE)","v":"Componente0"},null,"< Selecione o Componente >","< Selecione o Produto ou Serviço >",null,null,"< Selecione a Fonte de Recurso >",0,null,null,null,null,"< Selecione a Fonte de Recurso >",0]
[0,{"$f":"VLOOKUP(D581,Listas!$R$2:$S$12,2,FALSE)","v":"Componente0"},null,"< Selecione o Componente >","< Selecione o Produto ou Serviço >",null,null,"< Selecione a Fonte de Recurso >",0,null,null,null,null,"< Selecione a Fonte de Recurso >",0]
[0,{"$f":"VLOOKUP(D582,Listas!$R$2:$S$12,2,FALSE)","v":"Componente0"},null,"< Selecione o Componente >","< Selecione o Produto ou Serviço >",null,null,"< Selecione a Fonte de Recurso >",0,null,null,null,null,"< Selecione a Fonte de Recurso >",0]
[0,{"$f":"VLOOKUP(D583,Listas!$R$2:$S$12,2,FALSE)","v":"Componente0"},null,"< Selecione o Componente >","< Selecione o Produto ou Serviço >",null,null,"< Selecione a Fonte de Recurso >",0,null,null,null,null,"< Selecione a Fonte de Recurso >",0]
[0,{"$f":"VLOOKUP(D584,Listas!$R$2:$S$12,2,FALSE)","v":"Componente0"},null,"< Selecione o Componente >","< Selecione o Produto ou Serviço >",null,null,"< Selecione a Fonte de Recurso >",0,null,null,null,null,"< Selecione a Fonte de Recurso >",0]
[0,{"$f":"VLOOKUP(D585,Listas!$R$2:$S$12,2,FALSE)","v":"Componente0"},null,"< Selecione o Componente >","< Selecione o Produto ou Serviço >",null,null,"< Selecione a Fonte de Recurso >",0,null,null,null,null,"< Selecione a Fonte de Recurso >",0]
[0,{"$f":"VLOOKUP(D586,Listas!$R$2:$S$12,2,FALSE)","v":"Componente0"},null,"< Selecione o Componente >","< Selecione o Produto ou Serviço >",null,null,{"$f":"N586","v":"< Selecione a Fonte de Recurso >"},{"$f":"O586","v":0},null,null,null,null,"< Selecione a Fonte de Recurso >",{"$f":"K586*M586","v":0}]
[0,{"$f":"VLOOKUP(D587,Listas!$R$2:$S$12,2,FALSE)","v":"Componente0"},null,"< Selecione o Componente >","< Selecione o Produto ou Serviço >",null,null,"< Selecione a Fonte de Recurso >",0,null,null,null,null,"< Selecione a Fonte de Recurso >",0]
[0,{"$f":"VLOOKUP(D588,Listas!$R$2:$S$12,2,FALSE)","v":"Componente0"},null,"< Selecione o Componente >","< Selecione o Produto ou Serviço >",null,null,"< Selecione a Fonte de Recurso >",0,null,null,null,null,"< Selecione a Fonte de Recurso >",0]
[0,{"$f":"VLOOKUP(D589,Listas!$R$2:$S$12,2,FALSE)","v":"Componente0"},null,"< Selecione o Componente >","< Selecione o Produto ou Serviço >",null,null,"< Selecione a Fonte de Recurso >",0,null,null,null,null,"< Selecione a Fonte de Recurso >",0]
[0,{"$f":"VLOOKUP(D590,Listas!$R$2:$S$12,2,FALSE)","v":"Componente0"},null,"< Selecione o Componente >","< Selecione o Produto ou Serviço >",null,null,"< Selecione a Fonte de Recurso >",0,null,null,null,null,"< Selecione a Fonte de Recurso >",0]
[0,{"$f":"VLOOKUP(D591,Listas!$R$2:$S$12,2,FALSE)","v":"Componente0"},null,"< Selecione o Componente >","< Selecione o Produto ou Serviço >",null,null,"< Selecione a Fonte de Recurso >",0,null,null,null,null,"< Selecione a Fonte de Recurso >",0]
[0,{"$f":"VLOOKUP(D592,Listas!$R$2:$S$12,2,FALSE)","v":"Componente0"},null,"< Selecione o Componente >","< Selecione o Produto ou Serviço >",null,null,"< Selecione a Fonte de Recurso >",0,null,null,null,null,"< Selecione a Fonte de Recurso >",0]
[0,{"$f":"VLOOKUP(D593,Listas!$R$2:$S$12,2,FALSE)","v":"Componente0"},null,"< Selecione o Componente >","< Selecione o Produto ou Serviço >",null,null,"< Selecione a Fonte de Recurso >",0,null,null,null,null,"< Selecione a Fonte de Recurso >",0]
[{"$f":"IF(OR(E594=\"< selecione o Produto ou Serviço >\",E594=\"\"),0,1)","v":0},{"$f":"VLOOKUP(D594,Listas!$R$2:$S$12,2,FALSE)","v":"Componente0"},null,"< Selecione o Componente >","< Selecione o Produto ou Serviço >",null,null,"< Selecione a Fonte de Recurso >",0,null,null,null,null,"< Selecione a Fonte de Recurso >",0]
[0,{"$f":"VLOOKUP(D595,Listas!$R$2:$S$12,2,FALSE)","v":"Componente0"},null,"< Selecione o Componente >","< Selecione o Produto ou Serviço >",null,null,"< Selecione a Fonte de Recurso >",0,null,null,null,null,"< Selecione a Fonte de Recurso >",0]
[0,{"$f":"VLOOKUP(D596,Listas!$R$2:$S$12,2,FALSE)","v":"Componente0"},null,"< Selecione o Componente >","< Selecione o Produto ou Serviço >",null,null,"< Selecione a Fonte de Recurso >",0,null,null,null,null,"< Selecione a Fonte de Recurso >",0]
[0,{"$f":"VLOOKUP(D597,Listas!$R$2:$S$12,2,FALSE)","v":"Componente0"},null,"< Selecione o Componente >","< Selecione o Produto ou Serviço >",null,null,"< Selecione a Fonte de Recurso >",0,null,null,null,null,"< Selecione a Fonte de Recurso >",0]
[0,{"$f":"VLOOKUP(D598,Listas!$R$2:$S$12,2,FALSE)","v":"Componente0"},null,"< Selecione o Componente >","< Selecione o Produto ou Serviço >",null,null,"< Selecione a Fonte de Recurso >",0,null,null,null,null,"< Selecione a Fonte de Recurso >",0]
[0,{"$f":"VLOOKUP(D599,Listas!$R$2:$S$12,2,FALSE)","v":"Componente0"},null,"< Selecione o Componente >","< Selecione o Produto ou Serviço >",null,null,"< Selecione a Fonte de Recurso >",0,null,null,null,null,"< Selecione a Fonte de Recurso >",0]
[0,{"$f":"VLOOKUP(D600,Listas!$R$2:$S$12,2,FALSE)","v":"Componente0"},null,"< Selecione o Componente >","< Selecione o Produto ou Serviço >",null,null,"< Selecione a Fonte de Recurso >",0,null,null,null,null,"< Selecione a Fonte de Recurso >",0]
[0,{"$f":"VLOOKUP(D601,Listas!$R$2:$S$12,2,FALSE)","v":"Componente0"},null,"< Selecione o Componente >","< Selecione o Produto ou Serviço >",null,null,"< Selecione a Fonte de Recurso >",0,null,null,null,null,"< Selecione a Fonte de Recurso >",0]
[0,{"$f":"VLOOKUP(D602,Listas!$R$2:$S$12,2,FALSE)","v":"Componente0"},null,"< Selecione o Componente >","< Selecione o Produto ou Serviço >",null,null,"< Selecione a Fonte de Recurso >",0,null,null,null,null,"< Selecione a Fonte de Recurso >",0]
[0,{"$f":"VLOOKUP(D603,Listas!$R$2:$S$12,2,FALSE)","v":"Componente0"},null,"< Selecione o Componente >","< Selecione o Produto ou Serviço >",null,null,"< Selecione a Fonte de Recurso >",0,null,null,null,null,"< Selecione a Fonte de Recurso >",0]
[0,{"$f":"VLOOKUP(D604,Listas!$R$2:$S$12,2,FALSE)","v":"Componente0"},null,"< Selecione o Componente >","< Selecione o Produto ou Serviço >",null,null,"< Selecione a Fonte de Recurso >",0,null,null,null,null,"< Selecione a Fonte de Recurso >",0]
[0,{"$f":"VLOOKUP(D605,Listas!$R$2:$S$12,2,FALSE)","v":"Componente0"},null,"< Selecione o Componente >","< Selecione o Produto ou Serviço >",null,null,"< Selecione a Fonte de Recurso >",0,null,null,null,null,"< Selecione a Fonte de Recurso >",0]
[0,{"$f":"VLOOKUP(D606,Listas!$R$2:$S$12,2,FALSE)","v":"Componente0"},null,"< Selecione o Componente >","< Selecione o Produto ou Serviço >",null,null,"< Selecione a Fonte de Recurso >",0,null,null,null,null,"< Selecione a Fonte de Recurso >",0]
[0,{"$f":"VLOOKUP(D607,Listas!$R$2:$S$12,2,FALSE)","v":"Componente0"},null,"< Selecione o Componente >","< Selecione o Produto ou Serviço >",null,null,"< Selecione a Fonte de Recurso >",0,null,null,null,null,"< Selecione a Fonte de Recurso >",0]
[0,{"$f":"VLOOKUP(D608,Listas!$R$2:$S$12,2,FALSE)","v":"Componente0"},null,"< Selecione o Componente >","< Selecione o Produto ou Serviço >",null,null,"< Selecione a Fonte de Recurso >",0,null,null,null,null,"< Selecione a Fonte de Recurso >",0]
[0,{"$f":"VLOOKUP(D609,Listas!$R$2:$S$12,2,FALSE)","v":"Componente0"},null,"< Selecione o Componente >","< Selecione o Produto ou Serviço >",null,null,"< Selecione a Fonte de Recurso >",0,null,null,null,null,"< Selecione a Fonte de Recurso >",0]
[0,{"$f":"VLOOKUP(D610,Listas!$R$2:$S$12,2,FALSE)","v":"Componente0"},null,"< Selecione o Componente >","< Selecione o Produto ou Serviço >",null,null,"< Selecione a Fonte de Recurso >",0,null,null,null,null,"< Selecione a Fonte de Recurso >",0]
[0,{"$f":"VLOOKUP(D611,Listas!$R$2:$S$12,2,FALSE)","v":"Componente0"},null,"< Selecione o Componente >","< Selecione o Produto ou Serviço >",null,null,"< Selecione a Fonte de Recurso >",0,null,null,null,null,"< Selecione a Fonte de Recurso >",0]
[0,{"$f":"VLOOKUP(D612,Listas!$R$2:$S$12,2,FALSE)","v":"Componente0"},null,"< Selecione o Componente >","< Selecione o Produto ou Serviço >",null,null,"< Selecione a Fonte de Recurso >",0,null,null,null,null,"< Selecione a Fonte de Recurso >",0]
[0,{"$f":"VLOOKUP(D613,Listas!$R$2:$S$12,2,FALSE)","v":"Componente0"},null,"< Selecione o Componente >","< Selecione o Produto ou Serviço >",null,null,"< Selecione a Fonte de Recurso >",0,null,null,null,null,"< Selecione a Fonte de Recurso >",0]
[0,{"$f":"VLOOKUP(D614,Listas!$R$2:$S$12,2,FALSE)","v":"Componente0"},null,"< Selecione o Componente >","< Selecione o Produto ou Serviço >",null,null,"< Selecione a Fonte de Recurso >",0,null,null,null,null,"< Selecione a Fonte de Recurso >",0]
[0,{"$f":"VLOOKUP(D615,Listas!$R$2:$S$12,2,FALSE)","v":"Componente0"},null,"< Selecione o Componente >","< Selecione o Produto ou Serviço >",null,null,"< Selecione a Fonte de Recurso >",0,null,null,null,null,"< Selecione a Fonte de Recurso >",0]
[0,{"$f":"VLOOKUP(D616,Listas!$R$2:$S$12,2,FALSE)","v":"Componente0"},null,"< Selecione o Componente >","< Selecione o Produto ou Serviço >",null,null,"< Selecione a Fonte de Recurso >",0,null,null,null,null,"< Selecione a Fonte de Recurso >",0]
[0,{"$f":"VLOOKUP(D617,Listas!$R$2:$S$12,2,FALSE)","v":"Componente0"},null,"< Selecione o Componente >","< Selecione o Produto ou Serviço >",null,null,"< Selecione a Fonte de Recurso >",0,null,null,null,null,"< Selecione a Fonte de Recurso >",0]
[0,{"$f":"VLOOKUP(D618,Listas!$R$2:$S$12,2,FALSE)","v":"Componente0"},null,"< Selecione o Componente >","< Selecione o Produto ou Serviço >",null,null,"< Selecione a Fonte de Recurso >",0,null,null,null,null,"< Selecione a Fonte de Recurso >",0]
[0,{"$f":"VLOOKUP(D619,Listas!$R$2:$S$12,2,FALSE)","v":"Componente0"},null,"< Selecione o Componente >","< Selecione o Produto ou Serviço >",null,null,"< Selecione a Fonte de Recurso >",0,null,null,null,null,"< Selecione a Fonte de Recurso >",0]
[0,{"$f":"VLOOKUP(D620,Listas!$R$2:$S$12,2,FALSE)","v":"Componente0"},null,"< Selecione o Componente >","< Selecione o Produto ou Serviço >",null,null,"< Selecione a Fonte de Recurso >",0,null,null,null,null,"< Selecione a Fonte de Recurso >",0]
[0,{"$f":"VLOOKUP(D621,Listas!$R$2:$S$12,2,FALSE)","v":"Componente0"},null,"< Selecione o Componente >","< Selecione o Produto ou Serviço >",null,null,"< Selecione a Fonte de Recurso >",0,null,null,null,null,"< Selecione a Fonte de Recurso >",0]
[0,{"$f":"VLOOKUP(D622,Listas!$R$2:$S$12,2,FALSE)","v":"Componente0"},null,"< Selecione o Componente >","< Selecione o Produto ou Serviço >",null,null,"< Selecione a Fonte de Recurso >",0,null,null,null,null,"< Selecione a Fonte de Recurso >",0]
[0,{"$f":"VLOOKUP(D623,Listas!$R$2:$S$12,2,FALSE)","v":"Componente0"},null,"< Selecione o Componente >","< Selecione o Produto ou Serviço >",null,null,"< Selecione a Fonte de Recurso >",0,null,null,null,null,"< Selecione a Fonte de Recurso >",0]
[0,{"$f":"VLOOKUP(D624,Listas!$R$2:$S$12,2,FALSE)","v":"Componente0"},null,"< Selecione o Componente >","< Selecione o Produto ou Serviço >",null,null,"< Selecione a Fonte de Recurso >",0,null,null,null,null,"< Selecione a Fonte de Recurso >",0]
[0,{"$f":"VLOOKUP(D625,Listas!$R$2:$S$12,2,FALSE)","v":"Componente0"},null,"< Selecione o Componente >","< Selecione o Produto ou Serviço >",null,null,"< Selecione a Fonte de Recurso >",0,null,null,null,null,"< Selecione a Fonte de Recurso >",0]
[0,{"$f":"VLOOKUP(D626,Listas!$R$2:$S$12,2,FALSE)","v":"Componente0"},null,"< Selecione o Componente >","< Selecione o Produto ou Serviço >",null,null,"< Selecione a Fonte de Recurso >",0,null,null,null,null,"< Selecione a Fonte de Recurso >",0]
[0,{"$f":"VLOOKUP(D627,Listas!$R$2:$S$12,2,FALSE)","v":"Componente0"},null,"< Selecione o Componente >","< Selecione o Produto ou Serviço >",null,null,"< Selecione a Fonte de Recurso >",0,null,null,null,null,"< Selecione a Fonte de Recurso >",0]
[0,{"$f":"VLOOKUP(D628,Listas!$R$2:$S$12,2,FALSE)","v":"Componente0"},null,"< Selecione o Componente >","< Selecione o Produto ou Serviço >",null,null,"< Selecione a Fonte de Recurso >",0,null,null,null,null,"< Selecione a Fonte de Recurso >",0]
[0,{"$f":"VLOOKUP(D629,Listas!$R$2:$S$12,2,FALSE)","v":"Componente0"},null,"< Selecione o Componente >","< Selecione o Produto ou Serviço >",null,null,"< Selecione a Fonte de Recurso >",0,null,null,null,null,"< Selecione a Fonte de Recurso >",0]
[0,{"$f":"VLOOKUP(D630,Listas!$R$2:$S$12,2,FALSE)","v":"Componente0"},null,"< Selecione o Componente >","< Selecione o Produto ou Serviço >",null,null,"< Selecione a Fonte de Recurso >",0,null,null,null,null,"< Selecione a Fonte de Recurso >",0]
[0,{"$f":"VLOOKUP(D631,Listas!$R$2:$S$12,2,FALSE)","v":"Componente0"},null,"< Selecione o Componente >","< Selecione o Produto ou Serviço >",null,null,"< Selecione a Fonte de Recurso >",0,null,null,null,null,"< Selecione a Fonte de Recurso >",0]
[0,{"$f":"VLOOKUP(D632,Listas!$R$2:$S$12,2,FALSE)","v":"Componente0"},null,"< Selecione o Componente >","< Selecione o Produto ou Serviço >",null,null,"< Selecione a Fonte de Recurso >",0,null,null,null,null,"< Selecione a Fonte de Recurso >",0]
[0,{"$f":"VLOOKUP(D633,Listas!$R$2:$S$12,2,FALSE)","v":"Componente0"},null,"< Selecione o Componente >","< Selecione o Produto ou Serviço >",null,null,"< Selecione a Fonte de Recurso >",0,null,null,null,null,"< Selecione a Fonte de Recurso >",0]
[0,{"$f":"VLOOKUP(D634,Listas!$R$2:$S$12,2,FALSE)","v":"Componente0"},null,"< Selecione o Componente >","< Selecione o Produto ou Serviço >",null,null,"< Selecione a Fonte de Recurso >",0,null,null,null,null,"< Selecione a Fonte de Recurso >",0]
[0,{"$f":"VLOOKUP(D635,Listas!$R$2:$S$12,2,FALSE)","v":"Componente0"},null,"< Selecione o Componente >","< Selecione o Produto ou Serviço >",null,null,"< Selecione a Fonte de Recurso >",0,null,null,null,null,"< Selecione a Fonte de Recurso >",0]
[0,{"$f":"VLOOKUP(D636,Listas!$R$2:$S$12,2,FALSE)","v":"Componente0"},null,"< Selecione o Componente >","< Selecione o Produto ou Serviço >",null,null,"< Selecione a Fonte de Recurso >",0,null,null,null,null,"< Selecione a Fonte de Recurso >",0]
[0,{"$f":"VLOOKUP(D637,Listas!$R$2:$S$12,2,FALSE)","v":"Componente0"},null,"< Selecione o Componente >","< Selecione o Produto ou Serviço >",null,null,"< Selecione a Fonte de Recurso >",0,null,null,null,null,"< Selecione a Fonte de Recurso >",0]
[0,{"$f":"VLOOKUP(D638,Listas!$R$2:$S$12,2,FALSE)","v":"Componente0"},null,"< Selecione o Componente >","< Selecione o Produto ou Serviço >",null,null,"< Selecione a Fonte de Recurso >",0,null,null,null,null,"< Selecione a Fonte de Recurso >",0]
[0,{"$f":"VLOOKUP(D639,Listas!$R$2:$S$12,2,FALSE)","v":"Componente0"},null,"< Selecione o Componente >","< Selecione o Produto ou Serviço >",null,null,"< Selecione a Fonte de Recurso >",0,null,null,null,null,"< Selecione a Fonte de Recurso >",0]
[0,{"$f":"VLOOKUP(D640,Listas!$R$2:$S$12,2,FALSE)","v":"Componente0"},null,"< Selecione o Componente >","< Selecione o Produto ou Serviço >",null,null,"< Selecione a Fonte de Recurso >",0,null,null,null,null,"< Selecione a Fonte de Recurso >",0]
[0,{"$f":"VLOOKUP(D641,Listas!$R$2:$S$12,2,FALSE)","v":"Componente0"},null,"< Selecione o Componente >","< Selecione o Produto ou Serviço >",null,null,"< Selecione a Fonte de Recurso >",0,null,null,null,null,"< Selecione a Fonte de Recurso >",0]
[0,{"$f":"VLOOKUP(D642,Listas!$R$2:$S$12,2,FALSE)","v":"Componente0"},null,"< Selecione o Componente >","< Selecione o Produto ou Serviço >",null,null,"< Selecione a Fonte de Recurso >",0,null,null,null,null,"< Selecione a Fonte de Recurso >",0]
[0,{"$f":"VLOOKUP(D643,Listas!$R$2:$S$12,2,FALSE)","v":"Componente0"},null,"< Selecione o Componente >","< Selecione o Produto ou Serviço >",null,null,"< Selecione a Fonte de Recurso >",0,null,null,null,null,"< Selecione a Fonte de Recurso >",0]
[0,{"$f":"VLOOKUP(D644,Listas!$R$2:$S$12,2,FALSE)","v":"Componente0"},null,"< Selecione o Componente >","< Selecione o Produto ou Serviço >",null,null,"< Selecione a Fonte de Recurso >",0,null,null,null,null,"< Selecione a Fonte de Recurso >",0]
[0,{"$f":"VLOOKUP(D645,Listas!$R$2:$S$12,2,FALSE)","v":"Componente0"},null,"< Selecione o Componente >","< Selecione o Produto ou Serviço >",null,null,"< Selecione a Fonte de Recurso >",0,null,null,null,null,"< Selecione a Fonte de Recurso >",0]
[0,{"$f":"VLOOKUP(D646,Listas!$R$2:$S$12,2,FALSE)","v":"Componente0"},null,"< Selecione o Componente >","< Selecione o Produto ou Serviço >",null,null,"< Selecione a Fonte de Recurso >",0,null,null,null,null,"< Selecione a Fonte de Recurso >",0]
[0,{"$f":"VLOOKUP(D647,Listas!$R$2:$S$12,2,FALSE)","v":"Componente0"},null,"< Selecione o Componente >","< Selecione o Produto ou Serviço >",null,null,"< Selecione a Fonte de Recurso >",0,null,null,null,null,"< Selecione a Fonte de Recurso >",0]
[0,{"$f":"VLOOKUP(D648,Listas!$R$2:$S$12,2,FALSE)","v":"Componente0"},null,"< Selecione o Componente >","< Selecione o Produto ou Serviço >",null,null,"< Selecione a Fonte de Recurso >",0,null,null,null,null,"< Selecione a Fonte de Recurso >",0]
[0,{"$f":"VLOOKUP(D649,Listas!$R$2:$S$12,2,FALSE)","v":"Componente0"},null,"< Selecione o Componente >","< Selecione o Produto ou Serviço >",null,null,"< Selecione a Fonte de Recurso >",0,null,null,null,null,"< Selecione a Fonte de Recurso >",0]
[0,{"$f":"VLOOKUP(D650,Listas!$R$2:$S$12,2,FALSE)","v":"Componente0"},null,"< Selecione o Componente >","< Selecione o Produto ou Serviço >",null,null,{"$f":"N650","v":"< Selecione a Fonte de Recurso >"},{"$f":"O650","v":0},null,null,null,null,"< Selecione a Fonte de Recurso >",{"$f":"K650*M650","v":0}]
[0,{"$f":"VLOOKUP(D651,Listas!$R$2:$S$12,2,FALSE)","v":"Componente0"},null,"< Selecione o Componente >","< Selecione o Produto ou Serviço >",null,null,"< Selecione a Fonte de Recurso >",0,null,null,null,null,"< Selecione a Fonte de Recurso >",0]
[0,{"$f":"VLOOKUP(D652,Listas!$R$2:$S$12,2,FALSE)","v":"Componente0"},null,"< Selecione o Componente >","< Selecione o Produto ou Serviço >",null,null,"< Selecione a Fonte de Recurso >",0,null,null,null,null,"< Selecione a Fonte de Recurso >",0]
[0,{"$f":"VLOOKUP(D653,Listas!$R$2:$S$12,2,FALSE)","v":"Componente0"},null,"< Selecione o Componente >","< Selecione o Produto ou Serviço >",null,null,"< Selecione a Fonte de Recurso >",0,null,null,null,null,"< Selecione a Fonte de Recurso >",0]
[0,{"$f":"VLOOKUP(D654,Listas!$R$2:$S$12,2,FALSE)","v":"Componente0"},null,"< Selecione o Componente >","< Selecione o Produto ou Serviço >",null,null,"< Selecione a Fonte de Recurso >",0,null,null,null,null,"< Selecione a Fonte de Recurso >",0]
[0,{"$f":"VLOOKUP(D655,Listas!$R$2:$S$12,2,FALSE)","v":"Componente0"},null,"< Selecione o Componente >","< Selecione o Produto ou Serviço >",null,null,"< Selecione a Fonte de Recurso >",0,null,null,null,null,"< Selecione a Fonte de Recurso >",0]
[0,{"$f":"VLOOKUP(D656,Listas!$R$2:$S$12,2,FALSE)","v":"Componente0"},null,"< Selecione o Componente >","< Selecione o Produto ou Serviço >",null,null,"< Selecione a Fonte de Recurso >",0,null,null,null,null,"< Selecione a Fonte de Recurso >",0]
[0,{"$f":"VLOOKUP(D657,Listas!$R$2:$S$12,2,FALSE)","v":"Componente0"},null,"< Selecione o Componente >","< Selecione o Produto ou Serviço >",null,null,"< Selecione a Fonte de Recurso >",0,null,null,null,null,"< Selecione a Fonte de Recurso >",0]
[{"$f":"IF(OR(E658=\"< selecione o Produto ou Serviço >\",E658=\"\"),0,1)","v":0},{"$f":"VLOOKUP(D658,Listas!$R$2:$S$12,2,FALSE)","v":"Componente0"},null,"< Selecione o Componente >","< Selecione o Produto ou Serviço >",null,null,"< Selecione a Fonte de Recurso >",0,null,null,null,null,"< Selecione a Fonte de Recurso >",0]
[0,{"$f":"VLOOKUP(D659,Listas!$R$2:$S$12,2,FALSE)","v":"Componente0"},null,"< Selecione o Componente >","< Selecione o Produto ou Serviço >",null,null,"< Selecione a Fonte de Recurso >",0,null,null,null,null,"< Selecione a Fonte de Recurso >",0]
[0,{"$f":"VLOOKUP(D660,Listas!$R$2:$S$12,2,FALSE)","v":"Componente0"},null,"< Selecione o Componente >","< Selecione o Produto ou Serviço >",null,null,"< Selecione a Fonte de Recurso >",0,null,null,null,null,"< Selecione a Fonte de Recurso >",0]
[0,{"$f":"VLOOKUP(D661,Listas!$R$2:$S$12,2,FALSE)","v":"Componente0"},null,"< Selecione o Componente >","< Selecione o Produto ou Serviço >",null,null,"< Selecione a Fonte de Recurso >",0,null,null,null,null,"< Selecione a Fonte de Recurso >",0]
[0,{"$f":"VLOOKUP(D662,Listas!$R$2:$S$12,2,FALSE)","v":"Componente0"},null,"< Selecione o Componente >","< Selecione o Produto ou Serviço >",null,null,"< Selecione a Fonte de Recurso >",0,null,null,null,null,"< Selecione a Fonte de Recurso >",0]
[0,{"$f":"VLOOKUP(D663,Listas!$R$2:$S$12,2,FALSE)","v":"Componente0"},null,"< Selecione o Componente >","< Selecione o Produto ou Serviço >",null,null,"< Selecione a Fonte de Recurso >",0,null,null,null,null,"< Selecione a Fonte de Recurso >",0]
[0,{"$f":"VLOOKUP(D664,Listas!$R$2:$S$12,2,FALSE)","v":"Componente0"},null,"< Selecione o Componente >","< Selecione o Produto ou Serviço >",null,null,"< Selecione a Fonte de Recurso >",0,null,null,null,null,"< Selecione a Fonte de Recurso >",0]
[0,{"$f":"VLOOKUP(D665,Listas!$R$2:$S$12,2,FALSE)","v":"Componente0"},null,"< Selecione o Componente >","< Selecione o Produto ou Serviço >",null,null,"< Selecione a Fonte de Recurso >",0,null,null,null,null,"< Selecione a Fonte de Recurso >",0]
[0,{"$f":"VLOOKUP(D666,Listas!$R$2:$S$12,2,FALSE)","v":"Componente0"},null,"< Selecione o Componente >","< Selecione o Produto ou Serviço >",null,null,"< Selecione a Fonte de Recurso >",0,null,null,null,null,"< Selecione a Fonte de Recurso >",0]
[0,{"$f":"VLOOKUP(D667,Listas!$R$2:$S$12,2,FALSE)","v":"Componente0"},null,"< Selecione o Componente >","< Selecione o Produto ou Serviço >",null,null,"< Selecione a Fonte de Recurso >",0,null,null,null,null,"< Selecione a Fonte de Recurso >",0]
[0,{"$f":"VLOOKUP(D668,Listas!$R$2:$S$12,2,FALSE)","v":"Componente0"},null,"< Selecione o Componente >","< Selecione o Produto ou Serviço >",null,null,"< Selecione a Fonte de Recurso >",0,null,null,null,null,"< Selecione a Fonte de Recurso >",0]
[0,{"$f":"VLOOKUP(D669,Listas!$R$2:$S$12,2,FALSE)","v":"Componente0"},null,"< Selecione o Componente >","< Selecione o Produto ou Serviço >",null,null,"< Selecione a Fonte de Recurso >",0,null,null,null,null,"< Selecione a Fonte de Recurso >",0]
[0,{"$f":"VLOOKUP(D670,Listas!$R$2:$S$12,2,FALSE)","v":"Componente0"},null,"< Selecione o Componente >","< Selecione o Produto ou Serviço >",null,null,"< Selecione a Fonte de Recurso >",0,null,null,null,null,"< Selecione a Fonte de Recurso >",0]
[0,{"$f":"VLOOKUP(D671,Listas!$R$2:$S$12,2,FALSE)","v":"Componente0"},null,"< Selecione o Componente >","< Selecione o Produto ou Serviço >",null,null,"< Selecione a Fonte de Recurso >",0,null,null,null,null,"< Selecione a Fonte de Recurso >",0]
[0,{"$f":"VLOOKUP(D672,Listas!$R$2:$S$12,2,FALSE)","v":"Componente0"},null,"< Selecione o Componente >","< Selecione o Produto ou Serviço >",null,null,"< Selecione a Fonte de Recurso >",0,null,null,null,null,"< Selecione a Fonte de Recurso >",0]
[0,{"$f":"VLOOKUP(D673,Listas!$R$2:$S$12,2,FALSE)","v":"Componente0"},null,"< Selecione o Componente >","< Selecione o Produto ou Serviço >",null,null,"< Selecione a Fonte de Recurso >",0,null,null,null,null,"< Selecione a Fonte de Recurso >",0]
[0,{"$f":"VLOOKUP(D674,Listas!$R$2:$S$12,2,FALSE)","v":"Componente0"},null,"< Selecione o Componente >","< Selecione o Produto ou Serviço >",null,null,"< Selecione a Fonte de Recurso >",0,null,null,null,null,"< Selecione a Fonte de Recurso >",0]
[0,{"$f":"VLOOKUP(D675,Listas!$R$2:$S$12,2,FALSE)","v":"Componente0"},null,"< Selecione o Componente >","< Selecione o Produto ou Serviço >",null,null,"< Selecione a Fonte de Recurso >",0,null,null,null,null,"< Selecione a Fonte de Recurso >",0]
[0,{"$f":"VLOOKUP(D676,Listas!$R$2:$S$12,2,FALSE)","v":"Componente0"},null,"< Selecione o Componente >","< Selecione o Produto ou Serviço >",null,null,"< Selecione a Fonte de Recurso >",0,null,null,null,null,"< Selecione a Fonte de Recurso >",0]
[0,{"$f":"VLOOKUP(D677,Listas!$R$2:$S$12,2,FALSE)","v":"Componente0"},null,"< Selecione o Componente >","< Selecione o Produto ou Serviço >",null,null,"< Selecione a Fonte de Recurso >",0,null,null,null,null,"< Selecione a Fonte de Recurso >",0]
[0,{"$f":"VLOOKUP(D678,Listas!$R$2:$S$12,2,FALSE)","v":"Componente0"},null,"< Selecione o Componente >","< Selecione o Produto ou Serviço >",null,null,"< Selecione a Fonte de Recurso >",0,null,null,null,null,"< Selecione a Fonte de Recurso >",0]
[0,{"$f":"VLOOKUP(D679,Listas!$R$2:$S$12,2,FALSE)","v":"Componente0"},null,"< Selecione o Componente >","< Selecione o Produto ou Serviço >",null,null,"< Selecione a Fonte de Recurso >",0,null,null,null,null,"< Selecione a Fonte de Recurso >",0]
[0,{"$f":"VLOOKUP(D680,Listas!$R$2:$S$12,2,FALSE)","v":"Componente0"},null,"< Selecione o Componente >","< Selecione o Produto ou Serviço >",null,null,"< Selecione a Fonte de Recurso >",0,null,null,null,null,"< Selecione a Fonte de Recurso >",0]
[0,{"$f":"VLOOKUP(D681,Listas!$R$2:$S$12,2,FALSE)","v":"Componente0"},null,"< Selecione o Componente >","< Selecione o Produto ou Serviço >",null,null,"< Selecione a Fonte de Recurso >",0,null,null,null,null,"< Selecione a Fonte de Recurso >",0]
[0,{"$f":"VLOOKUP(D682,Listas!$R$2:$S$12,2,FALSE)","v":"Componente0"},null,"< Selecione o Componente >","< Selecione o Produto ou Serviço >",null,null,"< Selecione a Fonte de Recurso >",0,null,null,null,null,"< Selecione a Fonte de Recurso >",0]
[0,{"$f":"VLOOKUP(D683,Listas!$R$2:$S$12,2,FALSE)","v":"Componente0"},null,"< Selecione o Componente >","< Selecione o Produto ou Serviço >",null,null,"< Selecione a Fonte de Recurso >",0,null,null,null,null,"< Selecione a Fonte de Recurso >",0]
[0,{"$f":"VLOOKUP(D684,Listas!$R$2:$S$12,2,FALSE)","v":"Componente0"},null,"< Selecione o Componente >","< Selecione o Produto ou Serviço >",null,null,"< Selecione a Fonte de Recurso >",0,null,null,null,null,"< Selecione a Fonte de Recurso >",0]
[0,{"$f":"VLOOKUP(D685,Listas!$R$2:$S$12,2,FALSE)","v":"Componente0"},null,"< Selecione o Componente >","< Selecione o Produto ou Serviço >",null,null,"< Selecione a Fonte de Recurso >",0,null,null,null,null,"< Selecione a Fonte de Recurso >",0]
[0,{"$f":"VLOOKUP(D686,Listas!$R$2:$S$12,2,FALSE)","v":"Componente0"},null,"< Selecione o Componente >","< Selecione o Produto ou Serviço >",null,null,"< Selecione a Fonte de Recurso >",0,null,null,null,null,"< Selecione a Fonte de Recurso >",0]
[0,{"$f":"VLOOKUP(D687,Listas!$R$2:$S$12,2,FALSE)","v":"Componente0"},null,"< Selecione o Componente >","< Selecione o Produto ou Serviço >",null,null,"< Selecione a Fonte de Recurso >",0,null,null,null,null,"< Selecione a Fonte de Recurso >",0]
[0,{"$f":"VLOOKUP(D688,Listas!$R$2:$S$12,2,FALSE)","v":"Componente0"},null,"< Selecione o Componente >","< Selecione o Produto ou Serviço >",null,null,"< Selecione a Fonte de Recurso >",0,null,null,null,null,"< Selecione a Fonte de Recurso >",0]
[0,{"$f":"VLOOKUP(D689,Listas!$R$2:$S$12,2,FALSE)","v":"Componente0"},null,"< Selecione o Componente >","< Selecione o Produto ou Serviço >",null,null,"< Selecione a Fonte de Recurso >",0,null,null,null,null,"< Selecione a Fonte de Recurso >",0]
[0,{"$f":"VLOOKUP(D690,Listas!$R$2:$S$12,2,FALSE)","v":"Componente0"},null,"< Selecione o Componente >","< Selecione o Produto ou Serviço >",null,null,"< Selecione a Fonte de Recurso >",0,null,null,null,null,"< Selecione a Fonte de Recurso >",0]
[0,{"$f":"VLOOKUP(D691,Listas!$R$2:$S$12,2,FALSE)","v":"Componente0"},null,"< Selecione o Componente >","< Selecione o Produto ou Serviço >",null,null,"< Selecione a Fonte de Recurso >",0,null,null,null,null,"< Selecione a Fonte de Recurso >",0]
[0,{"$f":"VLOOKUP(D692,Listas!$R$2:$S$12,2,FALSE)","v":"Componente0"},null,"< Selecione o Componente >","< Selecione o Produto ou Serviço >",null,null,"< Selecione a Fonte de Recurso >",0,null,null,null,null,"< Selecione a Fonte de Recurso >",0]
[0,{"$f":"VLOOKUP(D693,Listas!$R$2:$S$12,2,FALSE)","v":"Componente0"},null,"< Selecione o Componente >","< Selecione o Produto ou Serviço >",null,null,"< Selecione a Fonte de Recurso >",0,null,null,null,null,"< Selecione a Fonte de Recurso >",0]
[0,{"$f":"VLOOKUP(D694,Listas!$R$2:$S$12,2,FALSE)","v":"Componente0"},null,"< Selecione o Componente >","< Selecione o Produto ou Serviço >",null,null,"< Selecione a Fonte de Recurso >",0,null,null,null,null,"< Selecione a Fonte de Recurso >",0]
[0,{"$f":"VLOOKUP(D695,Listas!$R$2:$S$12,2,FALSE)","v":"Componente0"},null,"< Selecione o Componente >","< Selecione o Produto ou Serviço >",null,null,"< Selecione a Fonte de Recurso >",0,null,null,null,null,"< Selecione a Fonte de Recurso >",0]
[0,{"$f":"VLOOKUP(D696,Listas!$R$2:$S$12,2,FALSE)","v":"Componente0"},null,"< Selecione o Componente >","< Selecione o Produto ou Serviço >",null,null,"< Selecione a Fonte de Recurso >",0,null,null,null,null,"< Selecione a Fonte de Recurso >",0]
[0,{"$f":"VLOOKUP(D697,Listas!$R$2:$S$12,2,FALSE)","v":"Componente0"},null,"< Selecione o Componente >","< Selecione o Produto ou Serviço >",null,null,"< Selecione a Fonte de Recurso >",0,null,null,null,null,"< Selecione a Fonte de Recurso >",0]
[0,{"$f":"VLOOKUP(D698,Listas!$R$2:$S$12,2,FALSE)","v":"Componente0"},null,"< Selecione o Componente >","< Selecione o Produto ou Serviço >",null,null,"< Selecione a Fonte de Recurso >",0,null,null,null,null,"< Selecione a Fonte de Recurso >",0]
[0,{"$f":"VLOOKUP(D699,Listas!$R$2:$S$12,2,FALSE)","v":"Componente0"},null,"< Selecione o Componente >","< Selecione o Produto ou Serviço >",null,null,"< Selecione a Fonte de Recurso >",0,null,null,null,null,"< Selecione a Fonte de Recurso >",0]
[0,{"$f":"VLOOKUP(D700,Listas!$R$2:$S$12,2,FALSE)","v":"Componente0"},null,"< Selecione o Componente >","< Selecione o Produto ou Serviço >",null,null,"< Selecione a Fonte de Recurso >",0,null,null,null,null,"< Selecione a Fonte de Recurso >",0]
[0,{"$f":"VLOOKUP(D701,Listas!$R$2:$S$12,2,FALSE)","v":"Componente0"},null,"< Selecione o Componente >","< Selecione o Produto ou Serviço >",null,null,"< Selecione a Fonte de Recurso >",0,null,null,null,null,"< Selecione a Fonte de Recurso >",0]
[0,{"$f":"VLOOKUP(D702,Listas!$R$2:$S$12,2,FALSE)","v":"Componente0"},null,"< Selecione o Componente >","< Selecione o Produto ou Serviço >",null,null,"< Selecione a Fonte de Recurso >",0,null,null,null,null,"< Selecione a Fonte de Recurso >",0]
[0,{"$f":"VLOOKUP(D703,Listas!$R$2:$S$12,2,FALSE)","v":"Componente0"},null,"< Selecione o Componente >","< Selecione o Produto ou Serviço >",null,null,"< Selecione a Fonte de Recurso >",0,null,null,null,null,"< Selecione a Fonte de Recurso >",0]
[0,{"$f":"VLOOKUP(D704,Listas!$R$2:$S$12,2,FALSE)","v":"Componente0"},null,"< Selecione o Componente >","< Selecione o Produto ou Serviço >",null,null,"< Selecione a Fonte de Recurso >",0,null,null,null,null,"< Selecione a Fonte de Recurso >",0]
[0,{"$f":"VLOOKUP(D705,Listas!$R$2:$S$12,2,FALSE)","v":"Componente0"},null,"< Selecione o Componente >","< Selecione o Produto ou Serviço >",null,null,"< Selecione a Fonte de Recurso >",0,null,null,null,null,"< Selecione a Fonte de Recurso >",0]
[0,{"$f":"VLOOKUP(D706,Listas!$R$2:$S$12,2,FALSE)","v":"Componente0"},null,"< Selecione o Componente >","< Selecione o Produto ou Serviço >",null,null,"< Selecione a Fonte de Recurso >",0,null,null,null,null,"< Selecione a Fonte de Recurso >",0]
[0,{"$f":"VLOOKUP(D707,Listas!$R$2:$S$12,2,FALSE)","v":"Componente0"},null,"< Selecione o Componente >","< Selecione o Produto ou Serviço >",null,null,"< Selecione a Fonte de Recurso >",0,null,null,null,null,"< Selecione a Fonte de Recurso >",0]
[0,{"$f":"VLOOKUP(D708,Listas!$R$2:$S$12,2,FALSE)","v":"Componente0"},null,"< Selecione o Componente >","< Selecione o Produto ou Serviço >",null,null,"< Selecione a Fonte de Recurso >",0,null,null,null,null,"< Selecione a Fonte de Recurso >",0]
[0,{"$f":"VLOOKUP(D709,Listas!$R$2:$S$12,2,FALSE)","v":"Componente0"},null,"< Selecione o Componente >","< Selecione o Produto ou Serviço >",null,null,"< Selecione a Fonte de Recurso >",0,null,null,null,null,"< Selecione a Fonte de Recurso >",0]
[0,{"$f":"VLOOKUP(D710,Listas!$R$2:$S$12,2,FALSE)","v":"Componente0"},null,"< Selecione o Componente >","< Selecione o Produto ou Serviço >",null,null,"< Selecione a Fonte de Recurso >",0,null,null,null,null,"< Selecione a Fonte de Recurso >",0]
[0,{"$f":"VLOOKUP(D711,Listas!$R$2:$S$12,2,FALSE)","v":"Componente0"},null,"< Selecione o Componente >","< Selecione o Produto ou Serviço >",null,null,"< Selecione a Fonte de Recurso >",0,null,null,null,null,"< Selecione a Fonte de Recurso >",0]
[0,{"$f":"VLOOKUP(D712,Listas!$R$2:$S$12,2,FALSE)","v":"Componente0"},null,"< Selecione o Componente >","< Selecione o Produto ou Serviço >",null,null,"< Selecione a Fonte de Recurso >",0,null,null,null,null,"< Selecione a Fonte de Recurso >",0]
[0,{"$f":"VLOOKUP(D713,Listas!$R$2:$S$12,2,FALSE)","v":"Componente0"},null,"< Selecione o Componente >","< Selecione o Produto ou Serviço >",null,null,"< Selecione a Fonte de Recurso >",0,null,null,null,null,"< Selecione a Fonte de Recurso >",0]
[0,{"$f":"VLOOKUP(D714,Listas!$R$2:$S$12,2,FALSE)","v":"Componente0"},null,"< Selecione o Componente >","< Selecione o Produto ou Serviço >",null,null,{"$f":"N714","v":"< Selecione a Fonte de Recurso >"},{"$f":"O714","v":0},null,null,null,null,"< Selecione a Fonte de Recurso >",{"$f":"K714*M714","v":0}]
[0,{"$f":"VLOOKUP(D715,Listas!$R$2:$S$12,2,FALSE)","v":"Componente0"},null,"< Selecione o Componente >","< Selecione o Produto ou Serviço >",null,null,"< Selecione a Fonte de Recurso >",0,null,null,null,null,"< Selecione a Fonte de Recurso >",0]
[0,{"$f":"VLOOKUP(D716,Listas!$R$2:$S$12,2,FALSE)","v":"Componente0"},null,"< Selecione o Componente >","< Selecione o Produto ou Serviço >",null,null,"< Selecione a Fonte de Recurso >",0,null,null,null,null,"< Selecione a Fonte de Recurso >",0]
[0,{"$f":"VLOOKUP(D717,Listas!$R$2:$S$12,2,FALSE)","v":"Componente0"},null,"< Selecione o Componente >","< Selecione o Produto ou Serviço >",null,null,"< Selecione a Fonte de Recurso >",0,null,null,null,null,"< Selecione a Fonte de Recurso >",0]
[0,{"$f":"VLOOKUP(D718,Listas!$R$2:$S$12,2,FALSE)","v":"Componente0"},null,"< Selecione o Componente >","< Selecione o Produto ou Serviço >",null,null,"< Selecione a Fonte de Recurso >",0,null,null,null,null,"< Selecione a Fonte de Recurso >",0]
[0,{"$f":"VLOOKUP(D719,Listas!$R$2:$S$12,2,FALSE)","v":"Componente0"},null,"< Selecione o Componente >","< Selecione o Produto ou Serviço >",null,null,"< Selecione a Fonte de Recurso >",0,null,null,null,null,"< Selecione a Fonte de Recurso >",0]
[0,{"$f":"VLOOKUP(D720,Listas!$R$2:$S$12,2,FALSE)","v":"Componente0"},null,"< Selecione o Componente >","< Selecione o Produto ou Serviço >",null,null,"< Selecione a Fonte de Recurso >",0,null,null,null,null,"< Selecione a Fonte de Recurso >",0]
[0,{"$f":"VLOOKUP(D721,Listas!$R$2:$S$12,2,FALSE)","v":"Componente0"},null,"< Selecione o Componente >","< Selecione o Produto ou Serviço >",null,null,"< Selecione a Fonte de Recurso >",0,null,null,null,null,"< Selecione a Fonte de Recurso >",0]
[{"$f":"IF(OR(E722=\"< selecione o Produto ou Serviço >\",E722=\"\"),0,1)","v":0},{"$f":"VLOOKUP(D722,Listas!$R$2:$S$12,2,FALSE)","v":"Componente0"},null,"< Selecione o Componente >","< Selecione o Produto ou Serviço >",null,null,"< Selecione a Fonte de Recurso >",0,null,null,null,null,"< Selecione a Fonte de Recurso >",0]
[0,{"$f":"VLOOKUP(D723,Listas!$R$2:$S$12,2,FALSE)","v":"Componente0"},null,"< Selecione o Componente >","< Selecione o Produto ou Serviço >",null,null,"< Selecione a Fonte de Recurso >",0,null,null,null,null,"< Selecione a Fonte de Recurso >",0]
[0,{"$f":"VLOOKUP(D724,Listas!$R$2:$S$12,2,FALSE)","v":"Componente0"},null,"< Selecione o Componente >","< Selecione o Produto ou Serviço >",null,null,"< Selecione a Fonte de Recurso >",0,null,null,null,null,"< Selecione a Fonte de Recurso >",0]
[0,{"$f":"VLOOKUP(D725,Listas!$R$2:$S$12,2,FALSE)","v":"Componente0"},null,"< Selecione o Componente >","< Selecione o Produto ou Serviço >",null,null,"< Selecione a Fonte de Recurso >",0,null,null,null,null,"< Selecione a Fonte de Recurso >",0]
[0,{"$f":"VLOOKUP(D726,Listas!$R$2:$S$12,2,FALSE)","v":"Componente0"},null,"< Selecione o Componente >","< Selecione o Produto ou Serviço >",null,null,"< Selecione a Fonte de Recurso >",0,null,null,null,null,"< Selecione a Fonte de Recurso >",0]
[0,{"$f":"VLOOKUP(D727,Listas!$R$2:$S$12,2,FALSE)","v":"Componente0"},null,"< Selecione o Componente >","< Selecione o Produto ou Serviço >",null,null,"< Selecione a Fonte de Recurso >",0,null,null,null,null,"< Selecione a Fonte de Recurso >",0]
[0,{"$f":"VLOOKUP(D728,Listas!$R$2:$S$12,2,FALSE)","v":"Componente0"},null,"< Selecione o Componente >","< Selecione o Produto ou Serviço >",null,null,"< Selecione a Fonte de Recurso >",0,null,null,null,null,"< Selecione a Fonte de Recurso >",0]
[0,{"$f":"VLOOKUP(D729,Listas!$R$2:$S$12,2,FALSE)","v":"Componente0"},null,"< Selecione o Componente >","< Selecione o Produto ou Serviço >",null,null,"< Selecione a Fonte de Recurso >",0,null,null,null,null,"< Selecione a Fonte de Recurso >",0]
[0,{"$f":"VLOOKUP(D730,Listas!$R$2:$S$12,2,FALSE)","v":"Componente0"},null,"< Selecione o Componente >","< Selecione o Produto ou Serviço >",null,null,"< Selecione a Fonte de Recurso >",0,null,null,null,null,"< Selecione a Fonte de Recurso >",0]
[0,{"$f":"VLOOKUP(D731,Listas!$R$2:$S$12,2,FALSE)","v":"Componente0"},null,"< Selecione o Componente >","< Selecione o Produto ou Serviço >",null,null,"< Selecione a Fonte de Recurso >",0,null,null,null,null,"< Selecione a Fonte de Recurso >",0]
[0,{"$f":"VLOOKUP(D732,Listas!$R$2:$S$12,2,FALSE)","v":"Componente0"},null,"< Selecione o Componente >","< Selecione o Produto ou Serviço >",null,null,"< Selecione a Fonte de Recurso >",0,null,null,null,null,"< Selecione a Fonte de Recurso >",0]
[0,{"$f":"VLOOKUP(D733,Listas!$R$2:$S$12,2,FALSE)","v":"Componente0"},null,"< Selecione o Componente >","< Selecione o Produto ou Serviço >",null,null,"< Selecione a Fonte de Recurso >",0,null,null,null,null,"< Selecione a Fonte de Recurso >",0]
[0,{"$f":"VLOOKUP(D734,Listas!$R$2:$S$12,2,FALSE)","v":"Componente0"},null,"< Selecione o Componente >","< Selecione o Produto ou Serviço >",null,null,"< Selecione a Fonte de Recurso >",0,null,null,null,null,"< Selecione a Fonte de Recurso >",0]
[0,{"$f":"VLOOKUP(D735,Listas!$R$2:$S$12,2,FALSE)","v":"Componente0"},null,"< Selecione o Componente >","< Selecione o Produto ou Serviço >",null,null,"< Selecione a Fonte de Recurso >",0,null,null,null,null,"< Selecione a Fonte de Recurso >",0]
[0,{"$f":"VLOOKUP(D736,Listas!$R$2:$S$12,2,FALSE)","v":"Componente0"},null,"< Selecione o Componente >","< Selecione o Produto ou Serviço >",null,null,"< Selecione a Fonte de Recurso >",0,null,null,null,null,"< Selecione a Fonte de Recurso >",0]
[0,{"$f":"VLOOKUP(D737,Listas!$R$2:$S$12,2,FALSE)","v":"Componente0"},null,"< Selecione o Componente >","< Selecione o Produto ou Serviço >",null,null,"< Selecione a Fonte de Recurso >",0,null,null,null,null,"< Selecione a Fonte de Recurso >",0]
[0,{"$f":"VLOOKUP(D738,Listas!$R$2:$S$12,2,FALSE)","v":"Componente0"},null,"< Selecione o Componente >","< Selecione o Produto ou Serviço >",null,null,"< Selecione a Fonte de Recurso >",0,null,null,null,null,"< Selecione a Fonte de Recurso >",0]
[0,{"$f":"VLOOKUP(D739,Listas!$R$2:$S$12,2,FALSE)","v":"Componente0"},null,"< Selecione o Componente >","< Selecione o Produto ou Serviço >",null,null,"< Selecione a Fonte de Recurso >",0,null,null,null,null,"< Selecione a Fonte de Recurso >",0]
[0,{"$f":"VLOOKUP(D740,Listas!$R$2:$S$12,2,FALSE)","v":"Componente0"},null,"< Selecione o Componente >","< Selecione o Produto ou Serviço >",null,null,"< Selecione a Fonte de Recurso >",0,null,null,null,null,"< Selecione a Fonte de Recurso >",0]
[0,{"$f":"VLOOKUP(D741,Listas!$R$2:$S$12,2,FALSE)","v":"Componente0"},null,"< Selecione o Componente >","< Selecione o Produto ou Serviço >",null,null,"< Selecione a Fonte de Recurso >",0,null,null,null,null,"< Selecione a Fonte de Recurso >",0]
[0,{"$f":"VLOOKUP(D742,Listas!$R$2:$S$12,2,FALSE)","v":"Componente0"},null,"< Selecione o Componente >","< Selecione o Produto ou Serviço >",null,null,"< Selecione a Fonte de Recurso >",0,null,null,null,null,"< Selecione a Fonte de Recurso >",0]
[0,{"$f":"VLOOKUP(D743,Listas!$R$2:$S$12,2,FALSE)","v":"Componente0"},null,"< Selecione o Componente >","< Selecione o Produto ou Serviço >",null,null,"< Selecione a Fonte de Recurso >",0,null,null,null,null,"< Selecione a Fonte de Recurso >",0]
[0,{"$f":"VLOOKUP(D744,Listas!$R$2:$S$12,2,FALSE)","v":"Componente0"},null,"< Selecione o Componente >","< Selecione o Produto ou Serviço >",null,null,"< Selecione a Fonte de Recurso >",0,null,null,null,null,"< Selecione a Fonte de Recurso >",0]
[0,{"$f":"VLOOKUP(D745,Listas!$R$2:$S$12,2,FALSE)","v":"Componente0"},null,"< Selecione o Componente >","< Selecione o Produto ou Serviço >",null,null,"< Selecione a Fonte de Recurso >",0,null,null,null,null,"< Selecione a Fonte de Recurso >",0]
[0,{"$f":"VLOOKUP(D746,Listas!$R$2:$S$12,2,FALSE)","v":"Componente0"},null,"< Selecione o Componente >","< Selecione o Produto ou Serviço >",null,null,"< Selecione a Fonte de Recurso >",0,null,null,null,null,"< Selecione a Fonte de Recurso >",0]
[0,{"$f":"VLOOKUP(D747,Listas!$R$2:$S$12,2,FALSE)","v":"Componente0"},null,"< Selecione o Componente >","< Selecione o Produto ou Serviço >",null,null,"< Selecione a Fonte de Recurso >",0,null,null,null,null,"< Selecione a Fonte de Recurso >",0]
[0,{"$f":"VLOOKUP(D748,Listas!$R$2:$S$12,2,FALSE)","v":"Componente0"},null,"< Selecione o Componente >","< Selecione o Produto ou Serviço >",null,null,"< Selecione a Fonte de Recurso >",0,null,null,null,null,"< Selecione a Fonte de Recurso >",0]
[0,{"$f":"VLOOKUP(D749,Listas!$R$2:$S$12,2,FALSE)","v":"Componente0"},null,"< Selecione o Componente >","< Selecione o Produto ou Serviço >",null,null,"< Selecione a Fonte de Recurso >",0,null,null,null,null,"< Selecione a Fonte de Recurso >",0]
[0,{"$f":"VLOOKUP(D750,Listas!$R$2:$S$12,2,FALSE)","v":"Componente0"},null,"< Selecione o Componente >","< Selecione o Produto ou Serviço >",null,null,"< Selecione a Fonte de Recurso >",0,null,null,null,null,"< Selecione a Fonte de Recurso >",0]
[0,{"$f":"VLOOKUP(D751,Listas!$R$2:$S$12,2,FALSE)","v":"Componente0"},null,"< Selecione o Componente >","< Selecione o Produto ou Serviço >",null,null,"< Selecione a Fonte de Recurso >",0,null,null,null,null,"< Selecione a Fonte de Recurso >",0]
[0,{"$f":"VLOOKUP(D752,Listas!$R$2:$S$12,2,FALSE)","v":"Componente0"},null,"< Selecione o Componente >","< Selecione o Produto ou Serviço >",null,null,"< Selecione a Fonte de Recurso >",0,null,null,null,null,"< Selecione a Fonte de Recurso >",0]
[{"$f":"IF(OR(E753=\"< selecione o Produto ou Serviço >\",E753=\"\"),0,1)","v":0},{"$f":"VLOOKUP(D753,Listas!$R$2:$S$12,2,FALSE)","v":"Componente0"},null,"< Selecione o Componente >","< Selecione o Produto ou Serviço >",null,null,{"$f":"N753","v":"< Selecione a Fonte de Recurso >"},{"$f":"O753","v":0},null,null,null,null,"< Selecione a Fonte de Recurso >",{"$f":"K753*M753","v":0}]
[0,{"$f":"VLOOKUP(D754,Listas!$R$2:$S$12,2,FALSE)","v":"Componente0"},null,"< Selecione o Componente >","< Selecione o Produto ou Serviço >",null,null,"< Selecione a Fonte de Recurso >",0,null,null,null,null,"< Selecione a Fonte de Recurso >",0]
[0,{"$f":"VLOOKUP(D755,Listas!$R$2:$S$12,2,FALSE)","v":"Componente0"},null,"< Selecione o Componente >","< Selecione o Produto ou Serviço >",null,null,"< Selecione a Fonte de Recurso >",0,null,null,null,null,"< Selecione a Fonte de Recurso >",0]
[0,{"$f":"VLOOKUP(D756,Listas!$R$2:$S$12,2,FALSE)","v":"Componente0"},null,"< Selecione o Componente >","< Selecione o Produto ou Serviço >",null,null,"< Selecione a Fonte de Recurso >",0,null,null,null,null,"< Selecione a Fonte de Recurso >",0]
[0,{"$f":"VLOOKUP(D757,Listas!$R$2:$S$12,2,FALSE)","v":"Componente0"},null,"< Selecione o Componente >","< Selecione o Produto ou Serviço >",null,null,"< Selecione a Fonte de Recurso >",0,null,null,null,null,"< Selecione a Fonte de Recurso >",0]
[0,{"$f":"VLOOKUP(D758,Listas!$R$2:$S$12,2,FALSE)","v":"Componente0"},null,"< Selecione o Componente >","< Selecione o Produto ou Serviço >",null,null,"< Selecione a Fonte de Recurso >",0,null,null,null,null,"< Selecione a Fonte de Recurso >",0]
[0,{"$f":"VLOOKUP(D759,Listas!$R$2:$S$12,2,FALSE)","v":"Componente0"},null,"< Selecione o Componente >","< Selecione o Produto ou Serviço >",null,null,"< Selecione a Fonte de Recurso >",0,null,null,null,null,"< Selecione a Fonte de Recurso >",0]
[0,{"$f":"VLOOKUP(D760,Listas!$R$2:$S$12,2,FALSE)","v":"Componente0"},null,"< Selecione o Componente >","< Selecione o Produto ou Serviço >",null,null,"< Selecione a Fonte de Recurso >",0,null,null,null,null,"< Selecione a Fonte de Recurso >",0]
[0,{"$f":"VLOOKUP(D761,Listas!$R$2:$S$12,2,FALSE)","v":"Componente0"},null,"< Selecione o Componente >","< Selecione o Produto ou Serviço >",null,null,"< Selecione a Fonte de Recurso >",0,null,null,null,null,"< Selecione a Fonte de Recurso >",0]
[0,{"$f":"VLOOKUP(D762,Listas!$R$2:$S$12,2,FALSE)","v":"Componente0"},null,"< Selecione o Componente >","< Selecione o Produto ou Serviço >",null,null,"< Selecione a Fonte de Recurso >",0,null,null,null,null,"< Selecione a Fonte de Recurso >",0]
[0,{"$f":"VLOOKUP(D763,Listas!$R$2:$S$12,2,FALSE)","v":"Componente0"},null,"< Selecione o Componente >","< Selecione o Produto ou Serviço >",null,null,"< Selecione a Fonte de Recurso >",0,null,null,null,null,"< Selecione a Fonte de Recurso >",0]
[0,{"$f":"VLOOKUP(D764,Listas!$R$2:$S$12,2,FALSE)","v":"Componente0"},null,"< Selecione o Componente >","< Selecione o Produto ou Serviço >",null,null,"< Selecione a Fonte de Recurso >",0,null,null,null,null,"< Selecione a Fonte de Recurso >",0]
[0,{"$f":"VLOOKUP(D765,Listas!$R$2:$S$12,2,FALSE)","v":"Componente0"},null,"< Selecione o Componente >","< Selecione o Produto ou Serviço >",null,null,"< Selecione a Fonte de Recurso >",0,null,null,null,null,"< Selecione a Fonte de Recurso >",0]
[0,{"$f":"VLOOKUP(D766,Listas!$R$2:$S$12,2,FALSE)","v":"Componente0"},null,"< Selecione o Componente >","< Selecione o Produto ou Serviço >",null,null,"< Selecione a Fonte de Recurso >",0,null,null,null,null,"< Selecione a Fonte de Recurso >",0]
[0,{"$f":"VLOOKUP(D767,Listas!$R$2:$S$12,2,FALSE)","v":"Componente0"},null,"< Selecione o Componente >","< Selecione o Produto ou Serviço >",null,null,"< Selecione a Fonte de Recurso >",0,null,null,null,null,"< Selecione a Fonte de Recurso >",0]
[0,{"$f":"VLOOKUP(D768,Listas!$R$2:$S$12,2,FALSE)","v":"Componente0"},null,"< Selecione o Componente >","< Selecione o Produto ou Serviço >",null,null,"< Selecione a Fonte de Recurso >",0,null,null,null,null,"< Selecione a Fonte de Recurso >",0]
[0,{"$f":"VLOOKUP(D769,Listas!$R$2:$S$12,2,FALSE)","v":"Componente0"},null,"< Selecione o Componente >","< Selecione o Produto ou Serviço >",null,null,"< Selecione a Fonte de Recurso >",0,null,null,null,null,"< Selecione a Fonte de Recurso >",0]
[0,{"$f":"VLOOKUP(D770,Listas!$R$2:$S$12,2,FALSE)","v":"Componente0"},null,"< Selecione o Componente >","< Selecione o Produto ou Serviço >",null,null,"< Selecione a Fonte de Recurso >",0,null,null,null,null,"< Selecione a Fonte de Recurso >",0]
[0,{"$f":"VLOOKUP(D771,Listas!$R$2:$S$12,2,FALSE)","v":"Componente0"},null,"< Selecione o Componente >","< Selecione o Produto ou Serviço >",null,null,"< Selecione a Fonte de Recurso >",0,null,null,null,null,"< Selecione a Fonte de Recurso >",0]
[0,{"$f":"VLOOKUP(D772,Listas!$R$2:$S$12,2,FALSE)","v":"Componente0"},null,"< Selecione o Componente >","< Selecione o Produto ou Serviço >",null,null,"< Selecione a Fonte de Recurso >",0,null,null,null,null,"< Selecione a Fonte de Recurso >",0]
[0,{"$f":"VLOOKUP(D773,Listas!$R$2:$S$12,2,FALSE)","v":"Componente0"},null,"< Selecione o Componente >","< Selecione o Produto ou Serviço >",null,null,"< Selecione a Fonte de Recurso >",0,null,null,null,null,"< Selecione a Fonte de Recurso >",0]
[0,{"$f":"VLOOKUP(D774,Listas!$R$2:$S$12,2,FALSE)","v":"Componente0"},null,"< Selecione o Componente >","< Selecione o Produto ou Serviço >",null,null,"< Selecione a Fonte de Recurso >",0,null,null,null,null,"< Selecione a Fonte de Recurso >",0]
[0,{"$f":"VLOOKUP(D775,Listas!$R$2:$S$12,2,FALSE)","v":"Componente0"},null,"< Selecione o Componente >","< Selecione o Produto ou Serviço >",null,null,"< Selecione a Fonte de Recurso >",0,null,null,null,null,"< Selecione a Fonte de Recurso >",0]
[0,{"$f":"VLOOKUP(D776,Listas!$R$2:$S$12,2,FALSE)","v":"Componente0"},null,"< Selecione o Componente >","< Selecione o Produto ou Serviço >",null,null,"< Selecione a Fonte de Recurso >",0,null,null,null,null,"< Selecione a Fonte de Recurso >",0]
[0,{"$f":"VLOOKUP(D777,Listas!$R$2:$S$12,2,FALSE)","v":"Componente0"},null,"< Selecione o Componente >","< Selecione o Produto ou Serviço >",null,null,"< Selecione a Fonte de Recurso >",0,null,null,null,null,"< Selecione a Fonte de Recurso >",0]
[0,{"$f":"VLOOKUP(D778,Listas!$R$2:$S$12,2,FALSE)","v":"Componente0"},null,"< Selecione o Componente >","< Selecione o Produto ou Serviço >",null,null,"< Selecione a Fonte de Recurso >",0,null,null,null,null,"< Selecione a Fonte de Recurso >",0]
[0,{"$f":"VLOOKUP(D779,Listas!$R$2:$S$12,2,FALSE)","v":"Componente0"},null,"< Selecione o Componente >","< Selecione o Produto ou Serviço >",null,null,"< Selecione a Fonte de Recurso >",0,null,null,null,null,"< Selecione a Fonte de Recurso >",0]
[0,{"$f":"VLOOKUP(D780,Listas!$R$2:$S$12,2,FALSE)","v":"Componente0"},null,"< Selecione o Componente >","< Selecione o Produto ou Serviço >",null,null,"< Selecione a Fonte de Recurso >",0,null,null,null,null,"< Selecione a Fonte de Recurso >",0]
[0,{"$f":"VLOOKUP(D781,Listas!$R$2:$S$12,2,FALSE)","v":"Componente0"},null,"< Selecione o Componente >","< Selecione o Produto ou Serviço >",null,null,"< Selecione a Fonte de Recurso >",0,null,null,null,null,"< Selecione a Fonte de Recurso >",0]
[0,{"$f":"VLOOKUP(D782,Listas!$R$2:$S$12,2,FALSE)","v":"Componente0"},null,"< Selecione o Componente >","< Selecione o Produto ou Serviço >",null,null,"< Selecione a Fonte de Recurso >",0,null,null,null,null,"< Selecione a Fonte de Recurso >",0]
[0,{"$f":"VLOOKUP(D783,Listas!$R$2:$S$12,2,FALSE)","v":"Componente0"},null,"< Selecione o Componente >","< Selecione o Produto ou Serviço >",null,null,"< Selecione a Fonte de Recurso >",0,null,null,null,null,"< Selecione a Fonte de Recurso >",0]
[0,{"$f":"VLOOKUP(D784,Listas!$R$2:$S$12,2,FALSE)","v":"Componente0"},null,"< Selecione o Componente >","< Selecione o Produto ou Serviço >",null,null,"< Selecione a Fonte de Recurso >",0,null,null,null,null,"< Selecione a Fonte de Recurso >",0]
[0,{"$f":"VLOOKUP(D785,Listas!$R$2:$S$12,2,FALSE)","v":"Componente0"},null,"< Selecione o Componente >","< Selecione o Produto ou Serviço >",null,null,"< Selecione a Fonte de Recurso >",0,null,null,null,null,"< Selecione a Fonte de Recurso >",0]
[0,{"$f":"VLOOKUP(D786,Listas!$R$2:$S$12,2,FALSE)","v":"Componente0"},null,"< Selecione o Componente >","< Selecione o Produto ou Serviço >",null,null,"< Selecione a Fonte de Recurso >",0,null,null,null,null,"< Selecione a Fonte de Recurso >",0]
[0,{"$f":"VLOOKUP(D787,Listas!$R$2:$S$12,2,FALSE)","v":"Componente0"},null,"< Selecione o Componente >","< Selecione o Produto ou Serviço >",null,null,"< Selecione a Fonte de Recurso >",0,null,null,null,null,"< Selecione a Fonte de Recurso >",0]
[0,{"$f":"VLOOKUP(D788,Listas!$R$2:$S$12,2,FALSE)","v":"Componente0"},null,"< Selecione o Componente >","< Selecione o Produto ou Serviço >",null,null,"< Selecione a Fonte de Recurso >",0,null,null,null,null,"< Selecione a Fonte de Recurso >",0]
[0,{"$f":"VLOOKUP(D789,Listas!$R$2:$S$12,2,FALSE)","v":"Componente0"},null,"< Selecione o Componente >","< Selecione o Produto ou Serviço >",null,null,"< Selecione a Fonte de Recurso >",0,null,null,null,null,"< Selecione a Fonte de Recurso >",0]
[0,{"$f":"VLOOKUP(D790,Listas!$R$2:$S$12,2,FALSE)","v":"Componente0"},null,"< Selecione o Componente >","< Selecione o Produto ou Serviço >",null,null,"< Selecione a Fonte de Recurso >",0,null,null,null,null,"< Selecione a Fonte de Recurso >",0]
[0,{"$f":"VLOOKUP(D791,Listas!$R$2:$S$12,2,FALSE)","v":"Componente0"},null,"< Selecione o Componente >","< Selecione o Produto ou Serviço >",null,null,"< Selecione a Fonte de Recurso >",0,null,null,null,null,"< Selecione a Fonte de Recurso >",0]
[0,{"$f":"VLOOKUP(D792,Listas!$R$2:$S$12,2,FALSE)","v":"Componente0"},null,"< Selecione o Componente >","< Selecione o Produto ou Serviço >",null,null,"< Selecione a Fonte de Recurso >",0,null,null,null,null,"< Selecione a Fonte de Recurso >",0]
[0,{"$f":"VLOOKUP(D793,Listas!$R$2:$S$12,2,FALSE)","v":"Componente0"},null,"< Selecione o Componente >","< Selecione o Produto ou Serviço >",null,null,"< Selecione a Fonte de Recurso >",0,null,null,null,null,"< Selecione a Fonte de Recurso >",0]
[0,{"$f":"VLOOKUP(D794,Listas!$R$2:$S$12,2,FALSE)","v":"Componente0"},null,"< Selecione o Componente >","< Selecione o Produto ou Serviço >",null,null,"< Selecione a Fonte de Recurso >",0,null,null,null,null,"< Selecione a Fonte de Recurso >",0]
[0,{"$f":"VLOOKUP(D795,Listas!$R$2:$S$12,2,FALSE)","v":"Componente0"},null,"< Selecione o Componente >","< Selecione o Produto ou Serviço >",null,null,"< Selecione a Fonte de Recurso >",0,null,null,null,null,"< Selecione a Fonte de Recurso >",0]
[0,{"$f":"VLOOKUP(D796,Listas!$R$2:$S$12,2,FALSE)","v":"Componente0"},null,"< Selecione o Componente >","< Selecione o Produto ou Serviço >",null,null,"< Selecione a Fonte de Recurso >",0,null,null,null,null,"< Selecione a Fonte de Recurso >",0]
[0,{"$f":"VLOOKUP(D797,Listas!$R$2:$S$12,2,FALSE)","v":"Componente0"},null,"< Selecione o Componente >","< Selecione o Produto ou Serviço >",null,null,"< Selecione a Fonte de Recurso >",0,null,null,null,null,"< Selecione a Fonte de Recurso >",0]
[0,{"$f":"VLOOKUP(D798,Listas!$R$2:$S$12,2,FALSE)","v":"Componente0"},null,"< Selecione o Componente >","< Selecione o Produto ou Serviço >",null,null,"< Selecione a Fonte de Recurso >",0,null,null,null,null,"< Selecione a Fonte de Recurso >",0]
[0,{"$f":"VLOOKUP(D799,Listas!$R$2:$S$12,2,FALSE)","v":"Componente0"},null,"< Selecione o Componente >","< Selecione o Produto ou Serviço >",null,null,"< Selecione a Fonte de Recurso >",0,null,null,null,null,"< Selecione a Fonte de Recurso >",0]
[0,{"$f":"VLOOKUP(D800,Listas!$R$2:$S$12,2,FALSE)","v":"Componente0"},null,"< Selecione o Componente >","< Selecione o Produto ou Serviço >",null,null,"< Selecione a Fonte de Recurso >",0,null,null,null,null,"< Selecione a Fonte de Recurso >",0]
[0,{"$f":"VLOOKUP(D801,Listas!$R$2:$S$12,2,FALSE)","v":"Componente0"},null,"< Selecione o Componente >","< Selecione o Produto ou Serviço >",null,null,"< Selecione a Fonte de Recurso >",0,null,null,null,null,"< Selecione a Fonte de Recurso >",0]
[0,{"$f":"VLOOKUP(D802,Listas!$R$2:$S$12,2,FALSE)","v":"Componente0"},null,"< Selecione o Componente >","< Selecione o Produto ou Serviço >",null,null,"< Selecione a Fonte de Recurso >",0,null,null,null,null,"< Selecione a Fonte de Recurso >",0]
[0,{"$f":"VLOOKUP(D803,Listas!$R$2:$S$12,2,FALSE)","v":"Componente0"},null,"< Selecione o Componente >","< Selecione o Produto ou Serviço >",null,null,"< Selecione a Fonte de Recurso >",0,null,null,null,null,"< Selecione a Fonte de Recurso >",0]
[0,{"$f":"VLOOKUP(D804,Listas!$R$2:$S$12,2,FALSE)","v":"Componente0"},null,"< Selecione o Componente >","< Selecione o Produto ou Serviço >",null,null,"< Selecione a Fonte de Recurso >",0,null,null,null,null,"< Selecione a Fonte de Recurso >",0]
[0,{"$f":"VLOOKUP(D805,Listas!$R$2:$S$12,2,FALSE)","v":"Componente0"},null,"< Selecione o Componente >","< Selecione o Produto ou Serviço >",null,null,"< Selecione a Fonte de Recurso >",0,null,null,null,null,"< Selecione a Fonte de Recurso >",0]
[0,{"$f":"VLOOKUP(D806,Listas!$R$2:$S$12,2,FALSE)","v":"Componente0"},null,"< Selecione o Componente >","< Selecione o Produto ou Serviço >",null,null,"< Selecione a Fonte de Recurso >",0,null,null,null,null,"< Selecione a Fonte de Recurso >",0]
[0,{"$f":"VLOOKUP(D807,Listas!$R$2:$S$12,2,FALSE)","v":"Componente0"},null,"< Selecione o Componente >","< Selecione o Produto ou Serviço >",null,null,"< Selecione a Fonte de Recurso >",0,null,null,null,null,"< Selecione a Fonte de Recurso >",0]
[0,{"$f":"VLOOKUP(D808,Listas!$R$2:$S$12,2,FALSE)","v":"Componente0"},null,"< Selecione o Componente >","< Selecione o Produto ou Serviço >",null,null,"< Selecione a Fonte de Recurso >",0,null,null,null,null,"< Selecione a Fonte de Recurso >",0]
[0,{"$f":"VLOOKUP(D809,Listas!$R$2:$S$12,2,FALSE)","v":"Componente0"},null,"< Selecione o Componente >","< Selecione o Produto ou Serviço >",null,null,"< Selecione a Fonte de Recurso >",0,null,null,null,null,"< Selecione a Fonte de Recurso >",0]
[0,{"$f":"VLOOKUP(D810,Listas!$R$2:$S$12,2,FALSE)","v":"Componente0"},null,"< Selecione o Componente >","< Selecione o Produto ou Serviço >",null,null,"< Selecione a Fonte de Recurso >",0,null,null,null,null,"< Selecione a Fonte de Recurso >",0]
[0,{"$f":"VLOOKUP(D811,Listas!$R$2:$S$12,2,FALSE)","v":"Componente0"},null,"< Selecione o Componente >","< Selecione o Produto ou Serviço >",null,null,"< Selecione a Fonte de Recurso >",0,null,null,null,null,"< Selecione a Fonte de Recurso >",0]
[0,{"$f":"VLOOKUP(D812,Listas!$R$2:$S$12,2,FALSE)","v":"Componente0"},null,"< Selecione o Componente >","< Selecione o Produto ou Serviço >",null,null,"< Selecione a Fonte de Recurso >",0,null,null,null,null,"< Selecione a Fonte de Recurso >",0]
[0,{"$f":"VLOOKUP(D813,Listas!$R$2:$S$12,2,FALSE)","v":"Componente0"},null,"< Selecione o Componente >","< Selecione o Produto ou Serviço >",null,null,"< Selecione a Fonte de Recurso >",0,null,null,null,null,"< Selecione a Fonte de Recurso >",0]
[0,{"$f":"VLOOKUP(D814,Listas!$R$2:$S$12,2,FALSE)","v":"Componente0"},null,"< Selecione o Componente >","< Selecione o Produto ou Serviço >",null,null,"< Selecione a Fonte de Recurso >",0,null,null,null,null,"< Selecione a Fonte de Recurso >",0]
[0,{"$f":"VLOOKUP(D815,Listas!$R$2:$S$12,2,FALSE)","v":"Componente0"},null,"< Selecione o Componente >","< Selecione o Produto ou Serviço >",null,null,"< Selecione a Fonte de Recurso >",0,null,null,null,null,"< Selecione a Fonte de Recurso >",0]
[0,{"$f":"VLOOKUP(D816,Listas!$R$2:$S$12,2,FALSE)","v":"Componente0"},null,"< Selecione o Componente >","< Selecione o Produto ou Serviço >",null,null,"< Selecione a Fonte de Recurso >",0,null,null,null,null,"< Selecione a Fonte de Recurso >",0]
[{"$f":"IF(OR(E817=\"< selecione o Produto ou Serviço >\",E817=\"\"),0,1)","v":0},{"$f":"VLOOKUP(D817,Listas!$R$2:$S$12,2,FALSE)","v":"Componente0"},null,"< Selecione o Componente >","< Selecione o Produto ou Serviço >",null,null,{"$f":"N817","v":"< Selecione a Fonte de Recurso >"},{"$f":"O817","v":0},null,null,null,null,"< Selecione a Fonte de Recurso >",{"$f":"K817*M817","v":0}]
[0,{"$f":"VLOOKUP(D818,Listas!$R$2:$S$12,2,FALSE)","v":"Componente0"},null,"< Selecione o Componente >","< Selecione o Produto ou Serviço >",null,null,"< Selecione a Fonte de Recurso >",0,null,null,null,null,"< Selecione a Fonte de Recurso >",0]
[0,{"$f":"VLOOKUP(D819,Listas!$R$2:$S$12,2,FALSE)","v":"Componente0"},null,"< Selecione o Componente >","< Selecione o Produto ou Serviço >",null,null,"< Selecione a Fonte de Recurso >",0,null,null,null,null,"< Selecione a Fonte de Recurso >",0]
[0,{"$f":"VLOOKUP(D820,Listas!$R$2:$S$12,2,FALSE)","v":"Componente0"},null,"< Selecione o Componente >","< Selecione o Produto ou Serviço >",null,null,"< Selecione a Fonte de Recurso >",0,null,null,null,null,"< Selecione a Fonte de Recurso >",0]
[0,{"$f":"VLOOKUP(D821,Listas!$R$2:$S$12,2,FALSE)","v":"Componente0"},null,"< Selecione o Componente >","< Selecione o Produto ou Serviço >",null,null,"< Selecione a Fonte de Recurso >",0,null,null,null,null,"< Selecione a Fonte de Recurso >",0]
[0,{"$f":"VLOOKUP(D822,Listas!$R$2:$S$12,2,FALSE)","v":"Componente0"},null,"< Selecione o Componente >","< Selecione o Produto ou Serviço >",null,null,"< Selecione a Fonte de Recurso >",0,null,null,null,null,"< Selecione a Fonte de Recurso >",0]
[0,{"$f":"VLOOKUP(D823,Listas!$R$2:$S$12,2,FALSE)","v":"Componente0"},null,"< Selecione o Componente >","< Selecione o Produto ou Serviço >",null,null,"< Selecione a Fonte de Recurso >",0,null,null,null,null,"< Selecione a Fonte de Recurso >",0]
[0,{"$f":"VLOOKUP(D824,Listas!$R$2:$S$12,2,FALSE)","v":"Componente0"},null,"< Selecione o Componente >","< Selecione o Produto ou Serviço >",null,null,"< Selecione a Fonte de Recurso >",0,null,null,null,null,"< Selecione a Fonte de Recurso >",0]
[0,{"$f":"VLOOKUP(D825,Listas!$R$2:$S$12,2,FALSE)","v":"Componente0"},null,"< Selecione o Componente >","< Selecione o Produto ou Serviço >",null,null,"< Selecione a Fonte de Recurso >",0,null,null,null,null,"< Selecione a Fonte de Recurso >",0]
[0,{"$f":"VLOOKUP(D826,Listas!$R$2:$S$12,2,FALSE)","v":"Componente0"},null,"< Selecione o Componente >","< Selecione o Produto ou Serviço >",null,null,"< Selecione a Fonte de Recurso >",0,null,null,null,null,"< Selecione a Fonte de Recurso >",0]
[0,{"$f":"VLOOKUP(D827,Listas!$R$2:$S$12,2,FALSE)","v":"Componente0"},null,"< Selecione o Componente >","< Selecione o Produto ou Serviço >",null,null,"< Selecione a Fonte de Recurso >",0,null,null,null,null,"< Selecione a Fonte de Recurso >",0]
[0,{"$f":"VLOOKUP(D828,Listas!$R$2:$S$12,2,FALSE)","v":"Componente0"},null,"< Selecione o Componente >","< Selecione o Produto ou Serviço >",null,null,"< Selecione a Fonte de Recurso >",0,null,null,null,null,"< Selecione a Fonte de Recurso >",0]
[0,{"$f":"VLOOKUP(D829,Listas!$R$2:$S$12,2,FALSE)","v":"Componente0"},null,"< Selecione o Componente >","< Selecione o Produto ou Serviço >",null,null,"< Selecione a Fonte de Recurso >",0,null,null,null,null,"< Selecione a Fonte de Recurso >",0]
[0,{"$f":"VLOOKUP(D830,Listas!$R$2:$S$12,2,FALSE)","v":"Componente0"},null,"< Selecione o Componente >","< Selecione o Produto ou Serviço >",null,null,"< Selecione a Fonte de Recurso >",0,null,null,null,null,"< Selecione a Fonte de Recurso >",0]
[0,{"$f":"VLOOKUP(D831,Listas!$R$2:$S$12,2,FALSE)","v":"Componente0"},null,"< Selecione o Componente >","< Selecione o Produto ou Serviço >",null,null,"< Selecione a Fonte de Recurso >",0,null,null,null,null,"< Selecione a Fonte de Recurso >",0]
[0,{"$f":"VLOOKUP(D832,Listas!$R$2:$S$12,2,FALSE)","v":"Componente0"},null,"< Selecione o Componente >","< Selecione o Produto ou Serviço >",null,null,"< Selecione a Fonte de Recurso >",0,null,null,null,null,"< Selecione a Fonte de Recurso >",0]
[0,{"$f":"VLOOKUP(D833,Listas!$R$2:$S$12,2,FALSE)","v":"Componente0"},null,"< Selecione o Componente >","< Selecione o Produto ou Serviço >",null,null,"< Selecione a Fonte de Recurso >",0,null,null,null,null,"< Selecione a Fonte de Recurso >",0]
[0,{"$f":"VLOOKUP(D834,Listas!$R$2:$S$12,2,FALSE)","v":"Componente0"},null,"< Selecione o Componente >","< Selecione o Produto ou Serviço >",null,null,"< Selecione a Fonte de Recurso >",0,null,null,null,null,"< Selecione a Fonte de Recurso >",0]
[0,{"$f":"VLOOKUP(D835,Listas!$R$2:$S$12,2,FALSE)","v":"Componente0"},null,"< Selecione o Componente >","< Selecione o Produto ou Serviço >",null,null,"< Selecione a Fonte de Recurso >",0,null,null,null,null,"< Selecione a Fonte de Recurso >",0]
[0,{"$f":"VLOOKUP(D836,Listas!$R$2:$S$12,2,FALSE)","v":"Componente0"},null,"< Selecione o Componente >","< Selecione o Produto ou Serviço >",null,null,"< Selecione a Fonte de Recurso >",0,null,null,null,null,"< Selecione a Fonte de Recurso >",0]
[0,{"$f":"VLOOKUP(D837,Listas!$R$2:$S$12,2,FALSE)","v":"Componente0"},null,"< Selecione o Componente >","< Selecione o Produto ou Serviço >",null,null,"< Selecione a Fonte de Recurso >",0,null,null,null,null,"< Selecione a Fonte de Recurso >",0]
[0,{"$f":"VLOOKUP(D838,Listas!$R$2:$S$12,2,FALSE)","v":"Componente0"},null,"< Selecione o Componente >","< Selecione o Produto ou Serviço >",null,null,"< Selecione a Fonte de Recurso >",0,null,null,null,null,"< Selecione a Fonte de Recurso >",0]
[0,{"$f":"VLOOKUP(D839,Listas!$R$2:$S$12,2,FALSE)","v":"Componente0"},null,"< Selecione o Componente >","< Selecione o Produto ou Serviço >",null,null,"< Selecione a Fonte de Recurso >",0,null,null,null,null,"< Selecione a Fonte de Recurso >",0]
[0,{"$f":"VLOOKUP(D840,Listas!$R$2:$S$12,2,FALSE)","v":"Componente0"},null,"< Selecione o Componente >","< Selecione o Produto ou Serviço >",null,null,"< Selecione a Fonte de Recurso >",0,null,null,null,null,"< Selecione a Fonte de Recurso >",0]
[0,{"$f":"VLOOKUP(D841,Listas!$R$2:$S$12,2,FALSE)","v":"Componente0"},null,"< Selecione o Componente >","< Selecione o Produto ou Serviço >",null,null,"< Selecione a Fonte de Recurso >",0,null,null,null,null,"< Selecione a Fonte de Recurso >",0]
[0,{"$f":"VLOOKUP(D842,Listas!$R$2:$S$12,2,FALSE)","v":"Componente0"},null,"< Selecione o Componente >","< Selecione o Produto ou Serviço >",null,null,"< Selecione a Fonte de Recurso >",0,null,null,null,null,"< Selecione a Fonte de Recurso >",0]
[0,{"$f":"VLOOKUP(D843,Listas!$R$2:$S$12,2,FALSE)","v":"Componente0"},null,"< Selecione o Componente >","< Selecione o Produto ou Serviço >",null,null,"< Selecione a Fonte de Recurso >",0,null,null,null,null,"< Selecione a Fonte de Recurso >",0]
[0,{"$f":"VLOOKUP(D844,Listas!$R$2:$S$12,2,FALSE)","v":"Componente0"},null,"< Selecione o Componente >","< Selecione o Produto ou Serviço >",null,null,"< Selecione a Fonte de Recurso >",0,null,null,null,null,"< Selecione a Fonte de Recurso >",0]
[0,{"$f":"VLOOKUP(D845,Listas!$R$2:$S$12,2,FALSE)","v":"Componente0"},null,"< Selecione o Componente >","< Selecione o Produto ou Serviço >",null,null,"< Selecione a Fonte de Recurso >",0,null,null,null,null,"< Selecione a Fonte de Recurso >",0]
[0,{"$f":"VLOOKUP(D846,Listas!$R$2:$S$12,2,FALSE)","v":"Componente0"},null,"< Selecione o Componente >","< Selecione o Produto ou Serviço >",null,null,"< Selecione a Fonte de Recurso >",0,null,null,null,null,"< Selecione a Fonte de Recurso >",0]
[0,{"$f":"VLOOKUP(D847,Listas!$R$2:$S$12,2,FALSE)","v":"Componente0"},null,"< Selecione o Componente >","< Selecione o Produto ou Serviço >",null,null,"< Selecione a Fonte de Recurso >",0,null,null,null,null,"< Selecione a Fonte de Recurso >",0]
[0,{"$f":"VLOOKUP(D848,Listas!$R$2:$S$12,2,FALSE)","v":"Componente0"},null,"< Selecione o Componente >","< Selecione o Produto ou Serviço >",null,null,"< Selecione a Fonte de Recurso >",0,null,null,null,null,"< Selecione a Fonte de Recurso >",0]
[0,{"$f":"VLOOKUP(D849,Listas!$R$2:$S$12,2,FALSE)","v":"Componente0"},null,"< Selecione o Componente >","< Selecione o Produto ou Serviço >",null,null,"< Selecione a Fonte de Recurso >",0,null,null,null,null,"< Selecione a Fonte de Recurso >",0]
[0,{"$f":"VLOOKUP(D850,Listas!$R$2:$S$12,2,FALSE)","v":"Componente0"},null,"< Selecione o Componente >","< Selecione o Produto ou Serviço >",null,null,"< Selecione a Fonte de Recurso >",0,null,null,null,null,"< Selecione a Fonte de Recurso >",0]
[0,{"$f":"VLOOKUP(D851,Listas!$R$2:$S$12,2,FALSE)","v":"Componente0"},null,"< Selecione o Componente >","< Selecione o Produto ou Serviço >",null,null,"< Selecione a Fonte de Recurso >",0,null,null,null,null,"< Selecione a Fonte de Recurso >",0]
[0,{"$f":"VLOOKUP(D852,Listas!$R$2:$S$12,2,FALSE)","v":"Componente0"},null,"< Selecione o Componente >","< Selecione o Produto ou Serviço >",null,null,"< Selecione a Fonte de Recurso >",0,null,null,null,null,"< Selecione a Fonte de Recurso >",0]
[0,{"$f":"VLOOKUP(D853,Listas!$R$2:$S$12,2,FALSE)","v":"Componente0"},null,"< Selecione o Componente >","< Selecione o Produto ou Serviço >",null,null,"< Selecione a Fonte de Recurso >",0,null,null,null,null,"< Selecione a Fonte de Recurso >",0]
[0,{"$f":"VLOOKUP(D854,Listas!$R$2:$S$12,2,FALSE)","v":"Componente0"},null,"< Selecione o Componente >","< Selecione o Produto ou Serviço >",null,null,"< Selecione a Fonte de Recurso >",0,null,null,null,null,"< Selecione a Fonte de Recurso >",0]
[0,{"$f":"VLOOKUP(D855,Listas!$R$2:$S$12,2,FALSE)","v":"Componente0"},null,"< Selecione o Componente >","< Selecione o Produto ou Serviço >",null,null,"< Selecione a Fonte de Recurso >",0,null,null,null,null,"< Selecione a Fonte de Recurso >",0]
[0,{"$f":"VLOOKUP(D856,Listas!$R$2:$S$12,2,FALSE)","v":"Componente0"},null,"< Selecione o Componente >","< Selecione o Produto ou Serviço >",null,null,"< Selecione a Fonte de Recurso >",0,null,null,null,null,"< Selecione a Fonte de Recurso >",0]
[0,{"$f":"VLOOKUP(D857,Listas!$R$2:$S$12,2,FALSE)","v":"Componente0"},null,"< Selecione o Componente >","< Selecione o Produto ou Serviço >",null,null,"< Selecione a Fonte de Recurso >",0,null,null,null,null,"< Selecione a Fonte de Recurso >",0]
[0,{"$f":"VLOOKUP(D858,Listas!$R$2:$S$12,2,FALSE)","v":"Componente0"},null,"< Selecione o Componente >","< Selecione o Produto ou Serviço >",null,null,"< Selecione a Fonte de Recurso >",0,null,null,null,null,"< Selecione a Fonte de Recurso >",0]
[0,{"$f":"VLOOKUP(D859,Listas!$R$2:$S$12,2,FALSE)","v":"Componente0"},null,"< Selecione o Componente >","< Selecione o Produto ou Serviço >",null,null,"< Selecione a Fonte de Recurso >",0,null,null,null,null,"< Selecione a Fonte de Recurso >",0]
[0,{"$f":"VLOOKUP(D860,Listas!$R$2:$S$12,2,FALSE)","v":"Componente0"},null,"< Selecione o Componente >","< Selecione o Produto ou Serviço >",null,null,"< Selecione a Fonte de Recurso >",0,null,null,null,null,"< Selecione a Fonte de Recurso >",0]
[0,{"$f":"VLOOKUP(D861,Listas!$R$2:$S$12,2,FALSE)","v":"Componente0"},null,"< Selecione o Componente >","< Selecione o Produto ou Serviço >",null,null,"< Selecione a Fonte de Recurso >",0,null,null,null,null,"< Selecione a Fonte de Recurso >",0]
[0,{"$f":"VLOOKUP(D862,Listas!$R$2:$S$12,2,FALSE)","v":"Componente0"},null,"< Selecione o Componente >","< Selecione o Produto ou Serviço >",null,null,"< Selecione a Fonte de Recurso >",0,null,null,null,null,"< Selecione a Fonte de Recurso >",0]
[0,{"$f":"VLOOKUP(D863,Listas!$R$2:$S$12,2,FALSE)","v":"Componente0"},null,"< Selecione o Componente >","< Selecione o Produto ou Serviço >",null,null,"< Selecione a Fonte de Recurso >",0,null,null,null,null,"< Selecione a Fonte de Recurso >",0]
[0,{"$f":"VLOOKUP(D864,Listas!$R$2:$S$12,2,FALSE)","v":"Componente0"},null,"< Selecione o Componente >","< Selecione o Produto ou Serviço >",null,null,"< Selecione a Fonte de Recurso >",0,null,null,null,null,"< Selecione a Fonte de Recurso >",0]
[0,{"$f":"VLOOKUP(D865,Listas!$R$2:$S$12,2,FALSE)","v":"Componente0"},null,"< Selecione o Componente >","< Selecione o Produto ou Serviço >",null,null,"< Selecione a Fonte de Recurso >",0,null,null,null,null,"< Selecione a Fonte de Recurso >",0]
[0,{"$f":"VLOOKUP(D866,Listas!$R$2:$S$12,2,FALSE)","v":"Componente0"},null,"< Selecione o Componente >","< Selecione o Produto ou Serviço >",null,null,"< Selecione a Fonte de Recurso >",0,null,null,null,null,"< Selecione a Fonte de Recurso >",0]
[0,{"$f":"VLOOKUP(D867,Listas!$R$2:$S$12,2,FALSE)","v":"Componente0"},null,"< Selecione o Componente >","< Selecione o Produto ou Serviço >",null,null,"< Selecione a Fonte de Recurso >",0,null,null,null,null,"< Selecione a Fonte de Recurso >",0]
[0,{"$f":"VLOOKUP(D868,Listas!$R$2:$S$12,2,FALSE)","v":"Componente0"},null,"< Selecione o Componente >","< Selecione o Produto ou Serviço >",null,null,"< Selecione a Fonte de Recurso >",0,null,null,null,null,"< Selecione a Fonte de Recurso >",0]
[0,{"$f":"VLOOKUP(D869,Listas!$R$2:$S$12,2,FALSE)","v":"Componente0"},null,"< Selecione o Componente >","< Selecione o Produto ou Serviço >",null,null,"< Selecione a Fonte de Recurso >",0,null,null,null,null,"< Selecione a Fonte de Recurso >",0]
[0,{"$f":"VLOOKUP(D870,Listas!$R$2:$S$12,2,FALSE)","v":"Componente0"},null,"< Selecione o Componente >","< Selecione o Produto ou Serviço >",null,null,"< Selecione a Fonte de Recurso >",0,null,null,null,null,"< Selecione a Fonte de Recurso >",0]
[0,{"$f":"VLOOKUP(D871,Listas!$R$2:$S$12,2,FALSE)","v":"Componente0"},null,"< Selecione o Componente >","< Selecione o Produto ou Serviço >",null,null,"< Selecione a Fonte de Recurso >",0,null,null,null,null,"< Selecione a Fonte de Recurso >",0]
[0,{"$f":"VLOOKUP(D872,Listas!$R$2:$S$12,2,FALSE)","v":"Componente0"},null,"< Selecione o Componente >","< Selecione o Produto ou Serviço >",null,null,"< Selecione a Fonte de Recurso >",0,null,null,null,null,"< Selecione a Fonte de Recurso >",0]
[0,{"$f":"VLOOKUP(D873,Listas!$R$2:$S$12,2,FALSE)","v":"Componente0"},null,"< Selecione o Componente >","< Selecione o Produto ou Serviço >",null,null,"< Selecione a Fonte de Recurso >",0,null,null,null,null,"< Selecione a Fonte de Recurso >",0]
[0,{"$f":"VLOOKUP(D874,Listas!$R$2:$S$12,2,FALSE)","v":"Componente0"},null,"< Selecione o Componente >","< Selecione o Produto ou Serviço >",null,null,"< Selecione a Fonte de Recurso >",0,null,null,null,null,"< Selecione a Fonte de Recurso >",0]
[0,{"$f":"VLOOKUP(D875,Listas!$R$2:$S$12,2,FALSE)","v":"Componente0"},null,"< Selecione o Componente >","< Selecione o Produto ou Serviço >",null,null,"< Selecione a Fonte de Recurso >",0,null,null,null,null,"< Selecione a Fonte de Recurso >",0]
[0,{"$f":"VLOOKUP(D876,Listas!$R$2:$S$12,2,FALSE)","v":"Componente0"},null,"< Selecione o Componente >","< Selecione o Produto ou Serviço >",null,null,"< Selecione a Fonte de Recurso >",0,null,null,null,null,"< Selecione a Fonte de Recurso >",0]
[0,{"$f":"VLOOKUP(D877,Listas!$R$2:$S$12,2,FALSE)","v":"Componente0"},null,"< Selecione o Componente >","< Selecione o Produto ou Serviço >",null,null,"< Selecione a Fonte de Recurso >",0,null,null,null,null,"< Selecione a Fonte de Recurso >",0]
[0,{"$f":"VLOOKUP(D878,Listas!$R$2:$S$12,2,FALSE)","v":"Componente0"},null,"< Selecione o Componente >","< Selecione o Produto ou Serviço >",null,null,"< Selecione a Fonte de Recurso >",0,null,null,null,null,"< Selecione a Fonte de Recurso >",0]
[0,{"$f":"VLOOKUP(D879,Listas!$R$2:$S$12,2,FALSE)","v":"Componente0"},null,"< Selecione o Componente >","< Selecione o Produto ou Serviço >",null,null,"< Selecione a Fonte de Recurso >",0,null,null,null,null,"< Selecione a Fonte de Recurso >",0]
[0,{"$f":"VLOOKUP(D880,Listas!$R$2:$S$12,2,FALSE)","v":"Componente0"},null,"< Selecione o Componente >","< Selecione o Produto ou Serviço >",null,null,"< Selecione a Fonte de Recurso >",0,null,null,null,null,"< Selecione a Fonte de Recurso >",0]
[{"$f":"IF(OR(E881=\"< selecione o Produto ou Serviço >\",E881=\"\"),0,1)","v":0},{"$f":"VLOOKUP(D881,Listas!$R$2:$S$12,2,FALSE)","v":"Componente0"},null,"< Selecione o Componente >","< Selecione o Produto ou Serviço >",null,null,{"$f":"N881","v":"< Selecione a Fonte de Recurso >"},{"$f":"O881","v":0},null,null,null,null,"< Selecione a Fonte de Recurso >",{"$f":"K881*M881","v":0}]
[0,{"$f":"VLOOKUP(D882,Listas!$R$2:$S$12,2,FALSE)","v":"Componente0"},null,"< Selecione o Componente >","< Selecione o Produto ou Serviço >",null,null,"< Selecione a Fonte de Recurso >",0,null,null,null,null,"< Selecione a Fonte de Recurso >",0]
[0,{"$f":"VLOOKUP(D883,Listas!$R$2:$S$12,2,FALSE)","v":"Componente0"},null,"< Selecione o Componente >","< Selecione o Produto ou Serviço >",null,null,"< Selecione a Fonte de Recurso >",0,null,null,null,null,"< Selecione a Fonte de Recurso >",0]
[0,{"$f":"VLOOKUP(D884,Listas!$R$2:$S$12,2,FALSE)","v":"Componente0"},null,"< Selecione o Componente >","< Selecione o Produto ou Serviço >",null,null,"< Selecione a Fonte de Recurso >",0,null,null,null,null,"< Selecione a Fonte de Recurso >",0]
[0,{"$f":"VLOOKUP(D885,Listas!$R$2:$S$12,2,FALSE)","v":"Componente0"},null,"< Selecione o Componente >","< Selecione o Produto ou Serviço >",null,null,"< Selecione a Fonte de Recurso >",0,null,null,null,null,"< Selecione a Fonte de Recurso >",0]
[0,{"$f":"VLOOKUP(D886,Listas!$R$2:$S$12,2,FALSE)","v":"Componente0"},null,"< Selecione o Componente >","< Selecione o Produto ou Serviço >",null,null,"< Selecione a Fonte de Recurso >",0,null,null,null,null,"< Selecione a Fonte de Recurso >",0]
[0,{"$f":"VLOOKUP(D887,Listas!$R$2:$S$12,2,FALSE)","v":"Componente0"},null,"< Selecione o Componente >","< Selecione o Produto ou Serviço >",null,null,"< Selecione a Fonte de Recurso >",0,null,null,null,null,"< Selecione a Fonte de Recurso >",0]
[0,{"$f":"VLOOKUP(D888,Listas!$R$2:$S$12,2,FALSE)","v":"Componente0"},null,"< Selecione o Componente >","< Selecione o Produto ou Serviço >",null,null,"< Selecione a Fonte de Recurso >",0,null,null,null,null,"< Selecione a Fonte de Recurso >",0]
[0,{"$f":"VLOOKUP(D889,Listas!$R$2:$S$12,2,FALSE)","v":"Componente0"},null,"< Selecione o Componente >","< Selecione o Produto ou Serviço >",null,null,"< Selecione a Fonte de Recurso >",0,null,null,null,null,"< Selecione a Fonte de Recurso >",0]
[0,{"$f":"VLOOKUP(D890,Listas!$R$2:$S$12,2,FALSE)","v":"Componente0"},null,"< Selecione o Componente >","< Selecione o Produto ou Serviço >",null,null,"< Selecione a Fonte de Recurso >",0,null,null,null,null,"< Selecione a Fonte de Recurso >",0]
[0,{"$f":"VLOOKUP(D891,Listas!$R$2:$S$12,2,FALSE)","v":"Componente0"},null,"< Selecione o Componente >","< Selecione o Produto ou Serviço >",null,null,"< Selecione a Fonte de Recurso >",0,null,null,null,null,"< Selecione a Fonte de Recurso >",0]
[0,{"$f":"VLOOKUP(D892,Listas!$R$2:$S$12,2,FALSE)","v":"Componente0"},null,"< Selecione o Componente >","< Selecione o Produto ou Serviço >",null,null,"< Selecione a Fonte de Recurso >",0,null,null,null,null,"< Selecione a Fonte de Recurso >",0]
[0,{"$f":"VLOOKUP(D893,Listas!$R$2:$S$12,2,FALSE)","v":"Componente0"},null,"< Selecione o Componente >","< Selecione o Produto ou Serviço >",null,null,"< Selecione a Fonte de Recurso >",0,null,null,null,null,"< Selecione a Fonte de Recurso >",0]
[0,{"$f":"VLOOKUP(D894,Listas!$R$2:$S$12,2,FALSE)","v":"Componente0"},null,"< Selecione o Componente >","< Selecione o Produto ou Serviço >",null,null,"< Selecione a Fonte de Recurso >",0,null,null,null,null,"< Selecione a Fonte de Recurso >",0]
[0,{"$f":"VLOOKUP(D895,Listas!$R$2:$S$12,2,FALSE)","v":"Componente0"},null,"< Selecione o Componente >","< Selecione o Produto ou Serviço >",null,null,"< Selecione a Fonte de Recurso >",0,null,null,null,null,"< Selecione a Fonte de Recurso >",0]
[0,{"$f":"VLOOKUP(D896,Listas!$R$2:$S$12,2,FALSE)","v":"Componente0"},null,"< Selecione o Componente >","< Selecione o Produto ou Serviço >",null,null,"< Selecione a Fonte de Recurso >",0,null,null,null,null,"< Selecione a Fonte de Recurso >",0]
[0,{"$f":"VLOOKUP(D897,Listas!$R$2:$S$12,2,FALSE)","v":"Componente0"},null,"< Selecione o Componente >","< Selecione o Produto ou Serviço >",null,null,"< Selecione a Fonte de Recurso >",0,null,null,null,null,"< Selecione a Fonte de Recurso >",0]
[0,{"$f":"VLOOKUP(D898,Listas!$R$2:$S$12,2,FALSE)","v":"Componente0"},null,"< Selecione o Componente >","< Selecione o Produto ou Serviço >",null,null,"< Selecione a Fonte de Recurso >",0,null,null,null,null,"< Selecione a Fonte de Recurso >",0]
[0,{"$f":"VLOOKUP(D899,Listas!$R$2:$S$12,2,FALSE)","v":"Componente0"},null,"< Selecione o Componente >","< Selecione o Produto ou Serviço >",null,null,"< Selecione a Fonte de Recurso >",0,null,null,null,null,"< Selecione a Fonte de Recurso >",0]
[0,{"$f":"VLOOKUP(D900,Listas!$R$2:$S$12,2,FALSE)","v":"Componente0"},null,"< Selecione o Componente >","< Selecione o Produto ou Serviço >",null,null,"< Selecione a Fonte de Recurso >",0,null,null,null,null,"< Selecione a Fonte de Recurso >",0]
[0,{"$f":"VLOOKUP(D901,Listas!$R$2:$S$12,2,FALSE)","v":"Componente0"},null,"< Selecione o Componente >","< Selecione o Produto ou Serviço >",null,null,"< Selecione a Fonte de Recurso >",0,null,null,null,null,"< Selecione a Fonte de Recurso >",0]
[0,{"$f":"VLOOKUP(D902,Listas!$R$2:$S$12,2,FALSE)","v":"Componente0"},null,"< Selecione o Componente >","< Selecione o Produto ou Serviço >",null,null,"< Selecione a Fonte de Recurso >",0,null,null,null,null,"< Selecione a Fonte de Recurso >",0]
[0,{"$f":"VLOOKUP(D903,Listas!$R$2:$S$12,2,FALSE)","v":"Componente0"},null,"< Selecione o Componente >","< Selecione o Produto ou Serviço >",null,null,"< Selecione a Fonte de Recurso >",0,null,null,null,null,"< Selecione a Fonte de Recurso >",0]
[0,{"$f":"VLOOKUP(D904,Listas!$R$2:$S$12,2,FALSE)","v":"Componente0"},null,"< Selecione o Componente >","< Selecione o Produto ou Serviço >",null,null,"< Selecione a Fonte de Recurso >",0,null,null,null,null,"< Selecione a Fonte de Recurso >",0]
[0,{"$f":"VLOOKUP(D905,Listas!$R$2:$S$12,2,FALSE)","v":"Componente0"},null,"< Selecione o Componente >","< Selecione o Produto ou Serviço >",null,null,"< Selecione a Fonte de Recurso >",0,null,null,null,null,"< Selecione a Fonte de Recurso >",0]
[0,{"$f":"VLOOKUP(D906,Listas!$R$2:$S$12,2,FALSE)","v":"Componente0"},null,"< Selecione o Componente >","< Selecione o Produto ou Serviço >",null,null,"< Selecione a Fonte de Recurso >",0,null,null,null,null,"< Selecione a Fonte de Recurso >",0]
[0,{"$f":"VLOOKUP(D907,Listas!$R$2:$S$12,2,FALSE)","v":"Componente0"},null,"< Selecione o Componente >","< Selecione o Produto ou Serviço >",null,null,"< Selecione a Fonte de Recurso >",0,null,null,null,null,"< Selecione a Fonte de Recurso >",0]
[0,{"$f":"VLOOKUP(D908,Listas!$R$2:$S$12,2,FALSE)","v":"Componente0"},null,"< Selecione o Componente >","< Selecione o Produto ou Serviço >",null,null,"< Selecione a Fonte de Recurso >",0,null,null,null,null,"< Selecione a Fonte de Recurso >",0]
[0,{"$f":"VLOOKUP(D909,Listas!$R$2:$S$12,2,FALSE)","v":"Componente0"},null,"< Selecione o Componente >","< Selecione o Produto ou Serviço >",null,null,"< Selecione a Fonte de Recurso >",0,null,null,null,null,"< Selecione a Fonte de Recurso >",0]
[0,{"$f":"VLOOKUP(D910,Listas!$R$2:$S$12,2,FALSE)","v":"Componente0"},null,"< Selecione o Componente >","< Selecione o Produto ou Serviço >",null,null,"< Selecione a Fonte de Recurso >",0,null,null,null,null,"< Selecione a Fonte de Recurso >",0]
[0,{"$f":"VLOOKUP(D911,Listas!$R$2:$S$12,2,FALSE)","v":"Componente0"},null,"< Selecione o Componente >","< Selecione o Produto ou Serviço >",null,null,"< Selecione a Fonte de Recurso >",0,null,null,null,null,"< Selecione a Fonte de Recurso >",0]
[0,{"$f":"VLOOKUP(D912,Listas!$R$2:$S$12,2,FALSE)","v":"Componente0"},null,"< Selecione o Componente >","< Selecione o Produto ou Serviço >",null,null,"< Selecione a Fonte de Recurso >",0,null,null,null,null,"< Selecione a Fonte de Recurso >",0]
[0,{"$f":"VLOOKUP(D913,Listas!$R$2:$S$12,2,FALSE)","v":"Componente0"},null,"< Selecione o Componente >","< Selecione o Produto ou Serviço >",null,null,"< Selecione a Fonte de Recurso >",0,null,null,null,null,"< Selecione a Fonte de Recurso >",0]
[0,{"$f":"VLOOKUP(D914,Listas!$R$2:$S$12,2,FALSE)","v":"Componente0"},null,"< Selecione o Componente >","< Selecione o Produto ou Serviço >",null,null,"< Selecione a Fonte de Recurso >",0,null,null,null,null,"< Selecione a Fonte de Recurso >",0]
[0,{"$f":"VLOOKUP(D915,Listas!$R$2:$S$12,2,FALSE)","v":"Componente0"},null,"< Selecione o Componente >","< Selecione o Produto ou Serviço >",null,null,"< Selecione a Fonte de Recurso >",0,null,null,null,null,"< Selecione a Fonte de Recurso >",0]
[0,{"$f":"VLOOKUP(D916,Listas!$R$2:$S$12,2,FALSE)","v":"Componente0"},null,"< Selecione o Componente >","< Selecione o Produto ou Serviço >",null,null,"< Selecione a Fonte de Recurso >",0,null,null,null,null,"< Selecione a Fonte de Recurso >",0]
[0,{"$f":"VLOOKUP(D917,Listas!$R$2:$S$12,2,FALSE)","v":"Componente0"},null,"< Selecione o Componente >","< Selecione o Produto ou Serviço >",null,null,"< Selecione a Fonte de Recurso >",0,null,null,null,null,"< Selecione a Fonte de Recurso >",0]
[0,{"$f":"VLOOKUP(D918,Listas!$R$2:$S$12,2,FALSE)","v":"Componente0"},null,"< Selecione o Componente >","< Selecione o Produto ou Serviço >",null,null,"< Selecione a Fonte de Recurso >",0,null,null,null,null,"< Selecione a Fonte de Recurso >",0]
[0,{"$f":"VLOOKUP(D919,Listas!$R$2:$S$12,2,FALSE)","v":"Componente0"},null,"< Selecione o Componente >","< Selecione o Produto ou Serviço >",null,null,"< Selecione a Fonte de Recurso >",0,null,null,null,null,"< Selecione a Fonte de Recurso >",0]
[0,{"$f":"VLOOKUP(D920,Listas!$R$2:$S$12,2,FALSE)","v":"Componente0"},null,"< Selecione o Componente >","< Selecione o Produto ou Serviço >",null,null,"< Selecione a Fonte de Recurso >",0,null,null,null,null,"< Selecione a Fonte de Recurso >",0]
[0,{"$f":"VLOOKUP(D921,Listas!$R$2:$S$12,2,FALSE)","v":"Componente0"},null,"< Selecione o Componente >","< Selecione o Produto ou Serviço >",null,null,"< Selecione a Fonte de Recurso >",0,null,null,null,null,"< Selecione a Fonte de Recurso >",0]
[0,{"$f":"VLOOKUP(D922,Listas!$R$2:$S$12,2,FALSE)","v":"Componente0"},null,"< Selecione o Componente >","< Selecione o Produto ou Serviço >",null,null,"< Selecione a Fonte de Recurso >",0,null,null,null,null,"< Selecione a Fonte de Recurso >",0]
[0,{"$f":"VLOOKUP(D923,Listas!$R$2:$S$12,2,FALSE)","v":"Componente0"},null,"< Selecione o Componente >","< Selecione o Produto ou Serviço >",null,null,"< Selecione a Fonte de Recurso >",0,null,null,null,null,"< Selecione a Fonte de Recurso >",0]
[0,{"$f":"VLOOKUP(D924,Listas!$R$2:$S$12,2,FALSE)","v":"Componente0"},null,"< Selecione o Componente >","< Selecione o Produto ou Serviço >",null,null,"< Selecione a Fonte de Recurso >",0,null,null,null,null,"< Selecione a Fonte de Recurso >",0]
[0,{"$f":"VLOOKUP(D925,Listas!$R$2:$S$12,2,FALSE)","v":"Componente0"},null,"< Selecione o Componente >","< Selecione o Produto ou Serviço >",null,null,"< Selecione a Fonte de Recurso >",0,null,null,null,null,"< Selecione a Fonte de Recurso >",0]
[0,{"$f":"VLOOKUP(D926,Listas!$R$2:$S$12,2,FALSE)","v":"Componente0"},null,"< Selecione o Componente >","< Selecione o Produto ou Serviço >",null,null,"< Selecione a Fonte de Recurso >",0,null,null,null,null,"< Selecione a Fonte de Recurso >",0]
[0,{"$f":"VLOOKUP(D927,Listas!$R$2:$S$12,2,FALSE)","v":"Componente0"},null,"< Selecione o Componente >","< Selecione o Produto ou Serviço >",null,null,"< Selecione a Fonte de Recurso >",0,null,null,null,null,"< Selecione a Fonte de Recurso >",0]
[0,{"$f":"VLOOKUP(D928,Listas!$R$2:$S$12,2,FALSE)","v":"Componente0"},null,"< Selecione o Componente >","< Selecione o Produto ou Serviço >",null,null,"< Selecione a Fonte de Recurso >",0,null,null,null,null,"< Selecione a Fonte de Recurso >",0]
[0,{"$f":"VLOOKUP(D929,Listas!$R$2:$S$12,2,FALSE)","v":"Componente0"},null,"< Selecione o Componente >","< Selecione o Produto ou Serviço >",null,null,"< Selecione a Fonte de Recurso >",0,null,null,null,null,"< Selecione a Fonte de Recurso >",0]
[0,{"$f":"VLOOKUP(D930,Listas!$R$2:$S$12,2,FALSE)","v":"Componente0"},null,"< Selecione o Componente >","< Selecione o Produto ou Serviço >",null,null,"< Selecione a Fonte de Recurso >",0,null,null,null,null,"< Selecione a Fonte de Recurso >",0]
[0,{"$f":"VLOOKUP(D931,Listas!$R$2:$S$12,2,FALSE)","v":"Componente0"},null,"< Selecione o Componente >","< Selecione o Produto ou Serviço >",null,null,"< Selecione a Fonte de Recurso >",0,null,null,null,null,"< Selecione a Fonte de Recurso >",0]
[0,{"$f":"VLOOKUP(D932,Listas!$R$2:$S$12,2,FALSE)","v":"Componente0"},null,"< Selecione o Componente >","< Selecione o Produto ou Serviço >",null,null,"< Selecione a Fonte de Recurso >",0,null,null,null,null,"< Selecione a Fonte de Recurso >",0]
[0,{"$f":"VLOOKUP(D933,Listas!$R$2:$S$12,2,FALSE)","v":"Componente0"},null,"< Selecione o Componente >","< Selecione o Produto ou Serviço >",null,null,"< Selecione a Fonte de Recurso >",0,null,null,null,null,"< Selecione a Fonte de Recurso >",0]
[0,{"$f":"VLOOKUP(D934,Listas!$R$2:$S$12,2,FALSE)","v":"Componente0"},null,"< Selecione o Componente >","< Selecione o Produto ou Serviço >",null,null,"< Selecione a Fonte de Recurso >",0,null,null,null,null,"< Selecione a Fonte de Recurso >",0]
[0,{"$f":"VLOOKUP(D935,Listas!$R$2:$S$12,2,FALSE)","v":"Componente0"},null,"< Selecione o Componente >","< Selecione o Produto ou Serviço >",null,null,"< Selecione a Fonte de Recurso >",0,null,null,null,null,"< Selecione a Fonte de Recurso >",0]
[0,{"$f":"VLOOKUP(D936,Listas!$R$2:$S$12,2,FALSE)","v":"Componente0"},null,"< Selecione o Componente >","< Selecione o Produto ou Serviço >",null,null,"< Selecione a Fonte de Recurso >",0,null,null,null,null,"< Selecione a Fonte de Recurso >",0]
[0,{"$f":"VLOOKUP(D937,Listas!$R$2:$S$12,2,FALSE)","v":"Componente0"},null,"< Selecione o Componente >","< Selecione o Produto ou Serviço >",null,null,"< Selecione a Fonte de Recurso >",0,null,null,null,null,"< Selecione a Fonte de Recurso >",0]
[0,{"$f":"VLOOKUP(D938,Listas!$R$2:$S$12,2,FALSE)","v":"Componente0"},null,"< Selecione o Componente >","< Selecione o Produto ou Serviço >",null,null,"< Selecione a Fonte de Recurso >",0,null,null,null,null,"< Selecione a Fonte de Recurso >",0]
[0,{"$f":"VLOOKUP(D939,Listas!$R$2:$S$12,2,FALSE)","v":"Componente0"},null,"< Selecione o Componente >","< Selecione o Produto ou Serviço >",null,null,"< Selecione a Fonte de Recurso >",0,null,null,null,null,"< Selecione a Fonte de Recurso >",0]
[0,{"$f":"VLOOKUP(D940,Listas!$R$2:$S$12,2,FALSE)","v":"Componente0"},null,"< Selecione o Componente >","< Selecione o Produto ou Serviço >",null,null,"< Selecione a Fonte de Recurso >",0,null,null,null,null,"< Selecione a Fonte de Recurso >",0]
[0,{"$f":"VLOOKUP(D941,Listas!$R$2:$S$12,2,FALSE)","v":"Componente0"},null,"< Selecione o Componente >","< Selecione o Produto ou Serviço >",null,null,"< Selecione a Fonte de Recurso >",0,null,null,null,null,"< Selecione a Fonte de Recurso >",0]
[0,{"$f":"VLOOKUP(D942,Listas!$R$2:$S$12,2,FALSE)","v":"Componente0"},null,"< Selecione o Componente >","< Selecione o Produto ou Serviço >",null,null,"< Selecione a Fonte de Recurso >",0,null,null,null,null,"< Selecione a Fonte de Recurso >",0]
[0,{"$f":"VLOOKUP(D943,Listas!$R$2:$S$12,2,FALSE)","v":"Componente0"},null,"< Selecione o Componente >","< Selecione o Produto ou Serviço >",null,null,"< Selecione a Fonte de Recurso >",0,null,null,null,null,"< Selecione a Fonte de Recurso >",0]
[0,{"$f":"VLOOKUP(D944,Listas!$R$2:$S$12,2,FALSE)","v":"Componente0"},null,"< Selecione o Componente >","< Selecione o Produto ou Serviço >",null,null,"< Selecione a Fonte de Recurso >",0,null,null,null,null,"< Selecione a Fonte de Recurso >",0]
[{"$f":"IF(OR(E945=\"< selecione o Produto ou Serviço >\",E945=\"\"),0,1)","v":0},{"$f":"VLOOKUP(D945,Listas!$R$2:$S$12,2,FALSE)","v":"Componente0"},null,"< Selecione o Componente >","< Selecione o Produto ou Serviço >",null,null,{"$f":"N945","v":"< Selecione a Fonte de Recurso >"},{"$f":"O945","v":0},null,null,null,null,"< Selecione a Fonte de Recurso >",{"$f":"K945*M945","v":0}]
[0,{"$f":"VLOOKUP(D946,Listas!$R$2:$S$12,2,FALSE)","v":"Componente0"},null,"< Selecione o Componente >","< Selecione o Produto ou Serviço >",null,null,"< Selecione a Fonte de Recurso >",0,null,null,null,null,"< Selecione a Fonte de Recurso >",0]
[0,{"$f":"VLOOKUP(D947,Listas!$R$2:$S$12,2,FALSE)","v":"Componente0"},null,"< Selecione o Componente >","< Selecione o Produto ou Serviço >",null,null,"< Selecione a Fonte de Recurso >",0,null,null,null,null,"< Selecione a Fonte de Recurso >",0]
[0,{"$f":"VLOOKUP(D948,Listas!$R$2:$S$12,2,FALSE)","v":"Componente0"},null,"< Selecione o Componente >","< Selecione o Produto ou Serviço >",null,null,"< Selecione a Fonte de Recurso >",0,null,null,null,null,"< Selecione a Fonte de Recurso >",0]
[0,{"$f":"VLOOKUP(D949,Listas!$R$2:$S$12,2,FALSE)","v":"Componente0"},null,"< Selecione o Componente >","< Selecione o Produto ou Serviço >",null,null,"< Selecione a Fonte de Recurso >",0,null,null,null,null,"< Selecione a Fonte de Recurso >",0]
[0,{"$f":"VLOOKUP(D950,Listas!$R$2:$S$12,2,FALSE)","v":"Componente0"},null,"< Selecione o Componente >","< Selecione o Produto ou Serviço >",null,null,"< Selecione a Fonte de Recurso >",0,null,null,null,null,"< Selecione a Fonte de Recurso >",0]
[0,{"$f":"VLOOKUP(D951,Listas!$R$2:$S$12,2,FALSE)","v":"Componente0"},null,"< Selecione o Componente >","< Selecione o Produto ou Serviço >",null,null,"< Selecione a Fonte de Recurso >",0,null,null,null,null,"< Selecione a Fonte de Recurso >",0]
[0,{"$f":"VLOOKUP(D952,Listas!$R$2:$S$12,2,FALSE)","v":"Componente0"},null,"< Selecione o Componente >","< Selecione o Produto ou Serviço >",null,null,"< Selecione a Fonte de Recurso >",0,null,null,null,null,"< Selecione a Fonte de Recurso >",0]
[0,{"$f":"VLOOKUP(D953,Listas!$R$2:$S$12,2,FALSE)","v":"Componente0"},null,"< Selecione o Componente >","< Selecione o Produto ou Serviço >",null,null,"< Selecione a Fonte de Recurso >",0,null,null,null,null,"< Selecione a Fonte de Recurso >",0]
[0,{"$f":"VLOOKUP(D954,Listas!$R$2:$S$12,2,FALSE)","v":"Componente0"},null,"< Selecione o Componente >","< Selecione o Produto ou Serviço >",null,null,"< Selecione a Fonte de Recurso >",0,null,null,null,null,"< Selecione a Fonte de Recurso >",0]
[0,{"$f":"VLOOKUP(D955,Listas!$R$2:$S$12,2,FALSE)","v":"Componente0"},null,"< Selecione o Componente >","< Selecione o Produto ou Serviço >",null,null,"< Selecione a Fonte de Recurso >",0,null,null,null,null,"< Selecione a Fonte de Recurso >",0]
[0,{"$f":"VLOOKUP(D956,Listas!$R$2:$S$12,2,FALSE)","v":"Componente0"},null,"< Selecione o Componente >","< Selecione o Produto ou Serviço >",null,null,"< Selecione a Fonte de Recurso >",0,null,null,null,null,"< Selecione a Fonte de Recurso >",0]
[0,{"$f":"VLOOKUP(D957,Listas!$R$2:$S$12,2,FALSE)","v":"Componente0"},null,"< Selecione o Componente >","< Selecione o Produto ou Serviço >",null,null,"< Selecione a Fonte de Recurso >",0,null,null,null,null,"< Selecione a Fonte de Recurso >",0]
[0,{"$f":"VLOOKUP(D958,Listas!$R$2:$S$12,2,FALSE)","v":"Componente0"},null,"< Selecione o Componente >","< Selecione o Produto ou Serviço >",null,null,"< Selecione a Fonte de Recurso >",0,null,null,null,null,"< Selecione a Fonte de Recurso >",0]
[0,{"$f":"VLOOKUP(D959,Listas!$R$2:$S$12,2,FALSE)","v":"Componente0"},null,"< Selecione o Componente >","< Selecione o Produto ou Serviço >",null,null,"< Selecione a Fonte de Recurso >",0,null,null,null,null,"< Selecione a Fonte de Recurso >",0]
[0,{"$f":"VLOOKUP(D960,Listas!$R$2:$S$12,2,FALSE)","v":"Componente0"},null,"< Selecione o Componente >","< Selecione o Produto ou Serviço >",null,null,"< Selecione a Fonte de Recurso >",0,null,null,null,null,"< Selecione a Fonte de Recurso >",0]
[0,{"$f":"VLOOKUP(D961,Listas!$R$2:$S$12,2,FALSE)","v":"Componente0"},null,"< Selecione o Componente >","< Selecione o Produto ou Serviço >",null,null,"< Selecione a Fonte de Recurso >",0,null,null,null,null,"< Selecione a Fonte de Recurso >",0]
[0,{"$f":"VLOOKUP(D962,Listas!$R$2:$S$12,2,FALSE)","v":"Componente0"},null,"< Selecione o Componente >","< Selecione o Produto ou Serviço >",null,null,"< Selecione a Fonte de Recurso >",0,null,null,null,null,"< Selecione a Fonte de Recurso >",0]
[0,{"$f":"VLOOKUP(D963,Listas!$R$2:$S$12,2,FALSE)","v":"Componente0"},null,"< Selecione o Componente >","< Selecione o Produto ou Serviço >",null,null,"< Selecione a Fonte de Recurso >",0,null,null,null,null,"< Selecione a Fonte de Recurso >",0]
[0,{"$f":"VLOOKUP(D964,Listas!$R$2:$S$12,2,FALSE)","v":"Componente0"},null,"< Selecione o Componente >","< Selecione o Produto ou Serviço >",null,null,"< Selecione a Fonte de Recurso >",0,null,null,null,null,"< Selecione a Fonte de Recurso >",0]
[0,{"$f":"VLOOKUP(D965,Listas!$R$2:$S$12,2,FALSE)","v":"Componente0"},null,"< Selecione o Componente >","< Selecione o Produto ou Serviço >",null,null,"< Selecione a Fonte de Recurso >",0,null,null,null,null,"< Selecione a Fonte de Recurso >",0]
[0,{"$f":"VLOOKUP(D966,Listas!$R$2:$S$12,2,FALSE)","v":"Componente0"},null,"< Selecione o Componente >","< Selecione o Produto ou Serviço >",null,null,"< Selecione a Fonte de Recurso >",0,null,null,null,null,"< Selecione a Fonte de Recurso >",0]
[0,{"$f":"VLOOKUP(D967,Listas!$R$2:$S$12,2,FALSE)","v":"Componente0"},null,"< Selecione o Componente >","< Selecione o Produto ou Serviço >",null,null,"< Selecione a Fonte de Recurso >",0,null,null,null,null,"< Selecione a Fonte de Recurso >",0]
[0,{"$f":"VLOOKUP(D968,Listas!$R$2:$S$12,2,FALSE)","v":"Componente0"},null,"< Selecione o Componente >","< Selecione o Produto ou Serviço >",null,null,"< Selecione a Fonte de Recurso >",0,null,null,null,null,"< Selecione a Fonte de Recurso >",0]
[0,{"$f":"VLOOKUP(D969,Listas!$R$2:$S$12,2,FALSE)","v":"Componente0"},null,"< Selecione o Componente >","< Selecione o Produto ou Serviço >",null,null,"< Selecione a Fonte de Recurso >",0,null,null,null,null,"< Selecione a Fonte de Recurso >",0]
[0,{"$f":"VLOOKUP(D970,Listas!$R$2:$S$12,2,FALSE)","v":"Componente0"},null,"< Selecione o Componente >","< Selecione o Produto ou Serviço >",null,null,"< Selecione a Fonte de Recurso >",0,null,null,null,null,"< Selecione a Fonte de Recurso >",0]
[0,{"$f":"VLOOKUP(D971,Listas!$R$2:$S$12,2,FALSE)","v":"Componente0"},null,"< Selecione o Componente >","< Selecione o Produto ou Serviço >",null,null,"< Selecione a Fonte de Recurso >",0,null,null,null,null,"< Selecione a Fonte de Recurso >",0]
[0,{"$f":"VLOOKUP(D972,Listas!$R$2:$S$12,2,FALSE)","v":"Componente0"},null,"< Selecione o Componente >","< Selecione o Produto ou Serviço >",null,null,"< Selecione a Fonte de Recurso >",0,null,null,null,null,"< Selecione a Fonte de Recurso >",0]
[0,{"$f":"VLOOKUP(D973,Listas!$R$2:$S$12,2,FALSE)","v":"Componente0"},null,"< Selecione o Componente >","< Selecione o Produto ou Serviço >",null,null,"< Selecione a Fonte de Recurso >",0,null,null,null,null,"< Selecione a Fonte de Recurso >",0]
[0,{"$f":"VLOOKUP(D974,Listas!$R$2:$S$12,2,FALSE)","v":"Componente0"},null,"< Selecione o Componente >","< Selecione o Produto ou Serviço >",null,null,"< Selecione a Fonte de Recurso >",0,null,null,null,null,"< Selecione a Fonte de Recurso >",0]
[0,{"$f":"VLOOKUP(D975,Listas!$R$2:$S$12,2,FALSE)","v":"Componente0"},null,"< Selecione o Componente >","< Selecione o Produto ou Serviço >",null,null,"< Selecione a Fonte de Recurso >",0,null,null,null,null,"< Selecione a Fonte de Recurso >",0]
[0,{"$f":"VLOOKUP(D976,Listas!$R$2:$S$12,2,FALSE)","v":"Componente0"},null,"< Selecione o Componente >","< Selecione o Produto ou Serviço >",null,null,"< Selecione a Fonte de Recurso >",0,null,null,null,null,"< Selecione a Fonte de Recurso >",0]
[0,{"$f":"VLOOKUP(D977,Listas!$R$2:$S$12,2,FALSE)","v":"Componente0"},null,"< Selecione o Componente >","< Selecione o Produto ou Serviço >",null,null,"< Selecione a Fonte de Recurso >",0,null,null,null,null,"< Selecione a Fonte de Recurso >",0]
[0,{"$f":"VLOOKUP(D978,Listas!$R$2:$S$12,2,FALSE)","v":"Componente0"},null,"< Selecione o Componente >","< Selecione o Produto ou Serviço >",null,null,"< Selecione a Fonte de Recurso >",0,null,null,null,null,"< Selecione a Fonte de Recurso >",0]
[0,{"$f":"VLOOKUP(D979,Listas!$R$2:$S$12,2,FALSE)","v":"Componente0"},null,"< Selecione o Componente >","< Selecione o Produto ou Serviço >",null,null,"< Selecione a Fonte de Recurso >",0,null,null,null,null,"< Selecione a Fonte de Recurso >",0]
[0,{"$f":"VLOOKUP(D980,Listas!$R$2:$S$12,2,FALSE)","v":"Componente0"},null,"< Selecione o Componente >","< Selecione o Produto ou Serviço >",null,null,"< Selecione a Fonte de Recurso >",0,null,null,null,null,"< Selecione a Fonte de Recurso >",0]
[0,{"$f":"VLOOKUP(D981,Listas!$R$2:$S$12,2,FALSE)","v":"Componente0"},null,"< Selecione o Componente >","< Selecione o Produto ou Serviço >",null,null,"< Selecione a Fonte de Recurso >",0,null,null,null,null,"< Selecione a Fonte de Recurso >",0]
[0,{"$f":"VLOOKUP(D982,Listas!$R$2:$S$12,2,FALSE)","v":"Componente0"},null,"< Selecione o Componente >","< Selecione o Produto ou Serviço >",null,null,"< Selecione a Fonte de Recurso >",0,null,null,null,null,"< Selecione a Fonte de Recurso >",0]
[0,{"$f":"VLOOKUP(D983,Listas!$R$2:$S$12,2,FALSE)","v":"Componente0"},null,"< Selecione o Componente >","< Selecione o Produto ou Serviço >",null,null,"< Selecione a Fonte de Recurso >",0,null,null,null,null,"< Selecione a Fonte de Recurso >",0]
[0,{"$f":"VLOOKUP(D984,Listas!$R$2:$S$12,2,FALSE)","v":"Componente0"},null,"< Selecione o Componente >","< Selecione o Produto ou Serviço >",null,null,"< Selecione a Fonte de Recurso >",0,null,null,null,null,"< Selecione a Fonte de Recurso >",0]
[0,{"$f":"VLOOKUP(D985,Listas!$R$2:$S$12,2,FALSE)","v":"Componente0"},null,"< Selecione o Componente >","< Selecione o Produto ou Serviço >",null,null,"< Selecione a Fonte de Recurso >",0,null,null,null,null,"< Selecione a Fonte de Recurso >",0]
[0,{"$f":"VLOOKUP(D986,Listas!$R$2:$S$12,2,FALSE)","v":"Componente0"},null,"< Selecione o Componente >","< Selecione o Produto ou Serviço >",null,null,"< Selecione a Fonte de Recurso >",0,null,null,null,null,"< Selecione a Fonte de Recurso >",0]
[0,{"$f":"VLOOKUP(D987,Listas!$R$2:$S$12,2,FALSE)","v":"Componente0"},null,"< Selecione o Componente >","< Selecione o Produto ou Serviço >",null,null,"< Selecione a Fonte de Recurso >",0,null,null,null,null,"< Selecione a Fonte de Recurso >",0]
[0,{"$f":"VLOOKUP(D988,Listas!$R$2:$S$12,2,FALSE)","v":"Componente0"},null,"< Selecione o Componente >","< Selecione o Produto ou Serviço >",null,null,"< Selecione a Fonte de Recurso >",0,null,null,null,null,"< Selecione a Fonte de Recurso >",0]
[0,{"$f":"VLOOKUP(D989,Listas!$R$2:$S$12,2,FALSE)","v":"Componente0"},null,"< Selecione o Componente >","< Selecione o Produto ou Serviço >",null,null,"< Selecione a Fonte de Recurso >",0,null,null,null,null,"< Selecione a Fonte de Recurso >",0]
[0,{"$f":"VLOOKUP(D990,Listas!$R$2:$S$12,2,FALSE)","v":"Componente0"},null,"< Selecione o Componente >","< Selecione o Produto ou Serviço >",null,null,"< Selecione a Fonte de Recurso >",0,null,null,null,null,"< Selecione a Fonte de Recurso >",0]
[0,{"$f":"VLOOKUP(D991,Listas!$R$2:$S$12,2,FALSE)","v":"Componente0"},null,"< Selecione o Componente >","< Selecione o Produto ou Serviço >",null,null,"< Selecione a Fonte de Recurso >",0,null,null,null,null,"< Selecione a Fonte de Recurso >",0]
[0,{"$f":"VLOOKUP(D992,Listas!$R$2:$S$12,2,FALSE)","v":"Componente0"},null,"< Selecione o Componente >","< Selecione o Produto ou Serviço >",null,null,"< Selecione a Fonte de Recurso >",0,null,null,null,null,"< Selecione a Fonte de Recurso >",0]
[0,{"$f":"VLOOKUP(D993,Listas!$R$2:$S$12,2,FALSE)","v":"Componente0"},null,"< Selecione o Componente >","< Selecione o Produto ou Serviço >",null,null,"< Selecione a Fonte de Recurso >",0,null,null,null,null,"< Selecione a Fonte de Recurso >",0]
[0,{"$f":"VLOOKUP(D994,Listas!$R$2:$S$12,2,FALSE)","v":"Componente0"},null,"< Selecione o Componente >","< Selecione o Produto ou Serviço >",null,null,"< Selecione a Fonte de Recurso >",0,null,null,null,null,"< Selecione a Fonte de Recurso >",0]
[0,{"$f":"VLOOKUP(D995,Listas!$R$2:$S$12,2,FALSE)","v":"Componente0"},null,"< Selecione o Componente >","< Selecione o Produto ou Serviço >",null,null,"< Selecione a Fonte de Recurso >",0,null,null,null,null,"< Selecione a Fonte de Recurso >",0]
[0,{"$f":"VLOOKUP(D996,Listas!$R$2:$S$12,2,FALSE)","v":"Componente0"},null,"< Selecione o Componente >","< Selecione o Produto ou Serviço >",null,null,"< Selecione a Fonte de Recurso >",0,null,null,null,null,"< Selecione a Fonte de Recurso >",0]
[0,{"$f":"VLOOKUP(D997,Listas!$R$2:$S$12,2,FALSE)","v":"Componente0"},null,"< Selecione o Componente >","< Selecione o Produto ou Serviço >",null,null,"< Selecione a Fonte de Recurso >",0,null,null,null,null,"< Selecione a Fonte de Recurso >",0]
[0,{"$f":"VLOOKUP(D998,Listas!$R$2:$S$12,2,FALSE)","v":"Componente0"},null,"< Selecione o Componente >","< Selecione o Produto ou Serviço >",null,null,"< Selecione a Fonte de Recurso >",0,null,null,null,null,"< Selecione a Fonte de Recurso >",0]
[0,{"$f":"VLOOKUP(D999,Listas!$R$2:$S$12,2,FALSE)","v":"Componente0"},null,"< Selecione o Componente >","< Selecione o Produto ou Serviço >",null,null,"< Selecione a Fonte de Recurso >",0,null,null,null,null,"< Selecione a Fonte de Recurso >",0]
[0,{"$f":"VLOOKUP(D1000,Listas!$R$2:$S$12,2,FALSE)","v":"Componente0"},null,"< Selecione o Componente >","< Selecione o Produto ou Serviço >",null,null,"< Selecione a Fonte de Recurso >",0,null,null,null,null,"< Selecione a Fonte de Recurso >",{"$f":"K1000*M1000","v":0}]

{"sheet":"5. Cronograma","index":6,"n_rows":54,"n_cols":20,"rows_kept":54,"cut":false,"hidden":false,"merged":[[52,19,53,21],[37,19,38,21],[3,1,3,17],[5,1,5,17],[15,2,15,5],[15,6,15,9],[15,10,15,13],[15,14,15,17],[27,2,27,5],[27,6,27,9],[27,10,27,13],[27,14,27,17],[27,18,28,18],[28,2,28,3],[28,4,28,5],[28,6,28,7],[28,8,28,9],[28,10,28,11],[28,12,28,13],[28,14,28,15],[28,16,28,17],[29,12,29,13],[29,14,29,15],[29,16,29,17],[30,2,30,3],[30,4,30,5],[30,6,30,7],[30,8,30,9],[30,10,30,11],[30,12,30,13],[30,14,30,15],[30,16,30,17],[29,2,29,3],[29,4,29,5],[29,6,29,7],[29,8,29,9],[29,10,29,11],[31,12,31,13],[31,14,31,15],[31,16,31,17],[32,2,32,3],[32,4,32,5],[32,6,32,7],[32,8,32,9],[32,10,32,11],[32,12,32,13],[32,14,32,15],[32,16,32,17],[31,2,31,3],[31,4,31,5],[31,6,31,7],[31,8,31,9],[31,10,31,11],[33,12,33,13],[33,14,33,15],[33,16,33,17],[34,2,34,3],[34,4,34,5],[34,6,34,7],[34,8,34,9],[34,10,34,11],[34,12,34,13],[34,14,34,15],[34,16,34,17],[33,2,33,3],[33,4,33,5],[33,6,33,7],[33,8,33,9],[33,10,33,11],[35,12,35,13],[35,14,35,15],[35,16,35,17],[36,2,36,3],[36,4,36,5],[36,6,36,7],[36,8,36,9],[36,10,36,11],[36,12,36,13],[36,14,36,15],[36,16,36,17],[35,2,35,3],[35,4,35,5],[35,6,35,7],[35,8,35,9],[35,10,35,11],[37,12,37,13],[37,14,37,15],[37,16,37,17],[38,2,38,3],[38,4,38,5],[38,6,38,7],[38,8,38,9],[38,10,38,11],[38,12,38,13],[38,14,38,15],[38,16,38,17],[37,2,37,3],[37,4,37,5],[37,6,37,7],[37,8,37,9],[37,10,37,11],[42,2,42,5],[42,6,42,9],[42,10,42,13],[42,14,42,17],[42,18,43,18],[43,2,43,3],[43,4,43,5],[43,6,43,7],[43,8,43,9],[43,10,43,11],[43,12,43,13],[43,14,43,15],[43,16,43,17],[44,12,44,13],[44,14,44,15],[44,16,44,17],[45,2,45,3],[45,4,45,5],[45,6,45,7],[45,8,45,9],[45,10,45,11],[45,12,45,13],[45,14,45,15],[45,16,45,17],[44,2,44,3],[44,4,44,5],[44,6,44,7],[44,8,44,9],[44,10,44,11],[46,12,46,13],[46,14,46,15],[46,16,46,17],[47,2,47,3],[47,4,47,5],[47,6,47,7],[47,8,47,9],[47,10,47,11],[47,12,47,13],[47,14,47,15],[47,16,47,17],[46,2,46,3],[46,4,46,5],[46,6,46,7],[46,8,46,9],[46,10,46,11],[48,12,48,13],[48,14,48,15],[48,16,48,17],[49,2,49,3],[49,4,49,5],[49,6,49,7],[49,8,49,9],[49,10,49,11],[49,12,49,13],[49,14,49,15],[49,16,49,17],[48,2,48,3],[48,4,48,5],[48,6,48,7],[48,8,48,9],[48,10,48,11],[50,12,50,13],[50,14,50,15],[50,16,50,17],[51,2,51,3],[51,4,51,5],[51,6,51,7],[51,8,51,9],[51,10,51,11],[51,12,51,13],[51,14,51,15],[51,16,51,17],[50,2,50,3],[50,4,50,5],[50,6,50,7],[50,8,50,9],[50,10,50,11],[52,12,52,13],[52,14,52,15],[52,16,52,17],[53,2,53,3],[53,4,53,5],[53,6,53,7],[53,8,53,9],[53,10,53,11],[53,12,53,13],[53,14,53,15],[53,16,53,17],[52,2,52,3],[52,4,52,5],[52,6,52,7],[52,8,52,9],[52,10,52,11]]}
[]
[]
[]
[null,"Atenção! Preencha somente as células em amarelo "]
[]
[null,"Cronogramas físico e de desembolso"]
[]
[null,"Instruções de preenchimento"]
[null,"1. Na Tabela 1 - Cronograma físico, preencha com \"P\" as células correspondentes aos períodos de execução planejados para as atividades relacionadas a cada produto/serviço, por trimestre."]
[null,"2. Na Tabela 2 - Cronograma de desembolsos para o Apoio do Fundo Amazônia, preencha os valores de desembolso de apoio do FA planejados para cada produto/serviço, por semestre."]
[null,"3. Na Tabela 3 - Cronograma de desembolsos para a Contrapartida, preencha os valores de aporte de contrapartida planejados para cada produto/serviço, por semestre."]
[]
[null,null,"Legenda"]
[null,null,"P","Período planejado para atividade"]
[null,"Tabela 1 - Cronograma físico"]
[null,null,"Ano 1",null,null,null,"Ano 2",null,null,null,"Ano 3",null,null,null,"Ano 4"]
[null,"Componente","1º tri","2º tri","3º tri","4º tri","5º tri","6º tri","7º tri","8º tri","9º tri","10º tri","11º tri","12º tri","13º tri","14º tri","15º tri","16º tri"]
[null,{"$f":"'2. Componente_Produtos_Serviços'!M9","v":"A Transversal"}]
[null,{"$f":"Listas!R4","v":"B1 Fortalecimento da produção de alimentos - Formação de capacidades e apoio técnico para a agricultura familiar"}]
[null,{"$f":"Listas!R5","v":"B2 Fortalecimento da produção de alimentos - Fortalecimento da infraestrutura produtiva da agricultura familiar"}]
[null,{"$f":"Listas!R6","v":"C1 Fortalecimento da aquisição e do consumo de alimentos - Formação de capacidades e apoio técnico para as redes públicas de ensino"}]
[null,{"$f":"Listas!R7","v":"C2 Fortalecimento da aquisição e do consumo de alimentos - Fortalecimento da infraestrutura das redes públicas de ensino"}]
[null,{"$f":"Listas!R8","v":"D Gestão do projeto"}]
[null,{"$f":"Listas!R9","v":0}]
[null,{"$f":"Listas!R10","v":0}]
[]
[null,"Tabela 2 - Cronograma de desembolsos para o Apoio do Fundo Amazônia"]
[null,null,"Ano 1",null,null,null,"Ano 2",null,null,null,"Ano 3",null,null,null,"Ano 4",null,null,null,"TOTAL"]
[null,"Componente","1º Sem",null,"2º Sem",null,"3º Sem",null,"4º Sem",null,"5º Sem",null,"6º Sem",null,"7º Sem",null,"8º Sem"]
[null,{"$f":"B18","v":"A Transversal"},null,null,null,null,null,null,null,null,null,null,null,null,null,null,null,null,{"$f":"SUM(C30:R30)","v":0}]
[null,"B1 Fortalecimento da produção de alimentos - Formação de capacidades e apoio técnico para a agricultura familiar",null,null,null,null,null,null,null,null,null,null,null,null,null,null,null,null,{"$f":"SUM(C31:R31)","v":0}]
[null,"B2 Fortalecimento da produção de alimentos - Fortalecimento da infraestrutura produtiva da agricultura familiar",null,null,null,null,null,null,null,null,null,null,null,null,null,null,null,null,0]
[null,"C1 Fortalecimento da aquisição e do consumo de alimentos - Formação de capacidades e apoio técnico para as redes públicas de ensino",null,null,null,null,null,null,null,null,null,null,null,null,null,null,null,null,0]
[null,"C2 Fortalecimento da aquisição e do consumo de alimentos - Fortalecimento da infraestrutura das redes públicas de ensino",null,null,null,null,null,null,null,null,null,null,null,null,null,null,null,null,0]
[null,"D Gestão do projeto",null,null,null,null,null,null,null,null,null,null,null,null,null,null,null,null,0]
[null,0,null,null,null,null,null,null,null,null,null,null,null,null,null,null,null,null,0]
[null,0,null,null,null,null,null,null,null,null,null,null,null,null,null,null,null,null,0]
[null,null,{"$f":"SUM(C30:D37)","v":0},null,{"$f":"SUM(E30:F37)","v":0},null,{"$f":"SUM(G30:H37)","v":0},null,{"$f":"SUM(I30:J37)","v":0},null,{"$f":"SUM(K30:L37)","v":0},null,{"$f":"SUM(M30:N37)","v":0},null,{"$f":"SUM(O30:P37)","v":0},null,{"$f":"SUM(Q30:R37)","v":0},null,{"$f":"SUM(C38:R38)","v":0},{"$f":"IF(S38='Quadro Usos - FA'!L8,\"\",\"> ERRO! Valor diferente do apresentado no quadro de Usos FA\")","v":""}]
[null,null,{"$f":"IF($S$38=0,0,C38/$S$38)","v":0},null,{"$f":"IF($S$38=0,0,E38/$S$38)","v":0},null,{"$f":"IF($S$38=0,0,G38/$S$38)","v":0},null,{"$f":"IF($S$38=0,0,I38/$S$38)","v":0},null,{"$f":"IF($S$38=0,0,K38/$S$38)","v":0},null,{"$f":"IF($S$38=0,0,M38/$S$38)","v":0},null,{"$f":"IF($S$38=0,0,O38/$S$38)","v":0},null,{"$f":"IF($S$38=0,0,Q38/$S$38)","v":0},null,{"$f":"SUM(C39:R39)","v":0}]
[]
[]
[null,"Tabela 3 - Cronograma de desembolsos para a Contrapartida"]
[null,null,"Ano 1",null,null,null,"Ano 2",null,null,null,"Ano 3",null,null,null,"Ano 4",null,null,null,"TOTAL"]
[null,"Componente","1º Sem",null,"2º Sem",null,"3º Sem",null,"4º Sem",null,"5º Sem",null,"6º Sem",null,"7º Sem",null,"8º Sem"]
[null,{"$f":"B30","v":"A Transversal"},null,null,null,null,null,null,null,null,null,null,null,null,null,null,null,null,{"$f":"SUM(C45:R45)","v":0}]
[null,"B1 Fortalecimento da produção de alimentos - Formação de capacidades e apoio técnico para a agricultura familiar",null,null,null,null,null,null,null,null,null,null,null,null,null,null,null,null,{"$f":"SUM(C46:R46)","v":0}]
[null,"B2 Fortalecimento da produção de alimentos - Fortalecimento da infraestrutura produtiva da agricultura familiar",null,null,null,null,null,null,null,null,null,null,null,null,null,null,null,null,0]
[null,"C1 Fortalecimento da aquisição e do consumo de alimentos - Formação de capacidades e apoio técnico para as redes públicas de ensino",null,null,null,null,null,null,null,null,null,null,null,null,null,null,null,null,0]
[null,"C2 Fortalecimento da aquisição e do consumo de alimentos - Fortalecimento da infraestrutura das redes públicas de ensino",null,null,null,null,null,null,null,null,null,null,null,null,null,null,null,null,0]
[null,"D Gestão do projeto",null,null,null,null,null,null,null,null,null,null,null,null,null,null,null,null,0]
[null,0,null,null,null,null,null,null,null,null,null,null,null,null,null,null,null,null,0]
[null,0,null,null,null,null,null,null,null,null,null,null,null,null,null,null,null,null,0]
[null,null,{"$f":"SUM(C45:D52)","v":0},null,{"$f":"SUM(E45:F52)","v":0},null,{"$f":"SUM(G45:H52)","v":0},null,{"$f":"SUM(I45:J52)","v":0},null,{"$f":"SUM(K45:L52)","v":0},null,{"$f":"SUM(M45:N52)","v":0},null,{"$f":"SUM(O45:P52)","v":0},null,{"$f":"SUM(Q45:R52)","v":0},null,{"$f":"SUM(C53:R53)","v":0},{"$f":"IF(S53='Quadro Usos - Contrapartida'!L8,\"\",\"> ERRO! Valor diferete do apresentado no quadro de Usos Contrapartida\")","v":""}]
[null,null,{"$f":"IF($S$53=0,0,C53/$S$53)","v":0},null,{"$f":"IF($S$53=0,0,E53/$S$53)","v":0},null,{"$f":"IF($S$53=0,0,G53/$S$53)","v":0},null,{"$f":"IF($S$53=0,0,I53/$S$53)","v":0},null,{"$f":"IF($S$53=0,0,K53/$S$53)","v":0},null,{"$f":"IF($S$53=0,0,M53/$S$53)","v":0},null,{"$f":"IF($S$53=0,0,O53/$S$53)","v":0},null,{"$f":"IF($S$53=0,0,Q53/$S$53)","v":0},null,{"$f":"SUM(C54:R54)","v":0}]

{"sheet":"Instruções RH e Orçamento","index":7,"n_rows":0,"n_cols":0,"rows_kept":0,"cut":false,"hidden":false,"merged":[]}

{"sheet":"Exemplos Orçamento e Alocação","index":8,"n_rows":1,"n_cols":14,"rows_kept":1,"cut":false,"hidden":false,"merged":[[0,0,1,12],[0,13,1,25]]}
["Exemplo de Orçamento",null,null,null,null,null,null,null,null,null,null,null,null,"Exemplo de Alocação"]

{"sheet":"Quadro Usos - FA","index":9,"n_rows":17,"n_cols":13,"rows_kept":17,"cut":false,"hidden":false,"merged":[[2,1,2,3],[4,1,4,12]]}
[]
[]
[null,"NÃO preencher essa tabela. Preenchimento automático"]
[]
[null,"Quadro de usos - Recursos Fundo Amazônia "]
[]
[null,"Componente","Recursos Humanos Próprios","Consultorias e prestação de serviços especializados","Serviços de Apoio","Obras Civis e Instalações","Máquinas, equipamentos e outros bens","Insumos","Logística","Apoios Especiais","Despesas Administrativas","TOTAL\n(R$)","TOTAL \n%"]
[null,"TOTAL (R$)",{"$f":"SUM(C9:C16)","v":0},0,0,0,0,0,0,0,0,0,0]
[null,{"$f":"Listas!R3","v":"A Transversal"},{"$f":"SUMIFS('3.Recursos Humanos'!$AT:$AT,'3.Recursos Humanos'!$D:$D,$B9,'3.Recursos Humanos'!$N:$N,\"Apoio FA\")","v":0},{"$f":"SUMIFS('4.Itens de Orçamento'!$O:$O,'4.Itens de Orçamento'!$D:$D,$B9,'4.Itens de Orçamento'!$F:$F,D$7,'4.Itens de Orçamento'!$N:$N,\"Apoio FA\")","v":0},{"$f":"SUMIFS('4.Itens de Orçamento'!$O:$O,'4.Itens de Orçamento'!$D:$D,$B9,'4.Itens de Orçamento'!$F:$F,E$7,'4.Itens de Orçamento'!$N:$N,\"Apoio FA\")","v":0},{"$f":"SUMIFS('4.Itens de Orçamento'!$O:$O,'4.Itens de Orçamento'!$D:$D,$B9,'4.Itens de Orçamento'!$F:$F,F$7,'4.Itens de Orçamento'!$N:$N,\"Apoio FA\")","v":0},{"$f":"SUMIFS('4.Itens de Orçamento'!$O:$O,'4.Itens de Orçamento'!$D:$D,$B9,'4.Itens de Orçamento'!$F:$F,G$7,'4.Itens de Orçamento'!$N:$N,\"Apoio FA\")","v":0},{"$f":"SUMIFS('4.Itens de Orçamento'!$O:$O,'4.Itens de Orçamento'!$D:$D,$B9,'4.Itens de Orçamento'!$F:$F,H$7,'4.Itens de Orçamento'!$N:$N,\"Apoio FA\")","v":0},{"$f":"SUMIFS('4.Itens de Orçamento'!$O:$O,'4.Itens de Orçamento'!$D:$D,$B9,'4.Itens de Orçamento'!$F:$F,I$7,'4.Itens de Orçamento'!$N:$N,\"Apoio FA\")","v":0},{"$f":"SUMIFS('4.Itens de Orçamento'!$O:$O,'4.Itens de Orçamento'!$D:$D,$B9,'4.Itens de Orçamento'!$F:$F,J$7,'4.Itens de Orçamento'!$N:$N,\"Apoio FA\")","v":0},{"$f":"SUMIFS('4.Itens de Orçamento'!$O:$O,'4.Itens de Orçamento'!$D:$D,$B9,'4.Itens de Orçamento'!$F:$F,K$7,'4.Itens de Orçamento'!$N:$N,\"Apoio FA\")","v":0},{"$f":"SUM(C9:K9)","v":0},{"$f":"IF($L$8=0,0,L9/$L$8)","v":0}]
[null,{"$f":"Listas!R4","v":"B1 Fortalecimento da produção de alimentos - Formação de capacidades e apoio técnico para a agricultura familiar"},{"$f":"SUMIFS('3.Recursos Humanos'!$AT:$AT,'3.Recursos Humanos'!$D:$D,$B10,'3.Recursos Humanos'!$N:$N,\"Apoio FA\")","v":0},{"$f":"SUMIFS('4.Itens de Orçamento'!$O:$O,'4.Itens de Orçamento'!$D:$D,$B10,'4.Itens de Orçamento'!$F:$F,D$7,'4.Itens de Orçamento'!$N:$N,\"Apoio FA\")","v":0},{"$f":"SUMIFS('4.Itens de Orçamento'!$O:$O,'4.Itens de Orçamento'!$D:$D,$B10,'4.Itens de Orçamento'!$F:$F,E$7,'4.Itens de Orçamento'!$N:$N,\"Apoio FA\")","v":0},{"$f":"SUMIFS('4.Itens de Orçamento'!$O:$O,'4.Itens de Orçamento'!$D:$D,$B10,'4.Itens de Orçamento'!$F:$F,F$7,'4.Itens de Orçamento'!$N:$N,\"Apoio FA\")","v":0},{"$f":"SUMIFS('4.Itens de Orçamento'!$O:$O,'4.Itens de Orçamento'!$D:$D,$B10,'4.Itens de Orçamento'!$F:$F,G$7,'4.Itens de Orçamento'!$N:$N,\"Apoio FA\")","v":0},{"$f":"SUMIFS('4.Itens de Orçamento'!$O:$O,'4.Itens de Orçamento'!$D:$D,$B10,'4.Itens de Orçamento'!$F:$F,H$7,'4.Itens de Orçamento'!$N:$N,\"Apoio FA\")","v":0},{"$f":"SUMIFS('4.Itens de Orçamento'!$O:$O,'4.Itens de Orçamento'!$D:$D,$B10,'4.Itens de Orçamento'!$F:$F,I$7,'4.Itens de Orçamento'!$N:$N,\"Apoio FA\")","v":0},{"$f":"SUMIFS('4.Itens de Orçamento'!$O:$O,'4.Itens de Orçamento'!$D:$D,$B10,'4.Itens de Orçamento'!$F:$F,J$7,'4.Itens de Orçamento'!$N:$N,\"Apoio FA\")","v":0},{"$f":"SUMIFS('4.Itens de Orçamento'!$O:$O,'4.Itens de Orçamento'!$D:$D,$B10,'4.Itens de Orçamento'!$F:$F,K$7,'4.Itens de Orçamento'!$N:$N,\"Apoio FA\")","v":0},{"$f":"SUM(C10:K10)","v":0},{"$f":"IF($L$8=0,0,L10/$L$8)","v":0}]
[null,{"$f":"Listas!R5","v":"B2 Fortalecimento da produção de alimentos - Fortalecimento da infraestrutura produtiva da agricultura familiar"},{"$f":"SUMIFS('3.Recursos Humanos'!$AT:$AT,'3.Recursos Humanos'!$D:$D,$B11,'3.Recursos Humanos'!$N:$N,\"Apoio FA\")","v":0},{"$f":"SUMIFS('4.Itens de Orçamento'!$O:$O,'4.Itens de Orçamento'!$D:$D,$B11,'4.Itens de Orçamento'!$F:$F,D$7,'4.Itens de Orçamento'!$N:$N,\"Apoio FA\")","v":0},{"$f":"SUMIFS('4.Itens de Orçamento'!$O:$O,'4.Itens de Orçamento'!$D:$D,$B11,'4.Itens de Orçamento'!$F:$F,E$7,'4.Itens de Orçamento'!$N:$N,\"Apoio FA\")","v":0},{"$f":"SUMIFS('4.Itens de Orçamento'!$O:$O,'4.Itens de Orçamento'!$D:$D,$B11,'4.Itens de Orçamento'!$F:$F,F$7,'4.Itens de Orçamento'!$N:$N,\"Apoio FA\")","v":0},{"$f":"SUMIFS('4.Itens de Orçamento'!$O:$O,'4.Itens de Orçamento'!$D:$D,$B11,'4.Itens de Orçamento'!$F:$F,G$7,'4.Itens de Orçamento'!$N:$N,\"Apoio FA\")","v":0},{"$f":"SUMIFS('4.Itens de Orçamento'!$O:$O,'4.Itens de Orçamento'!$D:$D,$B11,'4.Itens de Orçamento'!$F:$F,H$7,'4.Itens de Orçamento'!$N:$N,\"Apoio FA\")","v":0},{"$f":"SUMIFS('4.Itens de Orçamento'!$O:$O,'4.Itens de Orçamento'!$D:$D,$B11,'4.Itens de Orçamento'!$F:$F,I$7,'4.Itens de Orçamento'!$N:$N,\"Apoio FA\")","v":0},{"$f":"SUMIFS('4.Itens de Orçamento'!$O:$O,'4.Itens de Orçamento'!$D:$D,$B11,'4.Itens de Orçamento'!$F:$F,J$7,'4.Itens de Orçamento'!$N:$N,\"Apoio FA\")","v":0},{"$f":"SUMIFS('4.Itens de Orçamento'!$O:$O,'4.Itens de Orçamento'!$D:$D,$B11,'4.Itens de Orçamento'!$F:$F,K$7,'4.Itens de Orçamento'!$N:$N,\"Apoio FA\")","v":0},0,0]
[null,{"$f":"Listas!R6","v":"C1 Fortalecimento da aquisição e do consumo de alimentos - Formação de capacidades e apoio técnico para as redes públicas de ensino"},{"$f":"SUMIFS('3.Recursos Humanos'!$AT:$AT,'3.Recursos Humanos'!$D:$D,$B12,'3.Recursos Humanos'!$N:$N,\"Apoio FA\")","v":0},{"$f":"SUMIFS('4.Itens de Orçamento'!$O:$O,'4.Itens de Orçamento'!$D:$D,$B12,'4.Itens de Orçamento'!$F:$F,D$7,'4.Itens de Orçamento'!$N:$N,\"Apoio FA\")","v":0},{"$f":"SUMIFS('4.Itens de Orçamento'!$O:$O,'4.Itens de Orçamento'!$D:$D,$B12,'4.Itens de Orçamento'!$F:$F,E$7,'4.Itens de Orçamento'!$N:$N,\"Apoio FA\")","v":0},{"$f":"SUMIFS('4.Itens de Orçamento'!$O:$O,'4.Itens de Orçamento'!$D:$D,$B12,'4.Itens de Orçamento'!$F:$F,F$7,'4.Itens de Orçamento'!$N:$N,\"Apoio FA\")","v":0},{"$f":"SUMIFS('4.Itens de Orçamento'!$O:$O,'4.Itens de Orçamento'!$D:$D,$B12,'4.Itens de Orçamento'!$F:$F,G$7,'4.Itens de Orçamento'!$N:$N,\"Apoio FA\")","v":0},{"$f":"SUMIFS('4.Itens de Orçamento'!$O:$O,'4.Itens de Orçamento'!$D:$D,$B12,'4.Itens de Orçamento'!$F:$F,H$7,'4.Itens de Orçamento'!$N:$N,\"Apoio FA\")","v":0},{"$f":"SUMIFS('4.Itens de Orçamento'!$O:$O,'4.Itens de Orçamento'!$D:$D,$B12,'4.Itens de Orçamento'!$F:$F,I$7,'4.Itens de Orçamento'!$N:$N,\"Apoio FA\")","v":0},{"$f":"SUMIFS('4.Itens de Orçamento'!$O:$O,'4.Itens de Orçamento'!$D:$D,$B12,'4.Itens de Orçamento'!$F:$F,J$7,'4.Itens de Orçamento'!$N:$N,\"Apoio FA\")","v":0},{"$f":"SUMIFS('4.Itens de Orçamento'!$O:$O,'4.Itens de Orçamento'!$D:$D,$B12,'4.Itens de Orçamento'!$F:$F,K$7,'4.Itens de Orçamento'!$N:$N,\"Apoio FA\")","v":0},0,0]
[null,{"$f":"Listas!R7","v":"C2 Fortalecimento da aquisição e do consumo de alimentos - Fortalecimento da infraestrutura das redes públicas de ensino"},{"$f":"SUMIFS('3.Recursos Humanos'!$AT:$AT,'3.Recursos Humanos'!$D:$D,$B13,'3.Recursos Humanos'!$N:$N,\"Apoio FA\")","v":0},{"$f":"SUMIFS('4.Itens de Orçamento'!$O:$O,'4.Itens de Orçamento'!$D:$D,$B13,'4.Itens de Orçamento'!$F:$F,D$7,'4.Itens de Orçamento'!$N:$N,\"Apoio FA\")","v":0},{"$f":"SUMIFS('4.Itens de Orçamento'!$O:$O,'4.Itens de Orçamento'!$D:$D,$B13,'4.Itens de Orçamento'!$F:$F,E$7,'4.Itens de Orçamento'!$N:$N,\"Apoio FA\")","v":0},{"$f":"SUMIFS('4.Itens de Orçamento'!$O:$O,'4.Itens de Orçamento'!$D:$D,$B13,'4.Itens de Orçamento'!$F:$F,F$7,'4.Itens de Orçamento'!$N:$N,\"Apoio FA\")","v":0},{"$f":"SUMIFS('4.Itens de Orçamento'!$O:$O,'4.Itens de Orçamento'!$D:$D,$B13,'4.Itens de Orçamento'!$F:$F,G$7,'4.Itens de Orçamento'!$N:$N,\"Apoio FA\")","v":0},{"$f":"SUMIFS('4.Itens de Orçamento'!$O:$O,'4.Itens de Orçamento'!$D:$D,$B13,'4.Itens de Orçamento'!$F:$F,H$7,'4.Itens de Orçamento'!$N:$N,\"Apoio FA\")","v":0},{"$f":"SUMIFS('4.Itens de Orçamento'!$O:$O,'4.Itens de Orçamento'!$D:$D,$B13,'4.Itens de Orçamento'!$F:$F,I$7,'4.Itens de Orçamento'!$N:$N,\"Apoio FA\")","v":0},{"$f":"SUMIFS('4.Itens de Orçamento'!$O:$O,'4.Itens de Orçamento'!$D:$D,$B13,'4.Itens de Orçamento'!$F:$F,J$7,'4.Itens de Orçamento'!$N:$N,\"Apoio FA\")","v":0},{"$f":"SUMIFS('4.Itens de Orçamento'!$O:$O,'4.Itens de Orçamento'!$D:$D,$B13,'4.Itens de Orçamento'!$F:$F,K$7,'4.Itens de Orçamento'!$N:$N,\"Apoio FA\")","v":0},0,0]
[null,{"$f":"Listas!R8","v":"D Gestão do projeto"},{"$f":"SUMIFS('3.Recursos Humanos'!$AT:$AT,'3.Recursos Humanos'!$D:$D,$B14,'3.Recursos Humanos'!$N:$N,\"Apoio FA\")","v":0},{"$f":"SUMIFS('4.Itens de Orçamento'!$O:$O,'4.Itens de Orçamento'!$D:$D,$B14,'4.Itens de Orçamento'!$F:$F,D$7,'4.Itens de Orçamento'!$N:$N,\"Apoio FA\")","v":0},{"$f":"SUMIFS('4.Itens de Orçamento'!$O:$O,'4.Itens de Orçamento'!$D:$D,$B14,'4.Itens de Orçamento'!$F:$F,E$7,'4.Itens de Orçamento'!$N:$N,\"Apoio FA\")","v":0},{"$f":"SUMIFS('4.Itens de Orçamento'!$O:$O,'4.Itens de Orçamento'!$D:$D,$B14,'4.Itens de Orçamento'!$F:$F,F$7,'4.Itens de Orçamento'!$N:$N,\"Apoio FA\")","v":0},{"$f":"SUMIFS('4.Itens de Orçamento'!$O:$O,'4.Itens de Orçamento'!$D:$D,$B14,'4.Itens de Orçamento'!$F:$F,G$7,'4.Itens de Orçamento'!$N:$N,\"Apoio FA\")","v":0},{"$f":"SUMIFS('4.Itens de Orçamento'!$O:$O,'4.Itens de Orçamento'!$D:$D,$B14,'4.Itens de Orçamento'!$F:$F,H$7,'4.Itens de Orçamento'!$N:$N,\"Apoio FA\")","v":0},{"$f":"SUMIFS('4.Itens de Orçamento'!$O:$O,'4.Itens de Orçamento'!$D:$D,$B14,'4.Itens de Orçamento'!$F:$F,I$7,'4.Itens de Orçamento'!$N:$N,\"Apoio FA\")","v":0},{"$f":"SUMIFS('4.Itens de Orçamento'!$O:$O,'4.Itens de Orçamento'!$D:$D,$B14,'4.Itens de Orçamento'!$F:$F,J$7,'4.Itens de Orçamento'!$N:$N,\"Apoio FA\")","v":0},{"$f":"SUMIFS('4.Itens de Orçamento'!$O:$O,'4.Itens de Orçamento'!$D:$D,$B14,'4.Itens de Orçamento'!$F:$F,K$7,'4.Itens de Orçamento'!$N:$N,\"Apoio FA\")","v":0},0,0]
[null,{"$f":"Listas!R9","v":0},{"$f":"SUMIFS('3.Recursos Humanos'!$AT:$AT,'3.Recursos Humanos'!$D:$D,$B15,'3.Recursos Humanos'!$N:$N,\"Apoio FA\")","v":0},{"$f":"SUMIFS('4.Itens de Orçamento'!$O:$O,'4.Itens de Orçamento'!$D:$D,$B15,'4.Itens de Orçamento'!$F:$F,D$7,'4.Itens de Orçamento'!$N:$N,\"Apoio FA\")","v":0},{"$f":"SUMIFS('4.Itens de Orçamento'!$O:$O,'4.Itens de Orçamento'!$D:$D,$B15,'4.Itens de Orçamento'!$F:$F,E$7,'4.Itens de Orçamento'!$N:$N,\"Apoio FA\")","v":0},{"$f":"SUMIFS('4.Itens de Orçamento'!$O:$O,'4.Itens de Orçamento'!$D:$D,$B15,'4.Itens de Orçamento'!$F:$F,F$7,'4.Itens de Orçamento'!$N:$N,\"Apoio FA\")","v":0},{"$f":"SUMIFS('4.Itens de Orçamento'!$O:$O,'4.Itens de Orçamento'!$D:$D,$B15,'4.Itens de Orçamento'!$F:$F,G$7,'4.Itens de Orçamento'!$N:$N,\"Apoio FA\")","v":0},{"$f":"SUMIFS('4.Itens de Orçamento'!$O:$O,'4.Itens de Orçamento'!$D:$D,$B15,'4.Itens de Orçamento'!$F:$F,H$7,'4.Itens de Orçamento'!$N:$N,\"Apoio FA\")","v":0},{"$f":"SUMIFS('4.Itens de Orçamento'!$O:$O,'4.Itens de Orçamento'!$D:$D,$B15,'4.Itens de Orçamento'!$F:$F,I$7,'4.Itens de Orçamento'!$N:$N,\"Apoio FA\")","v":0},{"$f":"SUMIFS('4.Itens de Orçamento'!$O:$O,'4.Itens de Orçamento'!$D:$D,$B15,'4.Itens de Orçamento'!$F:$F,J$7,'4.Itens de Orçamento'!$N:$N,\"Apoio FA\")","v":0},{"$f":"SUMIFS('4.Itens de Orçamento'!$O:$O,'4.Itens de Orçamento'!$D:$D,$B15,'4.Itens de Orçamento'!$F:$F,K$7,'4.Itens de Orçamento'!$N:$N,\"Apoio FA\")","v":0},0,0]
[null,{"$f":"Listas!R10","v":0},{"$f":"SUMIFS('3.Recursos Humanos'!$AT:$AT,'3.Recursos Humanos'!$D:$D,$B16,'3.Recursos Humanos'!$N:$N,\"Apoio FA\")","v":0},{"$f":"SUMIFS('4.Itens de Orçamento'!$O:$O,'4.Itens de Orçamento'!$D:$D,$B16,'4.Itens de Orçamento'!$F:$F,D$7,'4.Itens de Orçamento'!$N:$N,\"Apoio FA\")","v":0},{"$f":"SUMIFS('4.Itens de Orçamento'!$O:$O,'4.Itens de Orçamento'!$D:$D,$B16,'4.Itens de Orçamento'!$F:$F,E$7,'4.Itens de Orçamento'!$N:$N,\"Apoio FA\")","v":0},{"$f":"SUMIFS('4.Itens de Orçamento'!$O:$O,'4.Itens de Orçamento'!$D:$D,$B16,'4.Itens de Orçamento'!$F:$F,F$7,'4.Itens de Orçamento'!$N:$N,\"Apoio FA\")","v":0},{"$f":"SUMIFS('4.Itens de Orçamento'!$O:$O,'4.Itens de Orçamento'!$D:$D,$B16,'4.Itens de Orçamento'!$F:$F,G$7,'4.Itens de Orçamento'!$N:$N,\"Apoio FA\")","v":0},{"$f":"SUMIFS('4.Itens de Orçamento'!$O:$O,'4.Itens de Orçamento'!$D:$D,$B16,'4.Itens de Orçamento'!$F:$F,H$7,'4.Itens de Orçamento'!$N:$N,\"Apoio FA\")","v":0},{"$f":"SUMIFS('4.Itens de Orçamento'!$O:$O,'4.Itens de Orçamento'!$D:$D,$B16,'4.Itens de Orçamento'!$F:$F,I$7,'4.Itens de Orçamento'!$N:$N,\"Apoio FA\")","v":0},{"$f":"SUMIFS('4.Itens de Orçamento'!$O:$O,'4.Itens de Orçamento'!$D:$D,$B16,'4.Itens de Orçamento'!$F:$F,J$7,'4.Itens de Orçamento'!$N:$N,\"Apoio FA\")","v":0},{"$f":"SUMIFS('4.Itens de Orçamento'!$O:$O,'4.Itens de Orçamento'!$D:$D,$B16,'4.Itens de Orçamento'!$F:$F,K$7,'4.Itens de Orçamento'!$N:$N,\"Apoio FA\")","v":0},{"$f":"SUM(C16:K16)","v":0},0]
[null,"TOTAL %",{"$f":"IF($L$8=0,0,C8/$L8)","v":0},{"$f":"IF($L$8=0,0,D8/$L8)","v":0},0,0,0,0,0,0,{"$f":"IF($L$8=0,0,K8/$L8)","v":0},{"$f":"SUM(C17:K17)","v":0}]

{"sheet":"Quadro Usos - Contrapartida","index":10,"n_rows":17,"n_cols":13,"rows_kept":17,"cut":false,"hidden":false,"merged":[[4,1,4,12]]}
[]
[]
[null,"NÃO preencher essa tabela. Preenchimento automático"]
[]
[null,"Quadro de usos - Contrapartida "]
[]
[null,"Componente","Recursos Humanos Próprios","Consultorias e prestação de serviços especializados","Serviços de Apoio","Obras Civis e Instalações","Máquinas, equipamentos e outros bens","Insumos","Logística","Apoios Especiais","Despesas Administrativas","TOTAL\n(R$)","TOTAL \n%"]
[null,"TOTAL (R$)",{"$f":"SUM(C9:C16)","v":0},0,0,0,0,0,0,0,0,0,0]
[null,{"$f":"Listas!R3","v":"A Transversal"},{"$f":"SUMIFS('3.Recursos Humanos'!$AT:$AT,'3.Recursos Humanos'!$D:$D,$B9,'3.Recursos Humanos'!$N:$N,\"Contrapartida\")","v":0},{"$f":"SUMIFS('4.Itens de Orçamento'!$O:$O,'4.Itens de Orçamento'!$D:$D,$B9,'4.Itens de Orçamento'!$F:$F,D$7,'4.Itens de Orçamento'!$N:$N,\"Contrapartida\")","v":0},{"$f":"SUMIFS('4.Itens de Orçamento'!$O:$O,'4.Itens de Orçamento'!$D:$D,$B9,'4.Itens de Orçamento'!$F:$F,E$7,'4.Itens de Orçamento'!$N:$N,\"Contrapartida\")","v":0},{"$f":"SUMIFS('4.Itens de Orçamento'!$O:$O,'4.Itens de Orçamento'!$D:$D,$B9,'4.Itens de Orçamento'!$F:$F,F$7,'4.Itens de Orçamento'!$N:$N,\"Contrapartida\")","v":0},{"$f":"SUMIFS('4.Itens de Orçamento'!$O:$O,'4.Itens de Orçamento'!$D:$D,$B9,'4.Itens de Orçamento'!$F:$F,G$7,'4.Itens de Orçamento'!$N:$N,\"Contrapartida\")","v":0},{"$f":"SUMIFS('4.Itens de Orçamento'!$O:$O,'4.Itens de Orçamento'!$D:$D,$B9,'4.Itens de Orçamento'!$F:$F,H$7,'4.Itens de Orçamento'!$N:$N,\"Contrapartida\")","v":0},{"$f":"SUMIFS('4.Itens de Orçamento'!$O:$O,'4.Itens de Orçamento'!$D:$D,$B9,'4.Itens de Orçamento'!$F:$F,I$7,'4.Itens de Orçamento'!$N:$N,\"Contrapartida\")","v":0},{"$f":"SUMIFS('4.Itens de Orçamento'!$O:$O,'4.Itens de Orçamento'!$D:$D,$B9,'4.Itens de Orçamento'!$F:$F,J$7,'4.Itens de Orçamento'!$N:$N,\"Contrapartida\")","v":0},{"$f":"SUMIFS('4.Itens de Orçamento'!$O:$O,'4.Itens de Orçamento'!$D:$D,$B9,'4.Itens de Orçamento'!$F:$F,K$7,'4.Itens de Orçamento'!$N:$N,\"Contrapartida\")","v":0},{"$f":"SUM(C9:K9)","v":0},{"$f":"IF($L$8=0,0,L9/$L$8)","v":0}]
[null,{"$f":"Listas!R4","v":"B1 Fortalecimento da produção de alimentos - Formação de capacidades e apoio técnico para a agricultura familiar"},{"$f":"SUMIFS('3.Recursos Humanos'!$AT:$AT,'3.Recursos Humanos'!$D:$D,$B10,'3.Recursos Humanos'!$N:$N,\"Contrapartida\")","v":0},{"$f":"SUMIFS('4.Itens de Orçamento'!$O:$O,'4.Itens de Orçamento'!$D:$D,$B10,'4.Itens de Orçamento'!$F:$F,D$7,'4.Itens de Orçamento'!$N:$N,\"Contrapartida\")","v":0},{"$f":"SUMIFS('4.Itens de Orçamento'!$O:$O,'4.Itens de Orçamento'!$D:$D,$B10,'4.Itens de Orçamento'!$F:$F,E$7,'4.Itens de Orçamento'!$N:$N,\"Contrapartida\")","v":0},{"$f":"SUMIFS('4.Itens de Orçamento'!$O:$O,'4.Itens de Orçamento'!$D:$D,$B10,'4.Itens de Orçamento'!$F:$F,F$7,'4.Itens de Orçamento'!$N:$N,\"Contrapartida\")","v":0},{"$f":"SUMIFS('4.Itens de Orçamento'!$O:$O,'4.Itens de Orçamento'!$D:$D,$B10,'4.Itens de Orçamento'!$F:$F,G$7,'4.Itens de Orçamento'!$N:$N,\"Contrapartida\")","v":0},{"$f":"SUMIFS('4.Itens de Orçamento'!$O:$O,'4.Itens de Orçamento'!$D:$D,$B10,'4.Itens de Orçamento'!$F:$F,H$7,'4.Itens de Orçamento'!$N:$N,\"Contrapartida\")","v":0},{"$f":"SUMIFS('4.Itens de Orçamento'!$O:$O,'4.Itens de Orçamento'!$D:$D,$B10,'4.Itens de Orçamento'!$F:$F,I$7,'4.Itens de Orçamento'!$N:$N,\"Contrapartida\")","v":0},{"$f":"SUMIFS('4.Itens de Orçamento'!$O:$O,'4.Itens de Orçamento'!$D:$D,$B10,'4.Itens de Orçamento'!$F:$F,J$7,'4.Itens de Orçamento'!$N:$N,\"Contrapartida\")","v":0},{"$f":"SUMIFS('4.Itens de Orçamento'!$O:$O,'4.Itens de Orçamento'!$D:$D,$B10,'4.Itens de Orçamento'!$F:$F,K$7,'4.Itens de Orçamento'!$N:$N,\"Contrapartida\")","v":0},{"$f":"SUM(C10:K10)","v":0},{"$f":"IF($L$8=0,0,L10/$L$8)","v":0}]
[null,{"$f":"Listas!R5","v":"B2 Fortalecimento da produção de alimentos - Fortalecimento da infraestrutura produtiva da agricultura familiar"},{"$f":"SUMIFS('3.Recursos Humanos'!$AT:$AT,'3.Recursos Humanos'!$D:$D,$B11,'3.Recursos Humanos'!$N:$N,\"Contrapartida\")","v":0},{"$f":"SUMIFS('4.Itens de Orçamento'!$O:$O,'4.Itens de Orçamento'!$D:$D,$B11,'4.Itens de Orçamento'!$F:$F,D$7,'4.Itens de Orçamento'!$N:$N,\"Contrapartida\")","v":0},{"$f":"SUMIFS('4.Itens de Orçamento'!$O:$O,'4.Itens de Orçamento'!$D:$D,$B11,'4.Itens de Orçamento'!$F:$F,E$7,'4.Itens de Orçamento'!$N:$N,\"Contrapartida\")","v":0},{"$f":"SUMIFS('4.Itens de Orçamento'!$O:$O,'4.Itens de Orçamento'!$D:$D,$B11,'4.Itens de Orçamento'!$F:$F,F$7,'4.Itens de Orçamento'!$N:$N,\"Contrapartida\")","v":0},{"$f":"SUMIFS('4.Itens de Orçamento'!$O:$O,'4.Itens de Orçamento'!$D:$D,$B11,'4.Itens de Orçamento'!$F:$F,G$7,'4.Itens de Orçamento'!$N:$N,\"Contrapartida\")","v":0},{"$f":"SUMIFS('4.Itens de Orçamento'!$O:$O,'4.Itens de Orçamento'!$D:$D,$B11,'4.Itens de Orçamento'!$F:$F,H$7,'4.Itens de Orçamento'!$N:$N,\"Contrapartida\")","v":0},{"$f":"SUMIFS('4.Itens de Orçamento'!$O:$O,'4.Itens de Orçamento'!$D:$D,$B11,'4.Itens de Orçamento'!$F:$F,I$7,'4.Itens de Orçamento'!$N:$N,\"Contrapartida\")","v":0},{"$f":"SUMIFS('4.Itens de Orçamento'!$O:$O,'4.Itens de Orçamento'!$D:$D,$B11,'4.Itens de Orçamento'!$F:$F,J$7,'4.Itens de Orçamento'!$N:$N,\"Contrapartida\")","v":0},{"$f":"SUMIFS('4.Itens de Orçamento'!$O:$O,'4.Itens de Orçamento'!$D:$D,$B11,'4.Itens de Orçamento'!$F:$F,K$7,'4.Itens de Orçamento'!$N:$N,\"Contrapartida\")","v":0},0,0]
[null,{"$f":"Listas!R6","v":"C1 Fortalecimento da aquisição e do consumo de alimentos - Formação de capacidades e apoio técnico para as redes públicas de ensino"},{"$f":"SUMIFS('3.Recursos Humanos'!$AT:$AT,'3.Recursos Humanos'!$D:$D,$B12,'3.Recursos Humanos'!$N:$N,\"Contrapartida\")","v":0},{"$f":"SUMIFS('4.Itens de Orçamento'!$O:$O,'4.Itens de Orçamento'!$D:$D,$B12,'4.Itens de Orçamento'!$F:$F,D$7,'4.Itens de Orçamento'!$N:$N,\"Contrapartida\")","v":0},{"$f":"SUMIFS('4.Itens de Orçamento'!$O:$O,'4.Itens de Orçamento'!$D:$D,$B12,'4.Itens de Orçamento'!$F:$F,E$7,'4.Itens de Orçamento'!$N:$N,\"Contrapartida\")","v":0},{"$f":"SUMIFS('4.Itens de Orçamento'!$O:$O,'4.Itens de Orçamento'!$D:$D,$B12,'4.Itens de Orçamento'!$F:$F,F$7,'4.Itens de Orçamento'!$N:$N,\"Contrapartida\")","v":0},{"$f":"SUMIFS('4.Itens de Orçamento'!$O:$O,'4.Itens de Orçamento'!$D:$D,$B12,'4.Itens de Orçamento'!$F:$F,G$7,'4.Itens de Orçamento'!$N:$N,\"Contrapartida\")","v":0},{"$f":"SUMIFS('4.Itens de Orçamento'!$O:$O,'4.Itens de Orçamento'!$D:$D,$B12,'4.Itens de Orçamento'!$F:$F,H$7,'4.Itens de Orçamento'!$N:$N,\"Contrapartida\")","v":0},{"$f":"SUMIFS('4.Itens de Orçamento'!$O:$O,'4.Itens de Orçamento'!$D:$D,$B12,'4.Itens de Orçamento'!$F:$F,I$7,'4.Itens de Orçamento'!$N:$N,\"Contrapartida\")","v":0},{"$f":"SUMIFS('4.Itens de Orçamento'!$O:$O,'4.Itens de Orçamento'!$D:$D,$B12,'4.Itens de Orçamento'!$F:$F,J$7,'4.Itens de Orçamento'!$N:$N,\"Contrapartida\")","v":0},{"$f":"SUMIFS('4.Itens de Orçamento'!$O:$O,'4.Itens de Orçamento'!$D:$D,$B12,'4.Itens de Orçamento'!$F:$F,K$7,'4.Itens de Orçamento'!$N:$N,\"Contrapartida\")","v":0},0,0]
[null,{"$f":"Listas!R7","v":"C2 Fortalecimento da aquisição e do consumo de alimentos - Fortalecimento da infraestrutura das redes públicas de ensino"},{"$f":"SUMIFS('3.Recursos Humanos'!$AT:$AT,'3.Recursos Humanos'!$D:$D,$B13,'3.Recursos Humanos'!$N:$N,\"Contrapartida\")","v":0},{"$f":"SUMIFS('4.Itens de Orçamento'!$O:$O,'4.Itens de Orçamento'!$D:$D,$B13,'4.Itens de Orçamento'!$F:$F,D$7,'4.Itens de Orçamento'!$N:$N,\"Contrapartida\")","v":0},{"$f":"SUMIFS('4.Itens de Orçamento'!$O:$O,'4.Itens de Orçamento'!$D:$D,$B13,'4.Itens de Orçamento'!$F:$F,E$7,'4.Itens de Orçamento'!$N:$N,\"Contrapartida\")","v":0},{"$f":"SUMIFS('4.Itens de Orçamento'!$O:$O,'4.Itens de Orçamento'!$D:$D,$B13,'4.Itens de Orçamento'!$F:$F,F$7,'4.Itens de Orçamento'!$N:$N,\"Contrapartida\")","v":0},{"$f":"SUMIFS('4.Itens de Orçamento'!$O:$O,'4.Itens de Orçamento'!$D:$D,$B13,'4.Itens de Orçamento'!$F:$F,G$7,'4.Itens de Orçamento'!$N:$N,\"Contrapartida\")","v":0},{"$f":"SUMIFS('4.Itens de Orçamento'!$O:$O,'4.Itens de Orçamento'!$D:$D,$B13,'4.Itens de Orçamento'!$F:$F,H$7,'4.Itens de Orçamento'!$N:$N,\"Contrapartida\")","v":0},{"$f":"SUMIFS('4.Itens de Orçamento'!$O:$O,'4.Itens de Orçamento'!$D:$D,$B13,'4.Itens de Orçamento'!$F:$F,I$7,'4.Itens de Orçamento'!$N:$N,\"Contrapartida\")","v":0},{"$f":"SUMIFS('4.Itens de Orçamento'!$O:$O,'4.Itens de Orçamento'!$D:$D,$B13,'4.Itens de Orçamento'!$F:$F,J$7,'4.Itens de Orçamento'!$N:$N,\"Contrapartida\")","v":0},{"$f":"SUMIFS('4.Itens de Orçamento'!$O:$O,'4.Itens de Orçamento'!$D:$D,$B13,'4.Itens de Orçamento'!$F:$F,K$7,'4.Itens de Orçamento'!$N:$N,\"Contrapartida\")","v":0},0,0]
[null,{"$f":"Listas!R8","v":"D Gestão do projeto"},{"$f":"SUMIFS('3.Recursos Humanos'!$AT:$AT,'3.Recursos Humanos'!$D:$D,$B14,'3.Recursos Humanos'!$N:$N,\"Contrapartida\")","v":0},{"$f":"SUMIFS('4.Itens de Orçamento'!$O:$O,'4.Itens de Orçamento'!$D:$D,$B14,'4.Itens de Orçamento'!$F:$F,D$7,'4.Itens de Orçamento'!$N:$N,\"Contrapartida\")","v":0},{"$f":"SUMIFS('4.Itens de Orçamento'!$O:$O,'4.Itens de Orçamento'!$D:$D,$B14,'4.Itens de Orçamento'!$F:$F,E$7,'4.Itens de Orçamento'!$N:$N,\"Contrapartida\")","v":0},{"$f":"SUMIFS('4.Itens de Orçamento'!$O:$O,'4.Itens de Orçamento'!$D:$D,$B14,'4.Itens de Orçamento'!$F:$F,F$7,'4.Itens de Orçamento'!$N:$N,\"Contrapartida\")","v":0},{"$f":"SUMIFS('4.Itens de Orçamento'!$O:$O,'4.Itens de Orçamento'!$D:$D,$B14,'4.Itens de Orçamento'!$F:$F,G$7,'4.Itens de Orçamento'!$N:$N,\"Contrapartida\")","v":0},{"$f":"SUMIFS('4.Itens de Orçamento'!$O:$O,'4.Itens de Orçamento'!$D:$D,$B14,'4.Itens de Orçamento'!$F:$F,H$7,'4.Itens de Orçamento'!$N:$N,\"Contrapartida\")","v":0},{"$f":"SUMIFS('4.Itens de Orçamento'!$O:$O,'4.Itens de Orçamento'!$D:$D,$B14,'4.Itens de Orçamento'!$F:$F,I$7,'4.Itens de Orçamento'!$N:$N,\"Contrapartida\")","v":0},{"$f":"SUMIFS('4.Itens de Orçamento'!$O:$O,'4.Itens de Orçamento'!$D:$D,$B14,'4.Itens de Orçamento'!$F:$F,J$7,'4.Itens de Orçamento'!$N:$N,\"Contrapartida\")","v":0},{"$f":"SUMIFS('4.Itens de Orçamento'!$O:$O,'4.Itens de Orçamento'!$D:$D,$B14,'4.Itens de Orçamento'!$F:$F,K$7,'4.Itens de Orçamento'!$N:$N,\"Contrapartida\")","v":0},0,0]
[null,{"$f":"Listas!R9","v":0},{"$f":"SUMIFS('3.Recursos Humanos'!$AT:$AT,'3.Recursos Humanos'!$D:$D,$B15,'3.Recursos Humanos'!$N:$N,\"Contrapartida\")","v":0},{"$f":"SUMIFS('4.Itens de Orçamento'!$O:$O,'4.Itens de Orçamento'!$D:$D,$B15,'4.Itens de Orçamento'!$F:$F,D$7,'4.Itens de Orçamento'!$N:$N,\"Contrapartida\")","v":0},{"$f":"SUMIFS('4.Itens de Orçamento'!$O:$O,'4.Itens de Orçamento'!$D:$D,$B15,'4.Itens de Orçamento'!$F:$F,E$7,'4.Itens de Orçamento'!$N:$N,\"Contrapartida\")","v":0},{"$f":"SUMIFS('4.Itens de Orçamento'!$O:$O,'4.Itens de Orçamento'!$D:$D,$B15,'4.Itens de Orçamento'!$F:$F,F$7,'4.Itens de Orçamento'!$N:$N,\"Contrapartida\")","v":0},{"$f":"SUMIFS('4.Itens de Orçamento'!$O:$O,'4.Itens de Orçamento'!$D:$D,$B15,'4.Itens de Orçamento'!$F:$F,G$7,'4.Itens de Orçamento'!$N:$N,\"Contrapartida\")","v":0},{"$f":"SUMIFS('4.Itens de Orçamento'!$O:$O,'4.Itens de Orçamento'!$D:$D,$B15,'4.Itens de Orçamento'!$F:$F,H$7,'4.Itens de Orçamento'!$N:$N,\"Contrapartida\")","v":0},{"$f":"SUMIFS('4.Itens de Orçamento'!$O:$O,'4.Itens de Orçamento'!$D:$D,$B15,'4.Itens de Orçamento'!$F:$F,I$7,'4.Itens de Orçamento'!$N:$N,\"Contrapartida\")","v":0},{"$f":"SUMIFS('4.Itens de Orçamento'!$O:$O,'4.Itens de Orçamento'!$D:$D,$B15,'4.Itens de Orçamento'!$F:$F,J$7,'4.Itens de Orçamento'!$N:$N,\"Contrapartida\")","v":0},{"$f":"SUMIFS('4.Itens de Orçamento'!$O:$O,'4.Itens de Orçamento'!$D:$D,$B15,'4.Itens de Orçamento'!$F:$F,K$7,'4.Itens de Orçamento'!$N:$N,\"Contrapartida\")","v":0},0,0]
[null,{"$f":"Listas!R10","v":0},{"$f":"SUMIFS('3.Recursos Humanos'!$AT:$AT,'3.Recursos Humanos'!$D:$D,$B16,'3.Recursos Humanos'!$N:$N,\"Contrapartida\")","v":0},{"$f":"SUMIFS('4.Itens de Orçamento'!$O:$O,'4.Itens de Orçamento'!$D:$D,$B16,'4.Itens de Orçamento'!$F:$F,D$7,'4.Itens de Orçamento'!$N:$N,\"Contrapartida\")","v":0},{"$f":"SUMIFS('4.Itens de Orçamento'!$O:$O,'4.Itens de Orçamento'!$D:$D,$B16,'4.Itens de Orçamento'!$F:$F,E$7,'4.Itens de Orçamento'!$N:$N,\"Contrapartida\")","v":0},{"$f":"SUMIFS('4.Itens de Orçamento'!$O:$O,'4.Itens de Orçamento'!$D:$D,$B16,'4.Itens de Orçamento'!$F:$F,F$7,'4.Itens de Orçamento'!$N:$N,\"Contrapartida\")","v":0},{"$f":"SUMIFS('4.Itens de Orçamento'!$O:$O,'4.Itens de Orçamento'!$D:$D,$B16,'4.Itens de Orçamento'!$F:$F,G$7,'4.Itens de Orçamento'!$N:$N,\"Contrapartida\")","v":0},{"$f":"SUMIFS('4.Itens de Orçamento'!$O:$O,'4.Itens de Orçamento'!$D:$D,$B16,'4.Itens de Orçamento'!$F:$F,H$7,'4.Itens de Orçamento'!$N:$N,\"Contrapartida\")","v":0},{"$f":"SUMIFS('4.Itens de Orçamento'!$O:$O,'4.Itens de Orçamento'!$D:$D,$B16,'4.Itens de Orçamento'!$F:$F,I$7,'4.Itens de Orçamento'!$N:$N,\"Contrapartida\")","v":0},{"$f":"SUMIFS('4.Itens de Orçamento'!$O:$O,'4.Itens de Orçamento'!$D:$D,$B16,'4.Itens de Orçamento'!$F:$F,J$7,'4.Itens de Orçamento'!$N:$N,\"Contrapartida\")","v":0},{"$f":"SUMIFS('4.Itens de Orçamento'!$O:$O,'4.Itens de Orçamento'!$D:$D,$B16,'4.Itens de Orçamento'!$F:$F,K$7,'4.Itens de Orçamento'!$N:$N,\"Contrapartida\")","v":0},0,0]
[null,"TOTAL %",{"$f":"IF($L$8=0,0,C8/$L8)","v":0},{"$f":"IF($L$8=0,0,D8/$L8)","v":0},0,0,0,0,0,0,{"$f":"IF($L$8=0,0,K8/$L8)","v":0},{"$f":"SUM(C17:K17)","v":0}]

{"sheet":"Acompanhamento","index":11,"n_rows":8999,"n_cols":19,"rows_kept":4500,"cut":true,"hidden":true,"merged":[],"bounds":{"rows_first":2000,"rows_last":500,"rows_between":2000,"halvings":0}}
[]
[]
[]
[null,null,null,"NÃO preencher essa tabela. Preenchimento automático",null,null,null,null,{"$f":"\"Soma \"&I8","v":"Soma Total Estimado"},{"$f":"\"Soma \"&J8","v":"Soma Total FA"},"Soma Total Contrapartida",{"$f":"\"Total \"&L8","v":"Total PAR1 (data)"},{"$f":"\"Total \"&M8","v":"Total Saldo Após PAR1"},"Total PAR2 (data)","Total Saldo Após PAR2","Total PAR3 (data)","Total Saldo Após PAR3","Total PAR4 (data)","Total Saldo Após PAR4"]
[null,null,null,"Planilha para Acompanhamento da Execução: Acompanhamento Liberações, Comprovações e Remanejamentos",null,null,null,null,{"$f":"SUM(I9:I9000)","v":0},{"$f":"SUM(J9:J9000)","v":0},0,0,0,0,0,{"$f":"SUM(P9:P9000)","v":0},0,0,0]
[]
[]
[{"$f":"COUNTA(D:D)+6","v":9},null,null,"Componente","Produto ou Serviço","Categoria","Detalhe Categoria","Fonte","Total Estimado","Total FA","Total Contrapartida","PAR1 (data)","Saldo Após PAR1","PAR2 (data)","Saldo Após PAR2","PAR3 (data)","Saldo Após PAR3","PAR4 (data)","Saldo Após PAR4"]
[null,null,null,null,null,null,null,null,null,{"$f":"IF(H9=Listas!$X$3,Acompanhamento!I9,0)","v":0},{"$f":"IF(H9=Listas!$X$4,Acompanhamento!I9,0)","v":0},null,{"$f":"J9-L9","v":0},null,{"$f":"M9-N9","v":0},null,{"$f":"O9-P9","v":0},null,{"$f":"Q9-R9","v":0}]
[null,null,null,null,null,null,null,null,null,{"$f":"IF(H10=Listas!$X$3,Acompanhamento!I10,0)","v":0},{"$f":"IF(H10=Listas!$X$4,Acompanhamento!I10,0)","v":0},null,{"$f":"J10-L10","v":0},null,{"$f":"M10-N10","v":0},null,{"$f":"O10-P10","v":0},null,{"$f":"Q10-R10","v":0}]
[null,null,null,null,null,null,null,null,null,{"$f":"IF(H11=Listas!$X$3,Acompanhamento!I11,0)","v":0},{"$f":"IF(H11=Listas!$X$4,Acompanhamento!I11,0)","v":0},null,0,null,0,null,0,null,0]
[null,null,null,null,null,null,null,null,null,{"$f":"IF(H12=Listas!$X$3,Acompanhamento!I12,0)","v":0},{"$f":"IF(H12=Listas!$X$4,Acompanhamento!I12,0)","v":0},null,0,null,0,null,0,null,0]
[null,null,null,null,null,null,null,null,null,{"$f":"IF(H13=Listas!$X$3,Acompanhamento!I13,0)","v":0},{"$f":"IF(H13=Listas!$X$4,Acompanhamento!I13,0)","v":0},null,0,null,0,null,0,null,0]
[null,null,null,null,null,null,null,null,null,{"$f":"IF(H14=Listas!$X$3,Acompanhamento!I14,0)","v":0},{"$f":"IF(H14=Listas!$X$4,Acompanhamento!I14,0)","v":0},null,0,null,0,null,0,null,0]
[null,null,null,null,null,null,null,null,null,{"$f":"IF(H15=Listas!$X$3,Acompanhamento!I15,0)","v":0},{"$f":"IF(H15=Listas!$X$4,Acompanhamento!I15,0)","v":0},null,0,null,0,null,0,null,0]
[null,null,null,null,null,null,null,null,null,{"$f":"IF(H16=Listas!$X$3,Acompanhamento!I16,0)","v":0},{"$f":"IF(H16=Listas!$X$4,Acompanhamento!I16,0)","v":0},null,0,null,0,null,0,null,0]
[null,null,null,null,null,null,null,null,null,{"$f":"IF(H17=Listas!$X$3,Acompanhamento!I17,0)","v":0},{"$f":"IF(H17=Listas!$X$4,Acompanhamento!I17,0)","v":0},null,0,null,0,null,0,null,0]
[null,null,null,null,null,null,null,null,null,{"$f":"IF(H18=Listas!$X$3,Acompanhamento!I18,0)","v":0},{"$f":"IF(H18=Listas!$X$4,Acompanhamento!I18,0)","v":0},null,0,null,0,null,0,null,0]
[null,null,null,null,null,null,null,null,null,{"$f":"IF(H19=Listas!$X$3,Acompanhamento!I19,0)","v":0},{"$f":"IF(H19=Listas!$X$4,Acompanhamento!I19,0)","v":0},null,0,null,0,null,0,null,0]
[null,null,null,null,null,null,null,null,null,{"$f":"IF(H20=Listas!$X$3,Acompanhamento!I20,0)","v":0},{"$f":"IF(H20=Listas!$X$4,Acompanhamento!I20,0)","v":0},null,0,null,0,null,0,null,0]
[null,null,null,null,null,null,null,null,null,{"$f":"IF(H21=Listas!$X$3,Acompanhamento!I21,0)","v":0},{"$f":"IF(H21=Listas!$X$4,Acompanhamento!I21,0)","v":0},null,0,null,0,null,0,null,0]
[null,null,null,null,null,null,null,null,null,{"$f":"IF(H22=Listas!$X$3,Acompanhamento!I22,0)","v":0},{"$f":"IF(H22=Listas!$X$4,Acompanhamento!I22,0)","v":0},null,0,null,0,null,0,null,0]
[null,null,null,null,null,null,null,null,null,{"$f":"IF(H23=Listas!$X$3,Acompanhamento!I23,0)","v":0},{"$f":"IF(H23=Listas!$X$4,Acompanhamento!I23,0)","v":0},null,0,null,0,null,0,null,0]
[null,null,null,null,null,null,null,null,null,{"$f":"IF(H24=Listas!$X$3,Acompanhamento!I24,0)","v":0},{"$f":"IF(H24=Listas!$X$4,Acompanhamento!I24,0)","v":0},null,0,null,0,null,0,null,0]
[null,null,null,null,null,null,null,null,null,{"$f":"IF(H25=Listas!$X$3,Acompanhamento!I25,0)","v":0},{"$f":"IF(H25=Listas!$X$4,Acompanhamento!I25,0)","v":0},null,0,null,0,null,0,null,0]
[null,null,null,null,null,null,null,null,null,{"$f":"IF(H26=Listas!$X$3,Acompanhamento!I26,0)","v":0},{"$f":"IF(H26=Listas!$X$4,Acompanhamento!I26,0)","v":0},null,0,null,0,null,0,null,0]
[null,null,null,null,null,null,null,null,null,{"$f":"IF(H27=Listas!$X$3,Acompanhamento!I27,0)","v":0},{"$f":"IF(H27=Listas!$X$4,Acompanhamento!I27,0)","v":0},null,0,null,0,null,0,null,0]
[null,null,null,null,null,null,null,null,null,{"$f":"IF(H28=Listas!$X$3,Acompanhamento!I28,0)","v":0},{"$f":"IF(H28=Listas!$X$4,Acompanhamento!I28,0)","v":0},null,0,null,0,null,0,null,0]
[null,null,null,null,null,null,null,null,null,{"$f":"IF(H29=Listas!$X$3,Acompanhamento!I29,0)","v":0},{"$f":"IF(H29=Listas!$X$4,Acompanhamento!I29,0)","v":0},null,0,null,0,null,0,null,0]
[null,null,null,null,null,null,null,null,null,{"$f":"IF(H30=Listas!$X$3,Acompanhamento!I30,0)","v":0},{"$f":"IF(H30=Listas!$X$4,Acompanhamento!I30,0)","v":0},null,0,null,0,null,0,null,0]
[null,null,null,null,null,null,null,null,null,{"$f":"IF(H31=Listas!$X$3,Acompanhamento!I31,0)","v":0},{"$f":"IF(H31=Listas!$X$4,Acompanhamento!I31,0)","v":0},null,0,null,0,null,0,null,0]
[null,null,null,null,null,null,null,null,null,{"$f":"IF(H32=Listas!$X$3,Acompanhamento!I32,0)","v":0},{"$f":"IF(H32=Listas!$X$4,Acompanhamento!I32,0)","v":0},null,0,null,0,null,0,null,0]
[null,null,null,null,null,null,null,null,null,{"$f":"IF(H33=Listas!$X$3,Acompanhamento!I33,0)","v":0},{"$f":"IF(H33=Listas!$X$4,Acompanhamento!I33,0)","v":0},null,0,null,0,null,0,null,0]
[null,null,null,null,null,null,null,null,null,{"$f":"IF(H34=Listas!$X$3,Acompanhamento!I34,0)","v":0},{"$f":"IF(H34=Listas!$X$4,Acompanhamento!I34,0)","v":0},null,0,null,0,null,0,null,0]
[null,null,null,null,null,null,null,null,null,{"$f":"IF(H35=Listas!$X$3,Acompanhamento!I35,0)","v":0},{"$f":"IF(H35=Listas!$X$4,Acompanhamento!I35,0)","v":0},null,0,null,0,null,0,null,0]
[null,null,null,null,null,null,null,null,null,{"$f":"IF(H36=Listas!$X$3,Acompanhamento!I36,0)","v":0},{"$f":"IF(H36=Listas!$X$4,Acompanhamento!I36,0)","v":0},null,0,null,0,null,0,null,0]
[null,null,null,null,null,null,null,null,null,{"$f":"IF(H37=Listas!$X$3,Acompanhamento!I37,0)","v":0},{"$f":"IF(H37=Listas!$X$4,Acompanhamento!I37,0)","v":0},null,0,null,0,null,0,null,0]
[null,null,null,null,null,null,null,null,null,{"$f":"IF(H38=Listas!$X$3,Acompanhamento!I38,0)","v":0},{"$f":"IF(H38=Listas!$X$4,Acompanhamento!I38,0)","v":0},null,0,null,0,null,0,null,0]
[null,null,null,null,null,null,null,null,null,{"$f":"IF(H39=Listas!$X$3,Acompanhamento!I39,0)","v":0},{"$f":"IF(H39=Listas!$X$4,Acompanhamento!I39,0)","v":0},null,0,null,0,null,0,null,0]
[null,null,null,null,null,null,null,null,null,{"$f":"IF(H40=Listas!$X$3,Acompanhamento!I40,0)","v":0},{"$f":"IF(H40=Listas!$X$4,Acompanhamento!I40,0)","v":0},null,0,null,0,null,0,null,0]
[null,null,null,null,null,null,null,null,null,{"$f":"IF(H41=Listas!$X$3,Acompanhamento!I41,0)","v":0},{"$f":"IF(H41=Listas!$X$4,Acompanhamento!I41,0)","v":0},null,0,null,0,null,0,null,0]
[null,null,null,null,null,null,null,null,null,{"$f":"IF(H42=Listas!$X$3,Acompanhamento!I42,0)","v":0},{"$f":"IF(H42=Listas!$X$4,Acompanhamento!I42,0)","v":0},null,0,null,0,null,0,null,0]
[null,null,null,null,null,null,null,null,null,{"$f":"IF(H43=Listas!$X$3,Acompanhamento!I43,0)","v":0},{"$f":"IF(H43=Listas!$X$4,Acompanhamento!I43,0)","v":0},null,0,null,0,null,0,null,0]
[null,null,null,null,null,null,null,null,null,{"$f":"IF(H44=Listas!$X$3,Acompanhamento!I44,0)","v":0},{"$f":"IF(H44=Listas!$X$4,Acompanhamento!I44,0)","v":0},null,0,null,0,null,0,null,0]
[null,null,null,null,null,null,null,null,null,{"$f":"IF(H45=Listas!$X$3,Acompanhamento!I45,0)","v":0},{"$f":"IF(H45=Listas!$X$4,Acompanhamento!I45,0)","v":0},null,0,null,0,null,0,null,0]
[null,null,null,null,null,null,null,null,null,{"$f":"IF(H46=Listas!$X$3,Acompanhamento!I46,0)","v":0},{"$f":"IF(H46=Listas!$X$4,Acompanhamento!I46,0)","v":0},null,0,null,0,null,0,null,0]
[null,null,null,null,null,null,null,null,null,{"$f":"IF(H47=Listas!$X$3,Acompanhamento!I47,0)","v":0},{"$f":"IF(H47=Listas!$X$4,Acompanhamento!I47,0)","v":0},null,0,null,0,null,0,null,0]
[null,null,null,null,null,null,null,null,null,{"$f":"IF(H48=Listas!$X$3,Acompanhamento!I48,0)","v":0},{"$f":"IF(H48=Listas!$X$4,Acompanhamento!I48,0)","v":0},null,0,null,0,null,0,null,0]
[null,null,null,null,null,null,null,null,null,{"$f":"IF(H49=Listas!$X$3,Acompanhamento!I49,0)","v":0},{"$f":"IF(H49=Listas!$X$4,Acompanhamento!I49,0)","v":0},null,0,null,0,null,0,null,0]
[null,null,null,null,null,null,null,null,null,{"$f":"IF(H50=Listas!$X$3,Acompanhamento!I50,0)","v":0},{"$f":"IF(H50=Listas!$X$4,Acompanhamento!I50,0)","v":0},null,0,null,0,null,0,null,0]
[null,null,null,null,null,null,null,null,null,{"$f":"IF(H51=Listas!$X$3,Acompanhamento!I51,0)","v":0},{"$f":"IF(H51=Listas!$X$4,Acompanhamento!I51,0)","v":0},null,0,null,0,null,0,null,0]
[null,null,null,null,null,null,null,null,null,{"$f":"IF(H52=Listas!$X$3,Acompanhamento!I52,0)","v":0},{"$f":"IF(H52=Listas!$X$4,Acompanhamento!I52,0)","v":0},null,0,null,0,null,0,null,0]
[null,null,null,null,null,null,null,null,null,{"$f":"IF(H53=Listas!$X$3,Acompanhamento!I53,0)","v":0},{"$f":"IF(H53=Listas!$X$4,Acompanhamento!I53,0)","v":0},null,0,null,0,null,0,null,0]
[null,null,null,null,null,null,null,null,null,{"$f":"IF(H54=Listas!$X$3,Acompanhamento!I54,0)","v":0},{"$f":"IF(H54=Listas!$X$4,Acompanhamento!I54,0)","v":0},null,0,null,0,null,0,null,0]
[null,null,null,null,null,null,null,null,null,{"$f":"IF(H55=Listas!$X$3,Acompanhamento!I55,0)","v":0},{"$f":"IF(H55=Listas!$X$4,Acompanhamento!I55,0)","v":0},null,0,null,0,null,0,null,0]
[null,null,null,null,null,null,null,null,null,{"$f":"IF(H56=Listas!$X$3,Acompanhamento!I56,0)","v":0},{"$f":"IF(H56=Listas!$X$4,Acompanhamento!I56,0)","v":0},null,0,null,0,null,0,null,0]
[null,null,null,null,null,null,null,null,null,{"$f":"IF(H57=Listas!$X$3,Acompanhamento!I57,0)","v":0},{"$f":"IF(H57=Listas!$X$4,Acompanhamento!I57,0)","v":0},null,0,null,0,null,0,null,0]
[null,null,null,null,null,null,null,null,null,{"$f":"IF(H58=Listas!$X$3,Acompanhamento!I58,0)","v":0},{"$f":"IF(H58=Listas!$X$4,Acompanhamento!I58,0)","v":0},null,0,null,0,null,0,null,0]
[null,null,null,null,null,null,null,null,null,{"$f":"IF(H59=Listas!$X$3,Acompanhamento!I59,0)","v":0},{"$f":"IF(H59=Listas!$X$4,Acompanhamento!I59,0)","v":0},null,0,null,0,null,0,null,0]
[null,null,null,null,null,null,null,null,null,{"$f":"IF(H60=Listas!$X$3,Acompanhamento!I60,0)","v":0},{"$f":"IF(H60=Listas!$X$4,Acompanhamento!I60,0)","v":0},null,0,null,0,null,0,null,0]
[null,null,null,null,null,null,null,null,null,{"$f":"IF(H61=Listas!$X$3,Acompanhamento!I61,0)","v":0},{"$f":"IF(H61=Listas!$X$4,Acompanhamento!I61,0)","v":0},null,0,null,0,null,0,null,0]
[null,null,null,null,null,null,null,null,null,{"$f":"IF(H62=Listas!$X$3,Acompanhamento!I62,0)","v":0},{"$f":"IF(H62=Listas!$X$4,Acompanhamento!I62,0)","v":0},null,0,null,0,null,0,null,0]
[null,null,null,null,null,null,null,null,null,{"$f":"IF(H63=Listas!$X$3,Acompanhamento!I63,0)","v":0},{"$f":"IF(H63=Listas!$X$4,Acompanhamento!I63,0)","v":0},null,0,null,0,null,0,null,0]
[null,null,null,null,null,null,null,null,null,{"$f":"IF(H64=Listas!$X$3,Acompanhamento!I64,0)","v":0},{"$f":"IF(H64=Listas!$X$4,Acompanhamento!I64,0)","v":0},null,0,null,0,null,0,null,0]
[null,null,null,null,null,null,null,null,null,{"$f":"IF(H65=Listas!$X$3,Acompanhamento!I65,0)","v":0},{"$f":"IF(H65=Listas!$X$4,Acompanhamento!I65,0)","v":0},null,0,null,0,null,0,null,0]
[null,null,null,null,null,null,null,null,null,{"$f":"IF(H66=Listas!$X$3,Acompanhamento!I66,0)","v":0},{"$f":"IF(H66=Listas!$X$4,Acompanhamento!I66,0)","v":0},null,0,null,0,null,0,null,0]
[null,null,null,null,null,null,null,null,null,{"$f":"IF(H67=Listas!$X$3,Acompanhamento!I67,0)","v":0},{"$f":"IF(H67=Listas!$X$4,Acompanhamento!I67,0)","v":0},null,0,null,0,null,0,null,0]
[null,null,null,null,null,null,null,null,null,{"$f":"IF(H68=Listas!$X$3,Acompanhamento!I68,0)","v":0},{"$f":"IF(H68=Listas!$X$4,Acompanhamento!I68,0)","v":0},null,0,null,0,null,0,null,0]
[null,null,null,null,null,null,null,null,null,{"$f":"IF(H69=Listas!$X$3,Acompanhamento!I69,0)","v":0},{"$f":"IF(H69=Listas!$X$4,Acompanhamento!I69,0)","v":0},null,0,null,0,null,0,null,0]
[null,null,null,null,null,null,null,null,null,{"$f":"IF(H70=Listas!$X$3,Acompanhamento!I70,0)","v":0},{"$f":"IF(H70=Listas!$X$4,Acompanhamento!I70,0)","v":0},null,0,null,0,null,0,null,0]
[null,null,null,null,null,null,null,null,null,{"$f":"IF(H71=Listas!$X$3,Acompanhamento!I71,0)","v":0},{"$f":"IF(H71=Listas!$X$4,Acompanhamento!I71,0)","v":0},null,0,null,0,null,0,null,0]
[null,null,null,null,null,null,null,null,null,{"$f":"IF(H72=Listas!$X$3,Acompanhamento!I72,0)","v":0},{"$f":"IF(H72=Listas!$X$4,Acompanhamento!I72,0)","v":0},null,0,null,0,null,0,null,0]
[null,null,null,null,null,null,null,null,null,{"$f":"IF(H73=Listas!$X$3,Acompanhamento!I73,0)","v":0},{"$f":"IF(H73=Listas!$X$4,Acompanhamento!I73,0)","v":0},null,0,null,0,null,0,null,0]
[null,null,null,null,null,null,null,null,null,{"$f":"IF(H74=Listas!$X$3,Acompanhamento!I74,0)","v":0},{"$f":"IF(H74=Listas!$X$4,Acompanhamento!I74,0)","v":0},null,{"$f":"J74-L74","v":0},null,{"$f":"M74-N74","v":0},null,{"$f":"O74-P74","v":0},null,{"$f":"Q74-R74","v":0}]
[null,null,null,null,null,null,null,null,null,{"$f":"IF(H75=Listas!$X$3,Acompanhamento!I75,0)","v":0},{"$f":"IF(H75=Listas!$X$4,Acompanhamento!I75,0)","v":0},null,0,null,0,null,0,null,0]
[null,null,null,null,null,null,null,null,null,{"$f":"IF(H76=Listas!$X$3,Acompanhamento!I76,0)","v":0},{"$f":"IF(H76=Listas!$X$4,Acompanhamento!I76,0)","v":0},null,0,null,0,null,0,null,0]
[null,null,null,null,null,null,null,null,null,{"$f":"IF(H77=Listas!$X$3,Acompanhamento!I77,0)","v":0},{"$f":"IF(H77=Listas!$X$4,Acompanhamento!I77,0)","v":0},null,0,null,0,null,0,null,0]
[null,null,null,null,null,null,null,null,null,{"$f":"IF(H78=Listas!$X$3,Acompanhamento!I78,0)","v":0},{"$f":"IF(H78=Listas!$X$4,Acompanhamento!I78,0)","v":0},null,0,null,0,null,0,null,0]
[null,null,null,null,null,null,null,null,null,{"$f":"IF(H79=Listas!$X$3,Acompanhamento!I79,0)","v":0},{"$f":"IF(H79=Listas!$X$4,Acompanhamento!I79,0)","v":0},null,0,null,0,null,0,null,0]
[null,null,null,null,null,null,null,null,null,{"$f":"IF(H80=Listas!$X$3,Acompanhamento!I80,0)","v":0},{"$f":"IF(H80=Listas!$X$4,Acompanhamento!I80,0)","v":0},null,0,null,0,null,0,null,0]
[null,null,null,null,null,null,null,null,null,{"$f":"IF(H81=Listas!$X$3,Acompanhamento!I81,0)","v":0},{"$f":"IF(H81=Listas!$X$4,Acompanhamento!I81,0)","v":0},null,0,null,0,null,0,null,0]
[null,null,null,null,null,null,null,null,null,{"$f":"IF(H82=Listas!$X$3,Acompanhamento!I82,0)","v":0},{"$f":"IF(H82=Listas!$X$4,Acompanhamento!I82,0)","v":0},null,0,null,0,null,0,null,0]
[null,null,null,null,null,null,null,null,null,{"$f":"IF(H83=Listas!$X$3,Acompanhamento!I83,0)","v":0},{"$f":"IF(H83=Listas!$X$4,Acompanhamento!I83,0)","v":0},null,0,null,0,null,0,null,0]
[null,null,null,null,null,null,null,null,null,{"$f":"IF(H84=Listas!$X$3,Acompanhamento!I84,0)","v":0},{"$f":"IF(H84=Listas!$X$4,Acompanhamento!I84,0)","v":0},null,0,null,0,null,0,null,0]
[null,null,null,null,null,null,null,null,null,{"$f":"IF(H85=Listas!$X$3,Acompanhamento!I85,0)","v":0},{"$f":"IF(H85=Listas!$X$4,Acompanhamento!I85,0)","v":0},null,0,null,0,null,0,null,0]
[null,null,null,null,null,null,null,null,null,{"$f":"IF(H86=Listas!$X$3,Acompanhamento!I86,0)","v":0},{"$f":"IF(H86=Listas!$X$4,Acompanhamento!I86,0)","v":0},null,0,null,0,null,0,null,0]
[null,null,null,null,null,null,null,null,null,{"$f":"IF(H87=Listas!$X$3,Acompanhamento!I87,0)","v":0},{"$f":"IF(H87=Listas!$X$4,Acompanhamento!I87,0)","v":0},null,0,null,0,null,0,null,0]
[null,null,null,null,null,null,null,null,null,{"$f":"IF(H88=Listas!$X$3,Acompanhamento!I88,0)","v":0},{"$f":"IF(H88=Listas!$X$4,Acompanhamento!I88,0)","v":0},null,0,null,0,null,0,null,0]
[null,null,null,null,null,null,null,null,null,{"$f":"IF(H89=Listas!$X$3,Acompanhamento!I89,0)","v":0},{"$f":"IF(H89=Listas!$X$4,Acompanhamento!I89,0)","v":0},null,0,null,0,null,0,null,0]
[null,null,null,null,null,null,null,null,null,{"$f":"IF(H90=Listas!$X$3,Acompanhamento!I90,0)","v":0},{"$f":"IF(H90=Listas!$X$4,Acompanhamento!I90,0)","v":0},null,0,null,0,null,0,null,0]
[null,null,null,null,null,null,null,null,null,{"$f":"IF(H91=Listas!$X$3,Acompanhamento!I91,0)","v":0},{"$f":"IF(H91=Listas!$X$4,Acompanhamento!I91,0)","v":0},null,0,null,0,null,0,null,0]
[null,null,null,null,null,null,null,null,null,{"$f":"IF(H92=Listas!$X$3,Acompanhamento!I92,0)","v":0},{"$f":"IF(H92=Listas!$X$4,Acompanhamento!I92,0)","v":0},null,0,null,0,null,0,null,0]
[null,null,null,null,null,null,null,null,null,{"$f":"IF(H93=Listas!$X$3,Acompanhamento!I93,0)","v":0},{"$f":"IF(H93=Listas!$X$4,Acompanhamento!I93,0)","v":0},null,0,null,0,null,0,null,0]
[null,null,null,null,null,null,null,null,null,{"$f":"IF(H94=Listas!$X$3,Acompanhamento!I94,0)","v":0},{"$f":"IF(H94=Listas!$X$4,Acompanhamento!I94,0)","v":0},null,0,null,0,null,0,null,0]
[null,null,null,null,null,null,null,null,null,{"$f":"IF(H95=Listas!$X$3,Acompanhamento!I95,0)","v":0},{"$f":"IF(H95=Listas!$X$4,Acompanhamento!I95,0)","v":0},null,0,null,0,null,0,null,0]
[null,null,null,null,null,null,null,null,null,{"$f":"IF(H96=Listas!$X$3,Acompanhamento!I96,0)","v":0},{"$f":"IF(H96=Listas!$X$4,Acompanhamento!I96,0)","v":0},null,0,null,0,null,0,null,0]
[null,null,null,null,null,null,null,null,null,{"$f":"IF(H97=Listas!$X$3,Acompanhamento!I97,0)","v":0},{"$f":"IF(H97=Listas!$X$4,Acompanhamento!I97,0)","v":0},null,0,null,0,null,0,null,0]
[null,null,null,null,null,null,null,null,null,{"$f":"IF(H98=Listas!$X$3,Acompanhamento!I98,0)","v":0},{"$f":"IF(H98=Listas!$X$4,Acompanhamento!I98,0)","v":0},null,0,null,0,null,0,null,0]
[null,null,null,null,null,null,null,null,null,{"$f":"IF(H99=Listas!$X$3,Acompanhamento!I99,0)","v":0},{"$f":"IF(H99=Listas!$X$4,Acompanhamento!I99,0)","v":0},null,0,null,0,null,0,null,0]
[null,null,null,null,null,null,null,null,null,{"$f":"IF(H100=Listas!$X$3,Acompanhamento!I100,0)","v":0},{"$f":"IF(H100=Listas!$X$4,Acompanhamento!I100,0)","v":0},null,0,null,0,null,0,null,0]
[null,null,null,null,null,null,null,null,null,{"$f":"IF(H101=Listas!$X$3,Acompanhamento!I101,0)","v":0},{"$f":"IF(H101=Listas!$X$4,Acompanhamento!I101,0)","v":0},null,0,null,0,null,0,null,0]
[null,null,null,null,null,null,null,null,null,{"$f":"IF(H102=Listas!$X$3,Acompanhamento!I102,0)","v":0},{"$f":"IF(H102=Listas!$X$4,Acompanhamento!I102,0)","v":0},null,0,null,0,null,0,null,0]
[null,null,null,null,null,null,null,null,null,{"$f":"IF(H103=Listas!$X$3,Acompanhamento!I103,0)","v":0},{"$f":"IF(H103=Listas!$X$4,Acompanhamento!I103,0)","v":0},null,0,null,0,null,0,null,0]
[null,null,null,null,null,null,null,null,null,{"$f":"IF(H104=Listas!$X$3,Acompanhamento!I104,0)","v":0},{"$f":"IF(H104=Listas!$X$4,Acompanhamento!I104,0)","v":0},null,0,null,0,null,0,null,0]
[null,null,null,null,null,null,null,null,null,{"$f":"IF(H105=Listas!$X$3,Acompanhamento!I105,0)","v":0},{"$f":"IF(H105=Listas!$X$4,Acompanhamento!I105,0)","v":0},null,0,null,0,null,0,null,0]
[null,null,null,null,null,null,null,null,null,{"$f":"IF(H106=Listas!$X$3,Acompanhamento!I106,0)","v":0},{"$f":"IF(H106=Listas!$X$4,Acompanhamento!I106,0)","v":0},null,0,null,0,null,0,null,0]
[null,null,null,null,null,null,null,null,null,{"$f":"IF(H107=Listas!$X$3,Acompanhamento!I107,0)","v":0},{"$f":"IF(H107=Listas!$X$4,Acompanhamento!I107,0)","v":0},null,0,null,0,null,0,null,0]
[null,null,null,null,null,null,null,null,null,{"$f":"IF(H108=Listas!$X$3,Acompanhamento!I108,0)","v":0},{"$f":"IF(H108=Listas!$X$4,Acompanhamento!I108,0)","v":0},null,0,null,0,null,0,null,0]
[null,null,null,null,null,null,null,null,null,{"$f":"IF(H109=Listas!$X$3,Acompanhamento!I109,0)","v":0},{"$f":"IF(H109=Listas!$X$4,Acompanhamento!I109,0)","v":0},null,0,null,0,null,0,null,0]
[null,null,null,null,null,null,null,null,null,{"$f":"IF(H110=Listas!$X$3,Acompanhamento!I110,0)","v":0},{"$f":"IF(H110=Listas!$X$4,Acompanhamento!I110,0)","v":0},null,0,null,0,null,0,null,0]
[null,null,null,null,null,null,null,null,null,{"$f":"IF(H111=Listas!$X$3,Acompanhamento!I111,0)","v":0},{"$f":"IF(H111=Listas!$X$4,Acompanhamento!I111,0)","v":0},null,0,null,0,null,0,null,0]
[null,null,null,null,null,null,null,null,null,{"$f":"IF(H112=Listas!$X$3,Acompanhamento!I112,0)","v":0},{"$f":"IF(H112=Listas!$X$4,Acompanhamento!I112,0)","v":0},null,0,null,0,null,0,null,0]
[null,null,null,null,null,null,null,null,null,{"$f":"IF(H113=Listas!$X$3,Acompanhamento!I113,0)","v":0},{"$f":"IF(H113=Listas!$X$4,Acompanhamento!I113,0)","v":0},null,0,null,0,null,0,null,0]
[null,null,null,null,null,null,null,null,null,{"$f":"IF(H114=Listas!$X$3,Acompanhamento!I114,0)","v":0},{"$f":"IF(H114=Listas!$X$4,Acompanhamento!I114,0)","v":0},null,0,null,0,null,0,null,0]
[null,null,null,null,null,null,null,null,null,{"$f":"IF(H115=Listas!$X$3,Acompanhamento!I115,0)","v":0},{"$f":"IF(H115=Listas!$X$4,Acompanhamento!I115,0)","v":0},null,0,null,0,null,0,null,0]
[null,null,null,null,null,null,null,null,null,{"$f":"IF(H116=Listas!$X$3,Acompanhamento!I116,0)","v":0},{"$f":"IF(H116=Listas!$X$4,Acompanhamento!I116,0)","v":0},null,0,null,0,null,0,null,0]
[null,null,null,null,null,null,null,null,null,{"$f":"IF(H117=Listas!$X$3,Acompanhamento!I117,0)","v":0},{"$f":"IF(H117=Listas!$X$4,Acompanhamento!I117,0)","v":0},null,0,null,0,null,0,null,0]
[null,null,null,null,null,null,null,null,null,{"$f":"IF(H118=Listas!$X$3,Acompanhamento!I118,0)","v":0},{"$f":"IF(H118=Listas!$X$4,Acompanhamento!I118,0)","v":0},null,0,null,0,null,0,null,0]
[null,null,null,null,null,null,null,null,null,{"$f":"IF(H119=Listas!$X$3,Acompanhamento!I119,0)","v":0},{"$f":"IF(H119=Listas!$X$4,Acompanhamento!I119,0)","v":0},null,0,null,0,null,0,null,0]
[null,null,null,null,null,null,null,null,null,{"$f":"IF(H120=Listas!$X$3,Acompanhamento!I120,0)","v":0},{"$f":"IF(H120=Listas!$X$4,Acompanhamento!I120,0)","v":0},null,0,null,0,null,0,null,0]
[null,null,null,null,null,null,null,null,null,{"$f":"IF(H121=Listas!$X$3,Acompanhamento!I121,0)","v":0},{"$f":"IF(H121=Listas!$X$4,Acompanhamento!I121,0)","v":0},null,0,null,0,null,0,null,0]
[null,null,null,null,null,null,null,null,null,{"$f":"IF(H122=Listas!$X$3,Acompanhamento!I122,0)","v":0},{"$f":"IF(H122=Listas!$X$4,Acompanhamento!I122,0)","v":0},null,0,null,0,null,0,null,0]
[null,null,null,null,null,null,null,null,null,{"$f":"IF(H123=Listas!$X$3,Acompanhamento!I123,0)","v":0},{"$f":"IF(H123=Listas!$X$4,Acompanhamento!I123,0)","v":0},null,0,null,0,null,0,null,0]
[null,null,null,null,null,null,null,null,null,{"$f":"IF(H124=Listas!$X$3,Acompanhamento!I124,0)","v":0},{"$f":"IF(H124=Listas!$X$4,Acompanhamento!I124,0)","v":0},null,0,null,0,null,0,null,0]
[null,null,null,null,null,null,null,null,null,{"$f":"IF(H125=Listas!$X$3,Acompanhamento!I125,0)","v":0},{"$f":"IF(H125=Listas!$X$4,Acompanhamento!I125,0)","v":0},null,0,null,0,null,0,null,0]
[null,null,null,null,null,null,null,null,null,{"$f":"IF(H126=Listas!$X$3,Acompanhamento!I126,0)","v":0},{"$f":"IF(H126=Listas!$X$4,Acompanhamento!I126,0)","v":0},null,0,null,0,null,0,null,0]
[null,null,null,null,null,null,null,null,null,{"$f":"IF(H127=Listas!$X$3,Acompanhamento!I127,0)","v":0},{"$f":"IF(H127=Listas!$X$4,Acompanhamento!I127,0)","v":0},null,0,null,0,null,0,null,0]
[null,null,null,null,null,null,null,null,null,{"$f":"IF(H128=Listas!$X$3,Acompanhamento!I128,0)","v":0},{"$f":"IF(H128=Listas!$X$4,Acompanhamento!I128,0)","v":0},null,0,null,0,null,0,null,0]
[null,null,null,null,null,null,null,null,null,{"$f":"IF(H129=Listas!$X$3,Acompanhamento!I129,0)","v":0},{"$f":"IF(H129=Listas!$X$4,Acompanhamento!I129,0)","v":0},null,0,null,0,null,0,null,0]
[null,null,null,null,null,null,null,null,null,{"$f":"IF(H130=Listas!$X$3,Acompanhamento!I130,0)","v":0},{"$f":"IF(H130=Listas!$X$4,Acompanhamento!I130,0)","v":0},null,0,null,0,null,0,null,0]
[null,null,null,null,null,null,null,null,null,{"$f":"IF(H131=Listas!$X$3,Acompanhamento!I131,0)","v":0},{"$f":"IF(H131=Listas!$X$4,Acompanhamento!I131,0)","v":0},null,0,null,0,null,0,null,0]
[null,null,null,null,null,null,null,null,null,{"$f":"IF(H132=Listas!$X$3,Acompanhamento!I132,0)","v":0},{"$f":"IF(H132=Listas!$X$4,Acompanhamento!I132,0)","v":0},null,0,null,0,null,0,null,0]
[null,null,null,null,null,null,null,null,null,{"$f":"IF(H133=Listas!$X$3,Acompanhamento!I133,0)","v":0},{"$f":"IF(H133=Listas!$X$4,Acompanhamento!I133,0)","v":0},null,0,null,0,null,0,null,0]
[null,null,null,null,null,null,null,null,null,{"$f":"IF(H134=Listas!$X$3,Acompanhamento!I134,0)","v":0},{"$f":"IF(H134=Listas!$X$4,Acompanhamento!I134,0)","v":0},null,0,null,0,null,0,null,0]
[null,null,null,null,null,null,null,null,null,{"$f":"IF(H135=Listas!$X$3,Acompanhamento!I135,0)","v":0},{"$f":"IF(H135=Listas!$X$4,Acompanhamento!I135,0)","v":0},null,0,null,0,null,0,null,0]
[null,null,null,null,null,null,null,null,null,{"$f":"IF(H136=Listas!$X$3,Acompanhamento!I136,0)","v":0},{"$f":"IF(H136=Listas!$X$4,Acompanhamento!I136,0)","v":0},null,0,null,0,null,0,null,0]
[null,null,null,null,null,null,null,null,null,{"$f":"IF(H137=Listas!$X$3,Acompanhamento!I137,0)","v":0},{"$f":"IF(H137=Listas!$X$4,Acompanhamento!I137,0)","v":0},null,0,null,0,null,0,null,0]
[null,null,null,null,null,null,null,null,null,{"$f":"IF(H138=Listas!$X$3,Acompanhamento!I138,0)","v":0},{"$f":"IF(H138=Listas!$X$4,Acompanhamento!I138,0)","v":0},null,{"$f":"J138-L138","v":0},null,{"$f":"M138-N138","v":0},null,{"$f":"O138-P138","v":0},null,{"$f":"Q138-R138","v":0}]
[null,null,null,null,null,null,null,null,null,{"$f":"IF(H139=Listas!$X$3,Acompanhamento!I139,0)","v":0},{"$f":"IF(H139=Listas!$X$4,Acompanhamento!I139,0)","v":0},null,0,null,0,null,0,null,0]
[null,null,null,null,null,null,null,null,null,{"$f":"IF(H140=Listas!$X$3,Acompanhamento!I140,0)","v":0},{"$f":"IF(H140=Listas!$X$4,Acompanhamento!I140,0)","v":0},null,0,null,0,null,0,null,0]
[null,null,null,null,null,null,null,null,null,{"$f":"IF(H141=Listas!$X$3,Acompanhamento!I141,0)","v":0},{"$f":"IF(H141=Listas!$X$4,Acompanhamento!I141,0)","v":0},null,0,null,0,null,0,null,0]
[null,null,null,null,null,null,null,null,null,{"$f":"IF(H142=Listas!$X$3,Acompanhamento!I142,0)","v":0},{"$f":"IF(H142=Listas!$X$4,Acompanhamento!I142,0)","v":0},null,0,null,0,null,0,null,0]
[null,null,null,null,null,null,null,null,null,{"$f":"IF(H143=Listas!$X$3,Acompanhamento!I143,0)","v":0},{"$f":"IF(H143=Listas!$X$4,Acompanhamento!I143,0)","v":0},null,0,null,0,null,0,null,0]
[null,null,null,null,null,null,null,null,null,{"$f":"IF(H144=Listas!$X$3,Acompanhamento!I144,0)","v":0},{"$f":"IF(H144=Listas!$X$4,Acompanhamento!I144,0)","v":0},null,0,null,0,null,0,null,0]
[null,null,null,null,null,null,null,null,null,{"$f":"IF(H145=Listas!$X$3,Acompanhamento!I145,0)","v":0},{"$f":"IF(H145=Listas!$X$4,Acompanhamento!I145,0)","v":0},null,0,null,0,null,0,null,0]
[null,null,null,null,null,null,null,null,null,{"$f":"IF(H146=Listas!$X$3,Acompanhamento!I146,0)","v":0},{"$f":"IF(H146=Listas!$X$4,Acompanhamento!I146,0)","v":0},null,0,null,0,null,0,null,0]
[null,null,null,null,null,null,null,null,null,{"$f":"IF(H147=Listas!$X$3,Acompanhamento!I147,0)","v":0},{"$f":"IF(H147=Listas!$X$4,Acompanhamento!I147,0)","v":0},null,0,null,0,null,0,null,0]
[null,null,null,null,null,null,null,null,null,{"$f":"IF(H148=Listas!$X$3,Acompanhamento!I148,0)","v":0},{"$f":"IF(H148=Listas!$X$4,Acompanhamento!I148,0)","v":0},null,0,null,0,null,0,null,0]
[null,null,null,null,null,null,null,null,null,{"$f":"IF(H149=Listas!$X$3,Acompanhamento!I149,0)","v":0},{"$f":"IF(H149=Listas!$X$4,Acompanhamento!I149,0)","v":0},null,0,null,0,null,0,null,0]
[null,null,null,null,null,null,null,null,null,{"$f":"IF(H150=Listas!$X$3,Acompanhamento!I150,0)","v":0},{"$f":"IF(H150=Listas!$X$4,Acompanhamento!I150,0)","v":0},null,0,null,0,null,0,null,0]
[null,null,null,null,null,null,null,null,null,{"$f":"IF(H151=Listas!$X$3,Acompanhamento!I151,0)","v":0},{"$f":"IF(H151=Listas!$X$4,Acompanhamento!I151,0)","v":0},null,0,null,0,null,0,null,0]
[null,null,null,null,null,null,null,null,null,{"$f":"IF(H152=Listas!$X$3,Acompanhamento!I152,0)","v":0},{"$f":"IF(H152=Listas!$X$4,Acompanhamento!I152,0)","v":0},null,0,null,0,null,0,null,0]
[null,null,null,null,null,null,null,null,null,{"$f":"IF(H153=Listas!$X$3,Acompanhamento!I153,0)","v":0},{"$f":"IF(H153=Listas!$X$4,Acompanhamento!I153,0)","v":0},null,0,null,0,null,0,null,0]
[null,null,null,null,null,null,null,null,null,{"$f":"IF(H154=Listas!$X$3,Acompanhamento!I154,0)","v":0},{"$f":"IF(H154=Listas!$X$4,Acompanhamento!I154,0)","v":0},null,0,null,0,null,0,null,0]
[null,null,null,null,null,null,null,null,null,{"$f":"IF(H155=Listas!$X$3,Acompanhamento!I155,0)","v":0},{"$f":"IF(H155=Listas!$X$4,Acompanhamento!I155,0)","v":0},null,0,null,0,null,0,null,0]
[null,null,null,null,null,null,null,null,null,{"$f":"IF(H156=Listas!$X$3,Acompanhamento!I156,0)","v":0},{"$f":"IF(H156=Listas!$X$4,Acompanhamento!I156,0)","v":0},null,0,null,0,null,0,null,0]
[null,null,null,null,null,null,null,null,null,{"$f":"IF(H157=Listas!$X$3,Acompanhamento!I157,0)","v":0},{"$f":"IF(H157=Listas!$X$4,Acompanhamento!I157,0)","v":0},null,0,null,0,null,0,null,0]
[null,null,null,null,null,null,null,null,null,{"$f":"IF(H158=Listas!$X$3,Acompanhamento!I158,0)","v":0},{"$f":"IF(H158=Listas!$X$4,Acompanhamento!I158,0)","v":0},null,0,null,0,null,0,null,0]
[null,null,null,null,null,null,null,null,null,{"$f":"IF(H159=Listas!$X$3,Acompanhamento!I159,0)","v":0},{"$f":"IF(H159=Listas!$X$4,Acompanhamento!I159,0)","v":0},null,0,null,0,null,0,null,0]
[null,null,null,null,null,null,null,null,null,{"$f":"IF(H160=Listas!$X$3,Acompanhamento!I160,0)","v":0},{"$f":"IF(H160=Listas!$X$4,Acompanhamento!I160,0)","v":0},null,0,null,0,null,0,null,0]
[null,null,null,null,null,null,null,null,null,{"$f":"IF(H161=Listas!$X$3,Acompanhamento!I161,0)","v":0},{"$f":"IF(H161=Listas!$X$4,Acompanhamento!I161,0)","v":0},null,0,null,0,null,0,null,0]
[null,null,null,null,null,null,null,null,null,{"$f":"IF(H162=Listas!$X$3,Acompanhamento!I162,0)","v":0},{"$f":"IF(H162=Listas!$X$4,Acompanhamento!I162,0)","v":0},null,0,null,0,null,0,null,0]
[null,null,null,null,null,null,null,null,null,{"$f":"IF(H163=Listas!$X$3,Acompanhamento!I163,0)","v":0},{"$f":"IF(H163=Listas!$X$4,Acompanhamento!I163,0)","v":0},null,0,null,0,null,0,null,0]
[null,null,null,null,null,null,null,null,null,{"$f":"IF(H164=Listas!$X$3,Acompanhamento!I164,0)","v":0},{"$f":"IF(H164=Listas!$X$4,Acompanhamento!I164,0)","v":0},null,0,null,0,null,0,null,0]
[null,null,null,null,null,null,null,null,null,{"$f":"IF(H165=Listas!$X$3,Acompanhamento!I165,0)","v":0},{"$f":"IF(H165=Listas!$X$4,Acompanhamento!I165,0)","v":0},null,0,null,0,null,0,null,0]
[null,null,null,null,null,null,null,null,null,{"$f":"IF(H166=Listas!$X$3,Acompanhamento!I166,0)","v":0},{"$f":"IF(H166=Listas!$X$4,Acompanhamento!I166,0)","v":0},null,0,null,0,null,0,null,0]
[null,null,null,null,null,null,null,null,null,{"$f":"IF(H167=Listas!$X$3,Acompanhamento!I167,0)","v":0},{"$f":"IF(H167=Listas!$X$4,Acompanhamento!I167,0)","v":0},null,0,null,0,null,0,null,0]
[null,null,null,null,null,null,null,null,null,{"$f":"IF(H168=Listas!$X$3,Acompanhamento!I168,0)","v":0},{"$f":"IF(H168=Listas!$X$4,Acompanhamento!I168,0)","v":0},null,0,null,0,null,0,null,0]
[null,null,null,null,null,null,null,null,null,{"$f":"IF(H169=Listas!$X$3,Acompanhamento!I169,0)","v":0},{"$f":"IF(H169=Listas!$X$4,Acompanhamento!I169,0)","v":0},null,0,null,0,null,0,null,0]
[null,null,null,null,null,null,null,null,null,{"$f":"IF(H170=Listas!$X$3,Acompanhamento!I170,0)","v":0},{"$f":"IF(H170=Listas!$X$4,Acompanhamento!I170,0)","v":0},null,0,null,0,null,0,null,0]
[null,null,null,null,null,null,null,null,null,{"$f":"IF(H171=Listas!$X$3,Acompanhamento!I171,0)","v":0},{"$f":"IF(H171=Listas!$X$4,Acompanhamento!I171,0)","v":0},null,0,null,0,null,0,null,0]
[null,null,null,null,null,null,null,null,null,{"$f":"IF(H172=Listas!$X$3,Acompanhamento!I172,0)","v":0},{"$f":"IF(H172=Listas!$X$4,Acompanhamento!I172,0)","v":0},null,0,null,0,null,0,null,0]
[null,null,null,null,null,null,null,null,null,{"$f":"IF(H173=Listas!$X$3,Acompanhamento!I173,0)","v":0},{"$f":"IF(H173=Listas!$X$4,Acompanhamento!I173,0)","v":0},null,0,null,0,null,0,null,0]
[null,null,null,null,null,null,null,null,null,{"$f":"IF(H174=Listas!$X$3,Acompanhamento!I174,0)","v":0},{"$f":"IF(H174=Listas!$X$4,Acompanhamento!I174,0)","v":0},null,0,null,0,null,0,null,0]
[null,null,null,null,null,null,null,null,null,{"$f":"IF(H175=Listas!$X$3,Acompanhamento!I175,0)","v":0},{"$f":"IF(H175=Listas!$X$4,Acompanhamento!I175,0)","v":0},null,0,null,0,null,0,null,0]
[null,null,null,null,null,null,null,null,null,{"$f":"IF(H176=Listas!$X$3,Acompanhamento!I176,0)","v":0},{"$f":"IF(H176=Listas!$X$4,Acompanhamento!I176,0)","v":0},null,0,null,0,null,0,null,0]
[null,null,null,null,null,null,null,null,null,{"$f":"IF(H177=Listas!$X$3,Acompanhamento!I177,0)","v":0},{"$f":"IF(H177=Listas!$X$4,Acompanhamento!I177,0)","v":0},null,0,null,0,null,0,null,0]
[null,null,null,null,null,null,null,null,null,{"$f":"IF(H178=Listas!$X$3,Acompanhamento!I178,0)","v":0},{"$f":"IF(H178=Listas!$X$4,Acompanhamento!I178,0)","v":0},null,0,null,0,null,0,null,0]
[null,null,null,null,null,null,null,null,null,{"$f":"IF(H179=Listas!$X$3,Acompanhamento!I179,0)","v":0},{"$f":"IF(H179=Listas!$X$4,Acompanhamento!I179,0)","v":0},null,0,null,0,null,0,null,0]
[null,null,null,null,null,null,null,null,null,{"$f":"IF(H180=Listas!$X$3,Acompanhamento!I180,0)","v":0},{"$f":"IF(H180=Listas!$X$4,Acompanhamento!I180,0)","v":0},null,0,null,0,null,0,null,0]
[null,null,null,null,null,null,null,null,null,{"$f":"IF(H181=Listas!$X$3,Acompanhamento!I181,0)","v":0},{"$f":"IF(H181=Listas!$X$4,Acompanhamento!I181,0)","v":0},null,0,null,0,null,0,null,0]
[null,null,null,null,null,null,null,null,null,{"$f":"IF(H182=Listas!$X$3,Acompanhamento!I182,0)","v":0},{"$f":"IF(H182=Listas!$X$4,Acompanhamento!I182,0)","v":0},null,0,null,0,null,0,null,0]
[null,null,null,null,null,null,null,null,null,{"$f":"IF(H183=Listas!$X$3,Acompanhamento!I183,0)","v":0},{"$f":"IF(H183=Listas!$X$4,Acompanhamento!I183,0)","v":0},null,0,null,0,null,0,null,0]
[null,null,null,null,null,null,null,null,null,{"$f":"IF(H184=Listas!$X$3,Acompanhamento!I184,0)","v":0},{"$f":"IF(H184=Listas!$X$4,Acompanhamento!I184,0)","v":0},null,0,null,0,null,0,null,0]
[null,null,null,null,null,null,null,null,null,{"$f":"IF(H185=Listas!$X$3,Acompanhamento!I185,0)","v":0},{"$f":"IF(H185=Listas!$X$4,Acompanhamento!I185,0)","v":0},null,0,null,0,null,0,null,0]
[null,null,null,null,null,null,null,null,null,{"$f":"IF(H186=Listas!$X$3,Acompanhamento!I186,0)","v":0},{"$f":"IF(H186=Listas!$X$4,Acompanhamento!I186,0)","v":0},null,0,null,0,null,0,null,0]
[null,null,null,null,null,null,null,null,null,{"$f":"IF(H187=Listas!$X$3,Acompanhamento!I187,0)","v":0},{"$f":"IF(H187=Listas!$X$4,Acompanhamento!I187,0)","v":0},null,0,null,0,null,0,null,0]
[null,null,null,null,null,null,null,null,null,{"$f":"IF(H188=Listas!$X$3,Acompanhamento!I188,0)","v":0},{"$f":"IF(H188=Listas!$X$4,Acompanhamento!I188,0)","v":0},null,0,null,0,null,0,null,0]
[null,null,null,null,null,null,null,null,null,{"$f":"IF(H189=Listas!$X$3,Acompanhamento!I189,0)","v":0},{"$f":"IF(H189=Listas!$X$4,Acompanhamento!I189,0)","v":0},null,0,null,0,null,0,null,0]
[null,null,null,null,null,null,null,null,null,{"$f":"IF(H190=Listas!$X$3,Acompanhamento!I190,0)","v":0},{"$f":"IF(H190=Listas!$X$4,Acompanhamento!I190,0)","v":0},null,0,null,0,null,0,null,0]
[null,null,null,null,null,null,null,null,null,{"$f":"IF(H191=Listas!$X$3,Acompanhamento!I191,0)","v":0},{"$f":"IF(H191=Listas!$X$4,Acompanhamento!I191,0)","v":0},null,0,null,0,null,0,null,0]
[null,null,null,null,null,null,null,null,null,{"$f":"IF(H192=Listas!$X$3,Acompanhamento!I192,0)","v":0},{"$f":"IF(H192=Listas!$X$4,Acompanhamento!I192,0)","v":0},null,0,null,0,null,0,null,0]
[null,null,null,null,null,null,null,null,null,{"$f":"IF(H193=Listas!$X$3,Acompanhamento!I193,0)","v":0},{"$f":"IF(H193=Listas!$X$4,Acompanhamento!I193,0)","v":0},null,0,null,0,null,0,null,0]
[null,null,null,null,null,null,null,null,null,{"$f":"IF(H194=Listas!$X$3,Acompanhamento!I194,0)","v":0},{"$f":"IF(H194=Listas!$X$4,Acompanhamento!I194,0)","v":0},null,0,null,0,null,0,null,0]
[null,null,null,null,null,null,null,null,null,{"$f":"IF(H195=Listas!$X$3,Acompanhamento!I195,0)","v":0},{"$f":"IF(H195=Listas!$X$4,Acompanhamento!I195,0)","v":0},null,0,null,0,null,0,null,0]
[null,null,null,null,null,null,null,null,null,{"$f":"IF(H196=Listas!$X$3,Acompanhamento!I196,0)","v":0},{"$f":"IF(H196=Listas!$X$4,Acompanhamento!I196,0)","v":0},null,0,null,0,null,0,null,0]
[null,null,null,null,null,null,null,null,null,{"$f":"IF(H197=Listas!$X$3,Acompanhamento!I197,0)","v":0},{"$f":"IF(H197=Listas!$X$4,Acompanhamento!I197,0)","v":0},null,0,null,0,null,0,null,0]
[null,null,null,null,null,null,null,null,null,{"$f":"IF(H198=Listas!$X$3,Acompanhamento!I198,0)","v":0},{"$f":"IF(H198=Listas!$X$4,Acompanhamento!I198,0)","v":0},null,0,null,0,null,0,null,0]
[null,null,null,null,null,null,null,null,null,{"$f":"IF(H199=Listas!$X$3,Acompanhamento!I199,0)","v":0},{"$f":"IF(H199=Listas!$X$4,Acompanhamento!I199,0)","v":0},null,0,null,0,null,0,null,0]
[null,null,null,null,null,null,null,null,null,{"$f":"IF(H200=Listas!$X$3,Acompanhamento!I200,0)","v":0},{"$f":"IF(H200=Listas!$X$4,Acompanhamento!I200,0)","v":0},null,0,null,0,null,0,null,0]
[null,null,null,null,null,null,null,null,null,{"$f":"IF(H201=Listas!$X$3,Acompanhamento!I201,0)","v":0},{"$f":"IF(H201=Listas!$X$4,Acompanhamento!I201,0)","v":0},null,0,null,0,null,0,null,0]
[null,null,null,null,null,null,null,null,null,{"$f":"IF(H202=Listas!$X$3,Acompanhamento!I202,0)","v":0},{"$f":"IF(H202=Listas!$X$4,Acompanhamento!I202,0)","v":0},null,{"$f":"J202-L202","v":0},null,{"$f":"M202-N202","v":0},null,{"$f":"O202-P202","v":0},null,{"$f":"Q202-R202","v":0}]
[null,null,null,null,null,null,null,null,null,{"$f":"IF(H203=Listas!$X$3,Acompanhamento!I203,0)","v":0},{"$f":"IF(H203=Listas!$X$4,Acompanhamento!I203,0)","v":0},null,0,null,0,null,0,null,0]
[null,null,null,null,null,null,null,null,null,{"$f":"IF(H204=Listas!$X$3,Acompanhamento!I204,0)","v":0},{"$f":"IF(H204=Listas!$X$4,Acompanhamento!I204,0)","v":0},null,0,null,0,null,0,null,0]
[null,null,null,null,null,null,null,null,null,{"$f":"IF(H205=Listas!$X$3,Acompanhamento!I205,0)","v":0},{"$f":"IF(H205=Listas!$X$4,Acompanhamento!I205,0)","v":0},null,0,null,0,null,0,null,0]
[null,null,null,null,null,null,null,null,null,{"$f":"IF(H206=Listas!$X$3,Acompanhamento!I206,0)","v":0},{"$f":"IF(H206=Listas!$X$4,Acompanhamento!I206,0)","v":0},null,0,null,0,null,0,null,0]
[null,null,null,null,null,null,null,null,null,{"$f":"IF(H207=Listas!$X$3,Acompanhamento!I207,0)","v":0},{"$f":"IF(H207=Listas!$X$4,Acompanhamento!I207,0)","v":0},null,0,null,0,null,0,null,0]
[null,null,null,null,null,null,null,null,null,{"$f":"IF(H208=Listas!$X$3,Acompanhamento!I208,0)","v":0},{"$f":"IF(H208=Listas!$X$4,Acompanhamento!I208,0)","v":0},null,0,null,0,null,0,null,0]
[null,null,null,null,null,null,null,null,null,{"$f":"IF(H209=Listas!$X$3,Acompanhamento!I209,0)","v":0},{"$f":"IF(H209=Listas!$X$4,Acompanhamento!I209,0)","v":0},null,0,null,0,null,0,null,0]
[null,null,null,null,null,null,null,null,null,{"$f":"IF(H210=Listas!$X$3,Acompanhamento!I210,0)","v":0},{"$f":"IF(H210=Listas!$X$4,Acompanhamento!I210,0)","v":0},null,0,null,0,null,0,null,0]
[null,null,null,null,null,null,null,null,null,{"$f":"IF(H211=Listas!$X$3,Acompanhamento!I211,0)","v":0},{"$f":"IF(H211=Listas!$X$4,Acompanhamento!I211,0)","v":0},null,0,null,0,null,0,null,0]
[null,null,null,null,null,null,null,null,null,{"$f":"IF(H212=Listas!$X$3,Acompanhamento!I212,0)","v":0},{"$f":"IF(H212=Listas!$X$4,Acompanhamento!I212,0)","v":0},null,0,null,0,null,0,null,0]
[null,null,null,null,null,null,null,null,null,{"$f":"IF(H213=Listas!$X$3,Acompanhamento!I213,0)","v":0},{"$f":"IF(H213=Listas!$X$4,Acompanhamento!I213,0)","v":0},null,0,null,0,null,0,null,0]
[null,null,null,null,null,null,null,null,null,{"$f":"IF(H214=Listas!$X$3,Acompanhamento!I214,0)","v":0},{"$f":"IF(H214=Listas!$X$4,Acompanhamento!I214,0)","v":0},null,0,null,0,null,0,null,0]
[null,null,null,null,null,null,null,null,null,{"$f":"IF(H215=Listas!$X$3,Acompanhamento!I215,0)","v":0},{"$f":"IF(H215=Listas!$X$4,Acompanhamento!I215,0)","v":0},null,0,null,0,null,0,null,0]
[null,null,null,null,null,null,null,null,null,{"$f":"IF(H216=Listas!$X$3,Acompanhamento!I216,0)","v":0},{"$f":"IF(H216=Listas!$X$4,Acompanhamento!I216,0)","v":0},null,0,null,0,null,0,null,0]
[null,null,null,null,null,null,null,null,null,{"$f":"IF(H217=Listas!$X$3,Acompanhamento!I217,0)","v":0},{"$f":"IF(H217=Listas!$X$4,Acompanhamento!I217,0)","v":0},null,0,null,0,null,0,null,0]
[null,null,null,null,null,null,null,null,null,{"$f":"IF(H218=Listas!$X$3,Acompanhamento!I218,0)","v":0},{"$f":"IF(H218=Listas!$X$4,Acompanhamento!I218,0)","v":0},null,0,null,0,null,0,null,0]
[null,null,null,null,null,null,null,null,null,{"$f":"IF(H219=Listas!$X$3,Acompanhamento!I219,0)","v":0},{"$f":"IF(H219=Listas!$X$4,Acompanhamento!I219,0)","v":0},null,0,null,0,null,0,null,0]
[null,null,null,null,null,null,null,null,null,{"$f":"IF(H220=Listas!$X$3,Acompanhamento!I220,0)","v":0},{"$f":"IF(H220=Listas!$X$4,Acompanhamento!I220,0)","v":0},null,0,null,0,null,0,null,0]
[null,null,null,null,null,null,null,null,null,{"$f":"IF(H221=Listas!$X$3,Acompanhamento!I221,0)","v":0},{"$f":"IF(H221=Listas!$X$4,Acompanhamento!I221,0)","v":0},null,0,null,0,null,0,null,0]
[null,null,null,null,null,null,null,null,null,{"$f":"IF(H222=Listas!$X$3,Acompanhamento!I222,0)","v":0},{"$f":"IF(H222=Listas!$X$4,Acompanhamento!I222,0)","v":0},null,0,null,0,null,0,null,0]
[null,null,null,null,null,null,null,null,null,{"$f":"IF(H223=Listas!$X$3,Acompanhamento!I223,0)","v":0},{"$f":"IF(H223=Listas!$X$4,Acompanhamento!I223,0)","v":0},null,0,null,0,null,0,null,0]
[null,null,null,null,null,null,null,null,null,{"$f":"IF(H224=Listas!$X$3,Acompanhamento!I224,0)","v":0},{"$f":"IF(H224=Listas!$X$4,Acompanhamento!I224,0)","v":0},null,0,null,0,null,0,null,0]
[null,null,null,null,null,null,null,null,null,{"$f":"IF(H225=Listas!$X$3,Acompanhamento!I225,0)","v":0},{"$f":"IF(H225=Listas!$X$4,Acompanhamento!I225,0)","v":0},null,0,null,0,null,0,null,0]
[null,null,null,null,null,null,null,null,null,{"$f":"IF(H226=Listas!$X$3,Acompanhamento!I226,0)","v":0},{"$f":"IF(H226=Listas!$X$4,Acompanhamento!I226,0)","v":0},null,0,null,0,null,0,null,0]
[null,null,null,null,null,null,null,null,null,{"$f":"IF(H227=Listas!$X$3,Acompanhamento!I227,0)","v":0},{"$f":"IF(H227=Listas!$X$4,Acompanhamento!I227,0)","v":0},null,0,null,0,null,0,null,0]
[null,null,null,null,null,null,null,null,null,{"$f":"IF(H228=Listas!$X$3,Acompanhamento!I228,0)","v":0},{"$f":"IF(H228=Listas!$X$4,Acompanhamento!I228,0)","v":0},null,0,null,0,null,0,null,0]
[null,null,null,null,null,null,null,null,null,{"$f":"IF(H229=Listas!$X$3,Acompanhamento!I229,0)","v":0},{"$f":"IF(H229=Listas!$X$4,Acompanhamento!I229,0)","v":0},null,0,null,0,null,0,null,0]
[null,null,null,null,null,null,null,null,null,{"$f":"IF(H230=Listas!$X$3,Acompanhamento!I230,0)","v":0},{"$f":"IF(H230=Listas!$X$4,Acompanhamento!I230,0)","v":0},null,0,null,0,null,0,null,0]
[null,null,null,null,null,null,null,null,null,{"$f":"IF(H231=Listas!$X$3,Acompanhamento!I231,0)","v":0},{"$f":"IF(H231=Listas!$X$4,Acompanhamento!I231,0)","v":0},null,0,null,0,null,0,null,0]
[null,null,null,null,null,null,null,null,null,{"$f":"IF(H232=Listas!$X$3,Acompanhamento!I232,0)","v":0},{"$f":"IF(H232=Listas!$X$4,Acompanhamento!I232,0)","v":0},null,0,null,0,null,0,null,0]
[null,null,null,null,null,null,null,null,null,{"$f":"IF(H233=Listas!$X$3,Acompanhamento!I233,0)","v":0},{"$f":"IF(H233=Listas!$X$4,Acompanhamento!I233,0)","v":0},null,0,null,0,null,0,null,0]
[null,null,null,null,null,null,null,null,null,{"$f":"IF(H234=Listas!$X$3,Acompanhamento!I234,0)","v":0},{"$f":"IF(H234=Listas!$X$4,Acompanhamento!I234,0)","v":0},null,0,null,0,null,0,null,0]
[null,null,null,null,null,null,null,null,null,{"$f":"IF(H235=Listas!$X$3,Acompanhamento!I235,0)","v":0},{"$f":"IF(H235=Listas!$X$4,Acompanhamento!I235,0)","v":0},null,0,null,0,null,0,null,0]
[null,null,null,null,null,null,null,null,null,{"$f":"IF(H236=Listas!$X$3,Acompanhamento!I236,0)","v":0},{"$f":"IF(H236=Listas!$X$4,Acompanhamento!I236,0)","v":0},null,0,null,0,null,0,null,0]
[null,null,null,null,null,null,null,null,null,{"$f":"IF(H237=Listas!$X$3,Acompanhamento!I237,0)","v":0},{"$f":"IF(H237=Listas!$X$4,Acompanhamento!I237,0)","v":0},null,0,null,0,null,0,null,0]
[null,null,null,null,null,null,null,null,null,{"$f":"IF(H238=Listas!$X$3,Acompanhamento!I238,0)","v":0},{"$f":"IF(H238=Listas!$X$4,Acompanhamento!I238,0)","v":0},null,0,null,0,null,0,null,0]
[null,null,null,null,null,null,null,null,null,{"$f":"IF(H239=Listas!$X$3,Acompanhamento!I239,0)","v":0},{"$f":"IF(H239=Listas!$X$4,Acompanhamento!I239,0)","v":0},null,0,null,0,null,0,null,0]
[null,null,null,null,null,null,null,null,null,{"$f":"IF(H240=Listas!$X$3,Acompanhamento!I240,0)","v":0},{"$f":"IF(H240=Listas!$X$4,Acompanhamento!I240,0)","v":0},null,0,null,0,null,0,null,0]
[null,null,null,null,null,null,null,null,null,{"$f":"IF(H241=Listas!$X$3,Acompanhamento!I241,0)","v":0},{"$f":"IF(H241=Listas!$X$4,Acompanhamento!I241,0)","v":0},null,0,null,0,null,0,null,0]
[null,null,null,null,null,null,null,null,null,{"$f":"IF(H242=Listas!$X$3,Acompanhamento!I242,0)","v":0},{"$f":"IF(H242=Listas!$X$4,Acompanhamento!I242,0)","v":0},null,0,null,0,null,0,null,0]
[null,null,null,null,null,null,null,null,null,{"$f":"IF(H243=Listas!$X$3,Acompanhamento!I243,0)","v":0},{"$f":"IF(H243=Listas!$X$4,Acompanhamento!I243,0)","v":0},null,0,null,0,null,0,null,0]
[null,null,null,null,null,null,null,null,null,{"$f":"IF(H244=Listas!$X$3,Acompanhamento!I244,0)","v":0},{"$f":"IF(H244=Listas!$X$4,Acompanhamento!I244,0)","v":0},null,0,null,0,null,0,null,0]
[null,null,null,null,null,null,null,null,null,{"$f":"IF(H245=Listas!$X$3,Acompanhamento!I245,0)","v":0},{"$f":"IF(H245=Listas!$X$4,Acompanhamento!I245,0)","v":0},null,0,null,0,null,0,null,0]
[null,null,null,null,null,null,null,null,null,{"$f":"IF(H246=Listas!$X$3,Acompanhamento!I246,0)","v":0},{"$f":"IF(H246=Listas!$X$4,Acompanhamento!I246,0)","v":0},null,0,null,0,null,0,null,0]
[null,null,null,null,null,null,null,null,null,{"$f":"IF(H247=Listas!$X$3,Acompanhamento!I247,0)","v":0},{"$f":"IF(H247=Listas!$X$4,Acompanhamento!I247,0)","v":0},null,0,null,0,null,0,null,0]
[null,null,null,null,null,null,null,null,null,{"$f":"IF(H248=Listas!$X$3,Acompanhamento!I248,0)","v":0},{"$f":"IF(H248=Listas!$X$4,Acompanhamento!I248,0)","v":0},null,0,null,0,null,0,null,0]
[null,null,null,null,null,null,null,null,null,{"$f":"IF(H249=Listas!$X$3,Acompanhamento!I249,0)","v":0},{"$f":"IF(H249=Listas!$X$4,Acompanhamento!I249,0)","v":0},null,0,null,0,null,0,null,0]
[null,null,null,null,null,null,null,null,null,{"$f":"IF(H250=Listas!$X$3,Acompanhamento!I250,0)","v":0},{"$f":"IF(H250=Listas!$X$4,Acompanhamento!I250,0)","v":0},null,0,null,0,null,0,null,0]
[null,null,null,null,null,null,null,null,null,{"$f":"IF(H251=Listas!$X$3,Acompanhamento!I251,0)","v":0},{"$f":"IF(H251=Listas!$X$4,Acompanhamento!I251,0)","v":0},null,0,null,0,null,0,null,0]
[null,null,null,null,null,null,null,null,null,{"$f":"IF(H252=Listas!$X$3,Acompanhamento!I252,0)","v":0},{"$f":"IF(H252=Listas!$X$4,Acompanhamento!I252,0)","v":0},null,0,null,0,null,0,null,0]
[null,null,null,null,null,null,null,null,null,{"$f":"IF(H253=Listas!$X$3,Acompanhamento!I253,0)","v":0},{"$f":"IF(H253=Listas!$X$4,Acompanhamento!I253,0)","v":0},null,0,null,0,null,0,null,0]
[null,null,null,null,null,null,null,null,null,{"$f":"IF(H254=Listas!$X$3,Acompanhamento!I254,0)","v":0},{"$f":"IF(H254=Listas!$X$4,Acompanhamento!I254,0)","v":0},null,0,null,0,null,0,null,0]
[null,null,null,null,null,null,null,null,null,{"$f":"IF(H255=Listas!$X$3,Acompanhamento!I255,0)","v":0},{"$f":"IF(H255=Listas!$X$4,Acompanhamento!I255,0)","v":0},null,0,null,0,null,0,null,0]
[null,null,null,null,null,null,null,null,null,{"$f":"IF(H256=Listas!$X$3,Acompanhamento!I256,0)","v":0},{"$f":"IF(H256=Listas!$X$4,Acompanhamento!I256,0)","v":0},null,0,null,0,null,0,null,0]
[null,null,null,null,null,null,null,null,null,{"$f":"IF(H257=Listas!$X$3,Acompanhamento!I257,0)","v":0},{"$f":"IF(H257=Listas!$X$4,Acompanhamento!I257,0)","v":0},null,0,null,0,null,0,null,0]
[null,null,null,null,null,null,null,null,null,{"$f":"IF(H258=Listas!$X$3,Acompanhamento!I258,0)","v":0},{"$f":"IF(H258=Listas!$X$4,Acompanhamento!I258,0)","v":0},null,0,null,0,null,0,null,0]
[null,null,null,null,null,null,null,null,null,{"$f":"IF(H259=Listas!$X$3,Acompanhamento!I259,0)","v":0},{"$f":"IF(H259=Listas!$X$4,Acompanhamento!I259,0)","v":0},null,0,null,0,null,0,null,0]
[null,null,null,null,null,null,null,null,null,{"$f":"IF(H260=Listas!$X$3,Acompanhamento!I260,0)","v":0},{"$f":"IF(H260=Listas!$X$4,Acompanhamento!I260,0)","v":0},null,0,null,0,null,0,null,0]
[null,null,null,null,null,null,null,null,null,{"$f":"IF(H261=Listas!$X$3,Acompanhamento!I261,0)","v":0},{"$f":"IF(H261=Listas!$X$4,Acompanhamento!I261,0)","v":0},null,0,null,0,null,0,null,0]
[null,null,null,null,null,null,null,null,null,{"$f":"IF(H262=Listas!$X$3,Acompanhamento!I262,0)","v":0},{"$f":"IF(H262=Listas!$X$4,Acompanhamento!I262,0)","v":0},null,0,null,0,null,0,null,0]
[null,null,null,null,null,null,null,null,null,{"$f":"IF(H263=Listas!$X$3,Acompanhamento!I263,0)","v":0},{"$f":"IF(H263=Listas!$X$4,Acompanhamento!I263,0)","v":0},null,0,null,0,null,0,null,0]
[null,null,null,null,null,null,null,null,null,{"$f":"IF(H264=Listas!$X$3,Acompanhamento!I264,0)","v":0},{"$f":"IF(H264=Listas!$X$4,Acompanhamento!I264,0)","v":0},null,0,null,0,null,0,null,0]
[null,null,null,null,null,null,null,null,null,{"$f":"IF(H265=Listas!$X$3,Acompanhamento!I265,0)","v":0},{"$f":"IF(H265=Listas!$X$4,Acompanhamento!I265,0)","v":0},null,0,null,0,null,0,null,0]
[null,null,null,null,null,null,null,null,null,{"$f":"IF(H266=Listas!$X$3,Acompanhamento!I266,0)","v":0},{"$f":"IF(H266=Listas!$X$4,Acompanhamento!I266,0)","v":0},null,{"$f":"J266-L266","v":0},null,{"$f":"M266-N266","v":0},null,{"$f":"O266-P266","v":0},null,{"$f":"Q266-R266","v":0}]
[null,null,null,null,null,null,null,null,null,{"$f":"IF(H267=Listas!$X$3,Acompanhamento!I267,0)","v":0},{"$f":"IF(H267=Listas!$X$4,Acompanhamento!I267,0)","v":0},null,0,null,0,null,0,null,0]
[null,null,null,null,null,null,null,null,null,{"$f":"IF(H268=Listas!$X$3,Acompanhamento!I268,0)","v":0},{"$f":"IF(H268=Listas!$X$4,Acompanhamento!I268,0)","v":0},null,0,null,0,null,0,null,0]
[null,null,null,null,null,null,null,null,null,{"$f":"IF(H269=Listas!$X$3,Acompanhamento!I269,0)","v":0},{"$f":"IF(H269=Listas!$X$4,Acompanhamento!I269,0)","v":0},null,0,null,0,null,0,null,0]
[null,null,null,null,null,null,null,null,null,{"$f":"IF(H270=Listas!$X$3,Acompanhamento!I270,0)","v":0},{"$f":"IF(H270=Listas!$X$4,Acompanhamento!I270,0)","v":0},null,0,null,0,null,0,null,0]
[null,null,null,null,null,null,null,null,null,{"$f":"IF(H271=Listas!$X$3,Acompanhamento!I271,0)","v":0},{"$f":"IF(H271=Listas!$X$4,Acompanhamento!I271,0)","v":0},null,0,null,0,null,0,null,0]
[null,null,null,null,null,null,null,null,null,{"$f":"IF(H272=Listas!$X$3,Acompanhamento!I272,0)","v":0},{"$f":"IF(H272=Listas!$X$4,Acompanhamento!I272,0)","v":0},null,0,null,0,null,0,null,0]
[null,null,null,null,null,null,null,null,null,{"$f":"IF(H273=Listas!$X$3,Acompanhamento!I273,0)","v":0},{"$f":"IF(H273=Listas!$X$4,Acompanhamento!I273,0)","v":0},null,0,null,0,null,0,null,0]
[null,null,null,null,null,null,null,null,null,{"$f":"IF(H274=Listas!$X$3,Acompanhamento!I274,0)","v":0},{"$f":"IF(H274=Listas!$X$4,Acompanhamento!I274,0)","v":0},null,0,null,0,null,0,null,0]
[null,null,null,null,null,null,null,null,null,{"$f":"IF(H275=Listas!$X$3,Acompanhamento!I275,0)","v":0},{"$f":"IF(H275=Listas!$X$4,Acompanhamento!I275,0)","v":0},null,0,null,0,null,0,null,0]
[null,null,null,null,null,null,null,null,null,{"$f":"IF(H276=Listas!$X$3,Acompanhamento!I276,0)","v":0},{"$f":"IF(H276=Listas!$X$4,Acompanhamento!I276,0)","v":0},null,0,null,0,null,0,null,0]
[null,null,null,null,null,null,null,null,null,{"$f":"IF(H277=Listas!$X$3,Acompanhamento!I277,0)","v":0},{"$f":"IF(H277=Listas!$X$4,Acompanhamento!I277,0)","v":0},null,0,null,0,null,0,null,0]
[null,null,null,null,null,null,null,null,null,{"$f":"IF(H278=Listas!$X$3,Acompanhamento!I278,0)","v":0},{"$f":"IF(H278=Listas!$X$4,Acompanhamento!I278,0)","v":0},null,0,null,0,null,0,null,0]
[null,null,null,null,null,null,null,null,null,{"$f":"IF(H279=Listas!$X$3,Acompanhamento!I279,0)","v":0},{"$f":"IF(H279=Listas!$X$4,Acompanhamento!I279,0)","v":0},null,0,null,0,null,0,null,0]
[null,null,null,null,null,null,null,null,null,{"$f":"IF(H280=Listas!$X$3,Acompanhamento!I280,0)","v":0},{"$f":"IF(H280=Listas!$X$4,Acompanhamento!I280,0)","v":0},null,0,null,0,null,0,null,0]
[null,null,null,null,null,null,null,null,null,{"$f":"IF(H281=Listas!$X$3,Acompanhamento!I281,0)","v":0},{"$f":"IF(H281=Listas!$X$4,Acompanhamento!I281,0)","v":0},null,0,null,0,null,0,null,0]
[null,null,null,null,null,null,null,null,null,{"$f":"IF(H282=Listas!$X$3,Acompanhamento!I282,0)","v":0},{"$f":"IF(H282=Listas!$X$4,Acompanhamento!I282,0)","v":0},null,0,null,0,null,0,null,0]
[null,null,null,null,null,null,null,null,null,{"$f":"IF(H283=Listas!$X$3,Acompanhamento!I283,0)","v":0},{"$f":"IF(H283=Listas!$X$4,Acompanhamento!I283,0)","v":0},null,0,null,0,null,0,null,0]
[null,null,null,null,null,null,null,null,null,{"$f":"IF(H284=Listas!$X$3,Acompanhamento!I284,0)","v":0},{"$f":"IF(H284=Listas!$X$4,Acompanhamento!I284,0)","v":0},null,0,null,0,null,0,null,0]
[null,null,null,null,null,null,null,null,null,{"$f":"IF(H285=Listas!$X$3,Acompanhamento!I285,0)","v":0},{"$f":"IF(H285=Listas!$X$4,Acompanhamento!I285,0)","v":0},null,0,null,0,null,0,null,0]
[null,null,null,null,null,null,null,null,null,{"$f":"IF(H286=Listas!$X$3,Acompanhamento!I286,0)","v":0},{"$f":"IF(H286=Listas!$X$4,Acompanhamento!I286,0)","v":0},null,0,null,0,null,0,null,0]
[null,null,null,null,null,null,null,null,null,{"$f":"IF(H287=Listas!$X$3,Acompanhamento!I287,0)","v":0},{"$f":"IF(H287=Listas!$X$4,Acompanhamento!I287,0)","v":0},null,0,null,0,null,0,null,0]
[null,null,null,null,null,null,null,null,null,{"$f":"IF(H288=Listas!$X$3,Acompanhamento!I288,0)","v":0},{"$f":"IF(H288=Listas!$X$4,Acompanhamento!I288,0)","v":0},null,0,null,0,null,0,null,0]
[null,null,null,null,null,null,null,null,null,{"$f":"IF(H289=Listas!$X$3,Acompanhamento!I289,0)","v":0},{"$f":"IF(H289=Listas!$X$4,Acompanhamento!I289,0)","v":0},null,0,null,0,null,0,null,0]
[null,null,null,null,null,null,null,null,null,{"$f":"IF(H290=Listas!$X$3,Acompanhamento!I290,0)","v":0},{"$f":"IF(H290=Listas!$X$4,Acompanhamento!I290,0)","v":0},null,0,null,0,null,0,null,0]
[null,null,null,null,null,null,null,null,null,{"$f":"IF(H291=Listas!$X$3,Acompanhamento!I291,0)","v":0},{"$f":"IF(H291=Listas!$X$4,Acompanhamento!I291,0)","v":0},null,0,null,0,null,0,null,0]
[null,null,null,null,null,null,null,null,null,{"$f":"IF(H292=Listas!$X$3,Acompanhamento!I292,0)","v":0},{"$f":"IF(H292=Listas!$X$4,Acompanhamento!I292,0)","v":0},null,0,null,0,null,0,null,0]
[null,null,null,null,null,null,null,null,null,{"$f":"IF(H293=Listas!$X$3,Acompanhamento!I293,0)","v":0},{"$f":"IF(H293=Listas!$X$4,Acompanhamento!I293,0)","v":0},null,0,null,0,null,0,null,0]
[null,null,null,null,null,null,null,null,null,{"$f":"IF(H294=Listas!$X$3,Acompanhamento!I294,0)","v":0},{"$f":"IF(H294=Listas!$X$4,Acompanhamento!I294,0)","v":0},null,0,null,0,null,0,null,0]
[null,null,null,null,null,null,null,null,null,{"$f":"IF(H295=Listas!$X$3,Acompanhamento!I295,0)","v":0},{"$f":"IF(H295=Listas!$X$4,Acompanhamento!I295,0)","v":0},null,0,null,0,null,0,null,0]
[null,null,null,null,null,null,null,null,null,{"$f":"IF(H296=Listas!$X$3,Acompanhamento!I296,0)","v":0},{"$f":"IF(H296=Listas!$X$4,Acompanhamento!I296,0)","v":0},null,0,null,0,null,0,null,0]
[null,null,null,null,null,null,null,null,null,{"$f":"IF(H297=Listas!$X$3,Acompanhamento!I297,0)","v":0},{"$f":"IF(H297=Listas!$X$4,Acompanhamento!I297,0)","v":0},null,0,null,0,null,0,null,0]
[null,null,null,null,null,null,null,null,null,{"$f":"IF(H298=Listas!$X$3,Acompanhamento!I298,0)","v":0},{"$f":"IF(H298=Listas!$X$4,Acompanhamento!I298,0)","v":0},null,0,null,0,null,0,null,0]
[null,null,null,null,null,null,null,null,null,{"$f":"IF(H299=Listas!$X$3,Acompanhamento!I299,0)","v":0},{"$f":"IF(H299=Listas!$X$4,Acompanhamento!I299,0)","v":0},null,0,null,0,null,0,null,0]
[null,null,null,null,null,null,null,null,null,{"$f":"IF(H300=Listas!$X$3,Acompanhamento!I300,0)","v":0},{"$f":"IF(H300=Listas!$X$4,Acompanhamento!I300,0)","v":0},null,0,null,0,null,0,null,0]
[null,null,null,null,null,null,null,null,null,{"$f":"IF(H301=Listas!$X$3,Acompanhamento!I301,0)","v":0},{"$f":"IF(H301=Listas!$X$4,Acompanhamento!I301,0)","v":0},null,0,null,0,null,0,null,0]
[null,null,null,null,null,null,null,null,null,{"$f":"IF(H302=Listas!$X$3,Acompanhamento!I302,0)","v":0},{"$f":"IF(H302=Listas!$X$4,Acompanhamento!I302,0)","v":0},null,0,null,0,null,0,null,0]
[null,null,null,null,null,null,null,null,null,{"$f":"IF(H303=Listas!$X$3,Acompanhamento!I303,0)","v":0},{"$f":"IF(H303=Listas!$X$4,Acompanhamento!I303,0)","v":0},null,0,null,0,null,0,null,0]
[null,null,null,null,null,null,null,null,null,{"$f":"IF(H304=Listas!$X$3,Acompanhamento!I304,0)","v":0},{"$f":"IF(H304=Listas!$X$4,Acompanhamento!I304,0)","v":0},null,0,null,0,null,0,null,0]
[null,null,null,null,null,null,null,null,null,{"$f":"IF(H305=Listas!$X$3,Acompanhamento!I305,0)","v":0},{"$f":"IF(H305=Listas!$X$4,Acompanhamento!I305,0)","v":0},null,0,null,0,null,0,null,0]
[null,null,null,null,null,null,null,null,null,{"$f":"IF(H306=Listas!$X$3,Acompanhamento!I306,0)","v":0},{"$f":"IF(H306=Listas!$X$4,Acompanhamento!I306,0)","v":0},null,0,null,0,null,0,null,0]
[null,null,null,null,null,null,null,null,null,{"$f":"IF(H307=Listas!$X$3,Acompanhamento!I307,0)","v":0},{"$f":"IF(H307=Listas!$X$4,Acompanhamento!I307,0)","v":0},null,0,null,0,null,0,null,0]
[null,null,null,null,null,null,null,null,null,{"$f":"IF(H308=Listas!$X$3,Acompanhamento!I308,0)","v":0},{"$f":"IF(H308=Listas!$X$4,Acompanhamento!I308,0)","v":0},null,0,null,0,null,0,null,0]
[null,null,null,null,null,null,null,null,null,{"$f":"IF(H309=Listas!$X$3,Acompanhamento!I309,0)","v":0},{"$f":"IF(H309=Listas!$X$4,Acompanhamento!I309,0)","v":0},null,0,null,0,null,0,null,0]
[null,null,null,null,null,null,null,null,null,{"$f":"IF(H310=Listas!$X$3,Acompanhamento!I310,0)","v":0},{"$f":"IF(H310=Listas!$X$4,Acompanhamento!I310,0)","v":0},null,0,null,0,null,0,null,0]
[null,null,null,null,null,null,null,null,null,{"$f":"IF(H311=Listas!$X$3,Acompanhamento!I311,0)","v":0},{"$f":"IF(H311=Listas!$X$4,Acompanhamento!I311,0)","v":0},null,0,null,0,null,0,null,0]
[null,null,null,null,null,null,null,null,null,{"$f":"IF(H312=Listas!$X$3,Acompanhamento!I312,0)","v":0},{"$f":"IF(H312=Listas!$X$4,Acompanhamento!I312,0)","v":0},null,0,null,0,null,0,null,0]
[null,null,null,null,null,null,null,null,null,{"$f":"IF(H313=Listas!$X$3,Acompanhamento!I313,0)","v":0},{"$f":"IF(H313=Listas!$X$4,Acompanhamento!I313,0)","v":0},null,0,null,0,null,0,null,0]
[null,null,null,null,null,null,null,null,null,{"$f":"IF(H314=Listas!$X$3,Acompanhamento!I314,0)","v":0},{"$f":"IF(H314=Listas!$X$4,Acompanhamento!I314,0)","v":0},null,0,null,0,null,0,null,0]
[null,null,null,null,null,null,null,null,null,{"$f":"IF(H315=Listas!$X$3,Acompanhamento!I315,0)","v":0},{"$f":"IF(H315=Listas!$X$4,Acompanhamento!I315,0)","v":0},null,0,null,0,null,0,null,0]
[null,null,null,null,null,null,null,null,null,{"$f":"IF(H316=Listas!$X$3,Acompanhamento!I316,0)","v":0},{"$f":"IF(H316=Listas!$X$4,Acompanhamento!I316,0)","v":0},null,0,null,0,null,0,null,0]
[null,null,null,null,null,null,null,null,null,{"$f":"IF(H317=Listas!$X$3,Acompanhamento!I317,0)","v":0},{"$f":"IF(H317=Listas!$X$4,Acompanhamento!I317,0)","v":0},null,0,null,0,null,0,null,0]
[null,null,null,null,null,null,null,null,null,{"$f":"IF(H318=Listas!$X$3,Acompanhamento!I318,0)","v":0},{"$f":"IF(H318=Listas!$X$4,Acompanhamento!I318,0)","v":0},null,0,null,0,null,0,null,0]
[null,null,null,null,null,null,null,null,null,{"$f":"IF(H319=Listas!$X$3,Acompanhamento!I319,0)","v":0},{"$f":"IF(H319=Listas!$X$4,Acompanhamento!I319,0)","v":0},null,0,null,0,null,0,null,0]
[null,null,null,null,null,null,null,null,null,{"$f":"IF(H320=Listas!$X$3,Acompanhamento!I320,0)","v":0},{"$f":"IF(H320=Listas!$X$4,Acompanhamento!I320,0)","v":0},null,0,null,0,null,0,null,0]
[null,null,null,null,null,null,null,null,null,{"$f":"IF(H321=Listas!$X$3,Acompanhamento!I321,0)","v":0},{"$f":"IF(H321=Listas!$X$4,Acompanhamento!I321,0)","v":0},null,0,null,0,null,0,null,0]
[null,null,null,null,null,null,null,null,null,{"$f":"IF(H322=Listas!$X$3,Acompanhamento!I322,0)","v":0},{"$f":"IF(H322=Listas!$X$4,Acompanhamento!I322,0)","v":0},null,0,null,0,null,0,null,0]
[null,null,null,null,null,null,null,null,null,{"$f":"IF(H323=Listas!$X$3,Acompanhamento!I323,0)","v":0},{"$f":"IF(H323=Listas!$X$4,Acompanhamento!I323,0)","v":0},null,0,null,0,null,0,null,0]
[null,null,null,null,null,null,null,null,null,{"$f":"IF(H324=Listas!$X$3,Acompanhamento!I324,0)","v":0},{"$f":"IF(H324=Listas!$X$4,Acompanhamento!I324,0)","v":0},null,0,null,0,null,0,null,0]
[null,null,null,null,null,null,null,null,null,{"$f":"IF(H325=Listas!$X$3,Acompanhamento!I325,0)","v":0},{"$f":"IF(H325=Listas!$X$4,Acompanhamento!I325,0)","v":0},null,0,null,0,null,0,null,0]
[null,null,null,null,null,null,null,null,null,{"$f":"IF(H326=Listas!$X$3,Acompanhamento!I326,0)","v":0},{"$f":"IF(H326=Listas!$X$4,Acompanhamento!I326,0)","v":0},null,0,null,0,null,0,null,0]
[null,null,null,null,null,null,null,null,null,{"$f":"IF(H327=Listas!$X$3,Acompanhamento!I327,0)","v":0},{"$f":"IF(H327=Listas!$X$4,Acompanhamento!I327,0)","v":0},null,0,null,0,null,0,null,0]
[null,null,null,null,null,null,null,null,null,{"$f":"IF(H328=Listas!$X$3,Acompanhamento!I328,0)","v":0},{"$f":"IF(H328=Listas!$X$4,Acompanhamento!I328,0)","v":0},null,0,null,0,null,0,null,0]
[null,null,null,null,null,null,null,null,null,{"$f":"IF(H329=Listas!$X$3,Acompanhamento!I329,0)","v":0},{"$f":"IF(H329=Listas!$X$4,Acompanhamento!I329,0)","v":0},null,0,null,0,null,0,null,0]
[null,null,null,null,null,null,null,null,null,{"$f":"IF(H330=Listas!$X$3,Acompanhamento!I330,0)","v":0},{"$f":"IF(H330=Listas!$X$4,Acompanhamento!I330,0)","v":0},null,{"$f":"J330-L330","v":0},null,{"$f":"M330-N330","v":0},null,{"$f":"O330-P330","v":0},null,{"$f":"Q330-R330","v":0}]
[null,null,null,null,null,null,null,null,null,{"$f":"IF(H331=Listas!$X$3,Acompanhamento!I331,0)","v":0},{"$f":"IF(H331=Listas!$X$4,Acompanhamento!I331,0)","v":0},null,0,null,0,null,0,null,0]
[null,null,null,null,null,null,null,null,null,{"$f":"IF(H332=Listas!$X$3,Acompanhamento!I332,0)","v":0},{"$f":"IF(H332=Listas!$X$4,Acompanhamento!I332,0)","v":0},null,0,null,0,null,0,null,0]
[null,null,null,null,null,null,null,null,null,{"$f":"IF(H333=Listas!$X$3,Acompanhamento!I333,0)","v":0},{"$f":"IF(H333=Listas!$X$4,Acompanhamento!I333,0)","v":0},null,0,null,0,null,0,null,0]
[null,null,null,null,null,null,null,null,null,{"$f":"IF(H334=Listas!$X$3,Acompanhamento!I334,0)","v":0},{"$f":"IF(H334=Listas!$X$4,Acompanhamento!I334,0)","v":0},null,0,null,0,null,0,null,0]
[null,null,null,null,null,null,null,null,null,{"$f":"IF(H335=Listas!$X$3,Acompanhamento!I335,0)","v":0},{"$f":"IF(H335=Listas!$X$4,Acompanhamento!I335,0)","v":0},null,0,null,0,null,0,null,0]
[null,null,null,null,null,null,null,null,null,{"$f":"IF(H336=Listas!$X$3,Acompanhamento!I336,0)","v":0},{"$f":"IF(H336=Listas!$X$4,Acompanhamento!I336,0)","v":0},null,0,null,0,null,0,null,0]
[null,null,null,null,null,null,null,null,null,{"$f":"IF(H337=Listas!$X$3,Acompanhamento!I337,0)","v":0},{"$f":"IF(H337=Listas!$X$4,Acompanhamento!I337,0)","v":0},null,0,null,0,null,0,null,0]
[null,null,null,null,null,null,null,null,null,{"$f":"IF(H338=Listas!$X$3,Acompanhamento!I338,0)","v":0},{"$f":"IF(H338=Listas!$X$4,Acompanhamento!I338,0)","v":0},null,0,null,0,null,0,null,0]
[null,null,null,null,null,null,null,null,null,{"$f":"IF(H339=Listas!$X$3,Acompanhamento!I339,0)","v":0},{"$f":"IF(H339=Listas!$X$4,Acompanhamento!I339,0)","v":0},null,0,null,0,null,0,null,0]
[null,null,null,null,null,null,null,null,null,{"$f":"IF(H340=Listas!$X$3,Acompanhamento!I340,0)","v":0},{"$f":"IF(H340=Listas!$X$4,Acompanhamento!I340,0)","v":0},null,0,null,0,null,0,null,0]
[null,null,null,null,null,null,null,null,null,{"$f":"IF(H341=Listas!$X$3,Acompanhamento!I341,0)","v":0},{"$f":"IF(H341=Listas!$X$4,Acompanhamento!I341,0)","v":0},null,0,null,0,null,0,null,0]
[null,null,null,null,null,null,null,null,null,{"$f":"IF(H342=Listas!$X$3,Acompanhamento!I342,0)","v":0},{"$f":"IF(H342=Listas!$X$4,Acompanhamento!I342,0)","v":0},null,0,null,0,null,0,null,0]
[null,null,null,null,null,null,null,null,null,{"$f":"IF(H343=Listas!$X$3,Acompanhamento!I343,0)","v":0},{"$f":"IF(H343=Listas!$X$4,Acompanhamento!I343,0)","v":0},null,0,null,0,null,0,null,0]
[null,null,null,null,null,null,null,null,null,{"$f":"IF(H344=Listas!$X$3,Acompanhamento!I344,0)","v":0},{"$f":"IF(H344=Listas!$X$4,Acompanhamento!I344,0)","v":0},null,0,null,0,null,0,null,0]
[null,null,null,null,null,null,null,null,null,{"$f":"IF(H345=Listas!$X$3,Acompanhamento!I345,0)","v":0},{"$f":"IF(H345=Listas!$X$4,Acompanhamento!I345,0)","v":0},null,0,null,0,null,0,null,0]
[null,null,null,null,null,null,null,null,null,{"$f":"IF(H346=Listas!$X$3,Acompanhamento!I346,0)","v":0},{"$f":"IF(H346=Listas!$X$4,Acompanhamento!I346,0)","v":0},null,0,null,0,null,0,null,0]
[null,null,null,null,null,null,null,null,null,{"$f":"IF(H347=Listas!$X$3,Acompanhamento!I347,0)","v":0},{"$f":"IF(H347=Listas!$X$4,Acompanhamento!I347,0)","v":0},null,0,null,0,null,0,null,0]
[null,null,null,null,null,null,null,null,null,{"$f":"IF(H348=Listas!$X$3,Acompanhamento!I348,0)","v":0},{"$f":"IF(H348=Listas!$X$4,Acompanhamento!I348,0)","v":0},null,0,null,0,null,0,null,0]
[null,null,null,null,null,null,null,null,null,{"$f":"IF(H349=Listas!$X$3,Acompanhamento!I349,0)","v":0},{"$f":"IF(H349=Listas!$X$4,Acompanhamento!I349,0)","v":0},null,0,null,0,null,0,null,0]
[null,null,null,null,null,null,null,null,null,{"$f":"IF(H350=Listas!$X$3,Acompanhamento!I350,0)","v":0},{"$f":"IF(H350=Listas!$X$4,Acompanhamento!I350,0)","v":0},null,0,null,0,null,0,null,0]
[null,null,null,null,null,null,null,null,null,{"$f":"IF(H351=Listas!$X$3,Acompanhamento!I351,0)","v":0},{"$f":"IF(H351=Listas!$X$4,Acompanhamento!I351,0)","v":0},null,0,null,0,null,0,null,0]
[null,null,null,null,null,null,null,null,null,{"$f":"IF(H352=Listas!$X$3,Acompanhamento!I352,0)","v":0},{"$f":"IF(H352=Listas!$X$4,Acompanhamento!I352,0)","v":0},null,0,null,0,null,0,null,0]
[null,null,null,null,null,null,null,null,null,{"$f":"IF(H353=Listas!$X$3,Acompanhamento!I353,0)","v":0},{"$f":"IF(H353=Listas!$X$4,Acompanhamento!I353,0)","v":0},null,0,null,0,null,0,null,0]
[null,null,null,null,null,null,null,null,null,{"$f":"IF(H354=Listas!$X$3,Acompanhamento!I354,0)","v":0},{"$f":"IF(H354=Listas!$X$4,Acompanhamento!I354,0)","v":0},null,0,null,0,null,0,null,0]
[null,null,null,null,null,null,null,null,null,{"$f":"IF(H355=Listas!$X$3,Acompanhamento!I355,0)","v":0},{"$f":"IF(H355=Listas!$X$4,Acompanhamento!I355,0)","v":0},null,0,null,0,null,0,null,0]
[null,null,null,null,null,null,null,null,null,{"$f":"IF(H356=Listas!$X$3,Acompanhamento!I356,0)","v":0},{"$f":"IF(H356=Listas!$X$4,Acompanhamento!I356,0)","v":0},null,0,null,0,null,0,null,0]
[null,null,null,null,null,null,null,null,null,{"$f":"IF(H357=Listas!$X$3,Acompanhamento!I357,0)","v":0},{"$f":"IF(H357=Listas!$X$4,Acompanhamento!I357,0)","v":0},null,0,null,0,null,0,null,0]
[null,null,null,null,null,null,null,null,null,{"$f":"IF(H358=Listas!$X$3,Acompanhamento!I358,0)","v":0},{"$f":"IF(H358=Listas!$X$4,Acompanhamento!I358,0)","v":0},null,0,null,0,null,0,null,0]
[null,null,null,null,null,null,null,null,null,{"$f":"IF(H359=Listas!$X$3,Acompanhamento!I359,0)","v":0},{"$f":"IF(H359=Listas!$X$4,Acompanhamento!I359,0)","v":0},null,0,null,0,null,0,null,0]
[null,null,null,null,null,null,null,null,null,{"$f":"IF(H360=Listas!$X$3,Acompanhamento!I360,0)","v":0},{"$f":"IF(H360=Listas!$X$4,Acompanhamento!I360,0)","v":0},null,0,null,0,null,0,null,0]
[null,null,null,null,null,null,null,null,null,{"$f":"IF(H361=Listas!$X$3,Acompanhamento!I361,0)","v":0},{"$f":"IF(H361=Listas!$X$4,Acompanhamento!I361,0)","v":0},null,0,null,0,null,0,null,0]
[null,null,null,null,null,null,null,null,null,{"$f":"IF(H362=Listas!$X$3,Acompanhamento!I362,0)","v":0},{"$f":"IF(H362=Listas!$X$4,Acompanhamento!I362,0)","v":0},null,0,null,0,null,0,null,0]
[null,null,null,null,null,null,null,null,null,{"$f":"IF(H363=Listas!$X$3,Acompanhamento!I363,0)","v":0},{"$f":"IF(H363=Listas!$X$4,Acompanhamento!I363,0)","v":0},null,0,null,0,null,0,null,0]
[null,null,null,null,null,null,null,null,null,{"$f":"IF(H364=Listas!$X$3,Acompanhamento!I364,0)","v":0},{"$f":"IF(H364=Listas!$X$4,Acompanhamento!I364,0)","v":0},null,0,null,0,null,0,null,0]
[null,null,null,null,null,null,null,null,null,{"$f":"IF(H365=Listas!$X$3,Acompanhamento!I365,0)","v":0},{"$f":"IF(H365=Listas!$X$4,Acompanhamento!I365,0)","v":0},null,0,null,0,null,0,null,0]
[null,null,null,null,null,null,null,null,null,{"$f":"IF(H366=Listas!$X$3,Acompanhamento!I366,0)","v":0},{"$f":"IF(H366=Listas!$X$4,Acompanhamento!I366,0)","v":0},null,0,null,0,null,0,null,0]
[null,null,null,null,null,null,null,null,null,{"$f":"IF(H367=Listas!$X$3,Acompanhamento!I367,0)","v":0},{"$f":"IF(H367=Listas!$X$4,Acompanhamento!I367,0)","v":0},null,0,null,0,null,0,null,0]
[null,null,null,null,null,null,null,null,null,{"$f":"IF(H368=Listas!$X$3,Acompanhamento!I368,0)","v":0},{"$f":"IF(H368=Listas!$X$4,Acompanhamento!I368,0)","v":0},null,0,null,0,null,0,null,0]
[null,null,null,null,null,null,null,null,null,{"$f":"IF(H369=Listas!$X$3,Acompanhamento!I369,0)","v":0},{"$f":"IF(H369=Listas!$X$4,Acompanhamento!I369,0)","v":0},null,0,null,0,null,0,null,0]
[null,null,null,null,null,null,null,null,null,{"$f":"IF(H370=Listas!$X$3,Acompanhamento!I370,0)","v":0},{"$f":"IF(H370=Listas!$X$4,Acompanhamento!I370,0)","v":0},null,0,null,0,null,0,null,0]
[null,null,null,null,null,null,null,null,null,{"$f":"IF(H371=Listas!$X$3,Acompanhamento!I371,0)","v":0},{"$f":"IF(H371=Listas!$X$4,Acompanhamento!I371,0)","v":0},null,0,null,0,null,0,null,0]
[null,null,null,null,null,null,null,null,null,{"$f":"IF(H372=Listas!$X$3,Acompanhamento!I372,0)","v":0},{"$f":"IF(H372=Listas!$X$4,Acompanhamento!I372,0)","v":0},null,0,null,0,null,0,null,0]
[null,null,null,null,null,null,null,null,null,{"$f":"IF(H373=Listas!$X$3,Acompanhamento!I373,0)","v":0},{"$f":"IF(H373=Listas!$X$4,Acompanhamento!I373,0)","v":0},null,0,null,0,null,0,null,0]
[null,null,null,null,null,null,null,null,null,{"$f":"IF(H374=Listas!$X$3,Acompanhamento!I374,0)","v":0},{"$f":"IF(H374=Listas!$X$4,Acompanhamento!I374,0)","v":0},null,0,null,0,null,0,null,0]
[null,null,null,null,null,null,null,null,null,{"$f":"IF(H375=Listas!$X$3,Acompanhamento!I375,0)","v":0},{"$f":"IF(H375=Listas!$X$4,Acompanhamento!I375,0)","v":0},null,0,null,0,null,0,null,0]
[null,null,null,null,null,null,null,null,null,{"$f":"IF(H376=Listas!$X$3,Acompanhamento!I376,0)","v":0},{"$f":"IF(H376=Listas!$X$4,Acompanhamento!I376,0)","v":0},null,0,null,0,null,0,null,0]
[null,null,null,null,null,null,null,null,null,{"$f":"IF(H377=Listas!$X$3,Acompanhamento!I377,0)","v":0},{"$f":"IF(H377=Listas!$X$4,Acompanhamento!I377,0)","v":0},null,0,null,0,null,0,null,0]
[null,null,null,null,null,null,null,null,null,{"$f":"IF(H378=Listas!$X$3,Acompanhamento!I378,0)","v":0},{"$f":"IF(H378=Listas!$X$4,Acompanhamento!I378,0)","v":0},null,0,null,0,null,0,null,0]
[null,null,null,null,null,null,null,null,null,{"$f":"IF(H379=Listas!$X$3,Acompanhamento!I379,0)","v":0},{"$f":"IF(H379=Listas!$X$4,Acompanhamento!I379,0)","v":0},null,0,null,0,null,0,null,0]
[null,null,null,null,null,null,null,null,null,{"$f":"IF(H380=Listas!$X$3,Acompanhamento!I380,0)","v":0},{"$f":"IF(H380=Listas!$X$4,Acompanhamento!I380,0)","v":0},null,0,null,0,null,0,null,0]
[null,null,null,null,null,null,null,null,null,{"$f":"IF(H381=Listas!$X$3,Acompanhamento!I381,0)","v":0},{"$f":"IF(H381=Listas!$X$4,Acompanhamento!I381,0)","v":0},null,0,null,0,null,0,null,0]
[null,null,null,null,null,null,null,null,null,{"$f":"IF(H382=Listas!$X$3,Acompanhamento!I382,0)","v":0},{"$f":"IF(H382=Listas!$X$4,Acompanhamento!I382,0)","v":0},null,0,null,0,null,0,null,0]
[null,null,null,null,null,null,null,null,null,{"$f":"IF(H383=Listas!$X$3,Acompanhamento!I383,0)","v":0},{"$f":"IF(H383=Listas!$X$4,Acompanhamento!I383,0)","v":0},null,0,null,0,null,0,null,0]
[null,null,null,null,null,null,null,null,null,{"$f":"IF(H384=Listas!$X$3,Acompanhamento!I384,0)","v":0},{"$f":"IF(H384=Listas!$X$4,Acompanhamento!I384,0)","v":0},null,0,null,0,null,0,null,0]
[null,null,null,null,null,null,null,null,null,{"$f":"IF(H385=Listas!$X$3,Acompanhamento!I385,0)","v":0},{"$f":"IF(H385=Listas!$X$4,Acompanhamento!I385,0)","v":0},null,0,null,0,null,0,null,0]
[null,null,null,null,null,null,null,null,null,{"$f":"IF(H386=Listas!$X$3,Acompanhamento!I386,0)","v":0},{"$f":"IF(H386=Listas!$X$4,Acompanhamento!I386,0)","v":0},null,0,null,0,null,0,null,0]
[null,null,null,null,null,null,null,null,null,{"$f":"IF(H387=Listas!$X$3,Acompanhamento!I387,0)","v":0},{"$f":"IF(H387=Listas!$X$4,Acompanhamento!I387,0)","v":0},null,0,null,0,null,0,null,0]
[null,null,null,null,null,null,null,null,null,{"$f":"IF(H388=Listas!$X$3,Acompanhamento!I388,0)","v":0},{"$f":"IF(H388=Listas!$X$4,Acompanhamento!I388,0)","v":0},null,0,null,0,null,0,null,0]
[null,null,null,null,null,null,null,null,null,{"$f":"IF(H389=Listas!$X$3,Acompanhamento!I389,0)","v":0},{"$f":"IF(H389=Listas!$X$4,Acompanhamento!I389,0)","v":0},null,0,null,0,null,0,null,0]
[null,null,null,null,null,null,null,null,null,{"$f":"IF(H390=Listas!$X$3,Acompanhamento!I390,0)","v":0},{"$f":"IF(H390=Listas!$X$4,Acompanhamento!I390,0)","v":0},null,0,null,0,null,0,null,0]
[null,null,null,null,null,null,null,null,null,{"$f":"IF(H391=Listas!$X$3,Acompanhamento!I391,0)","v":0},{"$f":"IF(H391=Listas!$X$4,Acompanhamento!I391,0)","v":0},null,0,null,0,null,0,null,0]
[null,null,null,null,null,null,null,null,null,{"$f":"IF(H392=Listas!$X$3,Acompanhamento!I392,0)","v":0},{"$f":"IF(H392=Listas!$X$4,Acompanhamento!I392,0)","v":0},null,0,null,0,null,0,null,0]
[null,null,null,null,null,null,null,null,null,{"$f":"IF(H393=Listas!$X$3,Acompanhamento!I393,0)","v":0},{"$f":"IF(H393=Listas!$X$4,Acompanhamento!I393,0)","v":0},null,0,null,0,null,0,null,0]
[null,null,null,null,null,null,null,null,null,{"$f":"IF(H394=Listas!$X$3,Acompanhamento!I394,0)","v":0},{"$f":"IF(H394=Listas!$X$4,Acompanhamento!I394,0)","v":0},null,{"$f":"J394-L394","v":0},null,{"$f":"M394-N394","v":0},null,{"$f":"O394-P394","v":0},null,{"$f":"Q394-R394","v":0}]
[null,null,null,null,null,null,null,null,null,{"$f":"IF(H395=Listas!$X$3,Acompanhamento!I395,0)","v":0},{"$f":"IF(H395=Listas!$X$4,Acompanhamento!I395,0)","v":0},null,0,null,0,null,0,null,0]
[null,null,null,null,null,null,null,null,null,{"$f":"IF(H396=Listas!$X$3,Acompanhamento!I396,0)","v":0},{"$f":"IF(H396=Listas!$X$4,Acompanhamento!I396,0)","v":0},null,0,null,0,null,0,null,0]
[null,null,null,null,null,null,null,null,null,{"$f":"IF(H397=Listas!$X$3,Acompanhamento!I397,0)","v":0},{"$f":"IF(H397=Listas!$X$4,Acompanhamento!I397,0)","v":0},null,0,null,0,null,0,null,0]
[null,null,null,null,null,null,null,null,null,{"$f":"IF(H398=Listas!$X$3,Acompanhamento!I398,0)","v":0},{"$f":"IF(H398=Listas!$X$4,Acompanhamento!I398,0)","v":0},null,0,null,0,null,0,null,0]
[null,null,null,null,null,null,null,null,null,{"$f":"IF(H399=Listas!$X$3,Acompanhamento!I399,0)","v":0},{"$f":"IF(H399=Listas!$X$4,Acompanhamento!I399,0)","v":0},null,0,null,0,null,0,null,0]
[null,null,null,null,null,null,null,null,null,{"$f":"IF(H400=Listas!$X$3,Acompanhamento!I400,0)","v":0},{"$f":"IF(H400=Listas!$X$4,Acompanhamento!I400,0)","v":0},null,0,null,0,null,0,null,0]
[null,null,null,null,null,null,null,null,null,{"$f":"IF(H401=Listas!$X$3,Acompanhamento!I401,0)","v":0},{"$f":"IF(H401=Listas!$X$4,Acompanhamento!I401,0)","v":0},null,0,null,0,null,0,null,0]
[null,null,null,null,null,null,null,null,null,{"$f":"IF(H402=Listas!$X$3,Acompanhamento!I402,0)","v":0},{"$f":"IF(H402=Listas!$X$4,Acompanhamento!I402,0)","v":0},null,0,null,0,null,0,null,0]
[null,null,null,null,null,null,null,null,null,{"$f":"IF(H403=Listas!$X$3,Acompanhamento!I403,0)","v":0},{"$f":"IF(H403=Listas!$X$4,Acompanhamento!I403,0)","v":0},null,0,null,0,null,0,null,0]
[null,null,null,null,null,null,null,null,null,{"$f":"IF(H404=Listas!$X$3,Acompanhamento!I404,0)","v":0},{"$f":"IF(H404=Listas!$X$4,Acompanhamento!I404,0)","v":0},null,0,null,0,null,0,null,0]
[null,null,null,null,null,null,null,null,null,{"$f":"IF(H405=Listas!$X$3,Acompanhamento!I405,0)","v":0},{"$f":"IF(H405=Listas!$X$4,Acompanhamento!I405,0)","v":0},null,0,null,0,null,0,null,0]
[null,null,null,null,null,null,null,null,null,{"$f":"IF(H406=Listas!$X$3,Acompanhamento!I406,0)","v":0},{"$f":"IF(H406=Listas!$X$4,Acompanhamento!I406,0)","v":0},null,0,null,0,null,0,null,0]
[null,null,null,null,null,null,null,null,null,{"$f":"IF(H407=Listas!$X$3,Acompanhamento!I407,0)","v":0},{"$f":"IF(H407=Listas!$X$4,Acompanhamento!I407,0)","v":0},null,0,null,0,null,0,null,0]
[null,null,null,null,null,null,null,null,null,{"$f":"IF(H408=Listas!$X$3,Acompanhamento!I408,0)","v":0},{"$f":"IF(H408=Listas!$X$4,Acompanhamento!I408,0)","v":0},null,0,null,0,null,0,null,0]
[null,null,null,null,null,null,null,null,null,{"$f":"IF(H409=Listas!$X$3,Acompanhamento!I409,0)","v":0},{"$f":"IF(H409=Listas!$X$4,Acompanhamento!I409,0)","v":0},null,0,null,0,null,0,null,0]
[null,null,null,null,null,null,null,null,null,{"$f":"IF(H410=Listas!$X$3,Acompanhamento!I410,0)","v":0},{"$f":"IF(H410=Listas!$X$4,Acompanhamento!I410,0)","v":0},null,0,null,0,null,0,null,0]
[null,null,null,null,null,null,null,null,null,{"$f":"IF(H411=Listas!$X$3,Acompanhamento!I411,0)","v":0},{"$f":"IF(H411=Listas!$X$4,Acompanhamento!I411,0)","v":0},null,0,null,0,null,0,null,0]
[null,null,null,null,null,null,null,null,null,{"$f":"IF(H412=Listas!$X$3,Acompanhamento!I412,0)","v":0},{"$f":"IF(H412=Listas!$X$4,Acompanhamento!I412,0)","v":0},null,0,null,0,null,0,null,0]
[null,null,null,null,null,null,null,null,null,{"$f":"IF(H413=Listas!$X$3,Acompanhamento!I413,0)","v":0},{"$f":"IF(H413=Listas!$X$4,Acompanhamento!I413,0)","v":0},null,0,null,0,null,0,null,0]
[null,null,null,null,null,null,null,null,null,{"$f":"IF(H414=Listas!$X$3,Acompanhamento!I414,0)","v":0},{"$f":"IF(H414=Listas!$X$4,Acompanhamento!I414,0)","v":0},null,0,null,0,null,0,null,0]
[null,null,null,null,null,null,null,null,null,{"$f":"IF(H415=Listas!$X$3,Acompanhamento!I415,0)","v":0},{"$f":"IF(H415=Listas!$X$4,Acompanhamento!I415,0)","v":0},null,0,null,0,null,0,null,0]
[null,null,null,null,null,null,null,null,null,{"$f":"IF(H416=Listas!$X$3,Acompanhamento!I416,0)","v":0},{"$f":"IF(H416=Listas!$X$4,Acompanhamento!I416,0)","v":0},null,0,null,0,null,0,null,0]
[null,null,null,null,null,null,null,null,null,{"$f":"IF(H417=Listas!$X$3,Acompanhamento!I417,0)","v":0},{"$f":"IF(H417=Listas!$X$4,Acompanhamento!I417,0)","v":0},null,0,null,0,null,0,null,0]
[null,null,null,null,null,null,null,null,null,{"$f":"IF(H418=Listas!$X$3,Acompanhamento!I418,0)","v":0},{"$f":"IF(H418=Listas!$X$4,Acompanhamento!I418,0)","v":0},null,0,null,0,null,0,null,0]
[null,null,null,null,null,null,null,null,null,{"$f":"IF(H419=Listas!$X$3,Acompanhamento!I419,0)","v":0},{"$f":"IF(H419=Listas!$X$4,Acompanhamento!I419,0)","v":0},null,0,null,0,null,0,null,0]
[null,null,null,null,null,null,null,null,null,{"$f":"IF(H420=Listas!$X$3,Acompanhamento!I420,0)","v":0},{"$f":"IF(H420=Listas!$X$4,Acompanhamento!I420,0)","v":0},null,0,null,0,null,0,null,0]
[null,null,null,null,null,null,null,null,null,{"$f":"IF(H421=Listas!$X$3,Acompanhamento!I421,0)","v":0},{"$f":"IF(H421=Listas!$X$4,Acompanhamento!I421,0)","v":0},null,0,null,0,null,0,null,0]
[null,null,null,null,null,null,null,null,null,{"$f":"IF(H422=Listas!$X$3,Acompanhamento!I422,0)","v":0},{"$f":"IF(H422=Listas!$X$4,Acompanhamento!I422,0)","v":0},null,0,null,0,null,0,null,0]
[null,null,null,null,null,null,null,null,null,{"$f":"IF(H423=Listas!$X$3,Acompanhamento!I423,0)","v":0},{"$f":"IF(H423=Listas!$X$4,Acompanhamento!I423,0)","v":0},null,0,null,0,null,0,null,0]
[null,null,null,null,null,null,null,null,null,{"$f":"IF(H424=Listas!$X$3,Acompanhamento!I424,0)","v":0},{"$f":"IF(H424=Listas!$X$4,Acompanhamento!I424,0)","v":0},null,0,null,0,null,0,null,0]
[null,null,null,null,null,null,null,null,null,{"$f":"IF(H425=Listas!$X$3,Acompanhamento!I425,0)","v":0},{"$f":"IF(H425=Listas!$X$4,Acompanhamento!I425,0)","v":0},null,0,null,0,null,0,null,0]
[null,null,null,null,null,null,null,null,null,{"$f":"IF(H426=Listas!$X$3,Acompanhamento!I426,0)","v":0},{"$f":"IF(H426=Listas!$X$4,Acompanhamento!I426,0)","v":0},null,0,null,0,null,0,null,0]
[null,null,null,null,null,null,null,null,null,{"$f":"IF(H427=Listas!$X$3,Acompanhamento!I427,0)","v":0},{"$f":"IF(H427=Listas!$X$4,Acompanhamento!I427,0)","v":0},null,0,null,0,null,0,null,0]
[null,null,null,null,null,null,null,null,null,{"$f":"IF(H428=Listas!$X$3,Acompanhamento!I428,0)","v":0},{"$f":"IF(H428=Listas!$X$4,Acompanhamento!I428,0)","v":0},null,0,null,0,null,0,null,0]
[null,null,null,null,null,null,null,null,null,{"$f":"IF(H429=Listas!$X$3,Acompanhamento!I429,0)","v":0},{"$f":"IF(H429=Listas!$X$4,Acompanhamento!I429,0)","v":0},null,0,null,0,null,0,null,0]
[null,null,null,null,null,null,null,null,null,{"$f":"IF(H430=Listas!$X$3,Acompanhamento!I430,0)","v":0},{"$f":"IF(H430=Listas!$X$4,Acompanhamento!I430,0)","v":0},null,0,null,0,null,0,null,0]
[null,null,null,null,null,null,null,null,null,{"$f":"IF(H431=Listas!$X$3,Acompanhamento!I431,0)","v":0},{"$f":"IF(H431=Listas!$X$4,Acompanhamento!I431,0)","v":0},null,0,null,0,null,0,null,0]
[null,null,null,null,null,null,null,null,null,{"$f":"IF(H432=Listas!$X$3,Acompanhamento!I432,0)","v":0},{"$f":"IF(H432=Listas!$X$4,Acompanhamento!I432,0)","v":0},null,0,null,0,null,0,null,0]
[null,null,null,null,null,null,null,null,null,{"$f":"IF(H433=Listas!$X$3,Acompanhamento!I433,0)","v":0},{"$f":"IF(H433=Listas!$X$4,Acompanhamento!I433,0)","v":0},null,0,null,0,null,0,null,0]
[null,null,null,null,null,null,null,null,null,{"$f":"IF(H434=Listas!$X$3,Acompanhamento!I434,0)","v":0},{"$f":"IF(H434=Listas!$X$4,Acompanhamento!I434,0)","v":0},null,0,null,0,null,0,null,0]
[null,null,null,null,null,null,null,null,null,{"$f":"IF(H435=Listas!$X$3,Acompanhamento!I435,0)","v":0},{"$f":"IF(H435=Listas!$X$4,Acompanhamento!I435,0)","v":0},null,0,null,0,null,0,null,0]
[null,null,null,null,null,null,null,null,null,{"$f":"IF(H436=Listas!$X$3,Acompanhamento!I436,0)","v":0},{"$f":"IF(H436=Listas!$X$4,Acompanhamento!I436,0)","v":0},null,0,null,0,null,0,null,0]
[null,null,null,null,null,null,null,null,null,{"$f":"IF(H437=Listas!$X$3,Acompanhamento!I437,0)","v":0},{"$f":"IF(H437=Listas!$X$4,Acompanhamento!I437,0)","v":0},null,0,null,0,null,0,null,0]
[null,null,null,null,null,null,null,null,null,{"$f":"IF(H438=Listas!$X$3,Acompanhamento!I438,0)","v":0},{"$f":"IF(H438=Listas!$X$4,Acompanhamento!I438,0)","v":0},null,0,null,0,null,0,null,0]
[null,null,null,null,null,null,null,null,null,{"$f":"IF(H439=Listas!$X$3,Acompanhamento!I439,0)","v":0},{"$f":"IF(H439=Listas!$X$4,Acompanhamento!I439,0)","v":0},null,0,null,0,null,0,null,0]
[null,null,null,null,null,null,null,null,null,{"$f":"IF(H440=Listas!$X$3,Acompanhamento!I440,0)","v":0},{"$f":"IF(H440=Listas!$X$4,Acompanhamento!I440,0)","v":0},null,0,null,0,null,0,null,0]
[null,null,null,null,null,null,null,null,null,{"$f":"IF(H441=Listas!$X$3,Acompanhamento!I441,0)","v":0},{"$f":"IF(H441=Listas!$X$4,Acompanhamento!I441,0)","v":0},null,0,null,0,null,0,null,0]
[null,null,null,null,null,null,null,null,null,{"$f":"IF(H442=Listas!$X$3,Acompanhamento!I442,0)","v":0},{"$f":"IF(H442=Listas!$X$4,Acompanhamento!I442,0)","v":0},null,0,null,0,null,0,null,0]
[null,null,null,null,null,null,null,null,null,{"$f":"IF(H443=Listas!$X$3,Acompanhamento!I443,0)","v":0},{"$f":"IF(H443=Listas!$X$4,Acompanhamento!I443,0)","v":0},null,0,null,0,null,0,null,0]
[null,null,null,null,null,null,null,null,null,{"$f":"IF(H444=Listas!$X$3,Acompanhamento!I444,0)","v":0},{"$f":"IF(H444=Listas!$X$4,Acompanhamento!I444,0)","v":0},null,0,null,0,null,0,null,0]
[null,null,null,null,null,null,null,null,null,{"$f":"IF(H445=Listas!$X$3,Acompanhamento!I445,0)","v":0},{"$f":"IF(H445=Listas!$X$4,Acompanhamento!I445,0)","v":0},null,0,null,0,null,0,null,0]
[null,null,null,null,null,null,null,null,null,{"$f":"IF(H446=Listas!$X$3,Acompanhamento!I446,0)","v":0},{"$f":"IF(H446=Listas!$X$4,Acompanhamento!I446,0)","v":0},null,0,null,0,null,0,null,0]
[null,null,null,null,null,null,null,null,null,{"$f":"IF(H447=Listas!$X$3,Acompanhamento!I447,0)","v":0},{"$f":"IF(H447=Listas!$X$4,Acompanhamento!I447,0)","v":0},null,0,null,0,null,0,null,0]
[null,null,null,null,null,null,null,null,null,{"$f":"IF(H448=Listas!$X$3,Acompanhamento!I448,0)","v":0},{"$f":"IF(H448=Listas!$X$4,Acompanhamento!I448,0)","v":0},null,0,null,0,null,0,null,0]
[null,null,null,null,null,null,null,null,null,{"$f":"IF(H449=Listas!$X$3,Acompanhamento!I449,0)","v":0},{"$f":"IF(H449=Listas!$X$4,Acompanhamento!I449,0)","v":0},null,0,null,0,null,0,null,0]
[null,null,null,null,null,null,null,null,null,{"$f":"IF(H450=Listas!$X$3,Acompanhamento!I450,0)","v":0},{"$f":"IF(H450=Listas!$X$4,Acompanhamento!I450,0)","v":0},null,0,null,0,null,0,null,0]
[null,null,null,null,null,null,null,null,null,{"$f":"IF(H451=Listas!$X$3,Acompanhamento!I451,0)","v":0},{"$f":"IF(H451=Listas!$X$4,Acompanhamento!I451,0)","v":0},null,0,null,0,null,0,null,0]
[null,null,null,null,null,null,null,null,null,{"$f":"IF(H452=Listas!$X$3,Acompanhamento!I452,0)","v":0},{"$f":"IF(H452=Listas!$X$4,Acompanhamento!I452,0)","v":0},null,0,null,0,null,0,null,0]
[null,null,null,null,null,null,null,null,null,{"$f":"IF(H453=Listas!$X$3,Acompanhamento!I453,0)","v":0},{"$f":"IF(H453=Listas!$X$4,Acompanhamento!I453,0)","v":0},null,0,null,0,null,0,null,0]
[null,null,null,null,null,null,null,null,null,{"$f":"IF(H454=Listas!$X$3,Acompanhamento!I454,0)","v":0},{"$f":"IF(H454=Listas!$X$4,Acompanhamento!I454,0)","v":0},null,0,null,0,null,0,null,0]
[null,null,null,null,null,null,null,null,null,{"$f":"IF(H455=Listas!$X$3,Acompanhamento!I455,0)","v":0},{"$f":"IF(H455=Listas!$X$4,Acompanhamento!I455,0)","v":0},null,0,null,0,null,0,null,0]
[null,null,null,null,null,null,null,null,null,{"$f":"IF(H456=Listas!$X$3,Acompanhamento!I456,0)","v":0},{"$f":"IF(H456=Listas!$X$4,Acompanhamento!I456,0)","v":0},null,0,null,0,null,0,null,0]
[null,null,null,null,null,null,null,null,null,{"$f":"IF(H457=Listas!$X$3,Acompanhamento!I457,0)","v":0},{"$f":"IF(H457=Listas!$X$4,Acompanhamento!I457,0)","v":0},null,0,null,0,null,0,null,0]
[null,null,null,null,null,null,null,null,null,{"$f":"IF(H458=Listas!$X$3,Acompanhamento!I458,0)","v":0},{"$f":"IF(H458=Listas!$X$4,Acompanhamento!I458,0)","v":0},null,{"$f":"J458-L458","v":0},null,{"$f":"M458-N458","v":0},null,{"$f":"O458-P458","v":0},null,{"$f":"Q458-R458","v":0}]
[null,null,null,null,null,null,null,null,null,{"$f":"IF(H459=Listas!$X$3,Acompanhamento!I459,0)","v":0},{"$f":"IF(H459=Listas!$X$4,Acompanhamento!I459,0)","v":0},null,0,null,0,null,0,null,0]
[null,null,null,null,null,null,null,null,null,{"$f":"IF(H460=Listas!$X$3,Acompanhamento!I460,0)","v":0},{"$f":"IF(H460=Listas!$X$4,Acompanhamento!I460,0)","v":0},null,0,null,0,null,0,null,0]
[null,null,null,null,null,null,null,null,null,{"$f":"IF(H461=Listas!$X$3,Acompanhamento!I461,0)","v":0},{"$f":"IF(H461=Listas!$X$4,Acompanhamento!I461,0)","v":0},null,0,null,0,null,0,null,0]
[null,null,null,null,null,null,null,null,null,{"$f":"IF(H462=Listas!$X$3,Acompanhamento!I462,0)","v":0},{"$f":"IF(H462=Listas!$X$4,Acompanhamento!I462,0)","v":0},null,0,null,0,null,0,null,0]
[null,null,null,null,null,null,null,null,null,{"$f":"IF(H463=Listas!$X$3,Acompanhamento!I463,0)","v":0},{"$f":"IF(H463=Listas!$X$4,Acompanhamento!I463,0)","v":0},null,0,null,0,null,0,null,0]
[null,null,null,null,null,null,null,null,null,{"$f":"IF(H464=Listas!$X$3,Acompanhamento!I464,0)","v":0},{"$f":"IF(H464=Listas!$X$4,Acompanhamento!I464,0)","v":0},null,0,null,0,null,0,null,0]
[null,null,null,null,null,null,null,null,null,{"$f":"IF(H465=Listas!$X$3,Acompanhamento!I465,0)","v":0},{"$f":"IF(H465=Listas!$X$4,Acompanhamento!I465,0)","v":0},null,0,null,0,null,0,null,0]
[null,null,null,null,null,null,null,null,null,{"$f":"IF(H466=Listas!$X$3,Acompanhamento!I466,0)","v":0},{"$f":"IF(H466=Listas!$X$4,Acompanhamento!I466,0)","v":0},null,0,null,0,null,0,null,0]
[null,null,null,null,null,null,null,null,null,{"$f":"IF(H467=Listas!$X$3,Acompanhamento!I467,0)","v":0},{"$f":"IF(H467=Listas!$X$4,Acompanhamento!I467,0)","v":0},null,0,null,0,null,0,null,0]
[null,null,null,null,null,null,null,null,null,{"$f":"IF(H468=Listas!$X$3,Acompanhamento!I468,0)","v":0},{"$f":"IF(H468=Listas!$X$4,Acompanhamento!I468,0)","v":0},null,0,null,0,null,0,null,0]
[null,null,null,null,null,null,null,null,null,{"$f":"IF(H469=Listas!$X$3,Acompanhamento!I469,0)","v":0},{"$f":"IF(H469=Listas!$X$4,Acompanhamento!I469,0)","v":0},null,0,null,0,null,0,null,0]
[null,null,null,null,null,null,null,null,null,{"$f":"IF(H470=Listas!$X$3,Acompanhamento!I470,0)","v":0},{"$f":"IF(H470=Listas!$X$4,Acompanhamento!I470,0)","v":0},null,0,null,0,null,0,null,0]
[null,null,null,null,null,null,null,null,null,{"$f":"IF(H471=Listas!$X$3,Acompanhamento!I471,0)","v":0},{"$f":"IF(H471=Listas!$X$4,Acompanhamento!I471,0)","v":0},null,0,null,0,null,0,null,0]
[null,null,null,null,null,null,null,null,null,{"$f":"IF(H472=Listas!$X$3,Acompanhamento!I472,0)","v":0},{"$f":"IF(H472=Listas!$X$4,Acompanhamento!I472,0)","v":0},null,0,null,0,null,0,null,0]
[null,null,null,null,null,null,null,null,null,{"$f":"IF(H473=Listas!$X$3,Acompanhamento!I473,0)","v":0},{"$f":"IF(H473=Listas!$X$4,Acompanhamento!I473,0)","v":0},null,0,null,0,null,0,null,0]
[null,null,null,null,null,null,null,null,null,{"$f":"IF(H474=Listas!$X$3,Acompanhamento!I474,0)","v":0},{"$f":"IF(H474=Listas!$X$4,Acompanhamento!I474,0)","v":0},null,0,null,0,null,0,null,0]
[null,null,null,null,null,null,null,null,null,{"$f":"IF(H475=Listas!$X$3,Acompanhamento!I475,0)","v":0},{"$f":"IF(H475=Listas!$X$4,Acompanhamento!I475,0)","v":0},null,0,null,0,null,0,null,0]
[null,null,null,null,null,null,null,null,null,{"$f":"IF(H476=Listas!$X$3,Acompanhamento!I476,0)","v":0},{"$f":"IF(H476=Listas!$X$4,Acompanhamento!I476,0)","v":0},null,0,null,0,null,0,null,0]
[null,null,null,null,null,null,null,null,null,{"$f":"IF(H477=Listas!$X$3,Acompanhamento!I477,0)","v":0},{"$f":"IF(H477=Listas!$X$4,Acompanhamento!I477,0)","v":0},null,0,null,0,null,0,null,0]
[null,null,null,null,null,null,null,null,null,{"$f":"IF(H478=Listas!$X$3,Acompanhamento!I478,0)","v":0},{"$f":"IF(H478=Listas!$X$4,Acompanhamento!I478,0)","v":0},null,0,null,0,null,0,null,0]
[null,null,null,null,null,null,null,null,null,{"$f":"IF(H479=Listas!$X$3,Acompanhamento!I479,0)","v":0},{"$f":"IF(H479=Listas!$X$4,Acompanhamento!I479,0)","v":0},null,0,null,0,null,0,null,0]
[null,null,null,null,null,null,null,null,null,{"$f":"IF(H480=Listas!$X$3,Acompanhamento!I480,0)","v":0},{"$f":"IF(H480=Listas!$X$4,Acompanhamento!I480,0)","v":0},null,0,null,0,null,0,null,0]
[null,null,null,null,null,null,null,null,null,{"$f":"IF(H481=Listas!$X$3,Acompanhamento!I481,0)","v":0},{"$f":"IF(H481=Listas!$X$4,Acompanhamento!I481,0)","v":0},null,0,null,0,null,0,null,0]
[null,null,null,null,null,null,null,null,null,{"$f":"IF(H482=Listas!$X$3,Acompanhamento!I482,0)","v":0},{"$f":"IF(H482=Listas!$X$4,Acompanhamento!I482,0)","v":0},null,0,null,0,null,0,null,0]
[null,null,null,null,null,null,null,null,null,{"$f":"IF(H483=Listas!$X$3,Acompanhamento!I483,0)","v":0},{"$f":"IF(H483=Listas!$X$4,Acompanhamento!I483,0)","v":0},null,0,null,0,null,0,null,0]
[null,null,null,null,null,null,null,null,null,{"$f":"IF(H484=Listas!$X$3,Acompanhamento!I484,0)","v":0},{"$f":"IF(H484=Listas!$X$4,Acompanhamento!I484,0)","v":0},null,0,null,0,null,0,null,0]
[null,null,null,null,null,null,null,null,null,{"$f":"IF(H485=Listas!$X$3,Acompanhamento!I485,0)","v":0},{"$f":"IF(H485=Listas!$X$4,Acompanhamento!I485,0)","v":0},null,0,null,0,null,0,null,0]
[null,null,null,null,null,null,null,null,null,{"$f":"IF(H486=Listas!$X$3,Acompanhamento!I486,0)","v":0},{"$f":"IF(H486=Listas!$X$4,Acompanhamento!I486,0)","v":0},null,0,null,0,null,0,null,0]
[null,null,null,null,null,null,null,null,null,{"$f":"IF(H487=Listas!$X$3,Acompanhamento!I487,0)","v":0},{"$f":"IF(H487=Listas!$X$4,Acompanhamento!I487,0)","v":0},null,0,null,0,null,0,null,0]
[null,null,null,null,null,null,null,null,null,{"$f":"IF(H488=Listas!$X$3,Acompanhamento!I488,0)","v":0},{"$f":"IF(H488=Listas!$X$4,Acompanhamento!I488,0)","v":0},null,0,null,0,null,0,null,0]
[null,null,null,null,null,null,null,null,null,{"$f":"IF(H489=Listas!$X$3,Acompanhamento!I489,0)","v":0},{"$f":"IF(H489=Listas!$X$4,Acompanhamento!I489,0)","v":0},null,0,null,0,null,0,null,0]
[null,null,null,null,null,null,null,null,null,{"$f":"IF(H490=Listas!$X$3,Acompanhamento!I490,0)","v":0},{"$f":"IF(H490=Listas!$X$4,Acompanhamento!I490,0)","v":0},null,0,null,0,null,0,null,0]
[null,null,null,null,null,null,null,null,null,{"$f":"IF(H491=Listas!$X$3,Acompanhamento!I491,0)","v":0},{"$f":"IF(H491=Listas!$X$4,Acompanhamento!I491,0)","v":0},null,0,null,0,null,0,null,0]
[null,null,null,null,null,null,null,null,null,{"$f":"IF(H492=Listas!$X$3,Acompanhamento!I492,0)","v":0},{"$f":"IF(H492=Listas!$X$4,Acompanhamento!I492,0)","v":0},null,0,null,0,null,0,null,0]
[null,null,null,null,null,null,null,null,null,{"$f":"IF(H493=Listas!$X$3,Acompanhamento!I493,0)","v":0},{"$f":"IF(H493=Listas!$X$4,Acompanhamento!I493,0)","v":0},null,0,null,0,null,0,null,0]
[null,null,null,null,null,null,null,null,null,{"$f":"IF(H494=Listas!$X$3,Acompanhamento!I494,0)","v":0},{"$f":"IF(H494=Listas!$X$4,Acompanhamento!I494,0)","v":0},null,0,null,0,null,0,null,0]
[null,null,null,null,null,null,null,null,null,{"$f":"IF(H495=Listas!$X$3,Acompanhamento!I495,0)","v":0},{"$f":"IF(H495=Listas!$X$4,Acompanhamento!I495,0)","v":0},null,0,null,0,null,0,null,0]
[null,null,null,null,null,null,null,null,null,{"$f":"IF(H496=Listas!$X$3,Acompanhamento!I496,0)","v":0},{"$f":"IF(H496=Listas!$X$4,Acompanhamento!I496,0)","v":0},null,0,null,0,null,0,null,0]
[null,null,null,null,null,null,null,null,null,{"$f":"IF(H497=Listas!$X$3,Acompanhamento!I497,0)","v":0},{"$f":"IF(H497=Listas!$X$4,Acompanhamento!I497,0)","v":0},null,0,null,0,null,0,null,0]
[null,null,null,null,null,null,null,null,null,{"$f":"IF(H498=Listas!$X$3,Acompanhamento!I498,0)","v":0},{"$f":"IF(H498=Listas!$X$4,Acompanhamento!I498,0)","v":0},null,0,null,0,null,0,null,0]
[null,null,null,null,null,null,null,null,null,{"$f":"IF(H499=Listas!$X$3,Acompanhamento!I499,0)","v":0},{"$f":"IF(H499=Listas!$X$4,Acompanhamento!I499,0)","v":0},null,0,null,0,null,0,null,0]
[null,null,null,null,null,null,null,null,null,{"$f":"IF(H500=Listas!$X$3,Acompanhamento!I500,0)","v":0},{"$f":"IF(H500=Listas!$X$4,Acompanhamento!I500,0)","v":0},null,0,null,0,null,0,null,0]
[null,null,null,null,null,null,null,null,null,{"$f":"IF(H501=Listas!$X$3,Acompanhamento!I501,0)","v":0},{"$f":"IF(H501=Listas!$X$4,Acompanhamento!I501,0)","v":0},null,0,null,0,null,0,null,0]
[null,null,null,null,null,null,null,null,null,{"$f":"IF(H502=Listas!$X$3,Acompanhamento!I502,0)","v":0},{"$f":"IF(H502=Listas!$X$4,Acompanhamento!I502,0)","v":0},null,0,null,0,null,0,null,0]
[null,null,null,null,null,null,null,null,null,{"$f":"IF(H503=Listas!$X$3,Acompanhamento!I503,0)","v":0},{"$f":"IF(H503=Listas!$X$4,Acompanhamento!I503,0)","v":0},null,0,null,0,null,0,null,0]
[null,null,null,null,null,null,null,null,null,{"$f":"IF(H504=Listas!$X$3,Acompanhamento!I504,0)","v":0},{"$f":"IF(H504=Listas!$X$4,Acompanhamento!I504,0)","v":0},null,0,null,0,null,0,null,0]
[null,null,null,null,null,null,null,null,null,{"$f":"IF(H505=Listas!$X$3,Acompanhamento!I505,0)","v":0},{"$f":"IF(H505=Listas!$X$4,Acompanhamento!I505,0)","v":0},null,0,null,0,null,0,null,0]
[null,null,null,null,null,null,null,null,null,{"$f":"IF(H506=Listas!$X$3,Acompanhamento!I506,0)","v":0},{"$f":"IF(H506=Listas!$X$4,Acompanhamento!I506,0)","v":0},null,0,null,0,null,0,null,0]
[null,null,null,null,null,null,null,null,null,{"$f":"IF(H507=Listas!$X$3,Acompanhamento!I507,0)","v":0},{"$f":"IF(H507=Listas!$X$4,Acompanhamento!I507,0)","v":0},null,0,null,0,null,0,null,0]
[null,null,null,null,null,null,null,null,null,{"$f":"IF(H508=Listas!$X$3,Acompanhamento!I508,0)","v":0},{"$f":"IF(H508=Listas!$X$4,Acompanhamento!I508,0)","v":0},null,0,null,0,null,0,null,0]
[null,null,null,null,null,null,null,null,null,{"$f":"IF(H509=Listas!$X$3,Acompanhamento!I509,0)","v":0},{"$f":"IF(H509=Listas!$X$4,Acompanhamento!I509,0)","v":0},null,0,null,0,null,0,null,0]
[null,null,null,null,null,null,null,null,null,{"$f":"IF(H510=Listas!$X$3,Acompanhamento!I510,0)","v":0},{"$f":"IF(H510=Listas!$X$4,Acompanhamento!I510,0)","v":0},null,0,null,0,null,0,null,0]
[null,null,null,null,null,null,null,null,null,{"$f":"IF(H511=Listas!$X$3,Acompanhamento!I511,0)","v":0},{"$f":"IF(H511=Listas!$X$4,Acompanhamento!I511,0)","v":0},null,0,null,0,null,0,null,0]
[null,null,null,null,null,null,null,null,null,{"$f":"IF(H512=Listas!$X$3,Acompanhamento!I512,0)","v":0},{"$f":"IF(H512=Listas!$X$4,Acompanhamento!I512,0)","v":0},null,0,null,0,null,0,null,0]
[null,null,null,null,null,null,null,null,null,{"$f":"IF(H513=Listas!$X$3,Acompanhamento!I513,0)","v":0},{"$f":"IF(H513=Listas!$X$4,Acompanhamento!I513,0)","v":0},null,0,null,0,null,0,null,0]
[null,null,null,null,null,null,null,null,null,{"$f":"IF(H514=Listas!$X$3,Acompanhamento!I514,0)","v":0},{"$f":"IF(H514=Listas!$X$4,Acompanhamento!I514,0)","v":0},null,0,null,0,null,0,null,0]
[null,null,null,null,null,null,null,null,null,{"$f":"IF(H515=Listas!$X$3,Acompanhamento!I515,0)","v":0},{"$f":"IF(H515=Listas!$X$4,Acompanhamento!I515,0)","v":0},null,0,null,0,null,0,null,0]
[null,null,null,null,null,null,null,null,null,{"$f":"IF(H516=Listas!$X$3,Acompanhamento!I516,0)","v":0},{"$f":"IF(H516=Listas!$X$4,Acompanhamento!I516,0)","v":0},null,0,null,0,null,0,null,0]
[null,null,null,null,null,null,null,null,null,{"$f":"IF(H517=Listas!$X$3,Acompanhamento!I517,0)","v":0},{"$f":"IF(H517=Listas!$X$4,Acompanhamento!I517,0)","v":0},null,0,null,0,null,0,null,0]
[null,null,null,null,null,null,null,null,null,{"$f":"IF(H518=Listas!$X$3,Acompanhamento!I518,0)","v":0},{"$f":"IF(H518=Listas!$X$4,Acompanhamento!I518,0)","v":0},null,0,null,0,null,0,null,0]
[null,null,null,null,null,null,null,null,null,{"$f":"IF(H519=Listas!$X$3,Acompanhamento!I519,0)","v":0},{"$f":"IF(H519=Listas!$X$4,Acompanhamento!I519,0)","v":0},null,0,null,0,null,0,null,0]
[null,null,null,null,null,null,null,null,null,{"$f":"IF(H520=Listas!$X$3,Acompanhamento!I520,0)","v":0},{"$f":"IF(H520=Listas!$X$4,Acompanhamento!I520,0)","v":0},null,0,null,0,null,0,null,0]
[null,null,null,null,null,null,null,null,null,{"$f":"IF(H521=Listas!$X$3,Acompanhamento!I521,0)","v":0},{"$f":"IF(H521=Listas!$X$4,Acompanhamento!I521,0)","v":0},null,0,null,0,null,0,null,0]
[null,null,null,null,null,null,null,null,null,{"$f":"IF(H522=Listas!$X$3,Acompanhamento!I522,0)","v":0},{"$f":"IF(H522=Listas!$X$4,Acompanhamento!I522,0)","v":0},null,{"$f":"J522-L522","v":0},null,{"$f":"M522-N522","v":0},null,{"$f":"O522-P522","v":0},null,{"$f":"Q522-R522","v":0}]
[null,null,null,null,null,null,null,null,null,{"$f":"IF(H523=Listas!$X$3,Acompanhamento!I523,0)","v":0},{"$f":"IF(H523=Listas!$X$4,Acompanhamento!I523,0)","v":0},null,0,null,0,null,0,null,0]
[null,null,null,null,null,null,null,null,null,{"$f":"IF(H524=Listas!$X$3,Acompanhamento!I524,0)","v":0},{"$f":"IF(H524=Listas!$X$4,Acompanhamento!I524,0)","v":0},null,0,null,0,null,0,null,0]
[null,null,null,null,null,null,null,null,null,{"$f":"IF(H525=Listas!$X$3,Acompanhamento!I525,0)","v":0},{"$f":"IF(H525=Listas!$X$4,Acompanhamento!I525,0)","v":0},null,0,null,0,null,0,null,0]
[null,null,null,null,null,null,null,null,null,{"$f":"IF(H526=Listas!$X$3,Acompanhamento!I526,0)","v":0},{"$f":"IF(H526=Listas!$X$4,Acompanhamento!I526,0)","v":0},null,0,null,0,null,0,null,0]
[null,null,null,null,null,null,null,null,null,{"$f":"IF(H527=Listas!$X$3,Acompanhamento!I527,0)","v":0},{"$f":"IF(H527=Listas!$X$4,Acompanhamento!I527,0)","v":0},null,0,null,0,null,0,null,0]
[null,null,null,null,null,null,null,null,null,{"$f":"IF(H528=Listas!$X$3,Acompanhamento!I528,0)","v":0},{"$f":"IF(H528=Listas!$X$4,Acompanhamento!I528,0)","v":0},null,0,null,0,null,0,null,0]
[null,null,null,null,null,null,null,null,null,{"$f":"IF(H529=Listas!$X$3,Acompanhamento!I529,0)","v":0},{"$f":"IF(H529=Listas!$X$4,Acompanhamento!I529,0)","v":0},null,0,null,0,null,0,null,0]
[null,null,null,null,null,null,null,null,null,{"$f":"IF(H530=Listas!$X$3,Acompanhamento!I530,0)","v":0},{"$f":"IF(H530=Listas!$X$4,Acompanhamento!I530,0)","v":0},null,0,null,0,null,0,null,0]
[null,null,null,null,null,null,null,null,null,{"$f":"IF(H531=Listas!$X$3,Acompanhamento!I531,0)","v":0},{"$f":"IF(H531=Listas!$X$4,Acompanhamento!I531,0)","v":0},null,0,null,0,null,0,null,0]
[null,null,null,null,null,null,null,null,null,{"$f":"IF(H532=Listas!$X$3,Acompanhamento!I532,0)","v":0},{"$f":"IF(H532=Listas!$X$4,Acompanhamento!I532,0)","v":0},null,0,null,0,null,0,null,0]
[null,null,null,null,null,null,null,null,null,{"$f":"IF(H533=Listas!$X$3,Acompanhamento!I533,0)","v":0},{"$f":"IF(H533=Listas!$X$4,Acompanhamento!I533,0)","v":0},null,0,null,0,null,0,null,0]
[null,null,null,null,null,null,null,null,null,{"$f":"IF(H534=Listas!$X$3,Acompanhamento!I534,0)","v":0},{"$f":"IF(H534=Listas!$X$4,Acompanhamento!I534,0)","v":0},null,0,null,0,null,0,null,0]
[null,null,null,null,null,null,null,null,null,{"$f":"IF(H535=Listas!$X$3,Acompanhamento!I535,0)","v":0},{"$f":"IF(H535=Listas!$X$4,Acompanhamento!I535,0)","v":0},null,0,null,0,null,0,null,0]
[null,null,null,null,null,null,null,null,null,{"$f":"IF(H536=Listas!$X$3,Acompanhamento!I536,0)","v":0},{"$f":"IF(H536=Listas!$X$4,Acompanhamento!I536,0)","v":0},null,0,null,0,null,0,null,0]
[null,null,null,null,null,null,null,null,null,{"$f":"IF(H537=Listas!$X$3,Acompanhamento!I537,0)","v":0},{"$f":"IF(H537=Listas!$X$4,Acompanhamento!I537,0)","v":0},null,0,null,0,null,0,null,0]
[null,null,null,null,null,null,null,null,null,{"$f":"IF(H538=Listas!$X$3,Acompanhamento!I538,0)","v":0},{"$f":"IF(H538=Listas!$X$4,Acompanhamento!I538,0)","v":0},null,0,null,0,null,0,null,0]
[null,null,null,null,null,null,null,null,null,{"$f":"IF(H539=Listas!$X$3,Acompanhamento!I539,0)","v":0},{"$f":"IF(H539=Listas!$X$4,Acompanhamento!I539,0)","v":0},null,0,null,0,null,0,null,0]
[null,null,null,null,null,null,null,null,null,{"$f":"IF(H540=Listas!$X$3,Acompanhamento!I540,0)","v":0},{"$f":"IF(H540=Listas!$X$4,Acompanhamento!I540,0)","v":0},null,0,null,0,null,0,null,0]
[null,null,null,null,null,null,null,null,null,{"$f":"IF(H541=Listas!$X$3,Acompanhamento!I541,0)","v":0},{"$f":"IF(H541=Listas!$X$4,Acompanhamento!I541,0)","v":0},null,0,null,0,null,0,null,0]
[null,null,null,null,null,null,null,null,null,{"$f":"IF(H542=Listas!$X$3,Acompanhamento!I542,0)","v":0},{"$f":"IF(H542=Listas!$X$4,Acompanhamento!I542,0)","v":0},null,0,null,0,null,0,null,0]
[null,null,null,null,null,null,null,null,null,{"$f":"IF(H543=Listas!$X$3,Acompanhamento!I543,0)","v":0},{"$f":"IF(H543=Listas!$X$4,Acompanhamento!I543,0)","v":0},null,0,null,0,null,0,null,0]
[null,null,null,null,null,null,null,null,null,{"$f":"IF(H544=Listas!$X$3,Acompanhamento!I544,0)","v":0},{"$f":"IF(H544=Listas!$X$4,Acompanhamento!I544,0)","v":0},null,0,null,0,null,0,null,0]
[null,null,null,null,null,null,null,null,null,{"$f":"IF(H545=Listas!$X$3,Acompanhamento!I545,0)","v":0},{"$f":"IF(H545=Listas!$X$4,Acompanhamento!I545,0)","v":0},null,0,null,0,null,0,null,0]
[null,null,null,null,null,null,null,null,null,{"$f":"IF(H546=Listas!$X$3,Acompanhamento!I546,0)","v":0},{"$f":"IF(H546=Listas!$X$4,Acompanhamento!I546,0)","v":0},null,0,null,0,null,0,null,0]
[null,null,null,null,null,null,null,null,null,{"$f":"IF(H547=Listas!$X$3,Acompanhamento!I547,0)","v":0},{"$f":"IF(H547=Listas!$X$4,Acompanhamento!I547,0)","v":0},null,0,null,0,null,0,null,0]
[null,null,null,null,null,null,null,null,null,{"$f":"IF(H548=Listas!$X$3,Acompanhamento!I548,0)","v":0},{"$f":"IF(H548=Listas!$X$4,Acompanhamento!I548,0)","v":0},null,0,null,0,null,0,null,0]
[null,null,null,null,null,null,null,null,null,{"$f":"IF(H549=Listas!$X$3,Acompanhamento!I549,0)","v":0},{"$f":"IF(H549=Listas!$X$4,Acompanhamento!I549,0)","v":0},null,0,null,0,null,0,null,0]
[null,null,null,null,null,null,null,null,null,{"$f":"IF(H550=Listas!$X$3,Acompanhamento!I550,0)","v":0},{"$f":"IF(H550=Listas!$X$4,Acompanhamento!I550,0)","v":0},null,0,null,0,null,0,null,0]
[null,null,null,null,null,null,null,null,null,{"$f":"IF(H551=Listas!$X$3,Acompanhamento!I551,0)","v":0},{"$f":"IF(H551=Listas!$X$4,Acompanhamento!I551,0)","v":0},null,0,null,0,null,0,null,0]
[null,null,null,null,null,null,null,null,null,{"$f":"IF(H552=Listas!$X$3,Acompanhamento!I552,0)","v":0},{"$f":"IF(H552=Listas!$X$4,Acompanhamento!I552,0)","v":0},null,0,null,0,null,0,null,0]
[null,null,null,null,null,null,null,null,null,{"$f":"IF(H553=Listas!$X$3,Acompanhamento!I553,0)","v":0},{"$f":"IF(H553=Listas!$X$4,Acompanhamento!I553,0)","v":0},null,0,null,0,null,0,null,0]
[null,null,null,null,null,null,null,null,null,{"$f":"IF(H554=Listas!$X$3,Acompanhamento!I554,0)","v":0},{"$f":"IF(H554=Listas!$X$4,Acompanhamento!I554,0)","v":0},null,0,null,0,null,0,null,0]
[null,null,null,null,null,null,null,null,null,{"$f":"IF(H555=Listas!$X$3,Acompanhamento!I555,0)","v":0},{"$f":"IF(H555=Listas!$X$4,Acompanhamento!I555,0)","v":0},null,0,null,0,null,0,null,0]
[null,null,null,null,null,null,null,null,null,{"$f":"IF(H556=Listas!$X$3,Acompanhamento!I556,0)","v":0},{"$f":"IF(H556=Listas!$X$4,Acompanhamento!I556,0)","v":0},null,0,null,0,null,0,null,0]
[null,null,null,null,null,null,null,null,null,{"$f":"IF(H557=Listas!$X$3,Acompanhamento!I557,0)","v":0},{"$f":"IF(H557=Listas!$X$4,Acompanhamento!I557,0)","v":0},null,0,null,0,null,0,null,0]
[null,null,null,null,null,null,null,null,null,{"$f":"IF(H558=Listas!$X$3,Acompanhamento!I558,0)","v":0},{"$f":"IF(H558=Listas!$X$4,Acompanhamento!I558,0)","v":0},null,0,null,0,null,0,null,0]
[null,null,null,null,null,null,null,null,null,{"$f":"IF(H559=Listas!$X$3,Acompanhamento!I559,0)","v":0},{"$f":"IF(H559=Listas!$X$4,Acompanhamento!I559,0)","v":0},null,0,null,0,null,0,null,0]
[null,null,null,null,null,null,null,null,null,{"$f":"IF(H560=Listas!$X$3,Acompanhamento!I560,0)","v":0},{"$f":"IF(H560=Listas!$X$4,Acompanhamento!I560,0)","v":0},null,0,null,0,null,0,null,0]
[null,null,null,null,null,null,null,null,null,{"$f":"IF(H561=Listas!$X$3,Acompanhamento!I561,0)","v":0},{"$f":"IF(H561=Listas!$X$4,Acompanhamento!I561,0)","v":0},null,0,null,0,null,0,null,0]
[null,null,null,null,null,null,null,null,null,{"$f":"IF(H562=Listas!$X$3,Acompanhamento!I562,0)","v":0},{"$f":"IF(H562=Listas!$X$4,Acompanhamento!I562,0)","v":0},null,0,null,0,null,0,null,0]
[null,null,null,null,null,null,null,null,null,{"$f":"IF(H563=Listas!$X$3,Acompanhamento!I563,0)","v":0},{"$f":"IF(H563=Listas!$X$4,Acompanhamento!I563,0)","v":0},null,0,null,0,null,0,null,0]
[null,null,null,null,null,null,null,null,null,{"$f":"IF(H564=Listas!$X$3,Acompanhamento!I564,0)","v":0},{"$f":"IF(H564=Listas!$X$4,Acompanhamento!I564,0)","v":0},null,0,null,0,null,0,null,0]
[null,null,null,null,null,null,null,null,null,{"$f":"IF(H565=Listas!$X$3,Acompanhamento!I565,0)","v":0},{"$f":"IF(H565=Listas!$X$4,Acompanhamento!I565,0)","v":0},null,0,null,0,null,0,null,0]
[null,null,null,null,null,null,null,null,null,{"$f":"IF(H566=Listas!$X$3,Acompanhamento!I566,0)","v":0},{"$f":"IF(H566=Listas!$X$4,Acompanhamento!I566,0)","v":0},null,0,null,0,null,0,null,0]
[null,null,null,null,null,null,null,null,null,{"$f":"IF(H567=Listas!$X$3,Acompanhamento!I567,0)","v":0},{"$f":"IF(H567=Listas!$X$4,Acompanhamento!I567,0)","v":0},null,0,null,0,null,0,null,0]
[null,null,null,null,null,null,null,null,null,{"$f":"IF(H568=Listas!$X$3,Acompanhamento!I568,0)","v":0},{"$f":"IF(H568=Listas!$X$4,Acompanhamento!I568,0)","v":0},null,0,null,0,null,0,null,0]
[null,null,null,null,null,null,null,null,null,{"$f":"IF(H569=Listas!$X$3,Acompanhamento!I569,0)","v":0},{"$f":"IF(H569=Listas!$X$4,Acompanhamento!I569,0)","v":0},null,0,null,0,null,0,null,0]
[null,null,null,null,null,null,null,null,null,{"$f":"IF(H570=Listas!$X$3,Acompanhamento!I570,0)","v":0},{"$f":"IF(H570=Listas!$X$4,Acompanhamento!I570,0)","v":0},null,0,null,0,null,0,null,0]
[null,null,null,null,null,null,null,null,null,{"$f":"IF(H571=Listas!$X$3,Acompanhamento!I571,0)","v":0},{"$f":"IF(H571=Listas!$X$4,Acompanhamento!I571,0)","v":0},null,0,null,0,null,0,null,0]
[null,null,null,null,null,null,null,null,null,{"$f":"IF(H572=Listas!$X$3,Acompanhamento!I572,0)","v":0},{"$f":"IF(H572=Listas!$X$4,Acompanhamento!I572,0)","v":0},null,0,null,0,null,0,null,0]
[null,null,null,null,null,null,null,null,null,{"$f":"IF(H573=Listas!$X$3,Acompanhamento!I573,0)","v":0},{"$f":"IF(H573=Listas!$X$4,Acompanhamento!I573,0)","v":0},null,0,null,0,null,0,null,0]
[null,null,null,null,null,null,null,null,null,{"$f":"IF(H574=Listas!$X$3,Acompanhamento!I574,0)","v":0},{"$f":"IF(H574=Listas!$X$4,Acompanhamento!I574,0)","v":0},null,0,null,0,null,0,null,0]
[null,null,null,null,null,null,null,null,null,{"$f":"IF(H575=Listas!$X$3,Acompanhamento!I575,0)","v":0},{"$f":"IF(H575=Listas!$X$4,Acompanhamento!I575,0)","v":0},null,0,null,0,null,0,null,0]
[null,null,null,null,null,null,null,null,null,{"$f":"IF(H576=Listas!$X$3,Acompanhamento!I576,0)","v":0},{"$f":"IF(H576=Listas!$X$4,Acompanhamento!I576,0)","v":0},null,0,null,0,null,0,null,0]
[null,null,null,null,null,null,null,null,null,{"$f":"IF(H577=Listas!$X$3,Acompanhamento!I577,0)","v":0},{"$f":"IF(H577=Listas!$X$4,Acompanhamento!I577,0)","v":0},null,0,null,0,null,0,null,0]
[null,null,null,null,null,null,null,null,null,{"$f":"IF(H578=Listas!$X$3,Acompanhamento!I578,0)","v":0},{"$f":"IF(H578=Listas!$X$4,Acompanhamento!I578,0)","v":0},null,0,null,0,null,0,null,0]
[null,null,null,null,null,null,null,null,null,{"$f":"IF(H579=Listas!$X$3,Acompanhamento!I579,0)","v":0},{"$f":"IF(H579=Listas!$X$4,Acompanhamento!I579,0)","v":0},null,0,null,0,null,0,null,0]
[null,null,null,null,null,null,null,null,null,{"$f":"IF(H580=Listas!$X$3,Acompanhamento!I580,0)","v":0},{"$f":"IF(H580=Listas!$X$4,Acompanhamento!I580,0)","v":0},null,0,null,0,null,0,null,0]
[null,null,null,null,null,null,null,null,null,{"$f":"IF(H581=Listas!$X$3,Acompanhamento!I581,0)","v":0},{"$f":"IF(H581=Listas!$X$4,Acompanhamento!I581,0)","v":0},null,0,null,0,null,0,null,0]
[null,null,null,null,null,null,null,null,null,{"$f":"IF(H582=Listas!$X$3,Acompanhamento!I582,0)","v":0},{"$f":"IF(H582=Listas!$X$4,Acompanhamento!I582,0)","v":0},null,0,null,0,null,0,null,0]
[null,null,null,null,null,null,null,null,null,{"$f":"IF(H583=Listas!$X$3,Acompanhamento!I583,0)","v":0},{"$f":"IF(H583=Listas!$X$4,Acompanhamento!I583,0)","v":0},null,0,null,0,null,0,null,0]
[null,null,null,null,null,null,null,null,null,{"$f":"IF(H584=Listas!$X$3,Acompanhamento!I584,0)","v":0},{"$f":"IF(H584=Listas!$X$4,Acompanhamento!I584,0)","v":0},null,0,null,0,null,0,null,0]
[null,null,null,null,null,null,null,null,null,{"$f":"IF(H585=Listas!$X$3,Acompanhamento!I585,0)","v":0},{"$f":"IF(H585=Listas!$X$4,Acompanhamento!I585,0)","v":0},null,0,null,0,null,0,null,0]
[null,null,null,null,null,null,null,null,null,{"$f":"IF(H586=Listas!$X$3,Acompanhamento!I586,0)","v":0},{"$f":"IF(H586=Listas!$X$4,Acompanhamento!I586,0)","v":0},null,{"$f":"J586-L586","v":0},null,{"$f":"M586-N586","v":0},null,{"$f":"O586-P586","v":0},null,{"$f":"Q586-R586","v":0}]
[null,null,null,null,null,null,null,null,null,{"$f":"IF(H587=Listas!$X$3,Acompanhamento!I587,0)","v":0},{"$f":"IF(H587=Listas!$X$4,Acompanhamento!I587,0)","v":0},null,0,null,0,null,0,null,0]
[null,null,null,null,null,null,null,null,null,{"$f":"IF(H588=Listas!$X$3,Acompanhamento!I588,0)","v":0},{"$f":"IF(H588=Listas!$X$4,Acompanhamento!I588,0)","v":0},null,0,null,0,null,0,null,0]
[null,null,null,null,null,null,null,null,null,{"$f":"IF(H589=Listas!$X$3,Acompanhamento!I589,0)","v":0},{"$f":"IF(H589=Listas!$X$4,Acompanhamento!I589,0)","v":0},null,0,null,0,null,0,null,0]
[null,null,null,null,null,null,null,null,null,{"$f":"IF(H590=Listas!$X$3,Acompanhamento!I590,0)","v":0},{"$f":"IF(H590=Listas!$X$4,Acompanhamento!I590,0)","v":0},null,0,null,0,null,0,null,0]
[null,null,null,null,null,null,null,null,null,{"$f":"IF(H591=Listas!$X$3,Acompanhamento!I591,0)","v":0},{"$f":"IF(H591=Listas!$X$4,Acompanhamento!I591,0)","v":0},null,0,null,0,null,0,null,0]
[null,null,null,null,null,null,null,null,null,{"$f":"IF(H592=Listas!$X$3,Acompanhamento!I592,0)","v":0},{"$f":"IF(H592=Listas!$X$4,Acompanhamento!I592,0)","v":0},null,0,null,0,null,0,null,0]
[null,null,null,null,null,null,null,null,null,{"$f":"IF(H593=Listas!$X$3,Acompanhamento!I593,0)","v":0},{"$f":"IF(H593=Listas!$X$4,Acompanhamento!I593,0)","v":0},null,0,null,0,null,0,null,0]
[null,null,null,null,null,null,null,null,null,{"$f":"IF(H594=Listas!$X$3,Acompanhamento!I594,0)","v":0},{"$f":"IF(H594=Listas!$X$4,Acompanhamento!I594,0)","v":0},null,0,null,0,null,0,null,0]
[null,null,null,null,null,null,null,null,null,{"$f":"IF(H595=Listas!$X$3,Acompanhamento!I595,0)","v":0},{"$f":"IF(H595=Listas!$X$4,Acompanhamento!I595,0)","v":0},null,0,null,0,null,0,null,0]
[null,null,null,null,null,null,null,null,null,{"$f":"IF(H596=Listas!$X$3,Acompanhamento!I596,0)","v":0},{"$f":"IF(H596=Listas!$X$4,Acompanhamento!I596,0)","v":0},null,0,null,0,null,0,null,0]
[null,null,null,null,null,null,null,null,null,{"$f":"IF(H597=Listas!$X$3,Acompanhamento!I597,0)","v":0},{"$f":"IF(H597=Listas!$X$4,Acompanhamento!I597,0)","v":0},null,0,null,0,null,0,null,0]
[null,null,null,null,null,null,null,null,null,{"$f":"IF(H598=Listas!$X$3,Acompanhamento!I598,0)","v":0},{"$f":"IF(H598=Listas!$X$4,Acompanhamento!I598,0)","v":0},null,0,null,0,null,0,null,0]
[null,null,null,null,null,null,null,null,null,{"$f":"IF(H599=Listas!$X$3,Acompanhamento!I599,0)","v":0},{"$f":"IF(H599=Listas!$X$4,Acompanhamento!I599,0)","v":0},null,0,null,0,null,0,null,0]
[null,null,null,null,null,null,null,null,null,{"$f":"IF(H600=Listas!$X$3,Acompanhamento!I600,0)","v":0},{"$f":"IF(H600=Listas!$X$4,Acompanhamento!I600,0)","v":0},null,0,null,0,null,0,null,0]
[null,null,null,null,null,null,null,null,null,{"$f":"IF(H601=Listas!$X$3,Acompanhamento!I601,0)","v":0},{"$f":"IF(H601=Listas!$X$4,Acompanhamento!I601,0)","v":0},null,0,null,0,null,0,null,0]
[null,null,null,null,null,null,null,null,null,{"$f":"IF(H602=Listas!$X$3,Acompanhamento!I602,0)","v":0},{"$f":"IF(H602=Listas!$X$4,Acompanhamento!I602,0)","v":0},null,0,null,0,null,0,null,0]
[null,null,null,null,null,null,null,null,null,{"$f":"IF(H603=Listas!$X$3,Acompanhamento!I603,0)","v":0},{"$f":"IF(H603=Listas!$X$4,Acompanhamento!I603,0)","v":0},null,0,null,0,null,0,null,0]
[null,null,null,null,null,null,null,null,null,{"$f":"IF(H604=Listas!$X$3,Acompanhamento!I604,0)","v":0},{"$f":"IF(H604=Listas!$X$4,Acompanhamento!I604,0)","v":0},null,0,null,0,null,0,null,0]
[null,null,null,null,null,null,null,null,null,{"$f":"IF(H605=Listas!$X$3,Acompanhamento!I605,0)","v":0},{"$f":"IF(H605=Listas!$X$4,Acompanhamento!I605,0)","v":0},null,0,null,0,null,0,null,0]
[null,null,null,null,null,null,null,null,null,{"$f":"IF(H606=Listas!$X$3,Acompanhamento!I606,0)","v":0},{"$f":"IF(H606=Listas!$X$4,Acompanhamento!I606,0)","v":0},null,0,null,0,null,0,null,0]
[null,null,null,null,null,null,null,null,null,{"$f":"IF(H607=Listas!$X$3,Acompanhamento!I607,0)","v":0},{"$f":"IF(H607=Listas!$X$4,Acompanhamento!I607,0)","v":0},null,0,null,0,null,0,null,0]
[null,null,null,null,null,null,null,null,null,{"$f":"IF(H608=Listas!$X$3,Acompanhamento!I608,0)","v":0},{"$f":"IF(H608=Listas!$X$4,Acompanhamento!I608,0)","v":0},null,0,null,0,null,0,null,0]
[null,null,null,null,null,null,null,null,null,{"$f":"IF(H609=Listas!$X$3,Acompanhamento!I609,0)","v":0},{"$f":"IF(H609=Listas!$X$4,Acompanhamento!I609,0)","v":0},null,0,null,0,null,0,null,0]
[null,null,null,null,null,null,null,null,null,{"$f":"IF(H610=Listas!$X$3,Acompanhamento!I610,0)","v":0},{"$f":"IF(H610=Listas!$X$4,Acompanhamento!I610,0)","v":0},null,0,null,0,null,0,null,0]
[null,null,null,null,null,null,null,null,null,{"$f":"IF(H611=Listas!$X$3,Acompanhamento!I611,0)","v":0},{"$f":"IF(H611=Listas!$X$4,Acompanhamento!I611,0)","v":0},null,0,null,0,null,0,null,0]
[null,null,null,null,null,null,null,null,null,{"$f":"IF(H612=Listas!$X$3,Acompanhamento!I612,0)","v":0},{"$f":"IF(H612=Listas!$X$4,Acompanhamento!I612,0)","v":0},null,0,null,0,null,0,null,0]
[null,null,null,null,null,null,null,null,null,{"$f":"IF(H613=Listas!$X$3,Acompanhamento!I613,0)","v":0},{"$f":"IF(H613=Listas!$X$4,Acompanhamento!I613,0)","v":0},null,0,null,0,null,0,null,0]
[null,null,null,null,null,null,null,null,null,{"$f":"IF(H614=Listas!$X$3,Acompanhamento!I614,0)","v":0},{"$f":"IF(H614=Listas!$X$4,Acompanhamento!I614,0)","v":0},null,0,null,0,null,0,null,0]
[null,null,null,null,null,null,null,null,null,{"$f":"IF(H615=Listas!$X$3,Acompanhamento!I615,0)","v":0},{"$f":"IF(H615=Listas!$X$4,Acompanhamento!I615,0)","v":0},null,0,null,0,null,0,null,0]
[null,null,null,null,null,null,null,null,null,{"$f":"IF(H616=Listas!$X$3,Acompanhamento!I616,0)","v":0},{"$f":"IF(H616=Listas!$X$4,Acompanhamento!I616,0)","v":0},null,0,null,0,null,0,null,0]
[null,null,null,null,null,null,null,null,null,{"$f":"IF(H617=Listas!$X$3,Acompanhamento!I617,0)","v":0},{"$f":"IF(H617=Listas!$X$4,Acompanhamento!I617,0)","v":0},null,0,null,0,null,0,null,0]
[null,null,null,null,null,null,null,null,null,{"$f":"IF(H618=Listas!$X$3,Acompanhamento!I618,0)","v":0},{"$f":"IF(H618=Listas!$X$4,Acompanhamento!I618,0)","v":0},null,0,null,0,null,0,null,0]
[null,null,null,null,null,null,null,null,null,{"$f":"IF(H619=Listas!$X$3,Acompanhamento!I619,0)","v":0},{"$f":"IF(H619=Listas!$X$4,Acompanhamento!I619,0)","v":0},null,0,null,0,null,0,null,0]
[null,null,null,null,null,null,null,null,null,{"$f":"IF(H620=Listas!$X$3,Acompanhamento!I620,0)","v":0},{"$f":"IF(H620=Listas!$X$4,Acompanhamento!I620,0)","v":0},null,0,null,0,null,0,null,0]
[null,null,null,null,null,null,null,null,null,{"$f":"IF(H621=Listas!$X$3,Acompanhamento!I621,0)","v":0},{"$f":"IF(H621=Listas!$X$4,Acompanhamento!I621,0)","v":0},null,0,null,0,null,0,null,0]
[null,null,null,null,null,null,null,null,null,{"$f":"IF(H622=Listas!$X$3,Acompanhamento!I622,0)","v":0},{"$f":"IF(H622=Listas!$X$4,Acompanhamento!I622,0)","v":0},null,0,null,0,null,0,null,0]
[null,null,null,null,null,null,null,null,null,{"$f":"IF(H623=Listas!$X$3,Acompanhamento!I623,0)","v":0},{"$f":"IF(H623=Listas!$X$4,Acompanhamento!I623,0)","v":0},null,0,null,0,null,0,null,0]
[null,null,null,null,null,null,null,null,null,{"$f":"IF(H624=Listas!$X$3,Acompanhamento!I624,0)","v":0},{"$f":"IF(H624=Listas!$X$4,Acompanhamento!I624,0)","v":0},null,0,null,0,null,0,null,0]
[null,null,null,null,null,null,null,null,null,{"$f":"IF(H625=Listas!$X$3,Acompanhamento!I625,0)","v":0},{"$f":"IF(H625=Listas!$X$4,Acompanhamento!I625,0)","v":0},null,0,null,0,null,0,null,0]
[null,null,null,null,null,null,null,null,null,{"$f":"IF(H626=Listas!$X$3,Acompanhamento!I626,0)","v":0},{"$f":"IF(H626=Listas!$X$4,Acompanhamento!I626,0)","v":0},null,0,null,0,null,0,null,0]
[null,null,null,null,null,null,null,null,null,{"$f":"IF(H627=Listas!$X$3,Acompanhamento!I627,0)","v":0},{"$f":"IF(H627=Listas!$X$4,Acompanhamento!I627,0)","v":0},null,0,null,0,null,0,null,0]
[null,null,null,null,null,null,null,null,null,{"$f":"IF(H628=Listas!$X$3,Acompanhamento!I628,0)","v":0},{"$f":"IF(H628=Listas!$X$4,Acompanhamento!I628,0)","v":0},null,0,null,0,null,0,null,0]
[null,null,null,null,null,null,null,null,null,{"$f":"IF(H629=Listas!$X$3,Acompanhamento!I629,0)","v":0},{"$f":"IF(H629=Listas!$X$4,Acompanhamento!I629,0)","v":0},null,0,null,0,null,0,null,0]
[null,null,null,null,null,null,null,null,null,{"$f":"IF(H630=Listas!$X$3,Acompanhamento!I630,0)","v":0},{"$f":"IF(H630=Listas!$X$4,Acompanhamento!I630,0)","v":0},null,0,null,0,null,0,null,0]
[null,null,null,null,null,null,null,null,null,{"$f":"IF(H631=Listas!$X$3,Acompanhamento!I631,0)","v":0},{"$f":"IF(H631=Listas!$X$4,Acompanhamento!I631,0)","v":0},null,0,null,0,null,0,null,0]
[null,null,null,null,null,null,null,null,null,{"$f":"IF(H632=Listas!$X$3,Acompanhamento!I632,0)","v":0},{"$f":"IF(H632=Listas!$X$4,Acompanhamento!I632,0)","v":0},null,0,null,0,null,0,null,0]
[null,null,null,null,null,null,null,null,null,{"$f":"IF(H633=Listas!$X$3,Acompanhamento!I633,0)","v":0},{"$f":"IF(H633=Listas!$X$4,Acompanhamento!I633,0)","v":0},null,0,null,0,null,0,null,0]
[null,null,null,null,null,null,null,null,null,{"$f":"IF(H634=Listas!$X$3,Acompanhamento!I634,0)","v":0},{"$f":"IF(H634=Listas!$X$4,Acompanhamento!I634,0)","v":0},null,0,null,0,null,0,null,0]
[null,null,null,null,null,null,null,null,null,{"$f":"IF(H635=Listas!$X$3,Acompanhamento!I635,0)","v":0},{"$f":"IF(H635=Listas!$X$4,Acompanhamento!I635,0)","v":0},null,0,null,0,null,0,null,0]
[null,null,null,null,null,null,null,null,null,{"$f":"IF(H636=Listas!$X$3,Acompanhamento!I636,0)","v":0},{"$f":"IF(H636=Listas!$X$4,Acompanhamento!I636,0)","v":0},null,0,null,0,null,0,null,0]
[null,null,null,null,null,null,null,null,null,{"$f":"IF(H637=Listas!$X$3,Acompanhamento!I637,0)","v":0},{"$f":"IF(H637=Listas!$X$4,Acompanhamento!I637,0)","v":0},null,0,null,0,null,0,null,0]
[null,null,null,null,null,null,null,null,null,{"$f":"IF(H638=Listas!$X$3,Acompanhamento!I638,0)","v":0},{"$f":"IF(H638=Listas!$X$4,Acompanhamento!I638,0)","v":0},null,0,null,0,null,0,null,0]
[null,null,null,null,null,null,null,null,null,{"$f":"IF(H639=Listas!$X$3,Acompanhamento!I639,0)","v":0},{"$f":"IF(H639=Listas!$X$4,Acompanhamento!I639,0)","v":0},null,0,null,0,null,0,null,0]
[null,null,null,null,null,null,null,null,null,{"$f":"IF(H640=Listas!$X$3,Acompanhamento!I640,0)","v":0},{"$f":"IF(H640=Listas!$X$4,Acompanhamento!I640,0)","v":0},null,0,null,0,null,0,null,0]
[null,null,null,null,null,null,null,null,null,{"$f":"IF(H641=Listas!$X$3,Acompanhamento!I641,0)","v":0},{"$f":"IF(H641=Listas!$X$4,Acompanhamento!I641,0)","v":0},null,0,null,0,null,0,null,0]
[null,null,null,null,null,null,null,null,null,{"$f":"IF(H642=Listas!$X$3,Acompanhamento!I642,0)","v":0},{"$f":"IF(H642=Listas!$X$4,Acompanhamento!I642,0)","v":0},null,0,null,0,null,0,null,0]
[null,null,null,null,null,null,null,null,null,{"$f":"IF(H643=Listas!$X$3,Acompanhamento!I643,0)","v":0},{"$f":"IF(H643=Listas!$X$4,Acompanhamento!I643,0)","v":0},null,0,null,0,null,0,null,0]
[null,null,null,null,null,null,null,null,null,{"$f":"IF(H644=Listas!$X$3,Acompanhamento!I644,0)","v":0},{"$f":"IF(H644=Listas!$X$4,Acompanhamento!I644,0)","v":0},null,0,null,0,null,0,null,0]
[null,null,null,null,null,null,null,null,null,{"$f":"IF(H645=Listas!$X$3,Acompanhamento!I645,0)","v":0},{"$f":"IF(H645=Listas!$X$4,Acompanhamento!I645,0)","v":0},null,0,null,0,null,0,null,0]
[null,null,null,null,null,null,null,null,null,{"$f":"IF(H646=Listas!$X$3,Acompanhamento!I646,0)","v":0},{"$f":"IF(H646=Listas!$X$4,Acompanhamento!I646,0)","v":0},null,0,null,0,null,0,null,0]
[null,null,null,null,null,null,null,null,null,{"$f":"IF(H647=Listas!$X$3,Acompanhamento!I647,0)","v":0},{"$f":"IF(H647=Listas!$X$4,Acompanhamento!I647,0)","v":0},null,0,null,0,null,0,null,0]
[null,null,null,null,null,null,null,null,null,{"$f":"IF(H648=Listas!$X$3,Acompanhamento!I648,0)","v":0},{"$f":"IF(H648=Listas!$X$4,Acompanhamento!I648,0)","v":0},null,0,null,0,null,0,null,0]
[null,null,null,null,null,null,null,null,null,{"$f":"IF(H649=Listas!$X$3,Acompanhamento!I649,0)","v":0},{"$f":"IF(H649=Listas!$X$4,Acompanhamento!I649,0)","v":0},null,0,null,0,null,0,null,0]
[null,null,null,null,null,null,null,null,null,{"$f":"IF(H650=Listas!$X$3,Acompanhamento!I650,0)","v":0},{"$f":"IF(H650=Listas!$X$4,Acompanhamento!I650,0)","v":0},null,{"$f":"J650-L650","v":0},null,{"$f":"M650-N650","v":0},null,{"$f":"O650-P650","v":0},null,{"$f":"Q650-R650","v":0}]
[null,null,null,null,null,null,null,null,null,{"$f":"IF(H651=Listas!$X$3,Acompanhamento!I651,0)","v":0},{"$f":"IF(H651=Listas!$X$4,Acompanhamento!I651,0)","v":0},null,0,null,0,null,0,null,0]
[null,null,null,null,null,null,null,null,null,{"$f":"IF(H652=Listas!$X$3,Acompanhamento!I652,0)","v":0},{"$f":"IF(H652=Listas!$X$4,Acompanhamento!I652,0)","v":0},null,0,null,0,null,0,null,0]
[null,null,null,null,null,null,null,null,null,{"$f":"IF(H653=Listas!$X$3,Acompanhamento!I653,0)","v":0},{"$f":"IF(H653=Listas!$X$4,Acompanhamento!I653,0)","v":0},null,0,null,0,null,0,null,0]
[null,null,null,null,null,null,null,null,null,{"$f":"IF(H654=Listas!$X$3,Acompanhamento!I654,0)","v":0},{"$f":"IF(H654=Listas!$X$4,Acompanhamento!I654,0)","v":0},null,0,null,0,null,0,null,0]
[null,null,null,null,null,null,null,null,null,{"$f":"IF(H655=Listas!$X$3,Acompanhamento!I655,0)","v":0},{"$f":"IF(H655=Listas!$X$4,Acompanhamento!I655,0)","v":0},null,0,null,0,null,0,null,0]
[null,null,null,null,null,null,null,null,null,{"$f":"IF(H656=Listas!$X$3,Acompanhamento!I656,0)","v":0},{"$f":"IF(H656=Listas!$X$4,Acompanhamento!I656,0)","v":0},null,0,null,0,null,0,null,0]
[null,null,null,null,null,null,null,null,null,{"$f":"IF(H657=Listas!$X$3,Acompanhamento!I657,0)","v":0},{"$f":"IF(H657=Listas!$X$4,Acompanhamento!I657,0)","v":0},null,0,null,0,null,0,null,0]
[null,null,null,null,null,null,null,null,null,{"$f":"IF(H658=Listas!$X$3,Acompanhamento!I658,0)","v":0},{"$f":"IF(H658=Listas!$X$4,Acompanhamento!I658,0)","v":0},null,0,null,0,null,0,null,0]
[null,null,null,null,null,null,null,null,null,{"$f":"IF(H659=Listas!$X$3,Acompanhamento!I659,0)","v":0},{"$f":"IF(H659=Listas!$X$4,Acompanhamento!I659,0)","v":0},null,0,null,0,null,0,null,0]
[null,null,null,null,null,null,null,null,null,{"$f":"IF(H660=Listas!$X$3,Acompanhamento!I660,0)","v":0},{"$f":"IF(H660=Listas!$X$4,Acompanhamento!I660,0)","v":0},null,0,null,0,null,0,null,0]
[null,null,null,null,null,null,null,null,null,{"$f":"IF(H661=Listas!$X$3,Acompanhamento!I661,0)","v":0},{"$f":"IF(H661=Listas!$X$4,Acompanhamento!I661,0)","v":0},null,0,null,0,null,0,null,0]
[null,null,null,null,null,null,null,null,null,{"$f":"IF(H662=Listas!$X$3,Acompanhamento!I662,0)","v":0},{"$f":"IF(H662=Listas!$X$4,Acompanhamento!I662,0)","v":0},null,0,null,0,null,0,null,0]
[null,null,null,null,null,null,null,null,null,{"$f":"IF(H663=Listas!$X$3,Acompanhamento!I663,0)","v":0},{"$f":"IF(H663=Listas!$X$4,Acompanhamento!I663,0)","v":0},null,0,null,0,null,0,null,0]
[null,null,null,null,null,null,null,null,null,{"$f":"IF(H664=Listas!$X$3,Acompanhamento!I664,0)","v":0},{"$f":"IF(H664=Listas!$X$4,Acompanhamento!I664,0)","v":0},null,0,null,0,null,0,null,0]
[null,null,null,null,null,null,null,null,null,{"$f":"IF(H665=Listas!$X$3,Acompanhamento!I665,0)","v":0},{"$f":"IF(H665=Listas!$X$4,Acompanhamento!I665,0)","v":0},null,0,null,0,null,0,null,0]
[null,null,null,null,null,null,null,null,null,{"$f":"IF(H666=Listas!$X$3,Acompanhamento!I666,0)","v":0},{"$f":"IF(H666=Listas!$X$4,Acompanhamento!I666,0)","v":0},null,0,null,0,null,0,null,0]
[null,null,null,null,null,null,null,null,null,{"$f":"IF(H667=Listas!$X$3,Acompanhamento!I667,0)","v":0},{"$f":"IF(H667=Listas!$X$4,Acompanhamento!I667,0)","v":0},null,0,null,0,null,0,null,0]
[null,null,null,null,null,null,null,null,null,{"$f":"IF(H668=Listas!$X$3,Acompanhamento!I668,0)","v":0},{"$f":"IF(H668=Listas!$X$4,Acompanhamento!I668,0)","v":0},null,0,null,0,null,0,null,0]
[null,null,null,null,null,null,null,null,null,{"$f":"IF(H669=Listas!$X$3,Acompanhamento!I669,0)","v":0},{"$f":"IF(H669=Listas!$X$4,Acompanhamento!I669,0)","v":0},null,0,null,0,null,0,null,0]
[null,null,null,null,null,null,null,null,null,{"$f":"IF(H670=Listas!$X$3,Acompanhamento!I670,0)","v":0},{"$f":"IF(H670=Listas!$X$4,Acompanhamento!I670,0)","v":0},null,0,null,0,null,0,null,0]
[null,null,null,null,null,null,null,null,null,{"$f":"IF(H671=Listas!$X$3,Acompanhamento!I671,0)","v":0},{"$f":"IF(H671=Listas!$X$4,Acompanhamento!I671,0)","v":0},null,0,null,0,null,0,null,0]
[null,null,null,null,null,null,null,null,null,{"$f":"IF(H672=Listas!$X$3,Acompanhamento!I672,0)","v":0},{"$f":"IF(H672=Listas!$X$4,Acompanhamento!I672,0)","v":0},null,0,null,0,null,0,null,0]
[null,null,null,null,null,null,null,null,null,{"$f":"IF(H673=Listas!$X$3,Acompanhamento!I673,0)","v":0},{"$f":"IF(H673=Listas!$X$4,Acompanhamento!I673,0)","v":0},null,0,null,0,null,0,null,0]
[null,null,null,null,null,null,null,null,null,{"$f":"IF(H674=Listas!$X$3,Acompanhamento!I674,0)","v":0},{"$f":"IF(H674=Listas!$X$4,Acompanhamento!I674,0)","v":0},null,0,null,0,null,0,null,0]
[null,null,null,null,null,null,null,null,null,{"$f":"IF(H675=Listas!$X$3,Acompanhamento!I675,0)","v":0},{"$f":"IF(H675=Listas!$X$4,Acompanhamento!I675,0)","v":0},null,0,null,0,null,0,null,0]
[null,null,null,null,null,null,null,null,null,{"$f":"IF(H676=Listas!$X$3,Acompanhamento!I676,0)","v":0},{"$f":"IF(H676=Listas!$X$4,Acompanhamento!I676,0)","v":0},null,0,null,0,null,0,null,0]
[null,null,null,null,null,null,null,null,null,{"$f":"IF(H677=Listas!$X$3,Acompanhamento!I677,0)","v":0},{"$f":"IF(H677=Listas!$X$4,Acompanhamento!I677,0)","v":0},null,0,null,0,null,0,null,0]
[null,null,null,null,null,null,null,null,null,{"$f":"IF(H678=Listas!$X$3,Acompanhamento!I678,0)","v":0},{"$f":"IF(H678=Listas!$X$4,Acompanhamento!I678,0)","v":0},null,0,null,0,null,0,null,0]
[null,null,null,null,null,null,null,null,null,{"$f":"IF(H679=Listas!$X$3,Acompanhamento!I679,0)","v":0},{"$f":"IF(H679=Listas!$X$4,Acompanhamento!I679,0)","v":0},null,0,null,0,null,0,null,0]
[null,null,null,null,null,null,null,null,null,{"$f":"IF(H680=Listas!$X$3,Acompanhamento!I680,0)","v":0},{"$f":"IF(H680=Listas!$X$4,Acompanhamento!I680,0)","v":0},null,0,null,0,null,0,null,0]
[null,null,null,null,null,null,null,null,null,{"$f":"IF(H681=Listas!$X$3,Acompanhamento!I681,0)","v":0},{"$f":"IF(H681=Listas!$X$4,Acompanhamento!I681,0)","v":0},null,0,null,0,null,0,null,0]
[null,null,null,null,null,null,null,null,null,{"$f":"IF(H682=Listas!$X$3,Acompanhamento!I682,0)","v":0},{"$f":"IF(H682=Listas!$X$4,Acompanhamento!I682,0)","v":0},null,0,null,0,null,0,null,0]
[null,null,null,null,null,null,null,null,null,{"$f":"IF(H683=Listas!$X$3,Acompanhamento!I683,0)","v":0},{"$f":"IF(H683=Listas!$X$4,Acompanhamento!I683,0)","v":0},null,0,null,0,null,0,null,0]
[null,null,null,null,null,null,null,null,null,{"$f":"IF(H684=Listas!$X$3,Acompanhamento!I684,0)","v":0},{"$f":"IF(H684=Listas!$X$4,Acompanhamento!I684,0)","v":0},null,0,null,0,null,0,null,0]
[null,null,null,null,null,null,null,null,null,{"$f":"IF(H685=Listas!$X$3,Acompanhamento!I685,0)","v":0},{"$f":"IF(H685=Listas!$X$4,Acompanhamento!I685,0)","v":0},null,0,null,0,null,0,null,0]
[null,null,null,null,null,null,null,null,null,{"$f":"IF(H686=Listas!$X$3,Acompanhamento!I686,0)","v":0},{"$f":"IF(H686=Listas!$X$4,Acompanhamento!I686,0)","v":0},null,0,null,0,null,0,null,0]
[null,null,null,null,null,null,null,null,null,{"$f":"IF(H687=Listas!$X$3,Acompanhamento!I687,0)","v":0},{"$f":"IF(H687=Listas!$X$4,Acompanhamento!I687,0)","v":0},null,0,null,0,null,0,null,0]
[null,null,null,null,null,null,null,null,null,{"$f":"IF(H688=Listas!$X$3,Acompanhamento!I688,0)","v":0},{"$f":"IF(H688=Listas!$X$4,Acompanhamento!I688,0)","v":0},null,0,null,0,null,0,null,0]
[null,null,null,null,null,null,null,null,null,{"$f":"IF(H689=Listas!$X$3,Acompanhamento!I689,0)","v":0},{"$f":"IF(H689=Listas!$X$4,Acompanhamento!I689,0)","v":0},null,0,null,0,null,0,null,0]
[null,null,null,null,null,null,null,null,null,{"$f":"IF(H690=Listas!$X$3,Acompanhamento!I690,0)","v":0},{"$f":"IF(H690=Listas!$X$4,Acompanhamento!I690,0)","v":0},null,0,null,0,null,0,null,0]
[null,null,null,null,null,null,null,null,null,{"$f":"IF(H691=Listas!$X$3,Acompanhamento!I691,0)","v":0},{"$f":"IF(H691=Listas!$X$4,Acompanhamento!I691,0)","v":0},null,0,null,0,null,0,null,0]
[null,null,null,null,null,null,null,null,null,{"$f":"IF(H692=Listas!$X$3,Acompanhamento!I692,0)","v":0},{"$f":"IF(H692=Listas!$X$4,Acompanhamento!I692,0)","v":0},null,0,null,0,null,0,null,0]
[null,null,null,null,null,null,null,null,null,{"$f":"IF(H693=Listas!$X$3,Acompanhamento!I693,0)","v":0},{"$f":"IF(H693=Listas!$X$4,Acompanhamento!I693,0)","v":0},null,0,null,0,null,0,null,0]
[null,null,null,null,null,null,null,null,null,{"$f":"IF(H694=Listas!$X$3,Acompanhamento!I694,0)","v":0},{"$f":"IF(H694=Listas!$X$4,Acompanhamento!I694,0)","v":0},null,0,null,0,null,0,null,0]
[null,null,null,null,null,null,null,null,null,{"$f":"IF(H695=Listas!$X$3,Acompanhamento!I695,0)","v":0},{"$f":"IF(H695=Listas!$X$4,Acompanhamento!I695,0)","v":0},null,0,null,0,null,0,null,0]
[null,null,null,null,null,null,null,null,null,{"$f":"IF(H696=Listas!$X$3,Acompanhamento!I696,0)","v":0},{"$f":"IF(H696=Listas!$X$4,Acompanhamento!I696,0)","v":0},null,0,null,0,null,0,null,0]
[null,null,null,null,null,null,null,null,null,{"$f":"IF(H697=Listas!$X$3,Acompanhamento!I697,0)","v":0},{"$f":"IF(H697=Listas!$X$4,Acompanhamento!I697,0)","v":0},null,0,null,0,null,0,null,0]
[null,null,null,null,null,null,null,null,null,{"$f":"IF(H698=Listas!$X$3,Acompanhamento!I698,0)","v":0},{"$f":"IF(H698=Listas!$X$4,Acompanhamento!I698,0)","v":0},null,0,null,0,null,0,null,0]
[null,null,null,null,null,null,null,null,null,{"$f":"IF(H699=Listas!$X$3,Acompanhamento!I699,0)","v":0},{"$f":"IF(H699=Listas!$X$4,Acompanhamento!I699,0)","v":0},null,0,null,0,null,0,null,0]
[null,null,null,null,null,null,null,null,null,{"$f":"IF(H700=Listas!$X$3,Acompanhamento!I700,0)","v":0},{"$f":"IF(H700=Listas!$X$4,Acompanhamento!I700,0)","v":0},null,0,null,0,null,0,null,0]
[null,null,null,null,null,null,null,null,null,{"$f":"IF(H701=Listas!$X$3,Acompanhamento!I701,0)","v":0},{"$f":"IF(H701=Listas!$X$4,Acompanhamento!I701,0)","v":0},null,0,null,0,null,0,null,0]
[null,null,null,null,null,null,null,null,null,{"$f":"IF(H702=Listas!$X$3,Acompanhamento!I702,0)","v":0},{"$f":"IF(H702=Listas!$X$4,Acompanhamento!I702,0)","v":0},null,0,null,0,null,0,null,0]
[null,null,null,null,null,null,null,null,null,{"$f":"IF(H703=Listas!$X$3,Acompanhamento!I703,0)","v":0},{"$f":"IF(H703=Listas!$X$4,Acompanhamento!I703,0)","v":0},null,0,null,0,null,0,null,0]
[null,null,null,null,null,null,null,null,null,{"$f":"IF(H704=Listas!$X$3,Acompanhamento!I704,0)","v":0},{"$f":"IF(H704=Listas!$X$4,Acompanhamento!I704,0)","v":0},null,0,null,0,null,0,null,0]
[null,null,null,null,null,null,null,null,null,{"$f":"IF(H705=Listas!$X$3,Acompanhamento!I705,0)","v":0},{"$f":"IF(H705=Listas!$X$4,Acompanhamento!I705,0)","v":0},null,0,null,0,null,0,null,0]
[null,null,null,null,null,null,null,null,null,{"$f":"IF(H706=Listas!$X$3,Acompanhamento!I706,0)","v":0},{"$f":"IF(H706=Listas!$X$4,Acompanhamento!I706,0)","v":0},null,0,null,0,null,0,null,0]
[null,null,null,null,null,null,null,null,null,{"$f":"IF(H707=Listas!$X$3,Acompanhamento!I707,0)","v":0},{"$f":"IF(H707=Listas!$X$4,Acompanhamento!I707,0)","v":0},null,0,null,0,null,0,null,0]
[null,null,null,null,null,null,null,null,null,{"$f":"IF(H708=Listas!$X$3,Acompanhamento!I708,0)","v":0},{"$f":"IF(H708=Listas!$X$4,Acompanhamento!I708,0)","v":0},null,0,null,0,null,0,null,0]
[null,null,null,null,null,null,null,null,null,{"$f":"IF(H709=Listas!$X$3,Acompanhamento!I709,0)","v":0},{"$f":"IF(H709=Listas!$X$4,Acompanhamento!I709,0)","v":0},null,0,null,0,null,0,null,0]
[null,null,null,null,null,null,null,null,null,{"$f":"IF(H710=Listas!$X$3,Acompanhamento!I710,0)","v":0},{"$f":"IF(H710=Listas!$X$4,Acompanhamento!I710,0)","v":0},null,0,null,0,null,0,null,0]
[null,null,null,null,null,null,null,null,null,{"$f":"IF(H711=Listas!$X$3,Acompanhamento!I711,0)","v":0},{"$f":"IF(H711=Listas!$X$4,Acompanhamento!I711,0)","v":0},null,0,null,0,null,0,null,0]
[null,null,null,null,null,null,null,null,null,{"$f":"IF(H712=Listas!$X$3,Acompanhamento!I712,0)","v":0},{"$f":"IF(H712=Listas!$X$4,Acompanhamento!I712,0)","v":0},null,0,null,0,null,0,null,0]
[null,null,null,null,null,null,null,null,null,{"$f":"IF(H713=Listas!$X$3,Acompanhamento!I713,0)","v":0},{"$f":"IF(H713=Listas!$X$4,Acompanhamento!I713,0)","v":0},null,0,null,0,null,0,null,0]
[null,null,null,null,null,null,null,null,null,{"$f":"IF(H714=Listas!$X$3,Acompanhamento!I714,0)","v":0},{"$f":"IF(H714=Listas!$X$4,Acompanhamento!I714,0)","v":0},null,{"$f":"J714-L714","v":0},null,{"$f":"M714-N714","v":0},null,{"$f":"O714-P714","v":0},null,{"$f":"Q714-R714","v":0}]
[null,null,null,null,null,null,null,null,null,{"$f":"IF(H715=Listas!$X$3,Acompanhamento!I715,0)","v":0},{"$f":"IF(H715=Listas!$X$4,Acompanhamento!I715,0)","v":0},null,0,null,0,null,0,null,0]
[null,null,null,null,null,null,null,null,null,{"$f":"IF(H716=Listas!$X$3,Acompanhamento!I716,0)","v":0},{"$f":"IF(H716=Listas!$X$4,Acompanhamento!I716,0)","v":0},null,0,null,0,null,0,null,0]
[null,null,null,null,null,null,null,null,null,{"$f":"IF(H717=Listas!$X$3,Acompanhamento!I717,0)","v":0},{"$f":"IF(H717=Listas!$X$4,Acompanhamento!I717,0)","v":0},null,0,null,0,null,0,null,0]
[null,null,null,null,null,null,null,null,null,{"$f":"IF(H718=Listas!$X$3,Acompanhamento!I718,0)","v":0},{"$f":"IF(H718=Listas!$X$4,Acompanhamento!I718,0)","v":0},null,0,null,0,null,0,null,0]
[null,null,null,null,null,null,null,null,null,{"$f":"IF(H719=Listas!$X$3,Acompanhamento!I719,0)","v":0},{"$f":"IF(H719=Listas!$X$4,Acompanhamento!I719,0)","v":0},null,0,null,0,null,0,null,0]
[null,null,null,null,null,null,null,null,null,{"$f":"IF(H720=Listas!$X$3,Acompanhamento!I720,0)","v":0},{"$f":"IF(H720=Listas!$X$4,Acompanhamento!I720,0)","v":0},null,0,null,0,null,0,null,0]
[null,null,null,null,null,null,null,null,null,{"$f":"IF(H721=Listas!$X$3,Acompanhamento!I721,0)","v":0},{"$f":"IF(H721=Listas!$X$4,Acompanhamento!I721,0)","v":0},null,0,null,0,null,0,null,0]
[null,null,null,null,null,null,null,null,null,{"$f":"IF(H722=Listas!$X$3,Acompanhamento!I722,0)","v":0},{"$f":"IF(H722=Listas!$X$4,Acompanhamento!I722,0)","v":0},null,0,null,0,null,0,null,0]
[null,null,null,null,null,null,null,null,null,{"$f":"IF(H723=Listas!$X$3,Acompanhamento!I723,0)","v":0},{"$f":"IF(H723=Listas!$X$4,Acompanhamento!I723,0)","v":0},null,0,null,0,null,0,null,0]
[null,null,null,null,null,null,null,null,null,{"$f":"IF(H724=Listas!$X$3,Acompanhamento!I724,0)","v":0},{"$f":"IF(H724=Listas!$X$4,Acompanhamento!I724,0)","v":0},null,0,null,0,null,0,null,0]
[null,null,null,null,null,null,null,null,null,{"$f":"IF(H725=Listas!$X$3,Acompanhamento!I725,0)","v":0},{"$f":"IF(H725=Listas!$X$4,Acompanhamento!I725,0)","v":0},null,0,null,0,null,0,null,0]
[null,null,null,null,null,null,null,null,null,{"$f":"IF(H726=Listas!$X$3,Acompanhamento!I726,0)","v":0},{"$f":"IF(H726=Listas!$X$4,Acompanhamento!I726,0)","v":0},null,0,null,0,null,0,null,0]
[null,null,null,null,null,null,null,null,null,{"$f":"IF(H727=Listas!$X$3,Acompanhamento!I727,0)","v":0},{"$f":"IF(H727=Listas!$X$4,Acompanhamento!I727,0)","v":0},null,0,null,0,null,0,null,0]
[null,null,null,null,null,null,null,null,null,{"$f":"IF(H728=Listas!$X$3,Acompanhamento!I728,0)","v":0},{"$f":"IF(H728=Listas!$X$4,Acompanhamento!I728,0)","v":0},null,0,null,0,null,0,null,0]
[null,null,null,null,null,null,null,null,null,{"$f":"IF(H729=Listas!$X$3,Acompanhamento!I729,0)","v":0},{"$f":"IF(H729=Listas!$X$4,Acompanhamento!I729,0)","v":0},null,0,null,0,null,0,null,0]
[null,null,null,null,null,null,null,null,null,{"$f":"IF(H730=Listas!$X$3,Acompanhamento!I730,0)","v":0},{"$f":"IF(H730=Listas!$X$4,Acompanhamento!I730,0)","v":0},null,0,null,0,null,0,null,0]
[null,null,null,null,null,null,null,null,null,{"$f":"IF(H731=Listas!$X$3,Acompanhamento!I731,0)","v":0},{"$f":"IF(H731=Listas!$X$4,Acompanhamento!I731,0)","v":0},null,0,null,0,null,0,null,0]
[null,null,null,null,null,null,null,null,null,{"$f":"IF(H732=Listas!$X$3,Acompanhamento!I732,0)","v":0},{"$f":"IF(H732=Listas!$X$4,Acompanhamento!I732,0)","v":0},null,0,null,0,null,0,null,0]
[null,null,null,null,null,null,null,null,null,{"$f":"IF(H733=Listas!$X$3,Acompanhamento!I733,0)","v":0},{"$f":"IF(H733=Listas!$X$4,Acompanhamento!I733,0)","v":0},null,0,null,0,null,0,null,0]
[null,null,null,null,null,null,null,null,null,{"$f":"IF(H734=Listas!$X$3,Acompanhamento!I734,0)","v":0},{"$f":"IF(H734=Listas!$X$4,Acompanhamento!I734,0)","v":0},null,0,null,0,null,0,null,0]
[null,null,null,null,null,null,null,null,null,{"$f":"IF(H735=Listas!$X$3,Acompanhamento!I735,0)","v":0},{"$f":"IF(H735=Listas!$X$4,Acompanhamento!I735,0)","v":0},null,0,null,0,null,0,null,0]
[null,null,null,null,null,null,null,null,null,{"$f":"IF(H736=Listas!$X$3,Acompanhamento!I736,0)","v":0},{"$f":"IF(H736=Listas!$X$4,Acompanhamento!I736,0)","v":0},null,0,null,0,null,0,null,0]
[null,null,null,null,null,null,null,null,null,{"$f":"IF(H737=Listas!$X$3,Acompanhamento!I737,0)","v":0},{"$f":"IF(H737=Listas!$X$4,Acompanhamento!I737,0)","v":0},null,0,null,0,null,0,null,0]
[null,null,null,null,null,null,null,null,null,{"$f":"IF(H738=Listas!$X$3,Acompanhamento!I738,0)","v":0},{"$f":"IF(H738=Listas!$X$4,Acompanhamento!I738,0)","v":0},null,0,null,0,null,0,null,0]
[null,null,null,null,null,null,null,null,null,{"$f":"IF(H739=Listas!$X$3,Acompanhamento!I739,0)","v":0},{"$f":"IF(H739=Listas!$X$4,Acompanhamento!I739,0)","v":0},null,0,null,0,null,0,null,0]
[null,null,null,null,null,null,null,null,null,{"$f":"IF(H740=Listas!$X$3,Acompanhamento!I740,0)","v":0},{"$f":"IF(H740=Listas!$X$4,Acompanhamento!I740,0)","v":0},null,0,null,0,null,0,null,0]
[null,null,null,null,null,null,null,null,null,{"$f":"IF(H741=Listas!$X$3,Acompanhamento!I741,0)","v":0},{"$f":"IF(H741=Listas!$X$4,Acompanhamento!I741,0)","v":0},null,0,null,0,null,0,null,0]
[null,null,null,null,null,null,null,null,null,{"$f":"IF(H742=Listas!$X$3,Acompanhamento!I742,0)","v":0},{"$f":"IF(H742=Listas!$X$4,Acompanhamento!I742,0)","v":0},null,0,null,0,null,0,null,0]
[null,null,null,null,null,null,null,null,null,{"$f":"IF(H743=Listas!$X$3,Acompanhamento!I743,0)","v":0},{"$f":"IF(H743=Listas!$X$4,Acompanhamento!I743,0)","v":0},null,0,null,0,null,0,null,0]
[null,null,null,null,null,null,null,null,null,{"$f":"IF(H744=Listas!$X$3,Acompanhamento!I744,0)","v":0},{"$f":"IF(H744=Listas!$X$4,Acompanhamento!I744,0)","v":0},null,0,null,0,null,0,null,0]
[null,null,null,null,null,null,null,null,null,{"$f":"IF(H745=Listas!$X$3,Acompanhamento!I745,0)","v":0},{"$f":"IF(H745=Listas!$X$4,Acompanhamento!I745,0)","v":0},null,0,null,0,null,0,null,0]
[null,null,null,null,null,null,null,null,null,{"$f":"IF(H746=Listas!$X$3,Acompanhamento!I746,0)","v":0},{"$f":"IF(H746=Listas!$X$4,Acompanhamento!I746,0)","v":0},null,0,null,0,null,0,null,0]
[null,null,null,null,null,null,null,null,null,{"$f":"IF(H747=Listas!$X$3,Acompanhamento!I747,0)","v":0},{"$f":"IF(H747=Listas!$X$4,Acompanhamento!I747,0)","v":0},null,0,null,0,null,0,null,0]
[null,null,null,null,null,null,null,null,null,{"$f":"IF(H748=Listas!$X$3,Acompanhamento!I748,0)","v":0},{"$f":"IF(H748=Listas!$X$4,Acompanhamento!I748,0)","v":0},null,0,null,0,null,0,null,0]
[null,null,null,null,null,null,null,null,null,{"$f":"IF(H749=Listas!$X$3,Acompanhamento!I749,0)","v":0},{"$f":"IF(H749=Listas!$X$4,Acompanhamento!I749,0)","v":0},null,0,null,0,null,0,null,0]
[null,null,null,null,null,null,null,null,null,{"$f":"IF(H750=Listas!$X$3,Acompanhamento!I750,0)","v":0},{"$f":"IF(H750=Listas!$X$4,Acompanhamento!I750,0)","v":0},null,0,null,0,null,0,null,0]
[null,null,null,null,null,null,null,null,null,{"$f":"IF(H751=Listas!$X$3,Acompanhamento!I751,0)","v":0},{"$f":"IF(H751=Listas!$X$4,Acompanhamento!I751,0)","v":0},null,0,null,0,null,0,null,0]
[null,null,null,null,null,null,null,null,null,{"$f":"IF(H752=Listas!$X$3,Acompanhamento!I752,0)","v":0},{"$f":"IF(H752=Listas!$X$4,Acompanhamento!I752,0)","v":0},null,0,null,0,null,0,null,0]
[null,null,null,null,null,null,null,null,null,{"$f":"IF(H753=Listas!$X$3,Acompanhamento!I753,0)","v":0},{"$f":"IF(H753=Listas!$X$4,Acompanhamento!I753,0)","v":0},null,0,null,0,null,0,null,0]
[null,null,null,null,null,null,null,null,null,{"$f":"IF(H754=Listas!$X$3,Acompanhamento!I754,0)","v":0},{"$f":"IF(H754=Listas!$X$4,Acompanhamento!I754,0)","v":0},null,0,null,0,null,0,null,0]
[null,null,null,null,null,null,null,null,null,{"$f":"IF(H755=Listas!$X$3,Acompanhamento!I755,0)","v":0},{"$f":"IF(H755=Listas!$X$4,Acompanhamento!I755,0)","v":0},null,0,null,0,null,0,null,0]
[null,null,null,null,null,null,null,null,null,{"$f":"IF(H756=Listas!$X$3,Acompanhamento!I756,0)","v":0},{"$f":"IF(H756=Listas!$X$4,Acompanhamento!I756,0)","v":0},null,0,null,0,null,0,null,0]
[null,null,null,null,null,null,null,null,null,{"$f":"IF(H757=Listas!$X$3,Acompanhamento!I757,0)","v":0},{"$f":"IF(H757=Listas!$X$4,Acompanhamento!I757,0)","v":0},null,0,null,0,null,0,null,0]
[null,null,null,null,null,null,null,null,null,{"$f":"IF(H758=Listas!$X$3,Acompanhamento!I758,0)","v":0},{"$f":"IF(H758=Listas!$X$4,Acompanhamento!I758,0)","v":0},null,0,null,0,null,0,null,0]
[null,null,null,null,null,null,null,null,null,{"$f":"IF(H759=Listas!$X$3,Acompanhamento!I759,0)","v":0},{"$f":"IF(H759=Listas!$X$4,Acompanhamento!I759,0)","v":0},null,0,null,0,null,0,null,0]
[null,null,null,null,null,null,null,null,null,{"$f":"IF(H760=Listas!$X$3,Acompanhamento!I760,0)","v":0},{"$f":"IF(H760=Listas!$X$4,Acompanhamento!I760,0)","v":0},null,0,null,0,null,0,null,0]
[null,null,null,null,null,null,null,null,null,{"$f":"IF(H761=Listas!$X$3,Acompanhamento!I761,0)","v":0},{"$f":"IF(H761=Listas!$X$4,Acompanhamento!I761,0)","v":0},null,0,null,0,null,0,null,0]
[null,null,null,null,null,null,null,null,null,{"$f":"IF(H762=Listas!$X$3,Acompanhamento!I762,0)","v":0},{"$f":"IF(H762=Listas!$X$4,Acompanhamento!I762,0)","v":0},null,0,null,0,null,0,null,0]
[null,null,null,null,null,null,null,null,null,{"$f":"IF(H763=Listas!$X$3,Acompanhamento!I763,0)","v":0},{"$f":"IF(H763=Listas!$X$4,Acompanhamento!I763,0)","v":0},null,0,null,0,null,0,null,0]
[null,null,null,null,null,null,null,null,null,{"$f":"IF(H764=Listas!$X$3,Acompanhamento!I764,0)","v":0},{"$f":"IF(H764=Listas!$X$4,Acompanhamento!I764,0)","v":0},null,0,null,0,null,0,null,0]
[null,null,null,null,null,null,null,null,null,{"$f":"IF(H765=Listas!$X$3,Acompanhamento!I765,0)","v":0},{"$f":"IF(H765=Listas!$X$4,Acompanhamento!I765,0)","v":0},null,0,null,0,null,0,null,0]
[null,null,null,null,null,null,null,null,null,{"$f":"IF(H766=Listas!$X$3,Acompanhamento!I766,0)","v":0},{"$f":"IF(H766=Listas!$X$4,Acompanhamento!I766,0)","v":0},null,0,null,0,null,0,null,0]
[null,null,null,null,null,null,null,null,null,{"$f":"IF(H767=Listas!$X$3,Acompanhamento!I767,0)","v":0},{"$f":"IF(H767=Listas!$X$4,Acompanhamento!I767,0)","v":0},null,0,null,0,null,0,null,0]
[null,null,null,null,null,null,null,null,null,{"$f":"IF(H768=Listas!$X$3,Acompanhamento!I768,0)","v":0},{"$f":"IF(H768=Listas!$X$4,Acompanhamento!I768,0)","v":0},null,0,null,0,null,0,null,0]
[null,null,null,null,null,null,null,null,null,{"$f":"IF(H769=Listas!$X$3,Acompanhamento!I769,0)","v":0},{"$f":"IF(H769=Listas!$X$4,Acompanhamento!I769,0)","v":0},null,0,null,0,null,0,null,0]
[null,null,null,null,null,null,null,null,null,{"$f":"IF(H770=Listas!$X$3,Acompanhamento!I770,0)","v":0},{"$f":"IF(H770=Listas!$X$4,Acompanhamento!I770,0)","v":0},null,0,null,0,null,0,null,0]
[null,null,null,null,null,null,null,null,null,{"$f":"IF(H771=Listas!$X$3,Acompanhamento!I771,0)","v":0},{"$f":"IF(H771=Listas!$X$4,Acompanhamento!I771,0)","v":0},null,0,null,0,null,0,null,0]
[null,null,null,null,null,null,null,null,null,{"$f":"IF(H772=Listas!$X$3,Acompanhamento!I772,0)","v":0},{"$f":"IF(H772=Listas!$X$4,Acompanhamento!I772,0)","v":0},null,0,null,0,null,0,null,0]
[null,null,null,null,null,null,null,null,null,{"$f":"IF(H773=Listas!$X$3,Acompanhamento!I773,0)","v":0},{"$f":"IF(H773=Listas!$X$4,Acompanhamento!I773,0)","v":0},null,0,null,0,null,0,null,0]
[null,null,null,null,null,null,null,null,null,{"$f":"IF(H774=Listas!$X$3,Acompanhamento!I774,0)","v":0},{"$f":"IF(H774=Listas!$X$4,Acompanhamento!I774,0)","v":0},null,0,null,0,null,0,null,0]
[null,null,null,null,null,null,null,null,null,{"$f":"IF(H775=Listas!$X$3,Acompanhamento!I775,0)","v":0},{"$f":"IF(H775=Listas!$X$4,Acompanhamento!I775,0)","v":0},null,0,null,0,null,0,null,0]
[null,null,null,null,null,null,null,null,null,{"$f":"IF(H776=Listas!$X$3,Acompanhamento!I776,0)","v":0},{"$f":"IF(H776=Listas!$X$4,Acompanhamento!I776,0)","v":0},null,0,null,0,null,0,null,0]
[null,null,null,null,null,null,null,null,null,{"$f":"IF(H777=Listas!$X$3,Acompanhamento!I777,0)","v":0},{"$f":"IF(H777=Listas!$X$4,Acompanhamento!I777,0)","v":0},null,0,null,0,null,0,null,0]
[null,null,null,null,null,null,null,null,null,{"$f":"IF(H778=Listas!$X$3,Acompanhamento!I778,0)","v":0},{"$f":"IF(H778=Listas!$X$4,Acompanhamento!I778,0)","v":0},null,{"$f":"J778-L778","v":0},null,{"$f":"M778-N778","v":0},null,{"$f":"O778-P778","v":0},null,{"$f":"Q778-R778","v":0}]
[null,null,null,null,null,null,null,null,null,{"$f":"IF(H779=Listas!$X$3,Acompanhamento!I779,0)","v":0},{"$f":"IF(H779=Listas!$X$4,Acompanhamento!I779,0)","v":0},null,0,null,0,null,0,null,0]
[null,null,null,null,null,null,null,null,null,{"$f":"IF(H780=Listas!$X$3,Acompanhamento!I780,0)","v":0},{"$f":"IF(H780=Listas!$X$4,Acompanhamento!I780,0)","v":0},null,0,null,0,null,0,null,0]
[null,null,null,null,null,null,null,null,null,{"$f":"IF(H781=Listas!$X$3,Acompanhamento!I781,0)","v":0},{"$f":"IF(H781=Listas!$X$4,Acompanhamento!I781,0)","v":0},null,0,null,0,null,0,null,0]
[null,null,null,null,null,null,null,null,null,{"$f":"IF(H782=Listas!$X$3,Acompanhamento!I782,0)","v":0},{"$f":"IF(H782=Listas!$X$4,Acompanhamento!I782,0)","v":0},null,0,null,0,null,0,null,0]
[null,null,null,null,null,null,null,null,null,{"$f":"IF(H783=Listas!$X$3,Acompanhamento!I783,0)","v":0},{"$f":"IF(H783=Listas!$X$4,Acompanhamento!I783,0)","v":0},null,0,null,0,null,0,null,0]
[null,null,null,null,null,null,null,null,null,{"$f":"IF(H784=Listas!$X$3,Acompanhamento!I784,0)","v":0},{"$f":"IF(H784=Listas!$X$4,Acompanhamento!I784,0)","v":0},null,0,null,0,null,0,null,0]
[null,null,null,null,null,null,null,null,null,{"$f":"IF(H785=Listas!$X$3,Acompanhamento!I785,0)","v":0},{"$f":"IF(H785=Listas!$X$4,Acompanhamento!I785,0)","v":0},null,0,null,0,null,0,null,0]
[null,null,null,null,null,null,null,null,null,{"$f":"IF(H786=Listas!$X$3,Acompanhamento!I786,0)","v":0},{"$f":"IF(H786=Listas!$X$4,Acompanhamento!I786,0)","v":0},null,0,null,0,null,0,null,0]
[null,null,null,null,null,null,null,null,null,{"$f":"IF(H787=Listas!$X$3,Acompanhamento!I787,0)","v":0},{"$f":"IF(H787=Listas!$X$4,Acompanhamento!I787,0)","v":0},null,0,null,0,null,0,null,0]
[null,null,null,null,null,null,null,null,null,{"$f":"IF(H788=Listas!$X$3,Acompanhamento!I788,0)","v":0},{"$f":"IF(H788=Listas!$X$4,Acompanhamento!I788,0)","v":0},null,0,null,0,null,0,null,0]
[null,null,null,null,null,null,null,null,null,{"$f":"IF(H789=Listas!$X$3,Acompanhamento!I789,0)","v":0},{"$f":"IF(H789=Listas!$X$4,Acompanhamento!I789,0)","v":0},null,0,null,0,null,0,null,0]
[null,null,null,null,null,null,null,null,null,{"$f":"IF(H790=Listas!$X$3,Acompanhamento!I790,0)","v":0},{"$f":"IF(H790=Listas!$X$4,Acompanhamento!I790,0)","v":0},null,0,null,0,null,0,null,0]
[null,null,null,null,null,null,null,null,null,{"$f":"IF(H791=Listas!$X$3,Acompanhamento!I791,0)","v":0},{"$f":"IF(H791=Listas!$X$4,Acompanhamento!I791,0)","v":0},null,0,null,0,null,0,null,0]
[null,null,null,null,null,null,null,null,null,{"$f":"IF(H792=Listas!$X$3,Acompanhamento!I792,0)","v":0},{"$f":"IF(H792=Listas!$X$4,Acompanhamento!I792,0)","v":0},null,0,null,0,null,0,null,0]
[null,null,null,null,null,null,null,null,null,{"$f":"IF(H793=Listas!$X$3,Acompanhamento!I793,0)","v":0},{"$f":"IF(H793=Listas!$X$4,Acompanhamento!I793,0)","v":0},null,0,null,0,null,0,null,0]
[null,null,null,null,null,null,null,null,null,{"$f":"IF(H794=Listas!$X$3,Acompanhamento!I794,0)","v":0},{"$f":"IF(H794=Listas!$X$4,Acompanhamento!I794,0)","v":0},null,0,null,0,null,0,null,0]
[null,null,null,null,null,null,null,null,null,{"$f":"IF(H795=Listas!$X$3,Acompanhamento!I795,0)","v":0},{"$f":"IF(H795=Listas!$X$4,Acompanhamento!I795,0)","v":0},null,0,null,0,null,0,null,0]
[null,null,null,null,null,null,null,null,null,{"$f":"IF(H796=Listas!$X$3,Acompanhamento!I796,0)","v":0},{"$f":"IF(H796=Listas!$X$4,Acompanhamento!I796,0)","v":0},null,0,null,0,null,0,null,0]
[null,null,null,null,null,null,null,null,null,{"$f":"IF(H797=Listas!$X$3,Acompanhamento!I797,0)","v":0},{"$f":"IF(H797=Listas!$X$4,Acompanhamento!I797,0)","v":0},null,0,null,0,null,0,null,0]
[null,null,null,null,null,null,null,null,null,{"$f":"IF(H798=Listas!$X$3,Acompanhamento!I798,0)","v":0},{"$f":"IF(H798=Listas!$X$4,Acompanhamento!I798,0)","v":0},null,0,null,0,null,0,null,0]
[null,null,null,null,null,null,null,null,null,{"$f":"IF(H799=Listas!$X$3,Acompanhamento!I799,0)","v":0},{"$f":"IF(H799=Listas!$X$4,Acompanhamento!I799,0)","v":0},null,0,null,0,null,0,null,0]
[null,null,null,null,null,null,null,null,null,{"$f":"IF(H800=Listas!$X$3,Acompanhamento!I800,0)","v":0},{"$f":"IF(H800=Listas!$X$4,Acompanhamento!I800,0)","v":0},null,0,null,0,null,0,null,0]
[null,null,null,null,null,null,null,null,null,{"$f":"IF(H801=Listas!$X$3,Acompanhamento!I801,0)","v":0},{"$f":"IF(H801=Listas!$X$4,Acompanhamento!I801,0)","v":0},null,0,null,0,null,0,null,0]
[null,null,null,null,null,null,null,null,null,{"$f":"IF(H802=Listas!$X$3,Acompanhamento!I802,0)","v":0},{"$f":"IF(H802=Listas!$X$4,Acompanhamento!I802,0)","v":0},null,0,null,0,null,0,null,0]
[null,null,null,null,null,null,null,null,null,{"$f":"IF(H803=Listas!$X$3,Acompanhamento!I803,0)","v":0},{"$f":"IF(H803=Listas!$X$4,Acompanhamento!I803,0)","v":0},null,0,null,0,null,0,null,0]
[null,null,null,null,null,null,null,null,null,{"$f":"IF(H804=Listas!$X$3,Acompanhamento!I804,0)","v":0},{"$f":"IF(H804=Listas!$X$4,Acompanhamento!I804,0)","v":0},null,0,null,0,null,0,null,0]
[null,null,null,null,null,null,null,null,null,{"$f":"IF(H805=Listas!$X$3,Acompanhamento!I805,0)","v":0},{"$f":"IF(H805=Listas!$X$4,Acompanhamento!I805,0)","v":0},null,0,null,0,null,0,null,0]
[null,null,null,null,null,null,null,null,null,{"$f":"IF(H806=Listas!$X$3,Acompanhamento!I806,0)","v":0},{"$f":"IF(H806=Listas!$X$4,Acompanhamento!I806,0)","v":0},null,0,null,0,null,0,null,0]
[null,null,null,null,null,null,null,null,null,{"$f":"IF(H807=Listas!$X$3,Acompanhamento!I807,0)","v":0},{"$f":"IF(H807=Listas!$X$4,Acompanhamento!I807,0)","v":0},null,0,null,0,null,0,null,0]
[null,null,null,null,null,null,null,null,null,{"$f":"IF(H808=Listas!$X$3,Acompanhamento!I808,0)","v":0},{"$f":"IF(H808=Listas!$X$4,Acompanhamento!I808,0)","v":0},null,0,null,0,null,0,null,0]
[null,null,null,null,null,null,null,null,null,{"$f":"IF(H809=Listas!$X$3,Acompanhamento!I809,0)","v":0},{"$f":"IF(H809=Listas!$X$4,Acompanhamento!I809,0)","v":0},null,0,null,0,null,0,null,0]
[null,null,null,null,null,null,null,null,null,{"$f":"IF(H810=Listas!$X$3,Acompanhamento!I810,0)","v":0},{"$f":"IF(H810=Listas!$X$4,Acompanhamento!I810,0)","v":0},null,0,null,0,null,0,null,0]
[null,null,null,null,null,null,null,null,null,{"$f":"IF(H811=Listas!$X$3,Acompanhamento!I811,0)","v":0},{"$f":"IF(H811=Listas!$X$4,Acompanhamento!I811,0)","v":0},null,0,null,0,null,0,null,0]
[null,null,null,null,null,null,null,null,null,{"$f":"IF(H812=Listas!$X$3,Acompanhamento!I812,0)","v":0},{"$f":"IF(H812=Listas!$X$4,Acompanhamento!I812,0)","v":0},null,0,null,0,null,0,null,0]
[null,null,null,null,null,null,null,null,null,{"$f":"IF(H813=Listas!$X$3,Acompanhamento!I813,0)","v":0},{"$f":"IF(H813=Listas!$X$4,Acompanhamento!I813,0)","v":0},null,0,null,0,null,0,null,0]
[null,null,null,null,null,null,null,null,null,{"$f":"IF(H814=Listas!$X$3,Acompanhamento!I814,0)","v":0},{"$f":"IF(H814=Listas!$X$4,Acompanhamento!I814,0)","v":0},null,0,null,0,null,0,null,0]
[null,null,null,null,null,null,null,null,null,{"$f":"IF(H815=Listas!$X$3,Acompanhamento!I815,0)","v":0},{"$f":"IF(H815=Listas!$X$4,Acompanhamento!I815,0)","v":0},null,0,null,0,null,0,null,0]
[null,null,null,null,null,null,null,null,null,{"$f":"IF(H816=Listas!$X$3,Acompanhamento!I816,0)","v":0},{"$f":"IF(H816=Listas!$X$4,Acompanhamento!I816,0)","v":0},null,0,null,0,null,0,null,0]
[null,null,null,null,null,null,null,null,null,{"$f":"IF(H817=Listas!$X$3,Acompanhamento!I817,0)","v":0},{"$f":"IF(H817=Listas!$X$4,Acompanhamento!I817,0)","v":0},null,0,null,0,null,0,null,0]
[null,null,null,null,null,null,null,null,null,{"$f":"IF(H818=Listas!$X$3,Acompanhamento!I818,0)","v":0},{"$f":"IF(H818=Listas!$X$4,Acompanhamento!I818,0)","v":0},null,0,null,0,null,0,null,0]
[null,null,null,null,null,null,null,null,null,{"$f":"IF(H819=Listas!$X$3,Acompanhamento!I819,0)","v":0},{"$f":"IF(H819=Listas!$X$4,Acompanhamento!I819,0)","v":0},null,0,null,0,null,0,null,0]
[null,null,null,null,null,null,null,null,null,{"$f":"IF(H820=Listas!$X$3,Acompanhamento!I820,0)","v":0},{"$f":"IF(H820=Listas!$X$4,Acompanhamento!I820,0)","v":0},null,0,null,0,null,0,null,0]
[null,null,null,null,null,null,null,null,null,{"$f":"IF(H821=Listas!$X$3,Acompanhamento!I821,0)","v":0},{"$f":"IF(H821=Listas!$X$4,Acompanhamento!I821,0)","v":0},null,0,null,0,null,0,null,0]
[null,null,null,null,null,null,null,null,null,{"$f":"IF(H822=Listas!$X$3,Acompanhamento!I822,0)","v":0},{"$f":"IF(H822=Listas!$X$4,Acompanhamento!I822,0)","v":0},null,0,null,0,null,0,null,0]
[null,null,null,null,null,null,null,null,null,{"$f":"IF(H823=Listas!$X$3,Acompanhamento!I823,0)","v":0},{"$f":"IF(H823=Listas!$X$4,Acompanhamento!I823,0)","v":0},null,0,null,0,null,0,null,0]
[null,null,null,null,null,null,null,null,null,{"$f":"IF(H824=Listas!$X$3,Acompanhamento!I824,0)","v":0},{"$f":"IF(H824=Listas!$X$4,Acompanhamento!I824,0)","v":0},null,0,null,0,null,0,null,0]
[null,null,null,null,null,null,null,null,null,{"$f":"IF(H825=Listas!$X$3,Acompanhamento!I825,0)","v":0},{"$f":"IF(H825=Listas!$X$4,Acompanhamento!I825,0)","v":0},null,0,null,0,null,0,null,0]
[null,null,null,null,null,null,null,null,null,{"$f":"IF(H826=Listas!$X$3,Acompanhamento!I826,0)","v":0},{"$f":"IF(H826=Listas!$X$4,Acompanhamento!I826,0)","v":0},null,0,null,0,null,0,null,0]
[null,null,null,null,null,null,null,null,null,{"$f":"IF(H827=Listas!$X$3,Acompanhamento!I827,0)","v":0},{"$f":"IF(H827=Listas!$X$4,Acompanhamento!I827,0)","v":0},null,0,null,0,null,0,null,0]
[null,null,null,null,null,null,null,null,null,{"$f":"IF(H828=Listas!$X$3,Acompanhamento!I828,0)","v":0},{"$f":"IF(H828=Listas!$X$4,Acompanhamento!I828,0)","v":0},null,0,null,0,null,0,null,0]
[null,null,null,null,null,null,null,null,null,{"$f":"IF(H829=Listas!$X$3,Acompanhamento!I829,0)","v":0},{"$f":"IF(H829=Listas!$X$4,Acompanhamento!I829,0)","v":0},null,0,null,0,null,0,null,0]
[null,null,null,null,null,null,null,null,null,{"$f":"IF(H830=Listas!$X$3,Acompanhamento!I830,0)","v":0},{"$f":"IF(H830=Listas!$X$4,Acompanhamento!I830,0)","v":0},null,0,null,0,null,0,null,0]
[null,null,null,null,null,null,null,null,null,{"$f":"IF(H831=Listas!$X$3,Acompanhamento!I831,0)","v":0},{"$f":"IF(H831=Listas!$X$4,Acompanhamento!I831,0)","v":0},null,0,null,0,null,0,null,0]
[null,null,null,null,null,null,null,null,null,{"$f":"IF(H832=Listas!$X$3,Acompanhamento!I832,0)","v":0},{"$f":"IF(H832=Listas!$X$4,Acompanhamento!I832,0)","v":0},null,0,null,0,null,0,null,0]
[null,null,null,null,null,null,null,null,null,{"$f":"IF(H833=Listas!$X$3,Acompanhamento!I833,0)","v":0},{"$f":"IF(H833=Listas!$X$4,Acompanhamento!I833,0)","v":0},null,0,null,0,null,0,null,0]
[null,null,null,null,null,null,null,null,null,{"$f":"IF(H834=Listas!$X$3,Acompanhamento!I834,0)","v":0},{"$f":"IF(H834=Listas!$X$4,Acompanhamento!I834,0)","v":0},null,0,null,0,null,0,null,0]
[null,null,null,null,null,null,null,null,null,{"$f":"IF(H835=Listas!$X$3,Acompanhamento!I835,0)","v":0},{"$f":"IF(H835=Listas!$X$4,Acompanhamento!I835,0)","v":0},null,0,null,0,null,0,null,0]
[null,null,null,null,null,null,null,null,null,{"$f":"IF(H836=Listas!$X$3,Acompanhamento!I836,0)","v":0},{"$f":"IF(H836=Listas!$X$4,Acompanhamento!I836,0)","v":0},null,0,null,0,null,0,null,0]
[null,null,null,null,null,null,null,null,null,{"$f":"IF(H837=Listas!$X$3,Acompanhamento!I837,0)","v":0},{"$f":"IF(H837=Listas!$X$4,Acompanhamento!I837,0)","v":0},null,0,null,0,null,0,null,0]
[null,null,null,null,null,null,null,null,null,{"$f":"IF(H838=Listas!$X$3,Acompanhamento!I838,0)","v":0},{"$f":"IF(H838=Listas!$X$4,Acompanhamento!I838,0)","v":0},null,0,null,0,null,0,null,0]
[null,null,null,null,null,null,null,null,null,{"$f":"IF(H839=Listas!$X$3,Acompanhamento!I839,0)","v":0},{"$f":"IF(H839=Listas!$X$4,Acompanhamento!I839,0)","v":0},null,0,null,0,null,0,null,0]
[null,null,null,null,null,null,null,null,null,{"$f":"IF(H840=Listas!$X$3,Acompanhamento!I840,0)","v":0},{"$f":"IF(H840=Listas!$X$4,Acompanhamento!I840,0)","v":0},null,0,null,0,null,0,null,0]
[null,null,null,null,null,null,null,null,null,{"$f":"IF(H841=Listas!$X$3,Acompanhamento!I841,0)","v":0},{"$f":"IF(H841=Listas!$X$4,Acompanhamento!I841,0)","v":0},null,0,null,0,null,0,null,0]
[null,null,null,null,null,null,null,null,null,{"$f":"IF(H842=Listas!$X$3,Acompanhamento!I842,0)","v":0},{"$f":"IF(H842=Listas!$X$4,Acompanhamento!I842,0)","v":0},null,{"$f":"J842-L842","v":0},null,{"$f":"M842-N842","v":0},null,{"$f":"O842-P842","v":0},null,{"$f":"Q842-R842","v":0}]
[null,null,null,null,null,null,null,null,null,{"$f":"IF(H843=Listas!$X$3,Acompanhamento!I843,0)","v":0},{"$f":"IF(H843=Listas!$X$4,Acompanhamento!I843,0)","v":0},null,0,null,0,null,0,null,0]
[null,null,null,null,null,null,null,null,null,{"$f":"IF(H844=Listas!$X$3,Acompanhamento!I844,0)","v":0},{"$f":"IF(H844=Listas!$X$4,Acompanhamento!I844,0)","v":0},null,0,null,0,null,0,null,0]
[null,null,null,null,null,null,null,null,null,{"$f":"IF(H845=Listas!$X$3,Acompanhamento!I845,0)","v":0},{"$f":"IF(H845=Listas!$X$4,Acompanhamento!I845,0)","v":0},null,0,null,0,null,0,null,0]
[null,null,null,null,null,null,null,null,null,{"$f":"IF(H846=Listas!$X$3,Acompanhamento!I846,0)","v":0},{"$f":"IF(H846=Listas!$X$4,Acompanhamento!I846,0)","v":0},null,0,null,0,null,0,null,0]
[null,null,null,null,null,null,null,null,null,{"$f":"IF(H847=Listas!$X$3,Acompanhamento!I847,0)","v":0},{"$f":"IF(H847=Listas!$X$4,Acompanhamento!I847,0)","v":0},null,0,null,0,null,0,null,0]
[null,null,null,null,null,null,null,null,null,{"$f":"IF(H848=Listas!$X$3,Acompanhamento!I848,0)","v":0},{"$f":"IF(H848=Listas!$X$4,Acompanhamento!I848,0)","v":0},null,0,null,0,null,0,null,0]
[null,null,null,null,null,null,null,null,null,{"$f":"IF(H849=Listas!$X$3,Acompanhamento!I849,0)","v":0},{"$f":"IF(H849=Listas!$X$4,Acompanhamento!I849,0)","v":0},null,0,null,0,null,0,null,0]
[null,null,null,null,null,null,null,null,null,{"$f":"IF(H850=Listas!$X$3,Acompanhamento!I850,0)","v":0},{"$f":"IF(H850=Listas!$X$4,Acompanhamento!I850,0)","v":0},null,0,null,0,null,0,null,0]
[null,null,null,null,null,null,null,null,null,{"$f":"IF(H851=Listas!$X$3,Acompanhamento!I851,0)","v":0},{"$f":"IF(H851=Listas!$X$4,Acompanhamento!I851,0)","v":0},null,0,null,0,null,0,null,0]
[null,null,null,null,null,null,null,null,null,{"$f":"IF(H852=Listas!$X$3,Acompanhamento!I852,0)","v":0},{"$f":"IF(H852=Listas!$X$4,Acompanhamento!I852,0)","v":0},null,0,null,0,null,0,null,0]
[null,null,null,null,null,null,null,null,null,{"$f":"IF(H853=Listas!$X$3,Acompanhamento!I853,0)","v":0},{"$f":"IF(H853=Listas!$X$4,Acompanhamento!I853,0)","v":0},null,0,null,0,null,0,null,0]
[null,null,null,null,null,null,null,null,null,{"$f":"IF(H854=Listas!$X$3,Acompanhamento!I854,0)","v":0},{"$f":"IF(H854=Listas!$X$4,Acompanhamento!I854,0)","v":0},null,0,null,0,null,0,null,0]
[null,null,null,null,null,null,null,null,null,{"$f":"IF(H855=Listas!$X$3,Acompanhamento!I855,0)","v":0},{"$f":"IF(H855=Listas!$X$4,Acompanhamento!I855,0)","v":0},null,0,null,0,null,0,null,0]
[null,null,null,null,null,null,null,null,null,{"$f":"IF(H856=Listas!$X$3,Acompanhamento!I856,0)","v":0},{"$f":"IF(H856=Listas!$X$4,Acompanhamento!I856,0)","v":0},null,0,null,0,null,0,null,0]
[null,null,null,null,null,null,null,null,null,{"$f":"IF(H857=Listas!$X$3,Acompanhamento!I857,0)","v":0},{"$f":"IF(H857=Listas!$X$4,Acompanhamento!I857,0)","v":0},null,0,null,0,null,0,null,0]
[null,null,null,null,null,null,null,null,null,{"$f":"IF(H858=Listas!$X$3,Acompanhamento!I858,0)","v":0},{"$f":"IF(H858=Listas!$X$4,Acompanhamento!I858,0)","v":0},null,0,null,0,null,0,null,0]
[null,null,null,null,null,null,null,null,null,{"$f":"IF(H859=Listas!$X$3,Acompanhamento!I859,0)","v":0},{"$f":"IF(H859=Listas!$X$4,Acompanhamento!I859,0)","v":0},null,0,null,0,null,0,null,0]
[null,null,null,null,null,null,null,null,null,{"$f":"IF(H860=Listas!$X$3,Acompanhamento!I860,0)","v":0},{"$f":"IF(H860=Listas!$X$4,Acompanhamento!I860,0)","v":0},null,0,null,0,null,0,null,0]
[null,null,null,null,null,null,null,null,null,{"$f":"IF(H861=Listas!$X$3,Acompanhamento!I861,0)","v":0},{"$f":"IF(H861=Listas!$X$4,Acompanhamento!I861,0)","v":0},null,0,null,0,null,0,null,0]
[null,null,null,null,null,null,null,null,null,{"$f":"IF(H862=Listas!$X$3,Acompanhamento!I862,0)","v":0},{"$f":"IF(H862=Listas!$X$4,Acompanhamento!I862,0)","v":0},null,0,null,0,null,0,null,0]
[null,null,null,null,null,null,null,null,null,{"$f":"IF(H863=Listas!$X$3,Acompanhamento!I863,0)","v":0},{"$f":"IF(H863=Listas!$X$4,Acompanhamento!I863,0)","v":0},null,0,null,0,null,0,null,0]
[null,null,null,null,null,null,null,null,null,{"$f":"IF(H864=Listas!$X$3,Acompanhamento!I864,0)","v":0},{"$f":"IF(H864=Listas!$X$4,Acompanhamento!I864,0)","v":0},null,0,null,0,null,0,null,0]
[null,null,null,null,null,null,null,null,null,{"$f":"IF(H865=Listas!$X$3,Acompanhamento!I865,0)","v":0},{"$f":"IF(H865=Listas!$X$4,Acompanhamento!I865,0)","v":0},null,0,null,0,null,0,null,0]
[null,null,null,null,null,null,null,null,null,{"$f":"IF(H866=Listas!$X$3,Acompanhamento!I866,0)","v":0},{"$f":"IF(H866=Listas!$X$4,Acompanhamento!I866,0)","v":0},null,0,null,0,null,0,null,0]
[null,null,null,null,null,null,null,null,null,{"$f":"IF(H867=Listas!$X$3,Acompanhamento!I867,0)","v":0},{"$f":"IF(H867=Listas!$X$4,Acompanhamento!I867,0)","v":0},null,0,null,0,null,0,null,0]
[null,null,null,null,null,null,null,null,null,{"$f":"IF(H868=Listas!$X$3,Acompanhamento!I868,0)","v":0},{"$f":"IF(H868=Listas!$X$4,Acompanhamento!I868,0)","v":0},null,0,null,0,null,0,null,0]
[null,null,null,null,null,null,null,null,null,{"$f":"IF(H869=Listas!$X$3,Acompanhamento!I869,0)","v":0},{"$f":"IF(H869=Listas!$X$4,Acompanhamento!I869,0)","v":0},null,0,null,0,null,0,null,0]
[null,null,null,null,null,null,null,null,null,{"$f":"IF(H870=Listas!$X$3,Acompanhamento!I870,0)","v":0},{"$f":"IF(H870=Listas!$X$4,Acompanhamento!I870,0)","v":0},null,0,null,0,null,0,null,0]
[null,null,null,null,null,null,null,null,null,{"$f":"IF(H871=Listas!$X$3,Acompanhamento!I871,0)","v":0},{"$f":"IF(H871=Listas!$X$4,Acompanhamento!I871,0)","v":0},null,0,null,0,null,0,null,0]
[null,null,null,null,null,null,null,null,null,{"$f":"IF(H872=Listas!$X$3,Acompanhamento!I872,0)","v":0},{"$f":"IF(H872=Listas!$X$4,Acompanhamento!I872,0)","v":0},null,0,null,0,null,0,null,0]
[null,null,null,null,null,null,null,null,null,{"$f":"IF(H873=Listas!$X$3,Acompanhamento!I873,0)","v":0},{"$f":"IF(H873=Listas!$X$4,Acompanhamento!I873,0)","v":0},null,0,null,0,null,0,null,0]
[null,null,null,null,null,null,null,null,null,{"$f":"IF(H874=Listas!$X$3,Acompanhamento!I874,0)","v":0},{"$f":"IF(H874=Listas!$X$4,Acompanhamento!I874,0)","v":0},null,0,null,0,null,0,null,0]
[null,null,null,null,null,null,null,null,null,{"$f":"IF(H875=Listas!$X$3,Acompanhamento!I875,0)","v":0},{"$f":"IF(H875=Listas!$X$4,Acompanhamento!I875,0)","v":0},null,0,null,0,null,0,null,0]
[null,null,null,null,null,null,null,null,null,{"$f":"IF(H876=Listas!$X$3,Acompanhamento!I876,0)","v":0},{"$f":"IF(H876=Listas!$X$4,Acompanhamento!I876,0)","v":0},null,0,null,0,null,0,null,0]
[null,null,null,null,null,null,null,null,null,{"$f":"IF(H877=Listas!$X$3,Acompanhamento!I877,0)","v":0},{"$f":"IF(H877=Listas!$X$4,Acompanhamento!I877,0)","v":0},null,0,null,0,null,0,null,0]
[null,null,null,null,null,null,null,null,null,{"$f":"IF(H878=Listas!$X$3,Acompanhamento!I878,0)","v":0},{"$f":"IF(H878=Listas!$X$4,Acompanhamento!I878,0)","v":0},null,0,null,0,null,0,null,0]
[null,null,null,null,null,null,null,null,null,{"$f":"IF(H879=Listas!$X$3,Acompanhamento!I879,0)","v":0},{"$f":"IF(H879=Listas!$X$4,Acompanhamento!I879,0)","v":0},null,0,null,0,null,0,null,0]
[null,null,null,null,null,null,null,null,null,{"$f":"IF(H880=Listas!$X$3,Acompanhamento!I880,0)","v":0},{"$f":"IF(H880=Listas!$X$4,Acompanhamento!I880,0)","v":0},null,0,null,0,null,0,null,0]
[null,null,null,null,null,null,null,null,null,{"$f":"IF(H881=Listas!$X$3,Acompanhamento!I881,0)","v":0},{"$f":"IF(H881=Listas!$X$4,Acompanhamento!I881,0)","v":0},null,0,null,0,null,0,null,0]
[null,null,null,null,null,null,null,null,null,{"$f":"IF(H882=Listas!$X$3,Acompanhamento!I882,0)","v":0},{"$f":"IF(H882=Listas!$X$4,Acompanhamento!I882,0)","v":0},null,0,null,0,null,0,null,0]
[null,null,null,null,null,null,null,null,null,{"$f":"IF(H883=Listas!$X$3,Acompanhamento!I883,0)","v":0},{"$f":"IF(H883=Listas!$X$4,Acompanhamento!I883,0)","v":0},null,0,null,0,null,0,null,0]
[null,null,null,null,null,null,null,null,null,{"$f":"IF(H884=Listas!$X$3,Acompanhamento!I884,0)","v":0},{"$f":"IF(H884=Listas!$X$4,Acompanhamento!I884,0)","v":0},null,0,null,0,null,0,null,0]
[null,null,null,null,null,null,null,null,null,{"$f":"IF(H885=Listas!$X$3,Acompanhamento!I885,0)","v":0},{"$f":"IF(H885=Listas!$X$4,Acompanhamento!I885,0)","v":0},null,0,null,0,null,0,null,0]
[null,null,null,null,null,null,null,null,null,{"$f":"IF(H886=Listas!$X$3,Acompanhamento!I886,0)","v":0},{"$f":"IF(H886=Listas!$X$4,Acompanhamento!I886,0)","v":0},null,0,null,0,null,0,null,0]
[null,null,null,null,null,null,null,null,null,{"$f":"IF(H887=Listas!$X$3,Acompanhamento!I887,0)","v":0},{"$f":"IF(H887=Listas!$X$4,Acompanhamento!I887,0)","v":0},null,0,null,0,null,0,null,0]
[null,null,null,null,null,null,null,null,null,{"$f":"IF(H888=Listas!$X$3,Acompanhamento!I888,0)","v":0},{"$f":"IF(H888=Listas!$X$4,Acompanhamento!I888,0)","v":0},null,0,null,0,null,0,null,0]
[null,null,null,null,null,null,null,null,null,{"$f":"IF(H889=Listas!$X$3,Acompanhamento!I889,0)","v":0},{"$f":"IF(H889=Listas!$X$4,Acompanhamento!I889,0)","v":0},null,0,null,0,null,0,null,0]
[null,null,null,null,null,null,null,null,null,{"$f":"IF(H890=Listas!$X$3,Acompanhamento!I890,0)","v":0},{"$f":"IF(H890=Listas!$X$4,Acompanhamento!I890,0)","v":0},null,0,null,0,null,0,null,0]
[null,null,null,null,null,null,null,null,null,{"$f":"IF(H891=Listas!$X$3,Acompanhamento!I891,0)","v":0},{"$f":"IF(H891=Listas!$X$4,Acompanhamento!I891,0)","v":0},null,0,null,0,null,0,null,0]
[null,null,null,null,null,null,null,null,null,{"$f":"IF(H892=Listas!$X$3,Acompanhamento!I892,0)","v":0},{"$f":"IF(H892=Listas!$X$4,Acompanhamento!I892,0)","v":0},null,0,null,0,null,0,null,0]
[null,null,null,null,null,null,null,null,null,{"$f":"IF(H893=Listas!$X$3,Acompanhamento!I893,0)","v":0},{"$f":"IF(H893=Listas!$X$4,Acompanhamento!I893,0)","v":0},null,0,null,0,null,0,null,0]
[null,null,null,null,null,null,null,null,null,{"$f":"IF(H894=Listas!$X$3,Acompanhamento!I894,0)","v":0},{"$f":"IF(H894=Listas!$X$4,Acompanhamento!I894,0)","v":0},null,0,null,0,null,0,null,0]
[null,null,null,null,null,null,null,null,null,{"$f":"IF(H895=Listas!$X$3,Acompanhamento!I895,0)","v":0},{"$f":"IF(H895=Listas!$X$4,Acompanhamento!I895,0)","v":0},null,0,null,0,null,0,null,0]
[null,null,null,null,null,null,null,null,null,{"$f":"IF(H896=Listas!$X$3,Acompanhamento!I896,0)","v":0},{"$f":"IF(H896=Listas!$X$4,Acompanhamento!I896,0)","v":0},null,0,null,0,null,0,null,0]
[null,null,null,null,null,null,null,null,null,{"$f":"IF(H897=Listas!$X$3,Acompanhamento!I897,0)","v":0},{"$f":"IF(H897=Listas!$X$4,Acompanhamento!I897,0)","v":0},null,0,null,0,null,0,null,0]
[null,null,null,null,null,null,null,null,null,{"$f":"IF(H898=Listas!$X$3,Acompanhamento!I898,0)","v":0},{"$f":"IF(H898=Listas!$X$4,Acompanhamento!I898,0)","v":0},null,0,null,0,null,0,null,0]
[null,null,null,null,null,null,null,null,null,{"$f":"IF(H899=Listas!$X$3,Acompanhamento!I899,0)","v":0},{"$f":"IF(H899=Listas!$X$4,Acompanhamento!I899,0)","v":0},null,0,null,0,null,0,null,0]
[null,null,null,null,null,null,null,null,null,{"$f":"IF(H900=Listas!$X$3,Acompanhamento!I900,0)","v":0},{"$f":"IF(H900=Listas!$X$4,Acompanhamento!I900,0)","v":0},null,0,null,0,null,0,null,0]
[null,null,null,null,null,null,null,null,null,{"$f":"IF(H901=Listas!$X$3,Acompanhamento!I901,0)","v":0},{"$f":"IF(H901=Listas!$X$4,Acompanhamento!I901,0)","v":0},null,0,null,0,null,0,null,0]
[null,null,null,null,null,null,null,null,null,{"$f":"IF(H902=Listas!$X$3,Acompanhamento!I902,0)","v":0},{"$f":"IF(H902=Listas!$X$4,Acompanhamento!I902,0)","v":0},null,0,null,0,null,0,null,0]
[null,null,null,null,null,null,null,null,null,{"$f":"IF(H903=Listas!$X$3,Acompanhamento!I903,0)","v":0},{"$f":"IF(H903=Listas!$X$4,Acompanhamento!I903,0)","v":0},null,0,null,0,null,0,null,0]
[null,null,null,null,null,null,null,null,null,{"$f":"IF(H904=Listas!$X$3,Acompanhamento!I904,0)","v":0},{"$f":"IF(H904=Listas!$X$4,Acompanhamento!I904,0)","v":0},null,0,null,0,null,0,null,0]
[null,null,null,null,null,null,null,null,null,{"$f":"IF(H905=Listas!$X$3,Acompanhamento!I905,0)","v":0},{"$f":"IF(H905=Listas!$X$4,Acompanhamento!I905,0)","v":0},null,0,null,0,null,0,null,0]
[null,null,null,null,null,null,null,null,null,{"$f":"IF(H906=Listas!$X$3,Acompanhamento!I906,0)","v":0},{"$f":"IF(H906=Listas!$X$4,Acompanhamento!I906,0)","v":0},null,{"$f":"J906-L906","v":0},null,{"$f":"M906-N906","v":0},null,{"$f":"O906-P906","v":0},null,{"$f":"Q906-R906","v":0}]
[null,null,null,null,null,null,null,null,null,{"$f":"IF(H907=Listas!$X$3,Acompanhamento!I907,0)","v":0},{"$f":"IF(H907=Listas!$X$4,Acompanhamento!I907,0)","v":0},null,0,null,0,null,0,null,0]
[null,null,null,null,null,null,null,null,null,{"$f":"IF(H908=Listas!$X$3,Acompanhamento!I908,0)","v":0},{"$f":"IF(H908=Listas!$X$4,Acompanhamento!I908,0)","v":0},null,0,null,0,null,0,null,0]
[null,null,null,null,null,null,null,null,null,{"$f":"IF(H909=Listas!$X$3,Acompanhamento!I909,0)","v":0},{"$f":"IF(H909=Listas!$X$4,Acompanhamento!I909,0)","v":0},null,0,null,0,null,0,null,0]
[null,null,null,null,null,null,null,null,null,{"$f":"IF(H910=Listas!$X$3,Acompanhamento!I910,0)","v":0},{"$f":"IF(H910=Listas!$X$4,Acompanhamento!I910,0)","v":0},null,0,null,0,null,0,null,0]
[null,null,null,null,null,null,null,null,null,{"$f":"IF(H911=Listas!$X$3,Acompanhamento!I911,0)","v":0},{"$f":"IF(H911=Listas!$X$4,Acompanhamento!I911,0)","v":0},null,0,null,0,null,0,null,0]
[null,null,null,null,null,null,null,null,null,{"$f":"IF(H912=Listas!$X$3,Acompanhamento!I912,0)","v":0},{"$f":"IF(H912=Listas!$X$4,Acompanhamento!I912,0)","v":0},null,0,null,0,null,0,null,0]
[null,null,null,null,null,null,null,null,null,{"$f":"IF(H913=Listas!$X$3,Acompanhamento!I913,0)","v":0},{"$f":"IF(H913=Listas!$X$4,Acompanhamento!I913,0)","v":0},null,0,null,0,null,0,null,0]
[null,null,null,null,null,null,null,null,null,{"$f":"IF(H914=Listas!$X$3,Acompanhamento!I914,0)","v":0},{"$f":"IF(H914=Listas!$X$4,Acompanhamento!I914,0)","v":0},null,0,null,0,null,0,null,0]
[null,null,null,null,null,null,null,null,null,{"$f":"IF(H915=Listas!$X$3,Acompanhamento!I915,0)","v":0},{"$f":"IF(H915=Listas!$X$4,Acompanhamento!I915,0)","v":0},null,0,null,0,null,0,null,0]
[null,null,null,null,null,null,null,null,null,{"$f":"IF(H916=Listas!$X$3,Acompanhamento!I916,0)","v":0},{"$f":"IF(H916=Listas!$X$4,Acompanhamento!I916,0)","v":0},null,0,null,0,null,0,null,0]
[null,null,null,null,null,null,null,null,null,{"$f":"IF(H917=Listas!$X$3,Acompanhamento!I917,0)","v":0},{"$f":"IF(H917=Listas!$X$4,Acompanhamento!I917,0)","v":0},null,0,null,0,null,0,null,0]
[null,null,null,null,null,null,null,null,null,{"$f":"IF(H918=Listas!$X$3,Acompanhamento!I918,0)","v":0},{"$f":"IF(H918=Listas!$X$4,Acompanhamento!I918,0)","v":0},null,0,null,0,null,0,null,0]
[null,null,null,null,null,null,null,null,null,{"$f":"IF(H919=Listas!$X$3,Acompanhamento!I919,0)","v":0},{"$f":"IF(H919=Listas!$X$4,Acompanhamento!I919,0)","v":0},null,0,null,0,null,0,null,0]
[null,null,null,null,null,null,null,null,null,{"$f":"IF(H920=Listas!$X$3,Acompanhamento!I920,0)","v":0},{"$f":"IF(H920=Listas!$X$4,Acompanhamento!I920,0)","v":0},null,0,null,0,null,0,null,0]
[null,null,null,null,null,null,null,null,null,{"$f":"IF(H921=Listas!$X$3,Acompanhamento!I921,0)","v":0},{"$f":"IF(H921=Listas!$X$4,Acompanhamento!I921,0)","v":0},null,0,null,0,null,0,null,0]
[null,null,null,null,null,null,null,null,null,{"$f":"IF(H922=Listas!$X$3,Acompanhamento!I922,0)","v":0},{"$f":"IF(H922=Listas!$X$4,Acompanhamento!I922,0)","v":0},null,0,null,0,null,0,null,0]
[null,null,null,null,null,null,null,null,null,{"$f":"IF(H923=Listas!$X$3,Acompanhamento!I923,0)","v":0},{"$f":"IF(H923=Listas!$X$4,Acompanhamento!I923,0)","v":0},null,0,null,0,null,0,null,0]
[null,null,null,null,null,null,null,null,null,{"$f":"IF(H924=Listas!$X$3,Acompanhamento!I924,0)","v":0},{"$f":"IF(H924=Listas!$X$4,Acompanhamento!I924,0)","v":0},null,0,null,0,null,0,null,0]
[null,null,null,null,null,null,null,null,null,{"$f":"IF(H925=Listas!$X$3,Acompanhamento!I925,0)","v":0},{"$f":"IF(H925=Listas!$X$4,Acompanhamento!I925,0)","v":0},null,0,null,0,null,0,null,0]
[null,null,null,null,null,null,null,null,null,{"$f":"IF(H926=Listas!$X$3,Acompanhamento!I926,0)","v":0},{"$f":"IF(H926=Listas!$X$4,Acompanhamento!I926,0)","v":0},null,0,null,0,null,0,null,0]
[null,null,null,null,null,null,null,null,null,{"$f":"IF(H927=Listas!$X$3,Acompanhamento!I927,0)","v":0},{"$f":"IF(H927=Listas!$X$4,Acompanhamento!I927,0)","v":0},null,0,null,0,null,0,null,0]
[null,null,null,null,null,null,null,null,null,{"$f":"IF(H928=Listas!$X$3,Acompanhamento!I928,0)","v":0},{"$f":"IF(H928=Listas!$X$4,Acompanhamento!I928,0)","v":0},null,0,null,0,null,0,null,0]
[null,null,null,null,null,null,null,null,null,{"$f":"IF(H929=Listas!$X$3,Acompanhamento!I929,0)","v":0},{"$f":"IF(H929=Listas!$X$4,Acompanhamento!I929,0)","v":0},null,0,null,0,null,0,null,0]
[null,null,null,null,null,null,null,null,null,{"$f":"IF(H930=Listas!$X$3,Acompanhamento!I930,0)","v":0},{"$f":"IF(H930=Listas!$X$4,Acompanhamento!I930,0)","v":0},null,0,null,0,null,0,null,0]
[null,null,null,null,null,null,null,null,null,{"$f":"IF(H931=Listas!$X$3,Acompanhamento!I931,0)","v":0},{"$f":"IF(H931=Listas!$X$4,Acompanhamento!I931,0)","v":0},null,0,null,0,null,0,null,0]
[null,null,null,null,null,null,null,null,null,{"$f":"IF(H932=Listas!$X$3,Acompanhamento!I932,0)","v":0},{"$f":"IF(H932=Listas!$X$4,Acompanhamento!I932,0)","v":0},null,0,null,0,null,0,null,0]
[null,null,null,null,null,null,null,null,null,{"$f":"IF(H933=Listas!$X$3,Acompanhamento!I933,0)","v":0},{"$f":"IF(H933=Listas!$X$4,Acompanhamento!I933,0)","v":0},null,0,null,0,null,0,null,0]
[null,null,null,null,null,null,null,null,null,{"$f":"IF(H934=Listas!$X$3,Acompanhamento!I934,0)","v":0},{"$f":"IF(H934=Listas!$X$4,Acompanhamento!I934,0)","v":0},null,0,null,0,null,0,null,0]
[null,null,null,null,null,null,null,null,null,{"$f":"IF(H935=Listas!$X$3,Acompanhamento!I935,0)","v":0},{"$f":"IF(H935=Listas!$X$4,Acompanhamento!I935,0)","v":0},null,0,null,0,null,0,null,0]
[null,null,null,null,null,null,null,null,null,{"$f":"IF(H936=Listas!$X$3,Acompanhamento!I936,0)","v":0},{"$f":"IF(H936=Listas!$X$4,Acompanhamento!I936,0)","v":0},null,0,null,0,null,0,null,0]
[null,null,null,null,null,null,null,null,null,{"$f":"IF(H937=Listas!$X$3,Acompanhamento!I937,0)","v":0},{"$f":"IF(H937=Listas!$X$4,Acompanhamento!I937,0)","v":0},null,0,null,0,null,0,null,0]
[null,null,null,null,null,null,null,null,null,{"$f":"IF(H938=Listas!$X$3,Acompanhamento!I938,0)","v":0},{"$f":"IF(H938=Listas!$X$4,Acompanhamento!I938,0)","v":0},null,0,null,0,null,0,null,0]
[null,null,null,null,null,null,null,null,null,{"$f":"IF(H939=Listas!$X$3,Acompanhamento!I939,0)","v":0},{"$f":"IF(H939=Listas!$X$4,Acompanhamento!I939,0)","v":0},null,0,null,0,null,0,null,0]
[null,null,null,null,null,null,null,null,null,{"$f":"IF(H940=Listas!$X$3,Acompanhamento!I940,0)","v":0},{"$f":"IF(H940=Listas!$X$4,Acompanhamento!I940,0)","v":0},null,0,null,0,null,0,null,0]
[null,null,null,null,null,null,null,null,null,{"$f":"IF(H941=Listas!$X$3,Acompanhamento!I941,0)","v":0},{"$f":"IF(H941=Listas!$X$4,Acompanhamento!I941,0)","v":0},null,0,null,0,null,0,null,0]
[null,null,null,null,null,null,null,null,null,{"$f":"IF(H942=Listas!$X$3,Acompanhamento!I942,0)","v":0},{"$f":"IF(H942=Listas!$X$4,Acompanhamento!I942,0)","v":0},null,0,null,0,null,0,null,0]
[null,null,null,null,null,null,null,null,null,{"$f":"IF(H943=Listas!$X$3,Acompanhamento!I943,0)","v":0},{"$f":"IF(H943=Listas!$X$4,Acompanhamento!I943,0)","v":0},null,0,null,0,null,0,null,0]
[null,null,null,null,null,null,null,null,null,{"$f":"IF(H944=Listas!$X$3,Acompanhamento!I944,0)","v":0},{"$f":"IF(H944=Listas!$X$4,Acompanhamento!I944,0)","v":0},null,0,null,0,null,0,null,0]
[null,null,null,null,null,null,null,null,null,{"$f":"IF(H945=Listas!$X$3,Acompanhamento!I945,0)","v":0},{"$f":"IF(H945=Listas!$X$4,Acompanhamento!I945,0)","v":0},null,0,null,0,null,0,null,0]
[null,null,null,null,null,null,null,null,null,{"$f":"IF(H946=Listas!$X$3,Acompanhamento!I946,0)","v":0},{"$f":"IF(H946=Listas!$X$4,Acompanhamento!I946,0)","v":0},null,0,null,0,null,0,null,0]
[null,null,null,null,null,null,null,null,null,{"$f":"IF(H947=Listas!$X$3,Acompanhamento!I947,0)","v":0},{"$f":"IF(H947=Listas!$X$4,Acompanhamento!I947,0)","v":0},null,0,null,0,null,0,null,0]
[null,null,null,null,null,null,null,null,null,{"$f":"IF(H948=Listas!$X$3,Acompanhamento!I948,0)","v":0},{"$f":"IF(H948=Listas!$X$4,Acompanhamento!I948,0)","v":0},null,0,null,0,null,0,null,0]
[null,null,null,null,null,null,null,null,null,{"$f":"IF(H949=Listas!$X$3,Acompanhamento!I949,0)","v":0},{"$f":"IF(H949=Listas!$X$4,Acompanhamento!I949,0)","v":0},null,0,null,0,null,0,null,0]
[null,null,null,null,null,null,null,null,null,{"$f":"IF(H950=Listas!$X$3,Acompanhamento!I950,0)","v":0},{"$f":"IF(H950=Listas!$X$4,Acompanhamento!I950,0)","v":0},null,0,null,0,null,0,null,0]
[null,null,null,null,null,null,null,null,null,{"$f":"IF(H951=Listas!$X$3,Acompanhamento!I951,0)","v":0},{"$f":"IF(H951=Listas!$X$4,Acompanhamento!I951,0)","v":0},null,0,null,0,null,0,null,0]
[null,null,null,null,null,null,null,null,null,{"$f":"IF(H952=Listas!$X$3,Acompanhamento!I952,0)","v":0},{"$f":"IF(H952=Listas!$X$4,Acompanhamento!I952,0)","v":0},null,0,null,0,null,0,null,0]
[null,null,null,null,null,null,null,null,null,{"$f":"IF(H953=Listas!$X$3,Acompanhamento!I953,0)","v":0},{"$f":"IF(H953=Listas!$X$4,Acompanhamento!I953,0)","v":0},null,0,null,0,null,0,null,0]
[null,null,null,null,null,null,null,null,null,{"$f":"IF(H954=Listas!$X$3,Acompanhamento!I954,0)","v":0},{"$f":"IF(H954=Listas!$X$4,Acompanhamento!I954,0)","v":0},null,0,null,0,null,0,null,0]
[null,null,null,null,null,null,null,null,null,{"$f":"IF(H955=Listas!$X$3,Acompanhamento!I955,0)","v":0},{"$f":"IF(H955=Listas!$X$4,Acompanhamento!I955,0)","v":0},null,0,null,0,null,0,null,0]
[null,null,null,null,null,null,null,null,null,{"$f":"IF(H956=Listas!$X$3,Acompanhamento!I956,0)","v":0},{"$f":"IF(H956=Listas!$X$4,Acompanhamento!I956,0)","v":0},null,0,null,0,null,0,null,0]
[null,null,null,null,null,null,null,null,null,{"$f":"IF(H957=Listas!$X$3,Acompanhamento!I957,0)","v":0},{"$f":"IF(H957=Listas!$X$4,Acompanhamento!I957,0)","v":0},null,0,null,0,null,0,null,0]
[null,null,null,null,null,null,null,null,null,{"$f":"IF(H958=Listas!$X$3,Acompanhamento!I958,0)","v":0},{"$f":"IF(H958=Listas!$X$4,Acompanhamento!I958,0)","v":0},null,0,null,0,null,0,null,0]
[null,null,null,null,null,null,null,null,null,{"$f":"IF(H959=Listas!$X$3,Acompanhamento!I959,0)","v":0},{"$f":"IF(H959=Listas!$X$4,Acompanhamento!I959,0)","v":0},null,0,null,0,null,0,null,0]
[null,null,null,null,null,null,null,null,null,{"$f":"IF(H960=Listas!$X$3,Acompanhamento!I960,0)","v":0},{"$f":"IF(H960=Listas!$X$4,Acompanhamento!I960,0)","v":0},null,0,null,0,null,0,null,0]
[null,null,null,null,null,null,null,null,null,{"$f":"IF(H961=Listas!$X$3,Acompanhamento!I961,0)","v":0},{"$f":"IF(H961=Listas!$X$4,Acompanhamento!I961,0)","v":0},null,0,null,0,null,0,null,0]
[null,null,null,null,null,null,null,null,null,{"$f":"IF(H962=Listas!$X$3,Acompanhamento!I962,0)","v":0},{"$f":"IF(H962=Listas!$X$4,Acompanhamento!I962,0)","v":0},null,0,null,0,null,0,null,0]
[null,null,null,null,null,null,null,null,null,{"$f":"IF(H963=Listas!$X$3,Acompanhamento!I963,0)","v":0},{"$f":"IF(H963=Listas!$X$4,Acompanhamento!I963,0)","v":0},null,0,null,0,null,0,null,0]
[null,null,null,null,null,null,null,null,null,{"$f":"IF(H964=Listas!$X$3,Acompanhamento!I964,0)","v":0},{"$f":"IF(H964=Listas!$X$4,Acompanhamento!I964,0)","v":0},null,0,null,0,null,0,null,0]
[null,null,null,null,null,null,null,null,null,{"$f":"IF(H965=Listas!$X$3,Acompanhamento!I965,0)","v":0},{"$f":"IF(H965=Listas!$X$4,Acompanhamento!I965,0)","v":0},null,0,null,0,null,0,null,0]
[null,null,null,null,null,null,null,null,null,{"$f":"IF(H966=Listas!$X$3,Acompanhamento!I966,0)","v":0},{"$f":"IF(H966=Listas!$X$4,Acompanhamento!I966,0)","v":0},null,0,null,0,null,0,null,0]
[null,null,null,null,null,null,null,null,null,{"$f":"IF(H967=Listas!$X$3,Acompanhamento!I967,0)","v":0},{"$f":"IF(H967=Listas!$X$4,Acompanhamento!I967,0)","v":0},null,0,null,0,null,0,null,0]
[null,null,null,null,null,null,null,null,null,{"$f":"IF(H968=Listas!$X$3,Acompanhamento!I968,0)","v":0},{"$f":"IF(H968=Listas!$X$4,Acompanhamento!I968,0)","v":0},null,0,null,0,null,0,null,0]
[null,null,null,null,null,null,null,null,null,{"$f":"IF(H969=Listas!$X$3,Acompanhamento!I969,0)","v":0},{"$f":"IF(H969=Listas!$X$4,Acompanhamento!I969,0)","v":0},null,0,null,0,null,0,null,0]
[null,null,null,null,null,null,null,null,null,{"$f":"IF(H970=Listas!$X$3,Acompanhamento!I970,0)","v":0},{"$f":"IF(H970=Listas!$X$4,Acompanhamento!I970,0)","v":0},null,{"$f":"J970-L970","v":0},null,{"$f":"M970-N970","v":0},null,{"$f":"O970-P970","v":0},null,{"$f":"Q970-R970","v":0}]
[null,null,null,null,null,null,null,null,null,{"$f":"IF(H971=Listas!$X$3,Acompanhamento!I971,0)","v":0},{"$f":"IF(H971=Listas!$X$4,Acompanhamento!I971,0)","v":0},null,0,null,0,null,0,null,0]
[null,null,null,null,null,null,null,null,null,{"$f":"IF(H972=Listas!$X$3,Acompanhamento!I972,0)","v":0},{"$f":"IF(H972=Listas!$X$4,Acompanhamento!I972,0)","v":0},null,0,null,0,null,0,null,0]
[null,null,null,null,null,null,null,null,null,{"$f":"IF(H973=Listas!$X$3,Acompanhamento!I973,0)","v":0},{"$f":"IF(H973=Listas!$X$4,Acompanhamento!I973,0)","v":0},null,0,null,0,null,0,null,0]
[null,null,null,null,null,null,null,null,null,{"$f":"IF(H974=Listas!$X$3,Acompanhamento!I974,0)","v":0},{"$f":"IF(H974=Listas!$X$4,Acompanhamento!I974,0)","v":0},null,0,null,0,null,0,null,0]
[null,null,null,null,null,null,null,null,null,{"$f":"IF(H975=Listas!$X$3,Acompanhamento!I975,0)","v":0},{"$f":"IF(H975=Listas!$X$4,Acompanhamento!I975,0)","v":0},null,0,null,0,null,0,null,0]
[null,null,null,null,null,null,null,null,null,{"$f":"IF(H976=Listas!$X$3,Acompanhamento!I976,0)","v":0},{"$f":"IF(H976=Listas!$X$4,Acompanhamento!I976,0)","v":0},null,0,null,0,null,0,null,0]
[null,null,null,null,null,null,null,null,null,{"$f":"IF(H977=Listas!$X$3,Acompanhamento!I977,0)","v":0},{"$f":"IF(H977=Listas!$X$4,Acompanhamento!I977,0)","v":0},null,0,null,0,null,0,null,0]
[null,null,null,null,null,null,null,null,null,{"$f":"IF(H978=Listas!$X$3,Acompanhamento!I978,0)","v":0},{"$f":"IF(H978=Listas!$X$4,Acompanhamento!I978,0)","v":0},null,0,null,0,null,0,null,0]
[null,null,null,null,null,null,null,null,null,{"$f":"IF(H979=Listas!$X$3,Acompanhamento!I979,0)","v":0},{"$f":"IF(H979=Listas!$X$4,Acompanhamento!I979,0)","v":0},null,0,null,0,null,0,null,0]
[null,null,null,null,null,null,null,null,null,{"$f":"IF(H980=Listas!$X$3,Acompanhamento!I980,0)","v":0},{"$f":"IF(H980=Listas!$X$4,Acompanhamento!I980,0)","v":0},null,0,null,0,null,0,null,0]
[null,null,null,null,null,null,null,null,null,{"$f":"IF(H981=Listas!$X$3,Acompanhamento!I981,0)","v":0},{"$f":"IF(H981=Listas!$X$4,Acompanhamento!I981,0)","v":0},null,0,null,0,null,0,null,0]
[null,null,null,null,null,null,null,null,null,{"$f":"IF(H982=Listas!$X$3,Acompanhamento!I982,0)","v":0},{"$f":"IF(H982=Listas!$X$4,Acompanhamento!I982,0)","v":0},null,0,null,0,null,0,null,0]
[null,null,null,null,null,null,null,null,null,{"$f":"IF(H983=Listas!$X$3,Acompanhamento!I983,0)","v":0},{"$f":"IF(H983=Listas!$X$4,Acompanhamento!I983,0)","v":0},null,0,null,0,null,0,null,0]
[null,null,null,null,null,null,null,null,null,{"$f":"IF(H984=Listas!$X$3,Acompanhamento!I984,0)","v":0},{"$f":"IF(H984=Listas!$X$4,Acompanhamento!I984,0)","v":0},null,0,null,0,null,0,null,0]
[null,null,null,null,null,null,null,null,null,{"$f":"IF(H985=Listas!$X$3,Acompanhamento!I985,0)","v":0},{"$f":"IF(H985=Listas!$X$4,Acompanhamento!I985,0)","v":0},null,0,null,0,null,0,null,0]
[null,null,null,null,null,null,null,null,null,{"$f":"IF(H986=Listas!$X$3,Acompanhamento!I986,0)","v":0},{"$f":"IF(H986=Listas!$X$4,Acompanhamento!I986,0)","v":0},null,0,null,0,null,0,null,0]
[null,null,null,null,null,null,null,null,null,{"$f":"IF(H987=Listas!$X$3,Acompanhamento!I987,0)","v":0},{"$f":"IF(H987=Listas!$X$4,Acompanhamento!I987,0)","v":0},null,0,null,0,null,0,null,0]
[null,null,null,null,null,null,null,null,null,{"$f":"IF(H988=Listas!$X$3,Acompanhamento!I988,0)","v":0},{"$f":"IF(H988=Listas!$X$4,Acompanhamento!I988,0)","v":0},null,0,null,0,null,0,null,0]
[null,null,null,null,null,null,null,null,null,{"$f":"IF(H989=Listas!$X$3,Acompanhamento!I989,0)","v":0},{"$f":"IF(H989=Listas!$X$4,Acompanhamento!I989,0)","v":0},null,0,null,0,null,0,null,0]
[null,null,null,null,null,null,null,null,null,{"$f":"IF(H990=Listas!$X$3,Acompanhamento!I990,0)","v":0},{"$f":"IF(H990=Listas!$X$4,Acompanhamento!I990,0)","v":0},null,0,null,0,null,0,null,0]
[null,null,null,null,null,null,null,null,null,{"$f":"IF(H991=Listas!$X$3,Acompanhamento!I991,0)","v":0},{"$f":"IF(H991=Listas!$X$4,Acompanhamento!I991,0)","v":0},null,0,null,0,null,0,null,0]
[null,null,null,null,null,null,null,null,null,{"$f":"IF(H992=Listas!$X$3,Acompanhamento!I992,0)","v":0},{"$f":"IF(H992=Listas!$X$4,Acompanhamento!I992,0)","v":0},null,0,null,0,null,0,null,0]
[null,null,null,null,null,null,null,null,null,{"$f":"IF(H993=Listas!$X$3,Acompanhamento!I993,0)","v":0},{"$f":"IF(H993=Listas!$X$4,Acompanhamento!I993,0)","v":0},null,0,null,0,null,0,null,0]
[null,null,null,null,null,null,null,null,null,{"$f":"IF(H994=Listas!$X$3,Acompanhamento!I994,0)","v":0},{"$f":"IF(H994=Listas!$X$4,Acompanhamento!I994,0)","v":0},null,0,null,0,null,0,null,0]
[null,null,null,null,null,null,null,null,null,{"$f":"IF(H995=Listas!$X$3,Acompanhamento!I995,0)","v":0},{"$f":"IF(H995=Listas!$X$4,Acompanhamento!I995,0)","v":0},null,0,null,0,null,0,null,0]
[null,null,null,null,null,null,null,null,null,{"$f":"IF(H996=Listas!$X$3,Acompanhamento!I996,0)","v":0},{"$f":"IF(H996=Listas!$X$4,Acompanhamento!I996,0)","v":0},null,0,null,0,null,0,null,0]
[null,null,null,null,null,null,null,null,null,{"$f":"IF(H997=Listas!$X$3,Acompanhamento!I997,0)","v":0},{"$f":"IF(H997=Listas!$X$4,Acompanhamento!I997,0)","v":0},null,0,null,0,null,0,null,0]
[null,null,null,null,null,null,null,null,null,{"$f":"IF(H998=Listas!$X$3,Acompanhamento!I998,0)","v":0},{"$f":"IF(H998=Listas!$X$4,Acompanhamento!I998,0)","v":0},null,0,null,0,null,0,null,0]
[null,null,null,null,null,null,null,null,null,{"$f":"IF(H999=Listas!$X$3,Acompanhamento!I999,0)","v":0},{"$f":"IF(H999=Listas!$X$4,Acompanhamento!I999,0)","v":0},null,0,null,0,null,0,null,0]
[null,null,null,null,null,null,null,null,null,{"$f":"IF(H1000=Listas!$X$3,Acompanhamento!I1000,0)","v":0},{"$f":"IF(H1000=Listas!$X$4,Acompanhamento!I1000,0)","v":0},null,0,null,0,null,0,null,0]
[null,null,null,null,null,null,null,null,null,{"$f":"IF(H1001=Listas!$X$3,Acompanhamento!I1001,0)","v":0},{"$f":"IF(H1001=Listas!$X$4,Acompanhamento!I1001,0)","v":0},null,0,null,0,null,0,null,0]
[null,null,null,null,null,null,null,null,null,{"$f":"IF(H1002=Listas!$X$3,Acompanhamento!I1002,0)","v":0},{"$f":"IF(H1002=Listas!$X$4,Acompanhamento!I1002,0)","v":0},null,0,null,0,null,0,null,0]
[null,null,null,null,null,null,null,null,null,{"$f":"IF(H1003=Listas!$X$3,Acompanhamento!I1003,0)","v":0},{"$f":"IF(H1003=Listas!$X$4,Acompanhamento!I1003,0)","v":0},null,0,null,0,null,0,null,0]
[null,null,null,null,null,null,null,null,null,{"$f":"IF(H1004=Listas!$X$3,Acompanhamento!I1004,0)","v":0},{"$f":"IF(H1004=Listas!$X$4,Acompanhamento!I1004,0)","v":0},null,0,null,0,null,0,null,0]
[null,null,null,null,null,null,null,null,null,{"$f":"IF(H1005=Listas!$X$3,Acompanhamento!I1005,0)","v":0},{"$f":"IF(H1005=Listas!$X$4,Acompanhamento!I1005,0)","v":0},null,0,null,0,null,0,null,0]
[null,null,null,null,null,null,null,null,null,{"$f":"IF(H1006=Listas!$X$3,Acompanhamento!I1006,0)","v":0},{"$f":"IF(H1006=Listas!$X$4,Acompanhamento!I1006,0)","v":0},null,0,null,0,null,0,null,0]
[null,null,null,null,null,null,null,null,null,{"$f":"IF(H1007=Listas!$X$3,Acompanhamento!I1007,0)","v":0},{"$f":"IF(H1007=Listas!$X$4,Acompanhamento!I1007,0)","v":0},null,0,null,0,null,0,null,0]
[null,null,null,null,null,null,null,null,null,{"$f":"IF(H1008=Listas!$X$3,Acompanhamento!I1008,0)","v":0},{"$f":"IF(H1008=Listas!$X$4,Acompanhamento!I1008,0)","v":0},null,0,null,0,null,0,null,0]
[null,null,null,null,null,null,null,null,null,{"$f":"IF(H1009=Listas!$X$3,Acompanhamento!I1009,0)","v":0},{"$f":"IF(H1009=Listas!$X$4,Acompanhamento!I1009,0)","v":0},null,0,null,0,null,0,null,0]
[null,null,null,null,null,null,null,null,null,{"$f":"IF(H1010=Listas!$X$3,Acompanhamento!I1010,0)","v":0},{"$f":"IF(H1010=Listas!$X$4,Acompanhamento!I1010,0)","v":0},null,0,null,0,null,0,null,0]
[null,null,null,null,null,null,null,null,null,{"$f":"IF(H1011=Listas!$X$3,Acompanhamento!I1011,0)","v":0},{"$f":"IF(H1011=Listas!$X$4,Acompanhamento!I1011,0)","v":0},null,0,null,0,null,0,null,0]
[null,null,null,null,null,null,null,null,null,{"$f":"IF(H1012=Listas!$X$3,Acompanhamento!I1012,0)","v":0},{"$f":"IF(H1012=Listas!$X$4,Acompanhamento!I1012,0)","v":0},null,0,null,0,null,0,null,0]
[null,null,null,null,null,null,null,null,null,{"$f":"IF(H1013=Listas!$X$3,Acompanhamento!I1013,0)","v":0},{"$f":"IF(H1013=Listas!$X$4,Acompanhamento!I1013,0)","v":0},null,0,null,0,null,0,null,0]
[null,null,null,null,null,null,null,null,null,{"$f":"IF(H1014=Listas!$X$3,Acompanhamento!I1014,0)","v":0},{"$f":"IF(H1014=Listas!$X$4,Acompanhamento!I1014,0)","v":0},null,0,null,0,null,0,null,0]
[null,null,null,null,null,null,null,null,null,{"$f":"IF(H1015=Listas!$X$3,Acompanhamento!I1015,0)","v":0},{"$f":"IF(H1015=Listas!$X$4,Acompanhamento!I1015,0)","v":0},null,0,null,0,null,0,null,0]
[null,null,null,null,null,null,null,null,null,{"$f":"IF(H1016=Listas!$X$3,Acompanhamento!I1016,0)","v":0},{"$f":"IF(H1016=Listas!$X$4,Acompanhamento!I1016,0)","v":0},null,0,null,0,null,0,null,0]
[null,null,null,null,null,null,null,null,null,{"$f":"IF(H1017=Listas!$X$3,Acompanhamento!I1017,0)","v":0},{"$f":"IF(H1017=Listas!$X$4,Acompanhamento!I1017,0)","v":0},null,0,null,0,null,0,null,0]
[null,null,null,null,null,null,null,null,null,{"$f":"IF(H1018=Listas!$X$3,Acompanhamento!I1018,0)","v":0},{"$f":"IF(H1018=Listas!$X$4,Acompanhamento!I1018,0)","v":0},null,0,null,0,null,0,null,0]
[null,null,null,null,null,null,null,null,null,{"$f":"IF(H1019=Listas!$X$3,Acompanhamento!I1019,0)","v":0},{"$f":"IF(H1019=Listas!$X$4,Acompanhamento!I1019,0)","v":0},null,0,null,0,null,0,null,0]
[null,null,null,null,null,null,null,null,null,{"$f":"IF(H1020=Listas!$X$3,Acompanhamento!I1020,0)","v":0},{"$f":"IF(H1020=Listas!$X$4,Acompanhamento!I1020,0)","v":0},null,0,null,0,null,0,null,0]
[null,null,null,null,null,null,null,null,null,{"$f":"IF(H1021=Listas!$X$3,Acompanhamento!I1021,0)","v":0},{"$f":"IF(H1021=Listas!$X$4,Acompanhamento!I1021,0)","v":0},null,0,null,0,null,0,null,0]
[null,null,null,null,null,null,null,null,null,{"$f":"IF(H1022=Listas!$X$3,Acompanhamento!I1022,0)","v":0},{"$f":"IF(H1022=Listas!$X$4,Acompanhamento!I1022,0)","v":0},null,0,null,0,null,0,null,0]
[null,null,null,null,null,null,null,null,null,{"$f":"IF(H1023=Listas!$X$3,Acompanhamento!I1023,0)","v":0},{"$f":"IF(H1023=Listas!$X$4,Acompanhamento!I1023,0)","v":0},null,0,null,0,null,0,null,0]
[null,null,null,null,null,null,null,null,null,{"$f":"IF(H1024=Listas!$X$3,Acompanhamento!I1024,0)","v":0},{"$f":"IF(H1024=Listas!$X$4,Acompanhamento!I1024,0)","v":0},null,0,null,0,null,0,null,0]
[null,null,null,null,null,null,null,null,null,{"$f":"IF(H1025=Listas!$X$3,Acompanhamento!I1025,0)","v":0},{"$f":"IF(H1025=Listas!$X$4,Acompanhamento!I1025,0)","v":0},null,0,null,0,null,0,null,0]
[null,null,null,null,null,null,null,null,null,{"$f":"IF(H1026=Listas!$X$3,Acompanhamento!I1026,0)","v":0},{"$f":"IF(H1026=Listas!$X$4,Acompanhamento!I1026,0)","v":0},null,0,null,0,null,0,null,0]
[null,null,null,null,null,null,null,null,null,{"$f":"IF(H1027=Listas!$X$3,Acompanhamento!I1027,0)","v":0},{"$f":"IF(H1027=Listas!$X$4,Acompanhamento!I1027,0)","v":0},null,0,null,0,null,0,null,0]
[null,null,null,null,null,null,null,null,null,{"$f":"IF(H1028=Listas!$X$3,Acompanhamento!I1028,0)","v":0},{"$f":"IF(H1028=Listas!$X$4,Acompanhamento!I1028,0)","v":0},null,0,null,0,null,0,null,0]
[null,null,null,null,null,null,null,null,null,{"$f":"IF(H1029=Listas!$X$3,Acompanhamento!I1029,0)","v":0},{"$f":"IF(H1029=Listas!$X$4,Acompanhamento!I1029,0)","v":0},null,0,null,0,null,0,null,0]
[null,null,null,null,null,null,null,null,null,{"$f":"IF(H1030=Listas!$X$3,Acompanhamento!I1030,0)","v":0},{"$f":"IF(H1030=Listas!$X$4,Acompanhamento!I1030,0)","v":0},null,0,null,0,null,0,null,0]
[null,null,null,null,null,null,null,null,null,{"$f":"IF(H1031=Listas!$X$3,Acompanhamento!I1031,0)","v":0},{"$f":"IF(H1031=Listas!$X$4,Acompanhamento!I1031,0)","v":0},null,0,null,0,null,0,null,0]
[null,null,null,null,null,null,null,null,null,{"$f":"IF(H1032=Listas!$X$3,Acompanhamento!I1032,0)","v":0},{"$f":"IF(H1032=Listas!$X$4,Acompanhamento!I1032,0)","v":0},null,0,null,0,null,0,null,0]
[null,null,null,null,null,null,null,null,null,{"$f":"IF(H1033=Listas!$X$3,Acompanhamento!I1033,0)","v":0},{"$f":"IF(H1033=Listas!$X$4,Acompanhamento!I1033,0)","v":0},null,0,null,0,null,0,null,0]
[null,null,null,null,null,null,null,null,null,{"$f":"IF(H1034=Listas!$X$3,Acompanhamento!I1034,0)","v":0},{"$f":"IF(H1034=Listas!$X$4,Acompanhamento!I1034,0)","v":0},null,{"$f":"J1034-L1034","v":0},null,{"$f":"M1034-N1034","v":0},null,{"$f":"O1034-P1034","v":0},null,{"$f":"Q1034-R1034","v":0}]
[null,null,null,null,null,null,null,null,null,{"$f":"IF(H1035=Listas!$X$3,Acompanhamento!I1035,0)","v":0},{"$f":"IF(H1035=Listas!$X$4,Acompanhamento!I1035,0)","v":0},null,0,null,0,null,0,null,0]
[null,null,null,null,null,null,null,null,null,{"$f":"IF(H1036=Listas!$X$3,Acompanhamento!I1036,0)","v":0},{"$f":"IF(H1036=Listas!$X$4,Acompanhamento!I1036,0)","v":0},null,0,null,0,null,0,null,0]
[null,null,null,null,null,null,null,null,null,{"$f":"IF(H1037=Listas!$X$3,Acompanhamento!I1037,0)","v":0},{"$f":"IF(H1037=Listas!$X$4,Acompanhamento!I1037,0)","v":0},null,0,null,0,null,0,null,0]
[null,null,null,null,null,null,null,null,null,{"$f":"IF(H1038=Listas!$X$3,Acompanhamento!I1038,0)","v":0},{"$f":"IF(H1038=Listas!$X$4,Acompanhamento!I1038,0)","v":0},null,0,null,0,null,0,null,0]
[null,null,null,null,null,null,null,null,null,{"$f":"IF(H1039=Listas!$X$3,Acompanhamento!I1039,0)","v":0},{"$f":"IF(H1039=Listas!$X$4,Acompanhamento!I1039,0)","v":0},null,0,null,0,null,0,null,0]
[null,null,null,null,null,null,null,null,null,{"$f":"IF(H1040=Listas!$X$3,Acompanhamento!I1040,0)","v":0},{"$f":"IF(H1040=Listas!$X$4,Acompanhamento!I1040,0)","v":0},null,0,null,0,null,0,null,0]
[null,null,null,null,null,null,null,null,null,{"$f":"IF(H1041=Listas!$X$3,Acompanhamento!I1041,0)","v":0},{"$f":"IF(H1041=Listas!$X$4,Acompanhamento!I1041,0)","v":0},null,0,null,0,null,0,null,0]
[null,null,null,null,null,null,null,null,null,{"$f":"IF(H1042=Listas!$X$3,Acompanhamento!I1042,0)","v":0},{"$f":"IF(H1042=Listas!$X$4,Acompanhamento!I1042,0)","v":0},null,0,null,0,null,0,null,0]
[null,null,null,null,null,null,null,null,null,{"$f":"IF(H1043=Listas!$X$3,Acompanhamento!I1043,0)","v":0},{"$f":"IF(H1043=Listas!$X$4,Acompanhamento!I1043,0)","v":0},null,0,null,0,null,0,null,0]
[null,null,null,null,null,null,null,null,null,{"$f":"IF(H1044=Listas!$X$3,Acompanhamento!I1044,0)","v":0},{"$f":"IF(H1044=Listas!$X$4,Acompanhamento!I1044,0)","v":0},null,0,null,0,null,0,null,0]
[null,null,null,null,null,null,null,null,null,{"$f":"IF(H1045=Listas!$X$3,Acompanhamento!I1045,0)","v":0},{"$f":"IF(H1045=Listas!$X$4,Acompanhamento!I1045,0)","v":0},null,0,null,0,null,0,null,0]
[null,null,null,null,null,null,null,null,null,{"$f":"IF(H1046=Listas!$X$3,Acompanhamento!I1046,0)","v":0},{"$f":"IF(H1046=Listas!$X$4,Acompanhamento!I1046,0)","v":0},null,0,null,0,null,0,null,0]
[null,null,null,null,null,null,null,null,null,{"$f":"IF(H1047=Listas!$X$3,Acompanhamento!I1047,0)","v":0},{"$f":"IF(H1047=Listas!$X$4,Acompanhamento!I1047,0)","v":0},null,0,null,0,null,0,null,0]
[null,null,null,null,null,null,null,null,null,{"$f":"IF(H1048=Listas!$X$3,Acompanhamento!I1048,0)","v":0},{"$f":"IF(H1048=Listas!$X$4,Acompanhamento!I1048,0)","v":0},null,0,null,0,null,0,null,0]
[null,null,null,null,null,null,null,null,null,{"$f":"IF(H1049=Listas!$X$3,Acompanhamento!I1049,0)","v":0},{"$f":"IF(H1049=Listas!$X$4,Acompanhamento!I1049,0)","v":0},null,0,null,0,null,0,null,0]
[null,null,null,null,null,null,null,null,null,{"$f":"IF(H1050=Listas!$X$3,Acompanhamento!I1050,0)","v":0},{"$f":"IF(H1050=Listas!$X$4,Acompanhamento!I1050,0)","v":0},null,0,null,0,null,0,null,0]
[null,null,null,null,null,null,null,null,null,{"$f":"IF(H1051=Listas!$X$3,Acompanhamento!I1051,0)","v":0},{"$f":"IF(H1051=Listas!$X$4,Acompanhamento!I1051,0)","v":0},null,0,null,0,null,0,null,0]
[null,null,null,null,null,null,null,null,null,{"$f":"IF(H1052=Listas!$X$3,Acompanhamento!I1052,0)","v":0},{"$f":"IF(H1052=Listas!$X$4,Acompanhamento!I1052,0)","v":0},null,0,null,0,null,0,null,0]
[null,null,null,null,null,null,null,null,null,{"$f":"IF(H1053=Listas!$X$3,Acompanhamento!I1053,0)","v":0},{"$f":"IF(H1053=Listas!$X$4,Acompanhamento!I1053,0)","v":0},null,0,null,0,null,0,null,0]
[null,null,null,null,null,null,null,null,null,{"$f":"IF(H1054=Listas!$X$3,Acompanhamento!I1054,0)","v":0},{"$f":"IF(H1054=Listas!$X$4,Acompanhamento!I1054,0)","v":0},null,0,null,0,null,0,null,0]
[null,null,null,null,null,null,null,null,null,{"$f":"IF(H1055=Listas!$X$3,Acompanhamento!I1055,0)","v":0},{"$f":"IF(H1055=Listas!$X$4,Acompanhamento!I1055,0)","v":0},null,0,null,0,null,0,null,0]
[null,null,null,null,null,null,null,null,null,{"$f":"IF(H1056=Listas!$X$3,Acompanhamento!I1056,0)","v":0},{"$f":"IF(H1056=Listas!$X$4,Acompanhamento!I1056,0)","v":0},null,0,null,0,null,0,null,0]
[null,null,null,null,null,null,null,null,null,{"$f":"IF(H1057=Listas!$X$3,Acompanhamento!I1057,0)","v":0},{"$f":"IF(H1057=Listas!$X$4,Acompanhamento!I1057,0)","v":0},null,0,null,0,null,0,null,0]
[null,null,null,null,null,null,null,null,null,{"$f":"IF(H1058=Listas!$X$3,Acompanhamento!I1058,0)","v":0},{"$f":"IF(H1058=Listas!$X$4,Acompanhamento!I1058,0)","v":0},null,0,null,0,null,0,null,0]
[null,null,null,null,null,null,null,null,null,{"$f":"IF(H1059=Listas!$X$3,Acompanhamento!I1059,0)","v":0},{"$f":"IF(H1059=Listas!$X$4,Acompanhamento!I1059,0)","v":0},null,0,null,0,null,0,null,0]
[null,null,null,null,null,null,null,null,null,{"$f":"IF(H1060=Listas!$X$3,Acompanhamento!I1060,0)","v":0},{"$f":"IF(H1060=Listas!$X$4,Acompanhamento!I1060,0)","v":0},null,0,null,0,null,0,null,0]
[null,null,null,null,null,null,null,null,null,{"$f":"IF(H1061=Listas!$X$3,Acompanhamento!I1061,0)","v":0},{"$f":"IF(H1061=Listas!$X$4,Acompanhamento!I1061,0)","v":0},null,0,null,0,null,0,null,0]
[null,null,null,null,null,null,null,null,null,{"$f":"IF(H1062=Listas!$X$3,Acompanhamento!I1062,0)","v":0},{"$f":"IF(H1062=Listas!$X$4,Acompanhamento!I1062,0)","v":0},null,0,null,0,null,0,null,0]
[null,null,null,null,null,null,null,null,null,{"$f":"IF(H1063=Listas!$X$3,Acompanhamento!I1063,0)","v":0},{"$f":"IF(H1063=Listas!$X$4,Acompanhamento!I1063,0)","v":0},null,0,null,0,null,0,null,0]
[null,null,null,null,null,null,null,null,null,{"$f":"IF(H1064=Listas!$X$3,Acompanhamento!I1064,0)","v":0},{"$f":"IF(H1064=Listas!$X$4,Acompanhamento!I1064,0)","v":0},null,0,null,0,null,0,null,0]
[null,null,null,null,null,null,null,null,null,{"$f":"IF(H1065=Listas!$X$3,Acompanhamento!I1065,0)","v":0},{"$f":"IF(H1065=Listas!$X$4,Acompanhamento!I1065,0)","v":0},null,0,null,0,null,0,null,0]
[null,null,null,null,null,null,null,null,null,{"$f":"IF(H1066=Listas!$X$3,Acompanhamento!I1066,0)","v":0},{"$f":"IF(H1066=Listas!$X$4,Acompanhamento!I1066,0)","v":0},null,0,null,0,null,0,null,0]
[null,null,null,null,null,null,null,null,null,{"$f":"IF(H1067=Listas!$X$3,Acompanhamento!I1067,0)","v":0},{"$f":"IF(H1067=Listas!$X$4,Acompanhamento!I1067,0)","v":0},null,0,null,0,null,0,null,0]
[null,null,null,null,null,null,null,null,null,{"$f":"IF(H1068=Listas!$X$3,Acompanhamento!I1068,0)","v":0},{"$f":"IF(H1068=Listas!$X$4,Acompanhamento!I1068,0)","v":0},null,0,null,0,null,0,null,0]
[null,null,null,null,null,null,null,null,null,{"$f":"IF(H1069=Listas!$X$3,Acompanhamento!I1069,0)","v":0},{"$f":"IF(H1069=Listas!$X$4,Acompanhamento!I1069,0)","v":0},null,0,null,0,null,0,null,0]
[null,null,null,null,null,null,null,null,null,{"$f":"IF(H1070=Listas!$X$3,Acompanhamento!I1070,0)","v":0},{"$f":"IF(H1070=Listas!$X$4,Acompanhamento!I1070,0)","v":0},null,0,null,0,null,0,null,0]
[null,null,null,null,null,null,null,null,null,{"$f":"IF(H1071=Listas!$X$3,Acompanhamento!I1071,0)","v":0},{"$f":"IF(H1071=Listas!$X$4,Acompanhamento!I1071,0)","v":0},null,0,null,0,null,0,null,0]
[null,null,null,null,null,null,null,null,null,{"$f":"IF(H1072=Listas!$X$3,Acompanhamento!I1072,0)","v":0},{"$f":"IF(H1072=Listas!$X$4,Acompanhamento!I1072,0)","v":0},null,0,null,0,null,0,null,0]
[null,null,null,null,null,null,null,null,null,{"$f":"IF(H1073=Listas!$X$3,Acompanhamento!I1073,0)","v":0},{"$f":"IF(H1073=Listas!$X$4,Acompanhamento!I1073,0)","v":0},null,0,null,0,null,0,null,0]
[null,null,null,null,null,null,null,null,null,{"$f":"IF(H1074=Listas!$X$3,Acompanhamento!I1074,0)","v":0},{"$f":"IF(H1074=Listas!$X$4,Acompanhamento!I1074,0)","v":0},null,0,null,0,null,0,null,0]
[null,null,null,null,null,null,null,null,null,{"$f":"IF(H1075=Listas!$X$3,Acompanhamento!I1075,0)","v":0},{"$f":"IF(H1075=Listas!$X$4,Acompanhamento!I1075,0)","v":0},null,0,null,0,null,0,null,0]
[null,null,null,null,null,null,null,null,null,{"$f":"IF(H1076=Listas!$X$3,Acompanhamento!I1076,0)","v":0},{"$f":"IF(H1076=Listas!$X$4,Acompanhamento!I1076,0)","v":0},null,0,null,0,null,0,null,0]
[null,null,null,null,null,null,null,null,null,{"$f":"IF(H1077=Listas!$X$3,Acompanhamento!I1077,0)","v":0},{"$f":"IF(H1077=Listas!$X$4,Acompanhamento!I1077,0)","v":0},null,0,null,0,null,0,null,0]
[null,null,null,null,null,null,null,null,null,{"$f":"IF(H1078=Listas!$X$3,Acompanhamento!I1078,0)","v":0},{"$f":"IF(H1078=Listas!$X$4,Acompanhamento!I1078,0)","v":0},null,0,null,0,null,0,null,0]
[null,null,null,null,null,null,null,null,null,{"$f":"IF(H1079=Listas!$X$3,Acompanhamento!I1079,0)","v":0},{"$f":"IF(H1079=Listas!$X$4,Acompanhamento!I1079,0)","v":0},null,0,null,0,null,0,null,0]
[null,null,null,null,null,null,null,null,null,{"$f":"IF(H1080=Listas!$X$3,Acompanhamento!I1080,0)","v":0},{"$f":"IF(H1080=Listas!$X$4,Acompanhamento!I1080,0)","v":0},null,0,null,0,null,0,null,0]
[null,null,null,null,null,null,null,null,null,{"$f":"IF(H1081=Listas!$X$3,Acompanhamento!I1081,0)","v":0},{"$f":"IF(H1081=Listas!$X$4,Acompanhamento!I1081,0)","v":0},null,0,null,0,null,0,null,0]
[null,null,null,null,null,null,null,null,null,{"$f":"IF(H1082=Listas!$X$3,Acompanhamento!I1082,0)","v":0},{"$f":"IF(H1082=Listas!$X$4,Acompanhamento!I1082,0)","v":0},null,0,null,0,null,0,null,0]
[null,null,null,null,null,null,null,null,null,{"$f":"IF(H1083=Listas!$X$3,Acompanhamento!I1083,0)","v":0},{"$f":"IF(H1083=Listas!$X$4,Acompanhamento!I1083,0)","v":0},null,0,null,0,null,0,null,0]
[null,null,null,null,null,null,null,null,null,{"$f":"IF(H1084=Listas!$X$3,Acompanhamento!I1084,0)","v":0},{"$f":"IF(H1084=Listas!$X$4,Acompanhamento!I1084,0)","v":0},null,0,null,0,null,0,null,0]
[null,null,null,null,null,null,null,null,null,{"$f":"IF(H1085=Listas!$X$3,Acompanhamento!I1085,0)","v":0},{"$f":"IF(H1085=Listas!$X$4,Acompanhamento!I1085,0)","v":0},null,0,null,0,null,0,null,0]
[null,null,null,null,null,null,null,null,null,{"$f":"IF(H1086=Listas!$X$3,Acompanhamento!I1086,0)","v":0},{"$f":"IF(H1086=Listas!$X$4,Acompanhamento!I1086,0)","v":0},null,0,null,0,null,0,null,0]
[null,null,null,null,null,null,null,null,null,{"$f":"IF(H1087=Listas!$X$3,Acompanhamento!I1087,0)","v":0},{"$f":"IF(H1087=Listas!$X$4,Acompanhamento!I1087,0)","v":0},null,0,null,0,null,0,null,0]
[null,null,null,null,null,null,null,null,null,{"$f":"IF(H1088=Listas!$X$3,Acompanhamento!I1088,0)","v":0},{"$f":"IF(H1088=Listas!$X$4,Acompanhamento!I1088,0)","v":0},null,0,null,0,null,0,null,0]
[null,null,null,null,null,null,null,null,null,{"$f":"IF(H1089=Listas!$X$3,Acompanhamento!I1089,0)","v":0},{"$f":"IF(H1089=Listas!$X$4,Acompanhamento!I1089,0)","v":0},null,0,null,0,null,0,null,0]
[null,null,null,null,null,null,null,null,null,{"$f":"IF(H1090=Listas!$X$3,Acompanhamento!I1090,0)","v":0},{"$f":"IF(H1090=Listas!$X$4,Acompanhamento!I1090,0)","v":0},null,0,null,0,null,0,null,0]
[null,null,null,null,null,null,null,null,null,{"$f":"IF(H1091=Listas!$X$3,Acompanhamento!I1091,0)","v":0},{"$f":"IF(H1091=Listas!$X$4,Acompanhamento!I1091,0)","v":0},null,0,null,0,null,0,null,0]
[null,null,null,null,null,null,null,null,null,{"$f":"IF(H1092=Listas!$X$3,Acompanhamento!I1092,0)","v":0},{"$f":"IF(H1092=Listas!$X$4,Acompanhamento!I1092,0)","v":0},null,0,null,0,null,0,null,0]
[null,null,null,null,null,null,null,null,null,{"$f":"IF(H1093=Listas!$X$3,Acompanhamento!I1093,0)","v":0},{"$f":"IF(H1093=Listas!$X$4,Acompanhamento!I1093,0)","v":0},null,0,null,0,null,0,null,0]
[null,null,null,null,null,null,null,null,null,{"$f":"IF(H1094=Listas!$X$3,Acompanhamento!I1094,0)","v":0},{"$f":"IF(H1094=Listas!$X$4,Acompanhamento!I1094,0)","v":0},null,0,null,0,null,0,null,0]
[null,null,null,null,null,null,null,null,null,{"$f":"IF(H1095=Listas!$X$3,Acompanhamento!I1095,0)","v":0},{"$f":"IF(H1095=Listas!$X$4,Acompanhamento!I1095,0)","v":0},null,0,null,0,null,0,null,0]
[null,null,null,null,null,null,null,null,null,{"$f":"IF(H1096=Listas!$X$3,Acompanhamento!I1096,0)","v":0},{"$f":"IF(H1096=Listas!$X$4,Acompanhamento!I1096,0)","v":0},null,0,null,0,null,0,null,0]
[null,null,null,null,null,null,null,null,null,{"$f":"IF(H1097=Listas!$X$3,Acompanhamento!I1097,0)","v":0},{"$f":"IF(H1097=Listas!$X$4,Acompanhamento!I1097,0)","v":0},null,0,null,0,null,0,null,0]
[null,null,null,null,null,null,null,null,null,{"$f":"IF(H1098=Listas!$X$3,Acompanhamento!I1098,0)","v":0},{"$f":"IF(H1098=Listas!$X$4,Acompanhamento!I1098,0)","v":0},null,{"$f":"J1098-L1098","v":0},null,{"$f":"M1098-N1098","v":0},null,{"$f":"O1098-P1098","v":0},null,{"$f":"Q1098-R1098","v":0}]
[null,null,null,null,null,null,null,null,null,{"$f":"IF(H1099=Listas!$X$3,Acompanhamento!I1099,0)","v":0},{"$f":"IF(H1099=Listas!$X$4,Acompanhamento!I1099,0)","v":0},null,0,null,0,null,0,null,0]
[null,null,null,null,null,null,null,null,null,{"$f":"IF(H1100=Listas!$X$3,Acompanhamento!I1100,0)","v":0},{"$f":"IF(H1100=Listas!$X$4,Acompanhamento!I1100,0)","v":0},null,0,null,0,null,0,null,0]
[null,null,null,null,null,null,null,null,null,{"$f":"IF(H1101=Listas!$X$3,Acompanhamento!I1101,0)","v":0},{"$f":"IF(H1101=Listas!$X$4,Acompanhamento!I1101,0)","v":0},null,0,null,0,null,0,null,0]
[null,null,null,null,null,null,null,null,null,{"$f":"IF(H1102=Listas!$X$3,Acompanhamento!I1102,0)","v":0},{"$f":"IF(H1102=Listas!$X$4,Acompanhamento!I1102,0)","v":0},null,0,null,0,null,0,null,0]
[null,null,null,null,null,null,null,null,null,{"$f":"IF(H1103=Listas!$X$3,Acompanhamento!I1103,0)","v":0},{"$f":"IF(H1103=Listas!$X$4,Acompanhamento!I1103,0)","v":0},null,0,null,0,null,0,null,0]
[null,null,null,null,null,null,null,null,null,{"$f":"IF(H1104=Listas!$X$3,Acompanhamento!I1104,0)","v":0},{"$f":"IF(H1104=Listas!$X$4,Acompanhamento!I1104,0)","v":0},null,0,null,0,null,0,null,0]
[null,null,null,null,null,null,null,null,null,{"$f":"IF(H1105=Listas!$X$3,Acompanhamento!I1105,0)","v":0},{"$f":"IF(H1105=Listas!$X$4,Acompanhamento!I1105,0)","v":0},null,0,null,0,null,0,null,0]
[null,null,null,null,null,null,null,null,null,{"$f":"IF(H1106=Listas!$X$3,Acompanhamento!I1106,0)","v":0},{"$f":"IF(H1106=Listas!$X$4,Acompanhamento!I1106,0)","v":0},null,0,null,0,null,0,null,0]
[null,null,null,null,null,null,null,null,null,{"$f":"IF(H1107=Listas!$X$3,Acompanhamento!I1107,0)","v":0},{"$f":"IF(H1107=Listas!$X$4,Acompanhamento!I1107,0)","v":0},null,0,null,0,null,0,null,0]
[null,null,null,null,null,null,null,null,null,{"$f":"IF(H1108=Listas!$X$3,Acompanhamento!I1108,0)","v":0},{"$f":"IF(H1108=Listas!$X$4,Acompanhamento!I1108,0)","v":0},null,0,null,0,null,0,null,0]
[null,null,null,null,null,null,null,null,null,{"$f":"IF(H1109=Listas!$X$3,Acompanhamento!I1109,0)","v":0},{"$f":"IF(H1109=Listas!$X$4,Acompanhamento!I1109,0)","v":0},null,0,null,0,null,0,null,0]
[null,null,null,null,null,null,null,null,null,{"$f":"IF(H1110=Listas!$X$3,Acompanhamento!I1110,0)","v":0},{"$f":"IF(H1110=Listas!$X$4,Acompanhamento!I1110,0)","v":0},null,0,null,0,null,0,null,0]
[null,null,null,null,null,null,null,null,null,{"$f":"IF(H1111=Listas!$X$3,Acompanhamento!I1111,0)","v":0},{"$f":"IF(H1111=Listas!$X$4,Acompanhamento!I1111,0)","v":0},null,0,null,0,null,0,null,0]
[null,null,null,null,null,null,null,null,null,{"$f":"IF(H1112=Listas!$X$3,Acompanhamento!I1112,0)","v":0},{"$f":"IF(H1112=Listas!$X$4,Acompanhamento!I1112,0)","v":0},null,0,null,0,null,0,null,0]
[null,null,null,null,null,null,null,null,null,{"$f":"IF(H1113=Listas!$X$3,Acompanhamento!I1113,0)","v":0},{"$f":"IF(H1113=Listas!$X$4,Acompanhamento!I1113,0)","v":0},null,0,null,0,null,0,null,0]
[null,null,null,null,null,null,null,null,null,{"$f":"IF(H1114=Listas!$X$3,Acompanhamento!I1114,0)","v":0},{"$f":"IF(H1114=Listas!$X$4,Acompanhamento!I1114,0)","v":0},null,0,null,0,null,0,null,0]
[null,null,null,null,null,null,null,null,null,{"$f":"IF(H1115=Listas!$X$3,Acompanhamento!I1115,0)","v":0},{"$f":"IF(H1115=Listas!$X$4,Acompanhamento!I1115,0)","v":0},null,0,null,0,null,0,null,0]
[null,null,null,null,null,null,null,null,null,{"$f":"IF(H1116=Listas!$X$3,Acompanhamento!I1116,0)","v":0},{"$f":"IF(H1116=Listas!$X$4,Acompanhamento!I1116,0)","v":0},null,0,null,0,null,0,null,0]
[null,null,null,null,null,null,null,null,null,{"$f":"IF(H1117=Listas!$X$3,Acompanhamento!I1117,0)","v":0},{"$f":"IF(H1117=Listas!$X$4,Acompanhamento!I1117,0)","v":0},null,0,null,0,null,0,null,0]
[null,null,null,null,null,null,null,null,null,{"$f":"IF(H1118=Listas!$X$3,Acompanhamento!I1118,0)","v":0},{"$f":"IF(H1118=Listas!$X$4,Acompanhamento!I1118,0)","v":0},null,0,null,0,null,0,null,0]
[null,null,null,null,null,null,null,null,null,{"$f":"IF(H1119=Listas!$X$3,Acompanhamento!I1119,0)","v":0},{"$f":"IF(H1119=Listas!$X$4,Acompanhamento!I1119,0)","v":0},null,0,null,0,null,0,null,0]
[null,null,null,null,null,null,null,null,null,{"$f":"IF(H1120=Listas!$X$3,Acompanhamento!I1120,0)","v":0},{"$f":"IF(H1120=Listas!$X$4,Acompanhamento!I1120,0)","v":0},null,0,null,0,null,0,null,0]
[null,null,null,null,null,null,null,null,null,{"$f":"IF(H1121=Listas!$X$3,Acompanhamento!I1121,0)","v":0},{"$f":"IF(H1121=Listas!$X$4,Acompanhamento!I1121,0)","v":0},null,0,null,0,null,0,null,0]
[null,null,null,null,null,null,null,null,null,{"$f":"IF(H1122=Listas!$X$3,Acompanhamento!I1122,0)","v":0},{"$f":"IF(H1122=Listas!$X$4,Acompanhamento!I1122,0)","v":0},null,0,null,0,null,0,null,0]
[null,null,null,null,null,null,null,null,null,{"$f":"IF(H1123=Listas!$X$3,Acompanhamento!I1123,0)","v":0},{"$f":"IF(H1123=Listas!$X$4,Acompanhamento!I1123,0)","v":0},null,0,null,0,null,0,null,0]
[null,null,null,null,null,null,null,null,null,{"$f":"IF(H1124=Listas!$X$3,Acompanhamento!I1124,0)","v":0},{"$f":"IF(H1124=Listas!$X$4,Acompanhamento!I1124,0)","v":0},null,0,null,0,null,0,null,0]
[null,null,null,null,null,null,null,null,null,{"$f":"IF(H1125=Listas!$X$3,Acompanhamento!I1125,0)","v":0},{"$f":"IF(H1125=Listas!$X$4,Acompanhamento!I1125,0)","v":0},null,0,null,0,null,0,null,0]
[null,null,null,null,null,null,null,null,null,{"$f":"IF(H1126=Listas!$X$3,Acompanhamento!I1126,0)","v":0},{"$f":"IF(H1126=Listas!$X$4,Acompanhamento!I1126,0)","v":0},null,0,null,0,null,0,null,0]
[null,null,null,null,null,null,null,null,null,{"$f":"IF(H1127=Listas!$X$3,Acompanhamento!I1127,0)","v":0},{"$f":"IF(H1127=Listas!$X$4,Acompanhamento!I1127,0)","v":0},null,0,null,0,null,0,null,0]
[null,null,null,null,null,null,null,null,null,{"$f":"IF(H1128=Listas!$X$3,Acompanhamento!I1128,0)","v":0},{"$f":"IF(H1128=Listas!$X$4,Acompanhamento!I1128,0)","v":0},null,0,null,0,null,0,null,0]
[null,null,null,null,null,null,null,null,null,{"$f":"IF(H1129=Listas!$X$3,Acompanhamento!I1129,0)","v":0},{"$f":"IF(H1129=Listas!$X$4,Acompanhamento!I1129,0)","v":0},null,0,null,0,null,0,null,0]
[null,null,null,null,null,null,null,null,null,{"$f":"IF(H1130=Listas!$X$3,Acompanhamento!I1130,0)","v":0},{"$f":"IF(H1130=Listas!$X$4,Acompanhamento!I1130,0)","v":0},null,0,null,0,null,0,null,0]
[null,null,null,null,null,null,null,null,null,{"$f":"IF(H1131=Listas!$X$3,Acompanhamento!I1131,0)","v":0},{"$f":"IF(H1131=Listas!$X$4,Acompanhamento!I1131,0)","v":0},null,0,null,0,null,0,null,0]
[null,null,null,null,null,null,null,null,null,{"$f":"IF(H1132=Listas!$X$3,Acompanhamento!I1132,0)","v":0},{"$f":"IF(H1132=Listas!$X$4,Acompanhamento!I1132,0)","v":0},null,0,null,0,null,0,null,0]
[null,null,null,null,null,null,null,null,null,{"$f":"IF(H1133=Listas!$X$3,Acompanhamento!I1133,0)","v":0},{"$f":"IF(H1133=Listas!$X$4,Acompanhamento!I1133,0)","v":0},null,0,null,0,null,0,null,0]
[null,null,null,null,null,null,null,null,null,{"$f":"IF(H1134=Listas!$X$3,Acompanhamento!I1134,0)","v":0},{"$f":"IF(H1134=Listas!$X$4,Acompanhamento!I1134,0)","v":0},null,0,null,0,null,0,null,0]
[null,null,null,null,null,null,null,null,null,{"$f":"IF(H1135=Listas!$X$3,Acompanhamento!I1135,0)","v":0},{"$f":"IF(H1135=Listas!$X$4,Acompanhamento!I1135,0)","v":0},null,0,null,0,null,0,null,0]
[null,null,null,null,null,null,null,null,null,{"$f":"IF(H1136=Listas!$X$3,Acompanhamento!I1136,0)","v":0},{"$f":"IF(H1136=Listas!$X$4,Acompanhamento!I1136,0)","v":0},null,0,null,0,null,0,null,0]
[null,null,null,null,null,null,null,null,null,{"$f":"IF(H1137=Listas!$X$3,Acompanhamento!I1137,0)","v":0},{"$f":"IF(H1137=Listas!$X$4,Acompanhamento!I1137,0)","v":0},null,0,null,0,null,0,null,0]
[null,null,null,null,null,null,null,null,null,{"$f":"IF(H1138=Listas!$X$3,Acompanhamento!I1138,0)","v":0},{"$f":"IF(H1138=Listas!$X$4,Acompanhamento!I1138,0)","v":0},null,0,null,0,null,0,null,0]
[null,null,null,null,null,null,null,null,null,{"$f":"IF(H1139=Listas!$X$3,Acompanhamento!I1139,0)","v":0},{"$f":"IF(H1139=Listas!$X$4,Acompanhamento!I1139,0)","v":0},null,0,null,0,null,0,null,0]
[null,null,null,null,null,null,null,null,null,{"$f":"IF(H1140=Listas!$X$3,Acompanhamento!I1140,0)","v":0},{"$f":"IF(H1140=Listas!$X$4,Acompanhamento!I1140,0)","v":0},null,0,null,0,null,0,null,0]
[null,null,null,null,null,null,null,null,null,{"$f":"IF(H1141=Listas!$X$3,Acompanhamento!I1141,0)","v":0},{"$f":"IF(H1141=Listas!$X$4,Acompanhamento!I1141,0)","v":0},null,0,null,0,null,0,null,0]
[null,null,null,null,null,null,null,null,null,{"$f":"IF(H1142=Listas!$X$3,Acompanhamento!I1142,0)","v":0},{"$f":"IF(H1142=Listas!$X$4,Acompanhamento!I1142,0)","v":0},null,0,null,0,null,0,null,0]
[null,null,null,null,null,null,null,null,null,{"$f":"IF(H1143=Listas!$X$3,Acompanhamento!I1143,0)","v":0},{"$f":"IF(H1143=Listas!$X$4,Acompanhamento!I1143,0)","v":0},null,0,null,0,null,0,null,0]
[null,null,null,null,null,null,null,null,null,{"$f":"IF(H1144=Listas!$X$3,Acompanhamento!I1144,0)","v":0},{"$f":"IF(H1144=Listas!$X$4,Acompanhamento!I1144,0)","v":0},null,0,null,0,null,0,null,0]
[null,null,null,null,null,null,null,null,null,{"$f":"IF(H1145=Listas!$X$3,Acompanhamento!I1145,0)","v":0},{"$f":"IF(H1145=Listas!$X$4,Acompanhamento!I1145,0)","v":0},null,0,null,0,null,0,null,0]
[null,null,null,null,null,null,null,null,null,{"$f":"IF(H1146=Listas!$X$3,Acompanhamento!I1146,0)","v":0},{"$f":"IF(H1146=Listas!$X$4,Acompanhamento!I1146,0)","v":0},null,0,null,0,null,0,null,0]
[null,null,null,null,null,null,null,null,null,{"$f":"IF(H1147=Listas!$X$3,Acompanhamento!I1147,0)","v":0},{"$f":"IF(H1147=Listas!$X$4,Acompanhamento!I1147,0)","v":0},null,0,null,0,null,0,null,0]
[null,null,null,null,null,null,null,null,null,{"$f":"IF(H1148=Listas!$X$3,Acompanhamento!I1148,0)","v":0},{"$f":"IF(H1148=Listas!$X$4,Acompanhamento!I1148,0)","v":0},null,0,null,0,null,0,null,0]
[null,null,null,null,null,null,null,null,null,{"$f":"IF(H1149=Listas!$X$3,Acompanhamento!I1149,0)","v":0},{"$f":"IF(H1149=Listas!$X$4,Acompanhamento!I1149,0)","v":0},null,0,null,0,null,0,null,0]
[null,null,null,null,null,null,null,null,null,{"$f":"IF(H1150=Listas!$X$3,Acompanhamento!I1150,0)","v":0},{"$f":"IF(H1150=Listas!$X$4,Acompanhamento!I1150,0)","v":0},null,0,null,0,null,0,null,0]
[null,null,null,null,null,null,null,null,null,{"$f":"IF(H1151=Listas!$X$3,Acompanhamento!I1151,0)","v":0},{"$f":"IF(H1151=Listas!$X$4,Acompanhamento!I1151,0)","v":0},null,0,null,0,null,0,null,0]
[null,null,null,null,null,null,null,null,null,{"$f":"IF(H1152=Listas!$X$3,Acompanhamento!I1152,0)","v":0},{"$f":"IF(H1152=Listas!$X$4,Acompanhamento!I1152,0)","v":0},null,0,null,0,null,0,null,0]
[null,null,null,null,null,null,null,null,null,{"$f":"IF(H1153=Listas!$X$3,Acompanhamento!I1153,0)","v":0},{"$f":"IF(H1153=Listas!$X$4,Acompanhamento!I1153,0)","v":0},null,0,null,0,null,0,null,0]
[null,null,null,null,null,null,null,null,null,{"$f":"IF(H1154=Listas!$X$3,Acompanhamento!I1154,0)","v":0},{"$f":"IF(H1154=Listas!$X$4,Acompanhamento!I1154,0)","v":0},null,0,null,0,null,0,null,0]
[null,null,null,null,null,null,null,null,null,{"$f":"IF(H1155=Listas!$X$3,Acompanhamento!I1155,0)","v":0},{"$f":"IF(H1155=Listas!$X$4,Acompanhamento!I1155,0)","v":0},null,0,null,0,null,0,null,0]
[null,null,null,null,null,null,null,null,null,{"$f":"IF(H1156=Listas!$X$3,Acompanhamento!I1156,0)","v":0},{"$f":"IF(H1156=Listas!$X$4,Acompanhamento!I1156,0)","v":0},null,0,null,0,null,0,null,0]
[null,null,null,null,null,null,null,null,null,{"$f":"IF(H1157=Listas!$X$3,Acompanhamento!I1157,0)","v":0},{"$f":"IF(H1157=Listas!$X$4,Acompanhamento!I1157,0)","v":0},null,0,null,0,null,0,null,0]
[null,null,null,null,null,null,null,null,null,{"$f":"IF(H1158=Listas!$X$3,Acompanhamento!I1158,0)","v":0},{"$f":"IF(H1158=Listas!$X$4,Acompanhamento!I1158,0)","v":0},null,0,null,0,null,0,null,0]
[null,null,null,null,null,null,null,null,null,{"$f":"IF(H1159=Listas!$X$3,Acompanhamento!I1159,0)","v":0},{"$f":"IF(H1159=Listas!$X$4,Acompanhamento!I1159,0)","v":0},null,0,null,0,null,0,null,0]
[null,null,null,null,null,null,null,null,null,{"$f":"IF(H1160=Listas!$X$3,Acompanhamento!I1160,0)","v":0},{"$f":"IF(H1160=Listas!$X$4,Acompanhamento!I1160,0)","v":0},null,0,null,0,null,0,null,0]
[null,null,null,null,null,null,null,null,null,{"$f":"IF(H1161=Listas!$X$3,Acompanhamento!I1161,0)","v":0},{"$f":"IF(H1161=Listas!$X$4,Acompanhamento!I1161,0)","v":0},null,0,null,0,null,0,null,0]
[null,null,null,null,null,null,null,null,null,{"$f":"IF(H1162=Listas!$X$3,Acompanhamento!I1162,0)","v":0},{"$f":"IF(H1162=Listas!$X$4,Acompanhamento!I1162,0)","v":0},null,{"$f":"J1162-L1162","v":0},null,{"$f":"M1162-N1162","v":0},null,{"$f":"O1162-P1162","v":0},null,{"$f":"Q1162-R1162","v":0}]
[null,null,null,null,null,null,null,null,null,{"$f":"IF(H1163=Listas!$X$3,Acompanhamento!I1163,0)","v":0},{"$f":"IF(H1163=Listas!$X$4,Acompanhamento!I1163,0)","v":0},null,0,null,0,null,0,null,0]
[null,null,null,null,null,null,null,null,null,{"$f":"IF(H1164=Listas!$X$3,Acompanhamento!I1164,0)","v":0},{"$f":"IF(H1164=Listas!$X$4,Acompanhamento!I1164,0)","v":0},null,0,null,0,null,0,null,0]
[null,null,null,null,null,null,null,null,null,{"$f":"IF(H1165=Listas!$X$3,Acompanhamento!I1165,0)","v":0},{"$f":"IF(H1165=Listas!$X$4,Acompanhamento!I1165,0)","v":0},null,0,null,0,null,0,null,0]
[null,null,null,null,null,null,null,null,null,{"$f":"IF(H1166=Listas!$X$3,Acompanhamento!I1166,0)","v":0},{"$f":"IF(H1166=Listas!$X$4,Acompanhamento!I1166,0)","v":0},null,0,null,0,null,0,null,0]
[null,null,null,null,null,null,null,null,null,{"$f":"IF(H1167=Listas!$X$3,Acompanhamento!I1167,0)","v":0},{"$f":"IF(H1167=Listas!$X$4,Acompanhamento!I1167,0)","v":0},null,0,null,0,null,0,null,0]
[null,null,null,null,null,null,null,null,null,{"$f":"IF(H1168=Listas!$X$3,Acompanhamento!I1168,0)","v":0},{"$f":"IF(H1168=Listas!$X$4,Acompanhamento!I1168,0)","v":0},null,0,null,0,null,0,null,0]
[null,null,null,null,null,null,null,null,null,{"$f":"IF(H1169=Listas!$X$3,Acompanhamento!I1169,0)","v":0},{"$f":"IF(H1169=Listas!$X$4,Acompanhamento!I1169,0)","v":0},null,0,null,0,null,0,null,0]
[null,null,null,null,null,null,null,null,null,{"$f":"IF(H1170=Listas!$X$3,Acompanhamento!I1170,0)","v":0},{"$f":"IF(H1170=Listas!$X$4,Acompanhamento!I1170,0)","v":0},null,0,null,0,null,0,null,0]
[null,null,null,null,null,null,null,null,null,{"$f":"IF(H1171=Listas!$X$3,Acompanhamento!I1171,0)","v":0},{"$f":"IF(H1171=Listas!$X$4,Acompanhamento!I1171,0)","v":0},null,0,null,0,null,0,null,0]
[null,null,null,null,null,null,null,null,null,{"$f":"IF(H1172=Listas!$X$3,Acompanhamento!I1172,0)","v":0},{"$f":"IF(H1172=Listas!$X$4,Acompanhamento!I1172,0)","v":0},null,0,null,0,null,0,null,0]
[null,null,null,null,null,null,null,null,null,{"$f":"IF(H1173=Listas!$X$3,Acompanhamento!I1173,0)","v":0},{"$f":"IF(H1173=Listas!$X$4,Acompanhamento!I1173,0)","v":0},null,0,null,0,null,0,null,0]
[null,null,null,null,null,null,null,null,null,{"$f":"IF(H1174=Listas!$X$3,Acompanhamento!I1174,0)","v":0},{"$f":"IF(H1174=Listas!$X$4,Acompanhamento!I1174,0)","v":0},null,0,null,0,null,0,null,0]
[null,null,null,null,null,null,null,null,null,{"$f":"IF(H1175=Listas!$X$3,Acompanhamento!I1175,0)","v":0},{"$f":"IF(H1175=Listas!$X$4,Acompanhamento!I1175,0)","v":0},null,0,null,0,null,0,null,0]
[null,null,null,null,null,null,null,null,null,{"$f":"IF(H1176=Listas!$X$3,Acompanhamento!I1176,0)","v":0},{"$f":"IF(H1176=Listas!$X$4,Acompanhamento!I1176,0)","v":0},null,0,null,0,null,0,null,0]
[null,null,null,null,null,null,null,null,null,{"$f":"IF(H1177=Listas!$X$3,Acompanhamento!I1177,0)","v":0},{"$f":"IF(H1177=Listas!$X$4,Acompanhamento!I1177,0)","v":0},null,0,null,0,null,0,null,0]
[null,null,null,null,null,null,null,null,null,{"$f":"IF(H1178=Listas!$X$3,Acompanhamento!I1178,0)","v":0},{"$f":"IF(H1178=Listas!$X$4,Acompanhamento!I1178,0)","v":0},null,0,null,0,null,0,null,0]
[null,null,null,null,null,null,null,null,null,{"$f":"IF(H1179=Listas!$X$3,Acompanhamento!I1179,0)","v":0},{"$f":"IF(H1179=Listas!$X$4,Acompanhamento!I1179,0)","v":0},null,0,null,0,null,0,null,0]
[null,null,null,null,null,null,null,null,null,{"$f":"IF(H1180=Listas!$X$3,Acompanhamento!I1180,0)","v":0},{"$f":"IF(H1180=Listas!$X$4,Acompanhamento!I1180,0)","v":0},null,0,null,0,null,0,null,0]
[null,null,null,null,null,null,null,null,null,{"$f":"IF(H1181=Listas!$X$3,Acompanhamento!I1181,0)","v":0},{"$f":"IF(H1181=Listas!$X$4,Acompanhamento!I1181,0)","v":0},null,0,null,0,null,0,null,0]
[null,null,null,null,null,null,null,null,null,{"$f":"IF(H1182=Listas!$X$3,Acompanhamento!I1182,0)","v":0},{"$f":"IF(H1182=Listas!$X$4,Acompanhamento!I1182,0)","v":0},null,0,null,0,null,0,null,0]
[null,null,null,null,null,null,null,null,null,{"$f":"IF(H1183=Listas!$X$3,Acompanhamento!I1183,0)","v":0},{"$f":"IF(H1183=Listas!$X$4,Acompanhamento!I1183,0)","v":0},null,0,null,0,null,0,null,0]
[null,null,null,null,null,null,null,null,null,{"$f":"IF(H1184=Listas!$X$3,Acompanhamento!I1184,0)","v":0},{"$f":"IF(H1184=Listas!$X$4,Acompanhamento!I1184,0)","v":0},null,0,null,0,null,0,null,0]
[null,null,null,null,null,null,null,null,null,{"$f":"IF(H1185=Listas!$X$3,Acompanhamento!I1185,0)","v":0},{"$f":"IF(H1185=Listas!$X$4,Acompanhamento!I1185,0)","v":0},null,0,null,0,null,0,null,0]
[null,null,null,null,null,null,null,null,null,{"$f":"IF(H1186=Listas!$X$3,Acompanhamento!I1186,0)","v":0},{"$f":"IF(H1186=Listas!$X$4,Acompanhamento!I1186,0)","v":0},null,0,null,0,null,0,null,0]
[null,null,null,null,null,null,null,null,null,{"$f":"IF(H1187=Listas!$X$3,Acompanhamento!I1187,0)","v":0},{"$f":"IF(H1187=Listas!$X$4,Acompanhamento!I1187,0)","v":0},null,0,null,0,null,0,null,0]
[null,null,null,null,null,null,null,null,null,{"$f":"IF(H1188=Listas!$X$3,Acompanhamento!I1188,0)","v":0},{"$f":"IF(H1188=Listas!$X$4,Acompanhamento!I1188,0)","v":0},null,0,null,0,null,0,null,0]
[null,null,null,null,null,null,null,null,null,{"$f":"IF(H1189=Listas!$X$3,Acompanhamento!I1189,0)","v":0},{"$f":"IF(H1189=Listas!$X$4,Acompanhamento!I1189,0)","v":0},null,0,null,0,null,0,null,0]
[null,null,null,null,null,null,null,null,null,{"$f":"IF(H1190=Listas!$X$3,Acompanhamento!I1190,0)","v":0},{"$f":"IF(H1190=Listas!$X$4,Acompanhamento!I1190,0)","v":0},null,0,null,0,null,0,null,0]
[null,null,null,null,null,null,null,null,null,{"$f":"IF(H1191=Listas!$X$3,Acompanhamento!I1191,0)","v":0},{"$f":"IF(H1191=Listas!$X$4,Acompanhamento!I1191,0)","v":0},null,0,null,0,null,0,null,0]
[null,null,null,null,null,null,null,null,null,{"$f":"IF(H1192=Listas!$X$3,Acompanhamento!I1192,0)","v":0},{"$f":"IF(H1192=Listas!$X$4,Acompanhamento!I1192,0)","v":0},null,0,null,0,null,0,null,0]
[null,null,null,null,null,null,null,null,null,{"$f":"IF(H1193=Listas!$X$3,Acompanhamento!I1193,0)","v":0},{"$f":"IF(H1193=Listas!$X$4,Acompanhamento!I1193,0)","v":0},null,0,null,0,null,0,null,0]
[null,null,null,null,null,null,null,null,null,{"$f":"IF(H1194=Listas!$X$3,Acompanhamento!I1194,0)","v":0},{"$f":"IF(H1194=Listas!$X$4,Acompanhamento!I1194,0)","v":0},null,0,null,0,null,0,null,0]
[null,null,null,null,null,null,null,null,null,{"$f":"IF(H1195=Listas!$X$3,Acompanhamento!I1195,0)","v":0},{"$f":"IF(H1195=Listas!$X$4,Acompanhamento!I1195,0)","v":0},null,0,null,0,null,0,null,0]
[null,null,null,null,null,null,null,null,null,{"$f":"IF(H1196=Listas!$X$3,Acompanhamento!I1196,0)","v":0},{"$f":"IF(H1196=Listas!$X$4,Acompanhamento!I1196,0)","v":0},null,0,null,0,null,0,null,0]
[null,null,null,null,null,null,null,null,null,{"$f":"IF(H1197=Listas!$X$3,Acompanhamento!I1197,0)","v":0},{"$f":"IF(H1197=Listas!$X$4,Acompanhamento!I1197,0)","v":0},null,0,null,0,null,0,null,0]
[null,null,null,null,null,null,null,null,null,{"$f":"IF(H1198=Listas!$X$3,Acompanhamento!I1198,0)","v":0},{"$f":"IF(H1198=Listas!$X$4,Acompanhamento!I1198,0)","v":0},null,0,null,0,null,0,null,0]
[null,null,null,null,null,null,null,null,null,{"$f":"IF(H1199=Listas!$X$3,Acompanhamento!I1199,0)","v":0},{"$f":"IF(H1199=Listas!$X$4,Acompanhamento!I1199,0)","v":0},null,0,null,0,null,0,null,0]
[null,null,null,null,null,null,null,null,null,{"$f":"IF(H1200=Listas!$X$3,Acompanhamento!I1200,0)","v":0},{"$f":"IF(H1200=Listas!$X$4,Acompanhamento!I1200,0)","v":0},null,0,null,0,null,0,null,0]
[null,null,null,null,null,null,null,null,null,{"$f":"IF(H1201=Listas!$X$3,Acompanhamento!I1201,0)","v":0},{"$f":"IF(H1201=Listas!$X$4,Acompanhamento!I1201,0)","v":0},null,0,null,0,null,0,null,0]
[null,null,null,null,null,null,null,null,null,{"$f":"IF(H1202=Listas!$X$3,Acompanhamento!I1202,0)","v":0},{"$f":"IF(H1202=Listas!$X$4,Acompanhamento!I1202,0)","v":0},null,0,null,0,null,0,null,0]
[null,null,null,null,null,null,null,null,null,{"$f":"IF(H1203=Listas!$X$3,Acompanhamento!I1203,0)","v":0},{"$f":"IF(H1203=Listas!$X$4,Acompanhamento!I1203,0)","v":0},null,0,null,0,null,0,null,0]
[null,null,null,null,null,null,null,null,null,{"$f":"IF(H1204=Listas!$X$3,Acompanhamento!I1204,0)","v":0},{"$f":"IF(H1204=Listas!$X$4,Acompanhamento!I1204,0)","v":0},null,0,null,0,null,0,null,0]
[null,null,null,null,null,null,null,null,null,{"$f":"IF(H1205=Listas!$X$3,Acompanhamento!I1205,0)","v":0},{"$f":"IF(H1205=Listas!$X$4,Acompanhamento!I1205,0)","v":0},null,0,null,0,null,0,null,0]
[null,null,null,null,null,null,null,null,null,{"$f":"IF(H1206=Listas!$X$3,Acompanhamento!I1206,0)","v":0},{"$f":"IF(H1206=Listas!$X$4,Acompanhamento!I1206,0)","v":0},null,0,null,0,null,0,null,0]
[null,null,null,null,null,null,null,null,null,{"$f":"IF(H1207=Listas!$X$3,Acompanhamento!I1207,0)","v":0},{"$f":"IF(H1207=Listas!$X$4,Acompanhamento!I1207,0)","v":0},null,0,null,0,null,0,null,0]
[null,null,null,null,null,null,null,null,null,{"$f":"IF(H1208=Listas!$X$3,Acompanhamento!I1208,0)","v":0},{"$f":"IF(H1208=Listas!$X$4,Acompanhamento!I1208,0)","v":0},null,0,null,0,null,0,null,0]
[null,null,null,null,null,null,null,null,null,{"$f":"IF(H1209=Listas!$X$3,Acompanhamento!I1209,0)","v":0},{"$f":"IF(H1209=Listas!$X$4,Acompanhamento!I1209,0)","v":0},null,0,null,0,null,0,null,0]
[null,null,null,null,null,null,null,null,null,{"$f":"IF(H1210=Listas!$X$3,Acompanhamento!I1210,0)","v":0},{"$f":"IF(H1210=Listas!$X$4,Acompanhamento!I1210,0)","v":0},null,0,null,0,null,0,null,0]
[null,null,null,null,null,null,null,null,null,{"$f":"IF(H1211=Listas!$X$3,Acompanhamento!I1211,0)","v":0},{"$f":"IF(H1211=Listas!$X$4,Acompanhamento!I1211,0)","v":0},null,0,null,0,null,0,null,0]
[null,null,null,null,null,null,null,null,null,{"$f":"IF(H1212=Listas!$X$3,Acompanhamento!I1212,0)","v":0},{"$f":"IF(H1212=Listas!$X$4,Acompanhamento!I1212,0)","v":0},null,0,null,0,null,0,null,0]
[null,null,null,null,null,null,null,null,null,{"$f":"IF(H1213=Listas!$X$3,Acompanhamento!I1213,0)","v":0},{"$f":"IF(H1213=Listas!$X$4,Acompanhamento!I1213,0)","v":0},null,0,null,0,null,0,null,0]
[null,null,null,null,null,null,null,null,null,{"$f":"IF(H1214=Listas!$X$3,Acompanhamento!I1214,0)","v":0},{"$f":"IF(H1214=Listas!$X$4,Acompanhamento!I1214,0)","v":0},null,0,null,0,null,0,null,0]
[null,null,null,null,null,null,null,null,null,{"$f":"IF(H1215=Listas!$X$3,Acompanhamento!I1215,0)","v":0},{"$f":"IF(H1215=Listas!$X$4,Acompanhamento!I1215,0)","v":0},null,0,null,0,null,0,null,0]
[null,null,null,null,null,null,null,null,null,{"$f":"IF(H1216=Listas!$X$3,Acompanhamento!I1216,0)","v":0},{"$f":"IF(H1216=Listas!$X$4,Acompanhamento!I1216,0)","v":0},null,0,null,0,null,0,null,0]
[null,null,null,null,null,null,null,null,null,{"$f":"IF(H1217=Listas!$X$3,Acompanhamento!I1217,0)","v":0},{"$f":"IF(H1217=Listas!$X$4,Acompanhamento!I1217,0)","v":0},null,0,null,0,null,0,null,0]
[null,null,null,null,null,null,null,null,null,{"$f":"IF(H1218=Listas!$X$3,Acompanhamento!I1218,0)","v":0},{"$f":"IF(H1218=Listas!$X$4,Acompanhamento!I1218,0)","v":0},null,0,null,0,null,0,null,0]
[null,null,null,null,null,null,null,null,null,{"$f":"IF(H1219=Listas!$X$3,Acompanhamento!I1219,0)","v":0},{"$f":"IF(H1219=Listas!$X$4,Acompanhamento!I1219,0)","v":0},null,0,null,0,null,0,null,0]
[null,null,null,null,null,null,null,null,null,{"$f":"IF(H1220=Listas!$X$3,Acompanhamento!I1220,0)","v":0},{"$f":"IF(H1220=Listas!$X$4,Acompanhamento!I1220,0)","v":0},null,0,null,0,null,0,null,0]
[null,null,null,null,null,null,null,null,null,{"$f":"IF(H1221=Listas!$X$3,Acompanhamento!I1221,0)","v":0},{"$f":"IF(H1221=Listas!$X$4,Acompanhamento!I1221,0)","v":0},null,0,null,0,null,0,null,0]
[null,null,null,null,null,null,null,null,null,{"$f":"IF(H1222=Listas!$X$3,Acompanhamento!I1222,0)","v":0},{"$f":"IF(H1222=Listas!$X$4,Acompanhamento!I1222,0)","v":0},null,0,null,0,null,0,null,0]
[null,null,null,null,null,null,null,null,null,{"$f":"IF(H1223=Listas!$X$3,Acompanhamento!I1223,0)","v":0},{"$f":"IF(H1223=Listas!$X$4,Acompanhamento!I1223,0)","v":0},null,0,null,0,null,0,null,0]
[null,null,null,null,null,null,null,null,null,{"$f":"IF(H1224=Listas!$X$3,Acompanhamento!I1224,0)","v":0},{"$f":"IF(H1224=Listas!$X$4,Acompanhamento!I1224,0)","v":0},null,0,null,0,null,0,null,0]
[null,null,null,null,null,null,null,null,null,{"$f":"IF(H1225=Listas!$X$3,Acompanhamento!I1225,0)","v":0},{"$f":"IF(H1225=Listas!$X$4,Acompanhamento!I1225,0)","v":0},null,0,null,0,null,0,null,0]
[null,null,null,null,null,null,null,null,null,{"$f":"IF(H1226=Listas!$X$3,Acompanhamento!I1226,0)","v":0},{"$f":"IF(H1226=Listas!$X$4,Acompanhamento!I1226,0)","v":0},null,{"$f":"J1226-L1226","v":0},null,{"$f":"M1226-N1226","v":0},null,{"$f":"O1226-P1226","v":0},null,{"$f":"Q1226-R1226","v":0}]
[null,null,null,null,null,null,null,null,null,{"$f":"IF(H1227=Listas!$X$3,Acompanhamento!I1227,0)","v":0},{"$f":"IF(H1227=Listas!$X$4,Acompanhamento!I1227,0)","v":0},null,0,null,0,null,0,null,0]
[null,null,null,null,null,null,null,null,null,{"$f":"IF(H1228=Listas!$X$3,Acompanhamento!I1228,0)","v":0},{"$f":"IF(H1228=Listas!$X$4,Acompanhamento!I1228,0)","v":0},null,0,null,0,null,0,null,0]
[null,null,null,null,null,null,null,null,null,{"$f":"IF(H1229=Listas!$X$3,Acompanhamento!I1229,0)","v":0},{"$f":"IF(H1229=Listas!$X$4,Acompanhamento!I1229,0)","v":0},null,0,null,0,null,0,null,0]
[null,null,null,null,null,null,null,null,null,{"$f":"IF(H1230=Listas!$X$3,Acompanhamento!I1230,0)","v":0},{"$f":"IF(H1230=Listas!$X$4,Acompanhamento!I1230,0)","v":0},null,0,null,0,null,0,null,0]
[null,null,null,null,null,null,null,null,null,{"$f":"IF(H1231=Listas!$X$3,Acompanhamento!I1231,0)","v":0},{"$f":"IF(H1231=Listas!$X$4,Acompanhamento!I1231,0)","v":0},null,0,null,0,null,0,null,0]
[null,null,null,null,null,null,null,null,null,{"$f":"IF(H1232=Listas!$X$3,Acompanhamento!I1232,0)","v":0},{"$f":"IF(H1232=Listas!$X$4,Acompanhamento!I1232,0)","v":0},null,0,null,0,null,0,null,0]
[null,null,null,null,null,null,null,null,null,{"$f":"IF(H1233=Listas!$X$3,Acompanhamento!I1233,0)","v":0},{"$f":"IF(H1233=Listas!$X$4,Acompanhamento!I1233,0)","v":0},null,0,null,0,null,0,null,0]
[null,null,null,null,null,null,null,null,null,{"$f":"IF(H1234=Listas!$X$3,Acompanhamento!I1234,0)","v":0},{"$f":"IF(H1234=Listas!$X$4,Acompanhamento!I1234,0)","v":0},null,0,null,0,null,0,null,0]
[null,null,null,null,null,null,null,null,null,{"$f":"IF(H1235=Listas!$X$3,Acompanhamento!I1235,0)","v":0},{"$f":"IF(H1235=Listas!$X$4,Acompanhamento!I1235,0)","v":0},null,0,null,0,null,0,null,0]
[null,null,null,null,null,null,null,null,null,{"$f":"IF(H1236=Listas!$X$3,Acompanhamento!I1236,0)","v":0},{"$f":"IF(H1236=Listas!$X$4,Acompanhamento!I1236,0)","v":0},null,0,null,0,null,0,null,0]
[null,null,null,null,null,null,null,null,null,{"$f":"IF(H1237=Listas!$X$3,Acompanhamento!I1237,0)","v":0},{"$f":"IF(H1237=Listas!$X$4,Acompanhamento!I1237,0)","v":0},null,0,null,0,null,0,null,0]
[null,null,null,null,null,null,null,null,null,{"$f":"IF(H1238=Listas!$X$3,Acompanhamento!I1238,0)","v":0},{"$f":"IF(H1238=Listas!$X$4,Acompanhamento!I1238,0)","v":0},null,0,null,0,null,0,null,0]
[null,null,null,null,null,null,null,null,null,{"$f":"IF(H1239=Listas!$X$3,Acompanhamento!I1239,0)","v":0},{"$f":"IF(H1239=Listas!$X$4,Acompanhamento!I1239,0)","v":0},null,0,null,0,null,0,null,0]
[null,null,null,null,null,null,null,null,null,{"$f":"IF(H1240=Listas!$X$3,Acompanhamento!I1240,0)","v":0},{"$f":"IF(H1240=Listas!$X$4,Acompanhamento!I1240,0)","v":0},null,0,null,0,null,0,null,0]
[null,null,null,null,null,null,null,null,null,{"$f":"IF(H1241=Listas!$X$3,Acompanhamento!I1241,0)","v":0},{"$f":"IF(H1241=Listas!$X$4,Acompanhamento!I1241,0)","v":0},null,0,null,0,null,0,null,0]
[null,null,null,null,null,null,null,null,null,{"$f":"IF(H1242=Listas!$X$3,Acompanhamento!I1242,0)","v":0},{"$f":"IF(H1242=Listas!$X$4,Acompanhamento!I1242,0)","v":0},null,0,null,0,null,0,null,0]
[null,null,null,null,null,null,null,null,null,{"$f":"IF(H1243=Listas!$X$3,Acompanhamento!I1243,0)","v":0},{"$f":"IF(H1243=Listas!$X$4,Acompanhamento!I1243,0)","v":0},null,0,null,0,null,0,null,0]
[null,null,null,null,null,null,null,null,null,{"$f":"IF(H1244=Listas!$X$3,Acompanhamento!I1244,0)","v":0},{"$f":"IF(H1244=Listas!$X$4,Acompanhamento!I1244,0)","v":0},null,0,null,0,null,0,null,0]
[null,null,null,null,null,null,null,null,null,{"$f":"IF(H1245=Listas!$X$3,Acompanhamento!I1245,0)","v":0},{"$f":"IF(H1245=Listas!$X$4,Acompanhamento!I1245,0)","v":0},null,0,null,0,null,0,null,0]
[null,null,null,null,null,null,null,null,null,{"$f":"IF(H1246=Listas!$X$3,Acompanhamento!I1246,0)","v":0},{"$f":"IF(H1246=Listas!$X$4,Acompanhamento!I1246,0)","v":0},null,0,null,0,null,0,null,0]
[null,null,null,null,null,null,null,null,null,{"$f":"IF(H1247=Listas!$X$3,Acompanhamento!I1247,0)","v":0},{"$f":"IF(H1247=Listas!$X$4,Acompanhamento!I1247,0)","v":0},null,0,null,0,null,0,null,0]
[null,null,null,null,null,null,null,null,null,{"$f":"IF(H1248=Listas!$X$3,Acompanhamento!I1248,0)","v":0},{"$f":"IF(H1248=Listas!$X$4,Acompanhamento!I1248,0)","v":0},null,0,null,0,null,0,null,0]
[null,null,null,null,null,null,null,null,null,{"$f":"IF(H1249=Listas!$X$3,Acompanhamento!I1249,0)","v":0},{"$f":"IF(H1249=Listas!$X$4,Acompanhamento!I1249,0)","v":0},null,0,null,0,null,0,null,0]
[null,null,null,null,null,null,null,null,null,{"$f":"IF(H1250=Listas!$X$3,Acompanhamento!I1250,0)","v":0},{"$f":"IF(H1250=Listas!$X$4,Acompanhamento!I1250,0)","v":0},null,0,null,0,null,0,null,0]
[null,null,null,null,null,null,null,null,null,{"$f":"IF(H1251=Listas!$X$3,Acompanhamento!I1251,0)","v":0},{"$f":"IF(H1251=Listas!$X$4,Acompanhamento!I1251,0)","v":0},null,0,null,0,null,0,null,0]
[null,null,null,null,null,null,null,null,null,{"$f":"IF(H1252=Listas!$X$3,Acompanhamento!I1252,0)","v":0},{"$f":"IF(H1252=Listas!$X$4,Acompanhamento!I1252,0)","v":0},null,0,null,0,null,0,null,0]
[null,null,null,null,null,null,null,null,null,{"$f":"IF(H1253=Listas!$X$3,Acompanhamento!I1253,0)","v":0},{"$f":"IF(H1253=Listas!$X$4,Acompanhamento!I1253,0)","v":0},null,0,null,0,null,0,null,0]
[null,null,null,null,null,null,null,null,null,{"$f":"IF(H1254=Listas!$X$3,Acompanhamento!I1254,0)","v":0},{"$f":"IF(H1254=Listas!$X$4,Acompanhamento!I1254,0)","v":0},null,0,null,0,null,0,null,0]
[null,null,null,null,null,null,null,null,null,{"$f":"IF(H1255=Listas!$X$3,Acompanhamento!I1255,0)","v":0},{"$f":"IF(H1255=Listas!$X$4,Acompanhamento!I1255,0)","v":0},null,0,null,0,null,0,null,0]
[null,null,null,null,null,null,null,null,null,{"$f":"IF(H1256=Listas!$X$3,Acompanhamento!I1256,0)","v":0},{"$f":"IF(H1256=Listas!$X$4,Acompanhamento!I1256,0)","v":0},null,0,null,0,null,0,null,0]
[null,null,null,null,null,null,null,null,null,{"$f":"IF(H1257=Listas!$X$3,Acompanhamento!I1257,0)","v":0},{"$f":"IF(H1257=Listas!$X$4,Acompanhamento!I1257,0)","v":0},null,0,null,0,null,0,null,0]
[null,null,null,null,null,null,null,null,null,{"$f":"IF(H1258=Listas!$X$3,Acompanhamento!I1258,0)","v":0},{"$f":"IF(H1258=Listas!$X$4,Acompanhamento!I1258,0)","v":0},null,0,null,0,null,0,null,0]
[null,null,null,null,null,null,null,null,null,{"$f":"IF(H1259=Listas!$X$3,Acompanhamento!I1259,0)","v":0},{"$f":"IF(H1259=Listas!$X$4,Acompanhamento!I1259,0)","v":0},null,0,null,0,null,0,null,0]
[null,null,null,null,null,null,null,null,null,{"$f":"IF(H1260=Listas!$X$3,Acompanhamento!I1260,0)","v":0},{"$f":"IF(H1260=Listas!$X$4,Acompanhamento!I1260,0)","v":0},null,0,null,0,null,0,null,0]
[null,null,null,null,null,null,null,null,null,{"$f":"IF(H1261=Listas!$X$3,Acompanhamento!I1261,0)","v":0},{"$f":"IF(H1261=Listas!$X$4,Acompanhamento!I1261,0)","v":0},null,0,null,0,null,0,null,0]
[null,null,null,null,null,null,null,null,null,{"$f":"IF(H1262=Listas!$X$3,Acompanhamento!I1262,0)","v":0},{"$f":"IF(H1262=Listas!$X$4,Acompanhamento!I1262,0)","v":0},null,0,null,0,null,0,null,0]
[null,null,null,null,null,null,null,null,null,{"$f":"IF(H1263=Listas!$X$3,Acompanhamento!I1263,0)","v":0},{"$f":"IF(H1263=Listas!$X$4,Acompanhamento!I1263,0)","v":0},null,0,null,0,null,0,null,0]
[null,null,null,null,null,null,null,null,null,{"$f":"IF(H1264=Listas!$X$3,Acompanhamento!I1264,0)","v":0},{"$f":"IF(H1264=Listas!$X$4,Acompanhamento!I1264,0)","v":0},null,0,null,0,null,0,null,0]
[null,null,null,null,null,null,null,null,null,{"$f":"IF(H1265=Listas!$X$3,Acompanhamento!I1265,0)","v":0},{"$f":"IF(H1265=Listas!$X$4,Acompanhamento!I1265,0)","v":0},null,0,null,0,null,0,null,0]
[null,null,null,null,null,null,null,null,null,{"$f":"IF(H1266=Listas!$X$3,Acompanhamento!I1266,0)","v":0},{"$f":"IF(H1266=Listas!$X$4,Acompanhamento!I1266,0)","v":0},null,0,null,0,null,0,null,0]
[null,null,null,null,null,null,null,null,null,{"$f":"IF(H1267=Listas!$X$3,Acompanhamento!I1267,0)","v":0},{"$f":"IF(H1267=Listas!$X$4,Acompanhamento!I1267,0)","v":0},null,0,null,0,null,0,null,0]
[null,null,null,null,null,null,null,null,null,{"$f":"IF(H1268=Listas!$X$3,Acompanhamento!I1268,0)","v":0},{"$f":"IF(H1268=Listas!$X$4,Acompanhamento!I1268,0)","v":0},null,0,null,0,null,0,null,0]
[null,null,null,null,null,null,null,null,null,{"$f":"IF(H1269=Listas!$X$3,Acompanhamento!I1269,0)","v":0},{"$f":"IF(H1269=Listas!$X$4,Acompanhamento!I1269,0)","v":0},null,0,null,0,null,0,null,0]
[null,null,null,null,null,null,null,null,null,{"$f":"IF(H1270=Listas!$X$3,Acompanhamento!I1270,0)","v":0},{"$f":"IF(H1270=Listas!$X$4,Acompanhamento!I1270,0)","v":0},null,0,null,0,null,0,null,0]
[null,null,null,null,null,null,null,null,null,{"$f":"IF(H1271=Listas!$X$3,Acompanhamento!I1271,0)","v":0},{"$f":"IF(H1271=Listas!$X$4,Acompanhamento!I1271,0)","v":0},null,0,null,0,null,0,null,0]
[null,null,null,null,null,null,null,null,null,{"$f":"IF(H1272=Listas!$X$3,Acompanhamento!I1272,0)","v":0},{"$f":"IF(H1272=Listas!$X$4,Acompanhamento!I1272,0)","v":0},null,0,null,0,null,0,null,0]
[null,null,null,null,null,null,null,null,null,{"$f":"IF(H1273=Listas!$X$3,Acompanhamento!I1273,0)","v":0},{"$f":"IF(H1273=Listas!$X$4,Acompanhamento!I1273,0)","v":0},null,0,null,0,null,0,null,0]
[null,null,null,null,null,null,null,null,null,{"$f":"IF(H1274=Listas!$X$3,Acompanhamento!I1274,0)","v":0},{"$f":"IF(H1274=Listas!$X$4,Acompanhamento!I1274,0)","v":0},null,0,null,0,null,0,null,0]
[null,null,null,null,null,null,null,null,null,{"$f":"IF(H1275=Listas!$X$3,Acompanhamento!I1275,0)","v":0},{"$f":"IF(H1275=Listas!$X$4,Acompanhamento!I1275,0)","v":0},null,0,null,0,null,0,null,0]
[null,null,null,null,null,null,null,null,null,{"$f":"IF(H1276=Listas!$X$3,Acompanhamento!I1276,0)","v":0},{"$f":"IF(H1276=Listas!$X$4,Acompanhamento!I1276,0)","v":0},null,0,null,0,null,0,null,0]
[null,null,null,null,null,null,null,null,null,{"$f":"IF(H1277=Listas!$X$3,Acompanhamento!I1277,0)","v":0},{"$f":"IF(H1277=Listas!$X$4,Acompanhamento!I1277,0)","v":0},null,0,null,0,null,0,null,0]
[null,null,null,null,null,null,null,null,null,{"$f":"IF(H1278=Listas!$X$3,Acompanhamento!I1278,0)","v":0},{"$f":"IF(H1278=Listas!$X$4,Acompanhamento!I1278,0)","v":0},null,0,null,0,null,0,null,0]
[null,null,null,null,null,null,null,null,null,{"$f":"IF(H1279=Listas!$X$3,Acompanhamento!I1279,0)","v":0},{"$f":"IF(H1279=Listas!$X$4,Acompanhamento!I1279,0)","v":0},null,0,null,0,null,0,null,0]
[null,null,null,null,null,null,null,null,null,{"$f":"IF(H1280=Listas!$X$3,Acompanhamento!I1280,0)","v":0},{"$f":"IF(H1280=Listas!$X$4,Acompanhamento!I1280,0)","v":0},null,0,null,0,null,0,null,0]
[null,null,null,null,null,null,null,null,null,{"$f":"IF(H1281=Listas!$X$3,Acompanhamento!I1281,0)","v":0},{"$f":"IF(H1281=Listas!$X$4,Acompanhamento!I1281,0)","v":0},null,0,null,0,null,0,null,0]
[null,null,null,null,null,null,null,null,null,{"$f":"IF(H1282=Listas!$X$3,Acompanhamento!I1282,0)","v":0},{"$f":"IF(H1282=Listas!$X$4,Acompanhamento!I1282,0)","v":0},null,0,null,0,null,0,null,0]
[null,null,null,null,null,null,null,null,null,{"$f":"IF(H1283=Listas!$X$3,Acompanhamento!I1283,0)","v":0},{"$f":"IF(H1283=Listas!$X$4,Acompanhamento!I1283,0)","v":0},null,0,null,0,null,0,null,0]
[null,null,null,null,null,null,null,null,null,{"$f":"IF(H1284=Listas!$X$3,Acompanhamento!I1284,0)","v":0},{"$f":"IF(H1284=Listas!$X$4,Acompanhamento!I1284,0)","v":0},null,0,null,0,null,0,null,0]
[null,null,null,null,null,null,null,null,null,{"$f":"IF(H1285=Listas!$X$3,Acompanhamento!I1285,0)","v":0},{"$f":"IF(H1285=Listas!$X$4,Acompanhamento!I1285,0)","v":0},null,0,null,0,null,0,null,0]
[null,null,null,null,null,null,null,null,null,{"$f":"IF(H1286=Listas!$X$3,Acompanhamento!I1286,0)","v":0},{"$f":"IF(H1286=Listas!$X$4,Acompanhamento!I1286,0)","v":0},null,0,null,0,null,0,null,0]
[null,null,null,null,null,null,null,null,null,{"$f":"IF(H1287=Listas!$X$3,Acompanhamento!I1287,0)","v":0},{"$f":"IF(H1287=Listas!$X$4,Acompanhamento!I1287,0)","v":0},null,0,null,0,null,0,null,0]
[null,null,null,null,null,null,null,null,null,{"$f":"IF(H1288=Listas!$X$3,Acompanhamento!I1288,0)","v":0},{"$f":"IF(H1288=Listas!$X$4,Acompanhamento!I1288,0)","v":0},null,0,null,0,null,0,null,0]
[null,null,null,null,null,null,null,null,null,{"$f":"IF(H1289=Listas!$X$3,Acompanhamento!I1289,0)","v":0},{"$f":"IF(H1289=Listas!$X$4,Acompanhamento!I1289,0)","v":0},null,0,null,0,null,0,null,0]
[null,null,null,null,null,null,null,null,null,{"$f":"IF(H1290=Listas!$X$3,Acompanhamento!I1290,0)","v":0},{"$f":"IF(H1290=Listas!$X$4,Acompanhamento!I1290,0)","v":0},null,{"$f":"J1290-L1290","v":0},null,{"$f":"M1290-N1290","v":0},null,{"$f":"O1290-P1290","v":0},null,{"$f":"Q1290-R1290","v":0}]
[null,null,null,null,null,null,null,null,null,{"$f":"IF(H1291=Listas!$X$3,Acompanhamento!I1291,0)","v":0},{"$f":"IF(H1291=Listas!$X$4,Acompanhamento!I1291,0)","v":0},null,0,null,0,null,0,null,0]
[null,null,null,null,null,null,null,null,null,{"$f":"IF(H1292=Listas!$X$3,Acompanhamento!I1292,0)","v":0},{"$f":"IF(H1292=Listas!$X$4,Acompanhamento!I1292,0)","v":0},null,0,null,0,null,0,null,0]
[null,null,null,null,null,null,null,null,null,{"$f":"IF(H1293=Listas!$X$3,Acompanhamento!I1293,0)","v":0},{"$f":"IF(H1293=Listas!$X$4,Acompanhamento!I1293,0)","v":0},null,0,null,0,null,0,null,0]
[null,null,null,null,null,null,null,null,null,{"$f":"IF(H1294=Listas!$X$3,Acompanhamento!I1294,0)","v":0},{"$f":"IF(H1294=Listas!$X$4,Acompanhamento!I1294,0)","v":0},null,0,null,0,null,0,null,0]
[null,null,null,null,null,null,null,null,null,{"$f":"IF(H1295=Listas!$X$3,Acompanhamento!I1295,0)","v":0},{"$f":"IF(H1295=Listas!$X$4,Acompanhamento!I1295,0)","v":0},null,0,null,0,null,0,null,0]
[null,null,null,null,null,null,null,null,null,{"$f":"IF(H1296=Listas!$X$3,Acompanhamento!I1296,0)","v":0},{"$f":"IF(H1296=Listas!$X$4,Acompanhamento!I1296,0)","v":0},null,0,null,0,null,0,null,0]
[null,null,null,null,null,null,null,null,null,{"$f":"IF(H1297=Listas!$X$3,Acompanhamento!I1297,0)","v":0},{"$f":"IF(H1297=Listas!$X$4,Acompanhamento!I1297,0)","v":0},null,0,null,0,null,0,null,0]
[null,null,null,null,null,null,null,null,null,{"$f":"IF(H1298=Listas!$X$3,Acompanhamento!I1298,0)","v":0},{"$f":"IF(H1298=Listas!$X$4,Acompanhamento!I1298,0)","v":0},null,0,null,0,null,0,null,0]
[null,null,null,null,null,null,null,null,null,{"$f":"IF(H1299=Listas!$X$3,Acompanhamento!I1299,0)","v":0},{"$f":"IF(H1299=Listas!$X$4,Acompanhamento!I1299,0)","v":0},null,0,null,0,null,0,null,0]
[null,null,null,null,null,null,null,null,null,{"$f":"IF(H1300=Listas!$X$3,Acompanhamento!I1300,0)","v":0},{"$f":"IF(H1300=Listas!$X$4,Acompanhamento!I1300,0)","v":0},null,0,null,0,null,0,null,0]
[null,null,null,null,null,null,null,null,null,{"$f":"IF(H1301=Listas!$X$3,Acompanhamento!I1301,0)","v":0},{"$f":"IF(H1301=Listas!$X$4,Acompanhamento!I1301,0)","v":0},null,0,null,0,null,0,null,0]
[null,null,null,null,null,null,null,null,null,{"$f":"IF(H1302=Listas!$X$3,Acompanhamento!I1302,0)","v":0},{"$f":"IF(H1302=Listas!$X$4,Acompanhamento!I1302,0)","v":0},null,0,null,0,null,0,null,0]
[null,null,null,null,null,null,null,null,null,{"$f":"IF(H1303=Listas!$X$3,Acompanhamento!I1303,0)","v":0},{"$f":"IF(H1303=Listas!$X$4,Acompanhamento!I1303,0)","v":0},null,0,null,0,null,0,null,0]
[null,null,null,null,null,null,null,null,null,{"$f":"IF(H1304=Listas!$X$3,Acompanhamento!I1304,0)","v":0},{"$f":"IF(H1304=Listas!$X$4,Acompanhamento!I1304,0)","v":0},null,0,null,0,null,0,null,0]
[null,null,null,null,null,null,null,null,null,{"$f":"IF(H1305=Listas!$X$3,Acompanhamento!I1305,0)","v":0},{"$f":"IF(H1305=Listas!$X$4,Acompanhamento!I1305,0)","v":0},null,0,null,0,null,0,null,0]
[null,null,null,null,null,null,null,null,null,{"$f":"IF(H1306=Listas!$X$3,Acompanhamento!I1306,0)","v":0},{"$f":"IF(H1306=Listas!$X$4,Acompanhamento!I1306,0)","v":0},null,0,null,0,null,0,null,0]
[null,null,null,null,null,null,null,null,null,{"$f":"IF(H1307=Listas!$X$3,Acompanhamento!I1307,0)","v":0},{"$f":"IF(H1307=Listas!$X$4,Acompanhamento!I1307,0)","v":0},null,0,null,0,null,0,null,0]
[null,null,null,null,null,null,null,null,null,{"$f":"IF(H1308=Listas!$X$3,Acompanhamento!I1308,0)","v":0},{"$f":"IF(H1308=Listas!$X$4,Acompanhamento!I1308,0)","v":0},null,0,null,0,null,0,null,0]
[null,null,null,null,null,null,null,null,null,{"$f":"IF(H1309=Listas!$X$3,Acompanhamento!I1309,0)","v":0},{"$f":"IF(H1309=Listas!$X$4,Acompanhamento!I1309,0)","v":0},null,0,null,0,null,0,null,0]
[null,null,null,null,null,null,null,null,null,{"$f":"IF(H1310=Listas!$X$3,Acompanhamento!I1310,0)","v":0},{"$f":"IF(H1310=Listas!$X$4,Acompanhamento!I1310,0)","v":0},null,0,null,0,null,0,null,0]
[null,null,null,null,null,null,null,null,null,{"$f":"IF(H1311=Listas!$X$3,Acompanhamento!I1311,0)","v":0},{"$f":"IF(H1311=Listas!$X$4,Acompanhamento!I1311,0)","v":0},null,0,null,0,null,0,null,0]
[null,null,null,null,null,null,null,null,null,{"$f":"IF(H1312=Listas!$X$3,Acompanhamento!I1312,0)","v":0},{"$f":"IF(H1312=Listas!$X$4,Acompanhamento!I1312,0)","v":0},null,0,null,0,null,0,null,0]
[null,null,null,null,null,null,null,null,null,{"$f":"IF(H1313=Listas!$X$3,Acompanhamento!I1313,0)","v":0},{"$f":"IF(H1313=Listas!$X$4,Acompanhamento!I1313,0)","v":0},null,0,null,0,null,0,null,0]
[null,null,null,null,null,null,null,null,null,{"$f":"IF(H1314=Listas!$X$3,Acompanhamento!I1314,0)","v":0},{"$f":"IF(H1314=Listas!$X$4,Acompanhamento!I1314,0)","v":0},null,0,null,0,null,0,null,0]
[null,null,null,null,null,null,null,null,null,{"$f":"IF(H1315=Listas!$X$3,Acompanhamento!I1315,0)","v":0},{"$f":"IF(H1315=Listas!$X$4,Acompanhamento!I1315,0)","v":0},null,0,null,0,null,0,null,0]
[null,null,null,null,null,null,null,null,null,{"$f":"IF(H1316=Listas!$X$3,Acompanhamento!I1316,0)","v":0},{"$f":"IF(H1316=Listas!$X$4,Acompanhamento!I1316,0)","v":0},null,0,null,0,null,0,null,0]
[null,null,null,null,null,null,null,null,null,{"$f":"IF(H1317=Listas!$X$3,Acompanhamento!I1317,0)","v":0},{"$f":"IF(H1317=Listas!$X$4,Acompanhamento!I1317,0)","v":0},null,0,null,0,null,0,null,0]
[null,null,null,null,null,null,null,null,null,{"$f":"IF(H1318=Listas!$X$3,Acompanhamento!I1318,0)","v":0},{"$f":"IF(H1318=Listas!$X$4,Acompanhamento!I1318,0)","v":0},null,0,null,0,null,0,null,0]
[null,null,null,null,null,null,null,null,null,{"$f":"IF(H1319=Listas!$X$3,Acompanhamento!I1319,0)","v":0},{"$f":"IF(H1319=Listas!$X$4,Acompanhamento!I1319,0)","v":0},null,0,null,0,null,0,null,0]
[null,null,null,null,null,null,null,null,null,{"$f":"IF(H1320=Listas!$X$3,Acompanhamento!I1320,0)","v":0},{"$f":"IF(H1320=Listas!$X$4,Acompanhamento!I1320,0)","v":0},null,0,null,0,null,0,null,0]
[null,null,null,null,null,null,null,null,null,{"$f":"IF(H1321=Listas!$X$3,Acompanhamento!I1321,0)","v":0},{"$f":"IF(H1321=Listas!$X$4,Acompanhamento!I1321,0)","v":0},null,0,null,0,null,0,null,0]
[null,null,null,null,null,null,null,null,null,{"$f":"IF(H1322=Listas!$X$3,Acompanhamento!I1322,0)","v":0},{"$f":"IF(H1322=Listas!$X$4,Acompanhamento!I1322,0)","v":0},null,0,null,0,null,0,null,0]
[null,null,null,null,null,null,null,null,null,{"$f":"IF(H1323=Listas!$X$3,Acompanhamento!I1323,0)","v":0},{"$f":"IF(H1323=Listas!$X$4,Acompanhamento!I1323,0)","v":0},null,0,null,0,null,0,null,0]
[null,null,null,null,null,null,null,null,null,{"$f":"IF(H1324=Listas!$X$3,Acompanhamento!I1324,0)","v":0},{"$f":"IF(H1324=Listas!$X$4,Acompanhamento!I1324,0)","v":0},null,0,null,0,null,0,null,0]
[null,null,null,null,null,null,null,null,null,{"$f":"IF(H1325=Listas!$X$3,Acompanhamento!I1325,0)","v":0},{"$f":"IF(H1325=Listas!$X$4,Acompanhamento!I1325,0)","v":0},null,0,null,0,null,0,null,0]
[null,null,null,null,null,null,null,null,null,{"$f":"IF(H1326=Listas!$X$3,Acompanhamento!I1326,0)","v":0},{"$f":"IF(H1326=Listas!$X$4,Acompanhamento!I1326,0)","v":0},null,0,null,0,null,0,null,0]
[null,null,null,null,null,null,null,null,null,{"$f":"IF(H1327=Listas!$X$3,Acompanhamento!I1327,0)","v":0},{"$f":"IF(H1327=Listas!$X$4,Acompanhamento!I1327,0)","v":0},null,0,null,0,null,0,null,0]
[null,null,null,null,null,null,null,null,null,{"$f":"IF(H1328=Listas!$X$3,Acompanhamento!I1328,0)","v":0},{"$f":"IF(H1328=Listas!$X$4,Acompanhamento!I1328,0)","v":0},null,0,null,0,null,0,null,0]
[null,null,null,null,null,null,null,null,null,{"$f":"IF(H1329=Listas!$X$3,Acompanhamento!I1329,0)","v":0},{"$f":"IF(H1329=Listas!$X$4,Acompanhamento!I1329,0)","v":0},null,0,null,0,null,0,null,0]
[null,null,null,null,null,null,null,null,null,{"$f":"IF(H1330=Listas!$X$3,Acompanhamento!I1330,0)","v":0},{"$f":"IF(H1330=Listas!$X$4,Acompanhamento!I1330,0)","v":0},null,0,null,0,null,0,null,0]
[null,null,null,null,null,null,null,null,null,{"$f":"IF(H1331=Listas!$X$3,Acompanhamento!I1331,0)","v":0},{"$f":"IF(H1331=Listas!$X$4,Acompanhamento!I1331,0)","v":0},null,0,null,0,null,0,null,0]
[null,null,null,null,null,null,null,null,null,{"$f":"IF(H1332=Listas!$X$3,Acompanhamento!I1332,0)","v":0},{"$f":"IF(H1332=Listas!$X$4,Acompanhamento!I1332,0)","v":0},null,0,null,0,null,0,null,0]
[null,null,null,null,null,null,null,null,null,{"$f":"IF(H1333=Listas!$X$3,Acompanhamento!I1333,0)","v":0},{"$f":"IF(H1333=Listas!$X$4,Acompanhamento!I1333,0)","v":0},null,0,null,0,null,0,null,0]
[null,null,null,null,null,null,null,null,null,{"$f":"IF(H1334=Listas!$X$3,Acompanhamento!I1334,0)","v":0},{"$f":"IF(H1334=Listas!$X$4,Acompanhamento!I1334,0)","v":0},null,0,null,0,null,0,null,0]
[null,null,null,null,null,null,null,null,null,{"$f":"IF(H1335=Listas!$X$3,Acompanhamento!I1335,0)","v":0},{"$f":"IF(H1335=Listas!$X$4,Acompanhamento!I1335,0)","v":0},null,0,null,0,null,0,null,0]
[null,null,null,null,null,null,null,null,null,{"$f":"IF(H1336=Listas!$X$3,Acompanhamento!I1336,0)","v":0},{"$f":"IF(H1336=Listas!$X$4,Acompanhamento!I1336,0)","v":0},null,0,null,0,null,0,null,0]
[null,null,null,null,null,null,null,null,null,{"$f":"IF(H1337=Listas!$X$3,Acompanhamento!I1337,0)","v":0},{"$f":"IF(H1337=Listas!$X$4,Acompanhamento!I1337,0)","v":0},null,0,null,0,null,0,null,0]
[null,null,null,null,null,null,null,null,null,{"$f":"IF(H1338=Listas!$X$3,Acompanhamento!I1338,0)","v":0},{"$f":"IF(H1338=Listas!$X$4,Acompanhamento!I1338,0)","v":0},null,0,null,0,null,0,null,0]
[null,null,null,null,null,null,null,null,null,{"$f":"IF(H1339=Listas!$X$3,Acompanhamento!I1339,0)","v":0},{"$f":"IF(H1339=Listas!$X$4,Acompanhamento!I1339,0)","v":0},null,0,null,0,null,0,null,0]
[null,null,null,null,null,null,null,null,null,{"$f":"IF(H1340=Listas!$X$3,Acompanhamento!I1340,0)","v":0},{"$f":"IF(H1340=Listas!$X$4,Acompanhamento!I1340,0)","v":0},null,0,null,0,null,0,null,0]
[null,null,null,null,null,null,null,null,null,{"$f":"IF(H1341=Listas!$X$3,Acompanhamento!I1341,0)","v":0},{"$f":"IF(H1341=Listas!$X$4,Acompanhamento!I1341,0)","v":0},null,0,null,0,null,0,null,0]
[null,null,null,null,null,null,null,null,null,{"$f":"IF(H1342=Listas!$X$3,Acompanhamento!I1342,0)","v":0},{"$f":"IF(H1342=Listas!$X$4,Acompanhamento!I1342,0)","v":0},null,0,null,0,null,0,null,0]
[null,null,null,null,null,null,null,null,null,{"$f":"IF(H1343=Listas!$X$3,Acompanhamento!I1343,0)","v":0},{"$f":"IF(H1343=Listas!$X$4,Acompanhamento!I1343,0)","v":0},null,0,null,0,null,0,null,0]
[null,null,null,null,null,null,null,null,null,{"$f":"IF(H1344=Listas!$X$3,Acompanhamento!I1344,0)","v":0},{"$f":"IF(H1344=Listas!$X$4,Acompanhamento!I1344,0)","v":0},null,0,null,0,null,0,null,0]
[null,null,null,null,null,null,null,null,null,{"$f":"IF(H1345=Listas!$X$3,Acompanhamento!I1345,0)","v":0},{"$f":"IF(H1345=Listas!$X$4,Acompanhamento!I1345,0)","v":0},null,0,null,0,null,0,null,0]
[null,null,null,null,null,null,null,null,null,{"$f":"IF(H1346=Listas!$X$3,Acompanhamento!I1346,0)","v":0},{"$f":"IF(H1346=Listas!$X$4,Acompanhamento!I1346,0)","v":0},null,0,null,0,null,0,null,0]
[null,null,null,null,null,null,null,null,null,{"$f":"IF(H1347=Listas!$X$3,Acompanhamento!I1347,0)","v":0},{"$f":"IF(H1347=Listas!$X$4,Acompanhamento!I1347,0)","v":0},null,0,null,0,null,0,null,0]
[null,null,null,null,null,null,null,null,null,{"$f":"IF(H1348=Listas!$X$3,Acompanhamento!I1348,0)","v":0},{"$f":"IF(H1348=Listas!$X$4,Acompanhamento!I1348,0)","v":0},null,0,null,0,null,0,null,0]
[null,null,null,null,null,null,null,null,null,{"$f":"IF(H1349=Listas!$X$3,Acompanhamento!I1349,0)","v":0},{"$f":"IF(H1349=Listas!$X$4,Acompanhamento!I1349,0)","v":0},null,0,null,0,null,0,null,0]
[null,null,null,null,null,null,null,null,null,{"$f":"IF(H1350=Listas!$X$3,Acompanhamento!I1350,0)","v":0},{"$f":"IF(H1350=Listas!$X$4,Acompanhamento!I1350,0)","v":0},null,0,null,0,null,0,null,0]
[null,null,null,null,null,null,null,null,null,{"$f":"IF(H1351=Listas!$X$3,Acompanhamento!I1351,0)","v":0},{"$f":"IF(H1351=Listas!$X$4,Acompanhamento!I1351,0)","v":0},null,0,null,0,null,0,null,0]
[null,null,null,null,null,null,null,null,null,{"$f":"IF(H1352=Listas!$X$3,Acompanhamento!I1352,0)","v":0},{"$f":"IF(H1352=Listas!$X$4,Acompanhamento!I1352,0)","v":0},null,0,null,0,null,0,null,0]
[null,null,null,null,null,null,null,null,null,{"$f":"IF(H1353=Listas!$X$3,Acompanhamento!I1353,0)","v":0},{"$f":"IF(H1353=Listas!$X$4,Acompanhamento!I1353,0)","v":0},null,0,null,0,null,0,null,0]
[null,null,null,null,null,null,null,null,null,{"$f":"IF(H1354=Listas!$X$3,Acompanhamento!I1354,0)","v":0},{"$f":"IF(H1354=Listas!$X$4,Acompanhamento!I1354,0)","v":0},null,{"$f":"J1354-L1354","v":0},null,{"$f":"M1354-N1354","v":0},null,{"$f":"O1354-P1354","v":0},null,{"$f":"Q1354-R1354","v":0}]
[null,null,null,null,null,null,null,null,null,{"$f":"IF(H1355=Listas!$X$3,Acompanhamento!I1355,0)","v":0},{"$f":"IF(H1355=Listas!$X$4,Acompanhamento!I1355,0)","v":0},null,0,null,0,null,0,null,0]
[null,null,null,null,null,null,null,null,null,{"$f":"IF(H1356=Listas!$X$3,Acompanhamento!I1356,0)","v":0},{"$f":"IF(H1356=Listas!$X$4,Acompanhamento!I1356,0)","v":0},null,0,null,0,null,0,null,0]
[null,null,null,null,null,null,null,null,null,{"$f":"IF(H1357=Listas!$X$3,Acompanhamento!I1357,0)","v":0},{"$f":"IF(H1357=Listas!$X$4,Acompanhamento!I1357,0)","v":0},null,0,null,0,null,0,null,0]
[null,null,null,null,null,null,null,null,null,{"$f":"IF(H1358=Listas!$X$3,Acompanhamento!I1358,0)","v":0},{"$f":"IF(H1358=Listas!$X$4,Acompanhamento!I1358,0)","v":0},null,0,null,0,null,0,null,0]
[null,null,null,null,null,null,null,null,null,{"$f":"IF(H1359=Listas!$X$3,Acompanhamento!I1359,0)","v":0},{"$f":"IF(H1359=Listas!$X$4,Acompanhamento!I1359,0)","v":0},null,0,null,0,null,0,null,0]
[null,null,null,null,null,null,null,null,null,{"$f":"IF(H1360=Listas!$X$3,Acompanhamento!I1360,0)","v":0},{"$f":"IF(H1360=Listas!$X$4,Acompanhamento!I1360,0)","v":0},null,0,null,0,null,0,null,0]
[null,null,null,null,null,null,null,null,null,{"$f":"IF(H1361=Listas!$X$3,Acompanhamento!I1361,0)","v":0},{"$f":"IF(H1361=Listas!$X$4,Acompanhamento!I1361,0)","v":0},null,0,null,0,null,0,null,0]
[null,null,null,null,null,null,null,null,null,{"$f":"IF(H1362=Listas!$X$3,Acompanhamento!I1362,0)","v":0},{"$f":"IF(H1362=Listas!$X$4,Acompanhamento!I1362,0)","v":0},null,0,null,0,null,0,null,0]
[null,null,null,null,null,null,null,null,null,{"$f":"IF(H1363=Listas!$X$3,Acompanhamento!I1363,0)","v":0},{"$f":"IF(H1363=Listas!$X$4,Acompanhamento!I1363,0)","v":0},null,0,null,0,null,0,null,0]
[null,null,null,null,null,null,null,null,null,{"$f":"IF(H1364=Listas!$X$3,Acompanhamento!I1364,0)","v":0},{"$f":"IF(H1364=Listas!$X$4,Acompanhamento!I1364,0)","v":0},null,0,null,0,null,0,null,0]
[null,null,null,null,null,null,null,null,null,{"$f":"IF(H1365=Listas!$X$3,Acompanhamento!I1365,0)","v":0},{"$f":"IF(H1365=Listas!$X$4,Acompanhamento!I1365,0)","v":0},null,0,null,0,null,0,null,0]
[null,null,null,null,null,null,null,null,null,{"$f":"IF(H1366=Listas!$X$3,Acompanhamento!I1366,0)","v":0},{"$f":"IF(H1366=Listas!$X$4,Acompanhamento!I1366,0)","v":0},null,0,null,0,null,0,null,0]
[null,null,null,null,null,null,null,null,null,{"$f":"IF(H1367=Listas!$X$3,Acompanhamento!I1367,0)","v":0},{"$f":"IF(H1367=Listas!$X$4,Acompanhamento!I1367,0)","v":0},null,0,null,0,null,0,null,0]
[null,null,null,null,null,null,null,null,null,{"$f":"IF(H1368=Listas!$X$3,Acompanhamento!I1368,0)","v":0},{"$f":"IF(H1368=Listas!$X$4,Acompanhamento!I1368,0)","v":0},null,0,null,0,null,0,null,0]
[null,null,null,null,null,null,null,null,null,{"$f":"IF(H1369=Listas!$X$3,Acompanhamento!I1369,0)","v":0},{"$f":"IF(H1369=Listas!$X$4,Acompanhamento!I1369,0)","v":0},null,0,null,0,null,0,null,0]
[null,null,null,null,null,null,null,null,null,{"$f":"IF(H1370=Listas!$X$3,Acompanhamento!I1370,0)","v":0},{"$f":"IF(H1370=Listas!$X$4,Acompanhamento!I1370,0)","v":0},null,0,null,0,null,0,null,0]
[null,null,null,null,null,null,null,null,null,{"$f":"IF(H1371=Listas!$X$3,Acompanhamento!I1371,0)","v":0},{"$f":"IF(H1371=Listas!$X$4,Acompanhamento!I1371,0)","v":0},null,0,null,0,null,0,null,0]
[null,null,null,null,null,null,null,null,null,{"$f":"IF(H1372=Listas!$X$3,Acompanhamento!I1372,0)","v":0},{"$f":"IF(H1372=Listas!$X$4,Acompanhamento!I1372,0)","v":0},null,0,null,0,null,0,null,0]
[null,null,null,null,null,null,null,null,null,{"$f":"IF(H1373=Listas!$X$3,Acompanhamento!I1373,0)","v":0},{"$f":"IF(H1373=Listas!$X$4,Acompanhamento!I1373,0)","v":0},null,0,null,0,null,0,null,0]
[null,null,null,null,null,null,null,null,null,{"$f":"IF(H1374=Listas!$X$3,Acompanhamento!I1374,0)","v":0},{"$f":"IF(H1374=Listas!$X$4,Acompanhamento!I1374,0)","v":0},null,0,null,0,null,0,null,0]
[null,null,null,null,null,null,null,null,null,{"$f":"IF(H1375=Listas!$X$3,Acompanhamento!I1375,0)","v":0},{"$f":"IF(H1375=Listas!$X$4,Acompanhamento!I1375,0)","v":0},null,0,null,0,null,0,null,0]
[null,null,null,null,null,null,null,null,null,{"$f":"IF(H1376=Listas!$X$3,Acompanhamento!I1376,0)","v":0},{"$f":"IF(H1376=Listas!$X$4,Acompanhamento!I1376,0)","v":0},null,0,null,0,null,0,null,0]
[null,null,null,null,null,null,null,null,null,{"$f":"IF(H1377=Listas!$X$3,Acompanhamento!I1377,0)","v":0},{"$f":"IF(H1377=Listas!$X$4,Acompanhamento!I1377,0)","v":0},null,0,null,0,null,0,null,0]
[null,null,null,null,null,null,null,null,null,{"$f":"IF(H1378=Listas!$X$3,Acompanhamento!I1378,0)","v":0},{"$f":"IF(H1378=Listas!$X$4,Acompanhamento!I1378,0)","v":0},null,0,null,0,null,0,null,0]
[null,null,null,null,null,null,null,null,null,{"$f":"IF(H1379=Listas!$X$3,Acompanhamento!I1379,0)","v":0},{"$f":"IF(H1379=Listas!$X$4,Acompanhamento!I1379,0)","v":0},null,0,null,0,null,0,null,0]
[null,null,null,null,null,null,null,null,null,{"$f":"IF(H1380=Listas!$X$3,Acompanhamento!I1380,0)","v":0},{"$f":"IF(H1380=Listas!$X$4,Acompanhamento!I1380,0)","v":0},null,0,null,0,null,0,null,0]
[null,null,null,null,null,null,null,null,null,{"$f":"IF(H1381=Listas!$X$3,Acompanhamento!I1381,0)","v":0},{"$f":"IF(H1381=Listas!$X$4,Acompanhamento!I1381,0)","v":0},null,0,null,0,null,0,null,0]
[null,null,null,null,null,null,null,null,null,{"$f":"IF(H1382=Listas!$X$3,Acompanhamento!I1382,0)","v":0},{"$f":"IF(H1382=Listas!$X$4,Acompanhamento!I1382,0)","v":0},null,0,null,0,null,0,null,0]
[null,null,null,null,null,null,null,null,null,{"$f":"IF(H1383=Listas!$X$3,Acompanhamento!I1383,0)","v":0},{"$f":"IF(H1383=Listas!$X$4,Acompanhamento!I1383,0)","v":0},null,0,null,0,null,0,null,0]
[null,null,null,null,null,null,null,null,null,{"$f":"IF(H1384=Listas!$X$3,Acompanhamento!I1384,0)","v":0},{"$f":"IF(H1384=Listas!$X$4,Acompanhamento!I1384,0)","v":0},null,0,null,0,null,0,null,0]
[null,null,null,null,null,null,null,null,null,{"$f":"IF(H1385=Listas!$X$3,Acompanhamento!I1385,0)","v":0},{"$f":"IF(H1385=Listas!$X$4,Acompanhamento!I1385,0)","v":0},null,0,null,0,null,0,null,0]
[null,null,null,null,null,null,null,null,null,{"$f":"IF(H1386=Listas!$X$3,Acompanhamento!I1386,0)","v":0},{"$f":"IF(H1386=Listas!$X$4,Acompanhamento!I1386,0)","v":0},null,0,null,0,null,0,null,0]
[null,null,null,null,null,null,null,null,null,{"$f":"IF(H1387=Listas!$X$3,Acompanhamento!I1387,0)","v":0},{"$f":"IF(H1387=Listas!$X$4,Acompanhamento!I1387,0)","v":0},null,0,null,0,null,0,null,0]
[null,null,null,null,null,null,null,null,null,{"$f":"IF(H1388=Listas!$X$3,Acompanhamento!I1388,0)","v":0},{"$f":"IF(H1388=Listas!$X$4,Acompanhamento!I1388,0)","v":0},null,0,null,0,null,0,null,0]
[null,null,null,null,null,null,null,null,null,{"$f":"IF(H1389=Listas!$X$3,Acompanhamento!I1389,0)","v":0},{"$f":"IF(H1389=Listas!$X$4,Acompanhamento!I1389,0)","v":0},null,0,null,0,null,0,null,0]
[null,null,null,null,null,null,null,null,null,{"$f":"IF(H1390=Listas!$X$3,Acompanhamento!I1390,0)","v":0},{"$f":"IF(H1390=Listas!$X$4,Acompanhamento!I1390,0)","v":0},null,0,null,0,null,0,null,0]
[null,null,null,null,null,null,null,null,null,{"$f":"IF(H1391=Listas!$X$3,Acompanhamento!I1391,0)","v":0},{"$f":"IF(H1391=Listas!$X$4,Acompanhamento!I1391,0)","v":0},null,0,null,0,null,0,null,0]
[null,null,null,null,null,null,null,null,null,{"$f":"IF(H1392=Listas!$X$3,Acompanhamento!I1392,0)","v":0},{"$f":"IF(H1392=Listas!$X$4,Acompanhamento!I1392,0)","v":0},null,0,null,0,null,0,null,0]
[null,null,null,null,null,null,null,null,null,{"$f":"IF(H1393=Listas!$X$3,Acompanhamento!I1393,0)","v":0},{"$f":"IF(H1393=Listas!$X$4,Acompanhamento!I1393,0)","v":0},null,0,null,0,null,0,null,0]
[null,null,null,null,null,null,null,null,null,{"$f":"IF(H1394=Listas!$X$3,Acompanhamento!I1394,0)","v":0},{"$f":"IF(H1394=Listas!$X$4,Acompanhamento!I1394,0)","v":0},null,0,null,0,null,0,null,0]
[null,null,null,null,null,null,null,null,null,{"$f":"IF(H1395=Listas!$X$3,Acompanhamento!I1395,0)","v":0},{"$f":"IF(H1395=Listas!$X$4,Acompanhamento!I1395,0)","v":0},null,0,null,0,null,0,null,0]
[null,null,null,null,null,null,null,null,null,{"$f":"IF(H1396=Listas!$X$3,Acompanhamento!I1396,0)","v":0},{"$f":"IF(H1396=Listas!$X$4,Acompanhamento!I1396,0)","v":0},null,0,null,0,null,0,null,0]
[null,null,null,null,null,null,null,null,null,{"$f":"IF(H1397=Listas!$X$3,Acompanhamento!I1397,0)","v":0},{"$f":"IF(H1397=Listas!$X$4,Acompanhamento!I1397,0)","v":0},null,0,null,0,null,0,null,0]
[null,null,null,null,null,null,null,null,null,{"$f":"IF(H1398=Listas!$X$3,Acompanhamento!I1398,0)","v":0},{"$f":"IF(H1398=Listas!$X$4,Acompanhamento!I1398,0)","v":0},null,0,null,0,null,0,null,0]
[null,null,null,null,null,null,null,null,null,{"$f":"IF(H1399=Listas!$X$3,Acompanhamento!I1399,0)","v":0},{"$f":"IF(H1399=Listas!$X$4,Acompanhamento!I1399,0)","v":0},null,0,null,0,null,0,null,0]
[null,null,null,null,null,null,null,null,null,{"$f":"IF(H1400=Listas!$X$3,Acompanhamento!I1400,0)","v":0},{"$f":"IF(H1400=Listas!$X$4,Acompanhamento!I1400,0)","v":0},null,0,null,0,null,0,null,0]
[null,null,null,null,null,null,null,null,null,{"$f":"IF(H1401=Listas!$X$3,Acompanhamento!I1401,0)","v":0},{"$f":"IF(H1401=Listas!$X$4,Acompanhamento!I1401,0)","v":0},null,0,null,0,null,0,null,0]
[null,null,null,null,null,null,null,null,null,{"$f":"IF(H1402=Listas!$X$3,Acompanhamento!I1402,0)","v":0},{"$f":"IF(H1402=Listas!$X$4,Acompanhamento!I1402,0)","v":0},null,0,null,0,null,0,null,0]
[null,null,null,null,null,null,null,null,null,{"$f":"IF(H1403=Listas!$X$3,Acompanhamento!I1403,0)","v":0},{"$f":"IF(H1403=Listas!$X$4,Acompanhamento!I1403,0)","v":0},null,0,null,0,null,0,null,0]
[null,null,null,null,null,null,null,null,null,{"$f":"IF(H1404=Listas!$X$3,Acompanhamento!I1404,0)","v":0},{"$f":"IF(H1404=Listas!$X$4,Acompanhamento!I1404,0)","v":0},null,0,null,0,null,0,null,0]
[null,null,null,null,null,null,null,null,null,{"$f":"IF(H1405=Listas!$X$3,Acompanhamento!I1405,0)","v":0},{"$f":"IF(H1405=Listas!$X$4,Acompanhamento!I1405,0)","v":0},null,0,null,0,null,0,null,0]
[null,null,null,null,null,null,null,null,null,{"$f":"IF(H1406=Listas!$X$3,Acompanhamento!I1406,0)","v":0},{"$f":"IF(H1406=Listas!$X$4,Acompanhamento!I1406,0)","v":0},null,0,null,0,null,0,null,0]
[null,null,null,null,null,null,null,null,null,{"$f":"IF(H1407=Listas!$X$3,Acompanhamento!I1407,0)","v":0},{"$f":"IF(H1407=Listas!$X$4,Acompanhamento!I1407,0)","v":0},null,0,null,0,null,0,null,0]
[null,null,null,null,null,null,null,null,null,{"$f":"IF(H1408=Listas!$X$3,Acompanhamento!I1408,0)","v":0},{"$f":"IF(H1408=Listas!$X$4,Acompanhamento!I1408,0)","v":0},null,0,null,0,null,0,null,0]
[null,null,null,null,null,null,null,null,null,{"$f":"IF(H1409=Listas!$X$3,Acompanhamento!I1409,0)","v":0},{"$f":"IF(H1409=Listas!$X$4,Acompanhamento!I1409,0)","v":0},null,0,null,0,null,0,null,0]
[null,null,null,null,null,null,null,null,null,{"$f":"IF(H1410=Listas!$X$3,Acompanhamento!I1410,0)","v":0},{"$f":"IF(H1410=Listas!$X$4,Acompanhamento!I1410,0)","v":0},null,0,null,0,null,0,null,0]
[null,null,null,null,null,null,null,null,null,{"$f":"IF(H1411=Listas!$X$3,Acompanhamento!I1411,0)","v":0},{"$f":"IF(H1411=Listas!$X$4,Acompanhamento!I1411,0)","v":0},null,0,null,0,null,0,null,0]
[null,null,null,null,null,null,null,null,null,{"$f":"IF(H1412=Listas!$X$3,Acompanhamento!I1412,0)","v":0},{"$f":"IF(H1412=Listas!$X$4,Acompanhamento!I1412,0)","v":0},null,0,null,0,null,0,null,0]
[null,null,null,null,null,null,null,null,null,{"$f":"IF(H1413=Listas!$X$3,Acompanhamento!I1413,0)","v":0},{"$f":"IF(H1413=Listas!$X$4,Acompanhamento!I1413,0)","v":0},null,0,null,0,null,0,null,0]
[null,null,null,null,null,null,null,null,null,{"$f":"IF(H1414=Listas!$X$3,Acompanhamento!I1414,0)","v":0},{"$f":"IF(H1414=Listas!$X$4,Acompanhamento!I1414,0)","v":0},null,0,null,0,null,0,null,0]
[null,null,null,null,null,null,null,null,null,{"$f":"IF(H1415=Listas!$X$3,Acompanhamento!I1415,0)","v":0},{"$f":"IF(H1415=Listas!$X$4,Acompanhamento!I1415,0)","v":0},null,0,null,0,null,0,null,0]
[null,null,null,null,null,null,null,null,null,{"$f":"IF(H1416=Listas!$X$3,Acompanhamento!I1416,0)","v":0},{"$f":"IF(H1416=Listas!$X$4,Acompanhamento!I1416,0)","v":0},null,0,null,0,null,0,null,0]
[null,null,null,null,null,null,null,null,null,{"$f":"IF(H1417=Listas!$X$3,Acompanhamento!I1417,0)","v":0},{"$f":"IF(H1417=Listas!$X$4,Acompanhamento!I1417,0)","v":0},null,0,null,0,null,0,null,0]
[null,null,null,null,null,null,null,null,null,{"$f":"IF(H1418=Listas!$X$3,Acompanhamento!I1418,0)","v":0},{"$f":"IF(H1418=Listas!$X$4,Acompanhamento!I1418,0)","v":0},null,{"$f":"J1418-L1418","v":0},null,{"$f":"M1418-N1418","v":0},null,{"$f":"O1418-P1418","v":0},null,{"$f":"Q1418-R1418","v":0}]
[null,null,null,null,null,null,null,null,null,{"$f":"IF(H1419=Listas!$X$3,Acompanhamento!I1419,0)","v":0},{"$f":"IF(H1419=Listas!$X$4,Acompanhamento!I1419,0)","v":0},null,0,null,0,null,0,null,0]
[null,null,null,null,null,null,null,null,null,{"$f":"IF(H1420=Listas!$X$3,Acompanhamento!I1420,0)","v":0},{"$f":"IF(H1420=Listas!$X$4,Acompanhamento!I1420,0)","v":0},null,0,null,0,null,0,null,0]
[null,null,null,null,null,null,null,null,null,{"$f":"IF(H1421=Listas!$X$3,Acompanhamento!I1421,0)","v":0},{"$f":"IF(H1421=Listas!$X$4,Acompanhamento!I1421,0)","v":0},null,0,null,0,null,0,null,0]
[null,null,null,null,null,null,null,null,null,{"$f":"IF(H1422=Listas!$X$3,Acompanhamento!I1422,0)","v":0},{"$f":"IF(H1422=Listas!$X$4,Acompanhamento!I1422,0)","v":0},null,0,null,0,null,0,null,0]
[null,null,null,null,null,null,null,null,null,{"$f":"IF(H1423=Listas!$X$3,Acompanhamento!I1423,0)","v":0},{"$f":"IF(H1423=Listas!$X$4,Acompanhamento!I1423,0)","v":0},null,0,null,0,null,0,null,0]
[null,null,null,null,null,null,null,null,null,{"$f":"IF(H1424=Listas!$X$3,Acompanhamento!I1424,0)","v":0},{"$f":"IF(H1424=Listas!$X$4,Acompanhamento!I1424,0)","v":0},null,0,null,0,null,0,null,0]
[null,null,null,null,null,null,null,null,null,{"$f":"IF(H1425=Listas!$X$3,Acompanhamento!I1425,0)","v":0},{"$f":"IF(H1425=Listas!$X$4,Acompanhamento!I1425,0)","v":0},null,0,null,0,null,0,null,0]
[null,null,null,null,null,null,null,null,null,{"$f":"IF(H1426=Listas!$X$3,Acompanhamento!I1426,0)","v":0},{"$f":"IF(H1426=Listas!$X$4,Acompanhamento!I1426,0)","v":0},null,0,null,0,null,0,null,0]
[null,null,null,null,null,null,null,null,null,{"$f":"IF(H1427=Listas!$X$3,Acompanhamento!I1427,0)","v":0},{"$f":"IF(H1427=Listas!$X$4,Acompanhamento!I1427,0)","v":0},null,0,null,0,null,0,null,0]
[null,null,null,null,null,null,null,null,null,{"$f":"IF(H1428=Listas!$X$3,Acompanhamento!I1428,0)","v":0},{"$f":"IF(H1428=Listas!$X$4,Acompanhamento!I1428,0)","v":0},null,0,null,0,null,0,null,0]
[null,null,null,null,null,null,null,null,null,{"$f":"IF(H1429=Listas!$X$3,Acompanhamento!I1429,0)","v":0},{"$f":"IF(H1429=Listas!$X$4,Acompanhamento!I1429,0)","v":0},null,0,null,0,null,0,null,0]
[null,null,null,null,null,null,null,null,null,{"$f":"IF(H1430=Listas!$X$3,Acompanhamento!I1430,0)","v":0},{"$f":"IF(H1430=Listas!$X$4,Acompanhamento!I1430,0)","v":0},null,0,null,0,null,0,null,0]
[null,null,null,null,null,null,null,null,null,{"$f":"IF(H1431=Listas!$X$3,Acompanhamento!I1431,0)","v":0},{"$f":"IF(H1431=Listas!$X$4,Acompanhamento!I1431,0)","v":0},null,0,null,0,null,0,null,0]
[null,null,null,null,null,null,null,null,null,{"$f":"IF(H1432=Listas!$X$3,Acompanhamento!I1432,0)","v":0},{"$f":"IF(H1432=Listas!$X$4,Acompanhamento!I1432,0)","v":0},null,0,null,0,null,0,null,0]
[null,null,null,null,null,null,null,null,null,{"$f":"IF(H1433=Listas!$X$3,Acompanhamento!I1433,0)","v":0},{"$f":"IF(H1433=Listas!$X$4,Acompanhamento!I1433,0)","v":0},null,0,null,0,null,0,null,0]
[null,null,null,null,null,null,null,null,null,{"$f":"IF(H1434=Listas!$X$3,Acompanhamento!I1434,0)","v":0},{"$f":"IF(H1434=Listas!$X$4,Acompanhamento!I1434,0)","v":0},null,0,null,0,null,0,null,0]
[null,null,null,null,null,null,null,null,null,{"$f":"IF(H1435=Listas!$X$3,Acompanhamento!I1435,0)","v":0},{"$f":"IF(H1435=Listas!$X$4,Acompanhamento!I1435,0)","v":0},null,0,null,0,null,0,null,0]
[null,null,null,null,null,null,null,null,null,{"$f":"IF(H1436=Listas!$X$3,Acompanhamento!I1436,0)","v":0},{"$f":"IF(H1436=Listas!$X$4,Acompanhamento!I1436,0)","v":0},null,0,null,0,null,0,null,0]
[null,null,null,null,null,null,null,null,null,{"$f":"IF(H1437=Listas!$X$3,Acompanhamento!I1437,0)","v":0},{"$f":"IF(H1437=Listas!$X$4,Acompanhamento!I1437,0)","v":0},null,0,null,0,null,0,null,0]
[null,null,null,null,null,null,null,null,null,{"$f":"IF(H1438=Listas!$X$3,Acompanhamento!I1438,0)","v":0},{"$f":"IF(H1438=Listas!$X$4,Acompanhamento!I1438,0)","v":0},null,0,null,0,null,0,null,0]
[null,null,null,null,null,null,null,null,null,{"$f":"IF(H1439=Listas!$X$3,Acompanhamento!I1439,0)","v":0},{"$f":"IF(H1439=Listas!$X$4,Acompanhamento!I1439,0)","v":0},null,0,null,0,null,0,null,0]
[null,null,null,null,null,null,null,null,null,{"$f":"IF(H1440=Listas!$X$3,Acompanhamento!I1440,0)","v":0},{"$f":"IF(H1440=Listas!$X$4,Acompanhamento!I1440,0)","v":0},null,0,null,0,null,0,null,0]
[null,null,null,null,null,null,null,null,null,{"$f":"IF(H1441=Listas!$X$3,Acompanhamento!I1441,0)","v":0},{"$f":"IF(H1441=Listas!$X$4,Acompanhamento!I1441,0)","v":0},null,0,null,0,null,0,null,0]
[null,null,null,null,null,null,null,null,null,{"$f":"IF(H1442=Listas!$X$3,Acompanhamento!I1442,0)","v":0},{"$f":"IF(H1442=Listas!$X$4,Acompanhamento!I1442,0)","v":0},null,0,null,0,null,0,null,0]
[null,null,null,null,null,null,null,null,null,{"$f":"IF(H1443=Listas!$X$3,Acompanhamento!I1443,0)","v":0},{"$f":"IF(H1443=Listas!$X$4,Acompanhamento!I1443,0)","v":0},null,0,null,0,null,0,null,0]
[null,null,null,null,null,null,null,null,null,{"$f":"IF(H1444=Listas!$X$3,Acompanhamento!I1444,0)","v":0},{"$f":"IF(H1444=Listas!$X$4,Acompanhamento!I1444,0)","v":0},null,0,null,0,null,0,null,0]
[null,null,null,null,null,null,null,null,null,{"$f":"IF(H1445=Listas!$X$3,Acompanhamento!I1445,0)","v":0},{"$f":"IF(H1445=Listas!$X$4,Acompanhamento!I1445,0)","v":0},null,0,null,0,null,0,null,0]
[null,null,null,null,null,null,null,null,null,{"$f":"IF(H1446=Listas!$X$3,Acompanhamento!I1446,0)","v":0},{"$f":"IF(H1446=Listas!$X$4,Acompanhamento!I1446,0)","v":0},null,0,null,0,null,0,null,0]
[null,null,null,null,null,null,null,null,null,{"$f":"IF(H1447=Listas!$X$3,Acompanhamento!I1447,0)","v":0},{"$f":"IF(H1447=Listas!$X$4,Acompanhamento!I1447,0)","v":0},null,0,null,0,null,0,null,0]
[null,null,null,null,null,null,null,null,null,{"$f":"IF(H1448=Listas!$X$3,Acompanhamento!I1448,0)","v":0},{"$f":"IF(H1448=Listas!$X$4,Acompanhamento!I1448,0)","v":0},null,0,null,0,null,0,null,0]
[null,null,null,null,null,null,null,null,null,{"$f":"IF(H1449=Listas!$X$3,Acompanhamento!I1449,0)","v":0},{"$f":"IF(H1449=Listas!$X$4,Acompanhamento!I1449,0)","v":0},null,0,null,0,null,0,null,0]
[null,null,null,null,null,null,null,null,null,{"$f":"IF(H1450=Listas!$X$3,Acompanhamento!I1450,0)","v":0},{"$f":"IF(H1450=Listas!$X$4,Acompanhamento!I1450,0)","v":0},null,0,null,0,null,0,null,0]
[null,null,null,null,null,null,null,null,null,{"$f":"IF(H1451=Listas!$X$3,Acompanhamento!I1451,0)","v":0},{"$f":"IF(H1451=Listas!$X$4,Acompanhamento!I1451,0)","v":0},null,0,null,0,null,0,null,0]
[null,null,null,null,null,null,null,null,null,{"$f":"IF(H1452=Listas!$X$3,Acompanhamento!I1452,0)","v":0},{"$f":"IF(H1452=Listas!$X$4,Acompanhamento!I1452,0)","v":0},null,0,null,0,null,0,null,0]
[null,null,null,null,null,null,null,null,null,{"$f":"IF(H1453=Listas!$X$3,Acompanhamento!I1453,0)","v":0},{"$f":"IF(H1453=Listas!$X$4,Acompanhamento!I1453,0)","v":0},null,0,null,0,null,0,null,0]
[null,null,null,null,null,null,null,null,null,{"$f":"IF(H1454=Listas!$X$3,Acompanhamento!I1454,0)","v":0},{"$f":"IF(H1454=Listas!$X$4,Acompanhamento!I1454,0)","v":0},null,0,null,0,null,0,null,0]
[null,null,null,null,null,null,null,null,null,{"$f":"IF(H1455=Listas!$X$3,Acompanhamento!I1455,0)","v":0},{"$f":"IF(H1455=Listas!$X$4,Acompanhamento!I1455,0)","v":0},null,0,null,0,null,0,null,0]
[null,null,null,null,null,null,null,null,null,{"$f":"IF(H1456=Listas!$X$3,Acompanhamento!I1456,0)","v":0},{"$f":"IF(H1456=Listas!$X$4,Acompanhamento!I1456,0)","v":0},null,0,null,0,null,0,null,0]
[null,null,null,null,null,null,null,null,null,{"$f":"IF(H1457=Listas!$X$3,Acompanhamento!I1457,0)","v":0},{"$f":"IF(H1457=Listas!$X$4,Acompanhamento!I1457,0)","v":0},null,0,null,0,null,0,null,0]
[null,null,null,null,null,null,null,null,null,{"$f":"IF(H1458=Listas!$X$3,Acompanhamento!I1458,0)","v":0},{"$f":"IF(H1458=Listas!$X$4,Acompanhamento!I1458,0)","v":0},null,0,null,0,null,0,null,0]
[null,null,null,null,null,null,null,null,null,{"$f":"IF(H1459=Listas!$X$3,Acompanhamento!I1459,0)","v":0},{"$f":"IF(H1459=Listas!$X$4,Acompanhamento!I1459,0)","v":0},null,0,null,0,null,0,null,0]
[null,null,null,null,null,null,null,null,null,{"$f":"IF(H1460=Listas!$X$3,Acompanhamento!I1460,0)","v":0},{"$f":"IF(H1460=Listas!$X$4,Acompanhamento!I1460,0)","v":0},null,0,null,0,null,0,null,0]
[null,null,null,null,null,null,null,null,null,{"$f":"IF(H1461=Listas!$X$3,Acompanhamento!I1461,0)","v":0},{"$f":"IF(H1461=Listas!$X$4,Acompanhamento!I1461,0)","v":0},null,0,null,0,null,0,null,0]
[null,null,null,null,null,null,null,null,null,{"$f":"IF(H1462=Listas!$X$3,Acompanhamento!I1462,0)","v":0},{"$f":"IF(H1462=Listas!$X$4,Acompanhamento!I1462,0)","v":0},null,0,null,0,null,0,null,0]
[null,null,null,null,null,null,null,null,null,{"$f":"IF(H1463=Listas!$X$3,Acompanhamento!I1463,0)","v":0},{"$f":"IF(H1463=Listas!$X$4,Acompanhamento!I1463,0)","v":0},null,0,null,0,null,0,null,0]
[null,null,null,null,null,null,null,null,null,{"$f":"IF(H1464=Listas!$X$3,Acompanhamento!I1464,0)","v":0},{"$f":"IF(H1464=Listas!$X$4,Acompanhamento!I1464,0)","v":0},null,0,null,0,null,0,null,0]
[null,null,null,null,null,null,null,null,null,{"$f":"IF(H1465=Listas!$X$3,Acompanhamento!I1465,0)","v":0},{"$f":"IF(H1465=Listas!$X$4,Acompanhamento!I1465,0)","v":0},null,0,null,0,null,0,null,0]
[null,null,null,null,null,null,null,null,null,{"$f":"IF(H1466=Listas!$X$3,Acompanhamento!I1466,0)","v":0},{"$f":"IF(H1466=Listas!$X$4,Acompanhamento!I1466,0)","v":0},null,0,null,0,null,0,null,0]
[null,null,null,null,null,null,null,null,null,{"$f":"IF(H1467=Listas!$X$3,Acompanhamento!I1467,0)","v":0},{"$f":"IF(H1467=Listas!$X$4,Acompanhamento!I1467,0)","v":0},null,0,null,0,null,0,null,0]
[null,null,null,null,null,null,null,null,null,{"$f":"IF(H1468=Listas!$X$3,Acompanhamento!I1468,0)","v":0},{"$f":"IF(H1468=Listas!$X$4,Acompanhamento!I1468,0)","v":0},null,0,null,0,null,0,null,0]
[null,null,null,null,null,null,null,null,null,{"$f":"IF(H1469=Listas!$X$3,Acompanhamento!I1469,0)","v":0},{"$f":"IF(H1469=Listas!$X$4,Acompanhamento!I1469,0)","v":0},null,0,null,0,null,0,null,0]
[null,null,null,null,null,null,null,null,null,{"$f":"IF(H1470=Listas!$X$3,Acompanhamento!I1470,0)","v":0},{"$f":"IF(H1470=Listas!$X$4,Acompanhamento!I1470,0)","v":0},null,0,null,0,null,0,null,0]
[null,null,null,null,null,null,null,null,null,{"$f":"IF(H1471=Listas!$X$3,Acompanhamento!I1471,0)","v":0},{"$f":"IF(H1471=Listas!$X$4,Acompanhamento!I1471,0)","v":0},null,0,null,0,null,0,null,0]
[null,null,null,null,null,null,null,null,null,{"$f":"IF(H1472=Listas!$X$3,Acompanhamento!I1472,0)","v":0},{"$f":"IF(H1472=Listas!$X$4,Acompanhamento!I1472,0)","v":0},null,0,null,0,null,0,null,0]
[null,null,null,null,null,null,null,null,null,{"$f":"IF(H1473=Listas!$X$3,Acompanhamento!I1473,0)","v":0},{"$f":"IF(H1473=Listas!$X$4,Acompanhamento!I1473,0)","v":0},null,0,null,0,null,0,null,0]
[null,null,null,null,null,null,null,null,null,{"$f":"IF(H1474=Listas!$X$3,Acompanhamento!I1474,0)","v":0},{"$f":"IF(H1474=Listas!$X$4,Acompanhamento!I1474,0)","v":0},null,0,null,0,null,0,null,0]
[null,null,null,null,null,null,null,null,null,{"$f":"IF(H1475=Listas!$X$3,Acompanhamento!I1475,0)","v":0},{"$f":"IF(H1475=Listas!$X$4,Acompanhamento!I1475,0)","v":0},null,0,null,0,null,0,null,0]
[null,null,null,null,null,null,null,null,null,{"$f":"IF(H1476=Listas!$X$3,Acompanhamento!I1476,0)","v":0},{"$f":"IF(H1476=Listas!$X$4,Acompanhamento!I1476,0)","v":0},null,0,null,0,null,0,null,0]
[null,null,null,null,null,null,null,null,null,{"$f":"IF(H1477=Listas!$X$3,Acompanhamento!I1477,0)","v":0},{"$f":"IF(H1477=Listas!$X$4,Acompanhamento!I1477,0)","v":0},null,0,null,0,null,0,null,0]
[null,null,null,null,null,null,null,null,null,{"$f":"IF(H1478=Listas!$X$3,Acompanhamento!I1478,0)","v":0},{"$f":"IF(H1478=Listas!$X$4,Acompanhamento!I1478,0)","v":0},null,0,null,0,null,0,null,0]
[null,null,null,null,null,null,null,null,null,{"$f":"IF(H1479=Listas!$X$3,Acompanhamento!I1479,0)","v":0},{"$f":"IF(H1479=Listas!$X$4,Acompanhamento!I1479,0)","v":0},null,0,null,0,null,0,null,0]
[null,null,null,null,null,null,null,null,null,{"$f":"IF(H1480=Listas!$X$3,Acompanhamento!I1480,0)","v":0},{"$f":"IF(H1480=Listas!$X$4,Acompanhamento!I1480,0)","v":0},null,0,null,0,null,0,null,0]
[null,null,null,null,null,null,null,null,null,{"$f":"IF(H1481=Listas!$X$3,Acompanhamento!I1481,0)","v":0},{"$f":"IF(H1481=Listas!$X$4,Acompanhamento!I1481,0)","v":0},null,0,null,0,null,0,null,0]
[null,null,null,null,null,null,null,null,null,{"$f":"IF(H1482=Listas!$X$3,Acompanhamento!I1482,0)","v":0},{"$f":"IF(H1482=Listas!$X$4,Acompanhamento!I1482,0)","v":0},null,{"$f":"J1482-L1482","v":0},null,{"$f":"M1482-N1482","v":0},null,{"$f":"O1482-P1482","v":0},null,{"$f":"Q1482-R1482","v":0}]
[null,null,null,null,null,null,null,null,null,{"$f":"IF(H1483=Listas!$X$3,Acompanhamento!I1483,0)","v":0},{"$f":"IF(H1483=Listas!$X$4,Acompanhamento!I1483,0)","v":0},null,0,null,0,null,0,null,0]
[null,null,null,null,null,null,null,null,null,{"$f":"IF(H1484=Listas!$X$3,Acompanhamento!I1484,0)","v":0},{"$f":"IF(H1484=Listas!$X$4,Acompanhamento!I1484,0)","v":0},null,0,null,0,null,0,null,0]
[null,null,null,null,null,null,null,null,null,{"$f":"IF(H1485=Listas!$X$3,Acompanhamento!I1485,0)","v":0},{"$f":"IF(H1485=Listas!$X$4,Acompanhamento!I1485,0)","v":0},null,0,null,0,null,0,null,0]
[null,null,null,null,null,null,null,null,null,{"$f":"IF(H1486=Listas!$X$3,Acompanhamento!I1486,0)","v":0},{"$f":"IF(H1486=Listas!$X$4,Acompanhamento!I1486,0)","v":0},null,0,null,0,null,0,null,0]
[null,null,null,null,null,null,null,null,null,{"$f":"IF(H1487=Listas!$X$3,Acompanhamento!I1487,0)","v":0},{"$f":"IF(H1487=Listas!$X$4,Acompanhamento!I1487,0)","v":0},null,0,null,0,null,0,null,0]
[null,null,null,null,null,null,null,null,null,{"$f":"IF(H1488=Listas!$X$3,Acompanhamento!I1488,0)","v":0},{"$f":"IF(H1488=Listas!$X$4,Acompanhamento!I1488,0)","v":0},null,0,null,0,null,0,null,0]
[null,null,null,null,null,null,null,null,null,{"$f":"IF(H1489=Listas!$X$3,Acompanhamento!I1489,0)","v":0},{"$f":"IF(H1489=Listas!$X$4,Acompanhamento!I1489,0)","v":0},null,0,null,0,null,0,null,0]
[null,null,null,null,null,null,null,null,null,{"$f":"IF(H1490=Listas!$X$3,Acompanhamento!I1490,0)","v":0},{"$f":"IF(H1490=Listas!$X$4,Acompanhamento!I1490,0)","v":0},null,0,null,0,null,0,null,0]
[null,null,null,null,null,null,null,null,null,{"$f":"IF(H1491=Listas!$X$3,Acompanhamento!I1491,0)","v":0},{"$f":"IF(H1491=Listas!$X$4,Acompanhamento!I1491,0)","v":0},null,0,null,0,null,0,null,0]
[null,null,null,null,null,null,null,null,null,{"$f":"IF(H1492=Listas!$X$3,Acompanhamento!I1492,0)","v":0},{"$f":"IF(H1492=Listas!$X$4,Acompanhamento!I1492,0)","v":0},null,0,null,0,null,0,null,0]
[null,null,null,null,null,null,null,null,null,{"$f":"IF(H1493=Listas!$X$3,Acompanhamento!I1493,0)","v":0},{"$f":"IF(H1493=Listas!$X$4,Acompanhamento!I1493,0)","v":0},null,0,null,0,null,0,null,0]
[null,null,null,null,null,null,null,null,null,{"$f":"IF(H1494=Listas!$X$3,Acompanhamento!I1494,0)","v":0},{"$f":"IF(H1494=Listas!$X$4,Acompanhamento!I1494,0)","v":0},null,0,null,0,null,0,null,0]
[null,null,null,null,null,null,null,null,null,{"$f":"IF(H1495=Listas!$X$3,Acompanhamento!I1495,0)","v":0},{"$f":"IF(H1495=Listas!$X$4,Acompanhamento!I1495,0)","v":0},null,0,null,0,null,0,null,0]
[null,null,null,null,null,null,null,null,null,{"$f":"IF(H1496=Listas!$X$3,Acompanhamento!I1496,0)","v":0},{"$f":"IF(H1496=Listas!$X$4,Acompanhamento!I1496,0)","v":0},null,0,null,0,null,0,null,0]
[null,null,null,null,null,null,null,null,null,{"$f":"IF(H1497=Listas!$X$3,Acompanhamento!I1497,0)","v":0},{"$f":"IF(H1497=Listas!$X$4,Acompanhamento!I1497,0)","v":0},null,0,null,0,null,0,null,0]
[null,null,null,null,null,null,null,null,null,{"$f":"IF(H1498=Listas!$X$3,Acompanhamento!I1498,0)","v":0},{"$f":"IF(H1498=Listas!$X$4,Acompanhamento!I1498,0)","v":0},null,0,null,0,null,0,null,0]
[null,null,null,null,null,null,null,null,null,{"$f":"IF(H1499=Listas!$X$3,Acompanhamento!I1499,0)","v":0},{"$f":"IF(H1499=Listas!$X$4,Acompanhamento!I1499,0)","v":0},null,0,null,0,null,0,null,0]
[null,null,null,null,null,null,null,null,null,{"$f":"IF(H1500=Listas!$X$3,Acompanhamento!I1500,0)","v":0},{"$f":"IF(H1500=Listas!$X$4,Acompanhamento!I1500,0)","v":0},null,0,null,0,null,0,null,0]
[null,null,null,null,null,null,null,null,null,{"$f":"IF(H1501=Listas!$X$3,Acompanhamento!I1501,0)","v":0},{"$f":"IF(H1501=Listas!$X$4,Acompanhamento!I1501,0)","v":0},null,0,null,0,null,0,null,0]
[null,null,null,null,null,null,null,null,null,{"$f":"IF(H1502=Listas!$X$3,Acompanhamento!I1502,0)","v":0},{"$f":"IF(H1502=Listas!$X$4,Acompanhamento!I1502,0)","v":0},null,0,null,0,null,0,null,0]
[null,null,null,null,null,null,null,null,null,{"$f":"IF(H1503=Listas!$X$3,Acompanhamento!I1503,0)","v":0},{"$f":"IF(H1503=Listas!$X$4,Acompanhamento!I1503,0)","v":0},null,0,null,0,null,0,null,0]
[null,null,null,null,null,null,null,null,null,{"$f":"IF(H1504=Listas!$X$3,Acompanhamento!I1504,0)","v":0},{"$f":"IF(H1504=Listas!$X$4,Acompanhamento!I1504,0)","v":0},null,0,null,0,null,0,null,0]
[null,null,null,null,null,null,null,null,null,{"$f":"IF(H1505=Listas!$X$3,Acompanhamento!I1505,0)","v":0},{"$f":"IF(H1505=Listas!$X$4,Acompanhamento!I1505,0)","v":0},null,0,null,0,null,0,null,0]
[null,null,null,null,null,null,null,null,null,{"$f":"IF(H1506=Listas!$X$3,Acompanhamento!I1506,0)","v":0},{"$f":"IF(H1506=Listas!$X$4,Acompanhamento!I1506,0)","v":0},null,0,null,0,null,0,null,0]
[null,null,null,null,null,null,null,null,null,{"$f":"IF(H1507=Listas!$X$3,Acompanhamento!I1507,0)","v":0},{"$f":"IF(H1507=Listas!$X$4,Acompanhamento!I1507,0)","v":0},null,0,null,0,null,0,null,0]
[null,null,null,null,null,null,null,null,null,{"$f":"IF(H1508=Listas!$X$3,Acompanhamento!I1508,0)","v":0},{"$f":"IF(H1508=Listas!$X$4,Acompanhamento!I1508,0)","v":0},null,0,null,0,null,0,null,0]
[null,null,null,null,null,null,null,null,null,{"$f":"IF(H1509=Listas!$X$3,Acompanhamento!I1509,0)","v":0},{"$f":"IF(H1509=Listas!$X$4,Acompanhamento!I1509,0)","v":0},null,0,null,0,null,0,null,0]
[null,null,null,null,null,null,null,null,null,{"$f":"IF(H1510=Listas!$X$3,Acompanhamento!I1510,0)","v":0},{"$f":"IF(H1510=Listas!$X$4,Acompanhamento!I1510,0)","v":0},null,0,null,0,null,0,null,0]
[null,null,null,null,null,null,null,null,null,{"$f":"IF(H1511=Listas!$X$3,Acompanhamento!I1511,0)","v":0},{"$f":"IF(H1511=Listas!$X$4,Acompanhamento!I1511,0)","v":0},null,0,null,0,null,0,null,0]
[null,null,null,null,null,null,null,null,null,{"$f":"IF(H1512=Listas!$X$3,Acompanhamento!I1512,0)","v":0},{"$f":"IF(H1512=Listas!$X$4,Acompanhamento!I1512,0)","v":0},null,0,null,0,null,0,null,0]
[null,null,null,null,null,null,null,null,null,{"$f":"IF(H1513=Listas!$X$3,Acompanhamento!I1513,0)","v":0},{"$f":"IF(H1513=Listas!$X$4,Acompanhamento!I1513,0)","v":0},null,0,null,0,null,0,null,0]
[null,null,null,null,null,null,null,null,null,{"$f":"IF(H1514=Listas!$X$3,Acompanhamento!I1514,0)","v":0},{"$f":"IF(H1514=Listas!$X$4,Acompanhamento!I1514,0)","v":0},null,0,null,0,null,0,null,0]
[null,null,null,null,null,null,null,null,null,{"$f":"IF(H1515=Listas!$X$3,Acompanhamento!I1515,0)","v":0},{"$f":"IF(H1515=Listas!$X$4,Acompanhamento!I1515,0)","v":0},null,0,null,0,null,0,null,0]
[null,null,null,null,null,null,null,null,null,{"$f":"IF(H1516=Listas!$X$3,Acompanhamento!I1516,0)","v":0},{"$f":"IF(H1516=Listas!$X$4,Acompanhamento!I1516,0)","v":0},null,0,null,0,null,0,null,0]
[null,null,null,null,null,null,null,null,null,{"$f":"IF(H1517=Listas!$X$3,Acompanhamento!I1517,0)","v":0},{"$f":"IF(H1517=Listas!$X$4,Acompanhamento!I1517,0)","v":0},null,0,null,0,null,0,null,0]
[null,null,null,null,null,null,null,null,null,{"$f":"IF(H1518=Listas!$X$3,Acompanhamento!I1518,0)","v":0},{"$f":"IF(H1518=Listas!$X$4,Acompanhamento!I1518,0)","v":0},null,0,null,0,null,0,null,0]
[null,null,null,null,null,null,null,null,null,{"$f":"IF(H1519=Listas!$X$3,Acompanhamento!I1519,0)","v":0},{"$f":"IF(H1519=Listas!$X$4,Acompanhamento!I1519,0)","v":0},null,0,null,0,null,0,null,0]
[null,null,null,null,null,null,null,null,null,{"$f":"IF(H1520=Listas!$X$3,Acompanhamento!I1520,0)","v":0},{"$f":"IF(H1520=Listas!$X$4,Acompanhamento!I1520,0)","v":0},null,0,null,0,null,0,null,0]
[null,null,null,null,null,null,null,null,null,{"$f":"IF(H1521=Listas!$X$3,Acompanhamento!I1521,0)","v":0},{"$f":"IF(H1521=Listas!$X$4,Acompanhamento!I1521,0)","v":0},null,0,null,0,null,0,null,0]
[null,null,null,null,null,null,null,null,null,{"$f":"IF(H1522=Listas!$X$3,Acompanhamento!I1522,0)","v":0},{"$f":"IF(H1522=Listas!$X$4,Acompanhamento!I1522,0)","v":0},null,0,null,0,null,0,null,0]
[null,null,null,null,null,null,null,null,null,{"$f":"IF(H1523=Listas!$X$3,Acompanhamento!I1523,0)","v":0},{"$f":"IF(H1523=Listas!$X$4,Acompanhamento!I1523,0)","v":0},null,0,null,0,null,0,null,0]
[null,null,null,null,null,null,null,null,null,{"$f":"IF(H1524=Listas!$X$3,Acompanhamento!I1524,0)","v":0},{"$f":"IF(H1524=Listas!$X$4,Acompanhamento!I1524,0)","v":0},null,0,null,0,null,0,null,0]
[null,null,null,null,null,null,null,null,null,{"$f":"IF(H1525=Listas!$X$3,Acompanhamento!I1525,0)","v":0},{"$f":"IF(H1525=Listas!$X$4,Acompanhamento!I1525,0)","v":0},null,0,null,0,null,0,null,0]
[null,null,null,null,null,null,null,null,null,{"$f":"IF(H1526=Listas!$X$3,Acompanhamento!I1526,0)","v":0},{"$f":"IF(H1526=Listas!$X$4,Acompanhamento!I1526,0)","v":0},null,0,null,0,null,0,null,0]
[null,null,null,null,null,null,null,null,null,{"$f":"IF(H1527=Listas!$X$3,Acompanhamento!I1527,0)","v":0},{"$f":"IF(H1527=Listas!$X$4,Acompanhamento!I1527,0)","v":0},null,0,null,0,null,0,null,0]
[null,null,null,null,null,null,null,null,null,{"$f":"IF(H1528=Listas!$X$3,Acompanhamento!I1528,0)","v":0},{"$f":"IF(H1528=Listas!$X$4,Acompanhamento!I1528,0)","v":0},null,0,null,0,null,0,null,0]
[null,null,null,null,null,null,null,null,null,{"$f":"IF(H1529=Listas!$X$3,Acompanhamento!I1529,0)","v":0},{"$f":"IF(H1529=Listas!$X$4,Acompanhamento!I1529,0)","v":0},null,0,null,0,null,0,null,0]
[null,null,null,null,null,null,null,null,null,{"$f":"IF(H1530=Listas!$X$3,Acompanhamento!I1530,0)","v":0},{"$f":"IF(H1530=Listas!$X$4,Acompanhamento!I1530,0)","v":0},null,0,null,0,null,0,null,0]
[null,null,null,null,null,null,null,null,null,{"$f":"IF(H1531=Listas!$X$3,Acompanhamento!I1531,0)","v":0},{"$f":"IF(H1531=Listas!$X$4,Acompanhamento!I1531,0)","v":0},null,0,null,0,null,0,null,0]
[null,null,null,null,null,null,null,null,null,{"$f":"IF(H1532=Listas!$X$3,Acompanhamento!I1532,0)","v":0},{"$f":"IF(H1532=Listas!$X$4,Acompanhamento!I1532,0)","v":0},null,0,null,0,null,0,null,0]
[null,null,null,null,null,null,null,null,null,{"$f":"IF(H1533=Listas!$X$3,Acompanhamento!I1533,0)","v":0},{"$f":"IF(H1533=Listas!$X$4,Acompanhamento!I1533,0)","v":0},null,0,null,0,null,0,null,0]
[null,null,null,null,null,null,null,null,null,{"$f":"IF(H1534=Listas!$X$3,Acompanhamento!I1534,0)","v":0},{"$f":"IF(H1534=Listas!$X$4,Acompanhamento!I1534,0)","v":0},null,0,null,0,null,0,null,0]
[null,null,null,null,null,null,null,null,null,{"$f":"IF(H1535=Listas!$X$3,Acompanhamento!I1535,0)","v":0},{"$f":"IF(H1535=Listas!$X$4,Acompanhamento!I1535,0)","v":0},null,0,null,0,null,0,null,0]
[null,null,null,null,null,null,null,null,null,{"$f":"IF(H1536=Listas!$X$3,Acompanhamento!I1536,0)","v":0},{"$f":"IF(H1536=Listas!$X$4,Acompanhamento!I1536,0)","v":0},null,0,null,0,null,0,null,0]
[null,null,null,null,null,null,null,null,null,{"$f":"IF(H1537=Listas!$X$3,Acompanhamento!I1537,0)","v":0},{"$f":"IF(H1537=Listas!$X$4,Acompanhamento!I1537,0)","v":0},null,0,null,0,null,0,null,0]
[null,null,null,null,null,null,null,null,null,{"$f":"IF(H1538=Listas!$X$3,Acompanhamento!I1538,0)","v":0},{"$f":"IF(H1538=Listas!$X$4,Acompanhamento!I1538,0)","v":0},null,0,null,0,null,0,null,0]
[null,null,null,null,null,null,null,null,null,{"$f":"IF(H1539=Listas!$X$3,Acompanhamento!I1539,0)","v":0},{"$f":"IF(H1539=Listas!$X$4,Acompanhamento!I1539,0)","v":0},null,0,null,0,null,0,null,0]
[null,null,null,null,null,null,null,null,null,{"$f":"IF(H1540=Listas!$X$3,Acompanhamento!I1540,0)","v":0},{"$f":"IF(H1540=Listas!$X$4,Acompanhamento!I1540,0)","v":0},null,0,null,0,null,0,null,0]
[null,null,null,null,null,null,null,null,null,{"$f":"IF(H1541=Listas!$X$3,Acompanhamento!I1541,0)","v":0},{"$f":"IF(H1541=Listas!$X$4,Acompanhamento!I1541,0)","v":0},null,0,null,0,null,0,null,0]
[null,null,null,null,null,null,null,null,null,{"$f":"IF(H1542=Listas!$X$3,Acompanhamento!I1542,0)","v":0},{"$f":"IF(H1542=Listas!$X$4,Acompanhamento!I1542,0)","v":0},null,0,null,0,null,0,null,0]
[null,null,null,null,null,null,null,null,null,{"$f":"IF(H1543=Listas!$X$3,Acompanhamento!I1543,0)","v":0},{"$f":"IF(H1543=Listas!$X$4,Acompanhamento!I1543,0)","v":0},null,0,null,0,null,0,null,0]
[null,null,null,null,null,null,null,null,null,{"$f":"IF(H1544=Listas!$X$3,Acompanhamento!I1544,0)","v":0},{"$f":"IF(H1544=Listas!$X$4,Acompanhamento!I1544,0)","v":0},null,0,null,0,null,0,null,0]
[null,null,null,null,null,null,null,null,null,{"$f":"IF(H1545=Listas!$X$3,Acompanhamento!I1545,0)","v":0},{"$f":"IF(H1545=Listas!$X$4,Acompanhamento!I1545,0)","v":0},null,0,null,0,null,0,null,0]
[null,null,null,null,null,null,null,null,null,{"$f":"IF(H1546=Listas!$X$3,Acompanhamento!I1546,0)","v":0},{"$f":"IF(H1546=Listas!$X$4,Acompanhamento!I1546,0)","v":0},null,{"$f":"J1546-L1546","v":0},null,{"$f":"M1546-N1546","v":0},null,{"$f":"O1546-P1546","v":0},null,{"$f":"Q1546-R1546","v":0}]
[null,null,null,null,null,null,null,null,null,{"$f":"IF(H1547=Listas!$X$3,Acompanhamento!I1547,0)","v":0},{"$f":"IF(H1547=Listas!$X$4,Acompanhamento!I1547,0)","v":0},null,0,null,0,null,0,null,0]
[null,null,null,null,null,null,null,null,null,{"$f":"IF(H1548=Listas!$X$3,Acompanhamento!I1548,0)","v":0},{"$f":"IF(H1548=Listas!$X$4,Acompanhamento!I1548,0)","v":0},null,0,null,0,null,0,null,0]
[null,null,null,null,null,null,null,null,null,{"$f":"IF(H1549=Listas!$X$3,Acompanhamento!I1549,0)","v":0},{"$f":"IF(H1549=Listas!$X$4,Acompanhamento!I1549,0)","v":0},null,0,null,0,null,0,null,0]
[null,null,null,null,null,null,null,null,null,{"$f":"IF(H1550=Listas!$X$3,Acompanhamento!I1550,0)","v":0},{"$f":"IF(H1550=Listas!$X$4,Acompanhamento!I1550,0)","v":0},null,0,null,0,null,0,null,0]
[null,null,null,null,null,null,null,null,null,{"$f":"IF(H1551=Listas!$X$3,Acompanhamento!I1551,0)","v":0},{"$f":"IF(H1551=Listas!$X$4,Acompanhamento!I1551,0)","v":0},null,0,null,0,null,0,null,0]
[null,null,null,null,null,null,null,null,null,{"$f":"IF(H1552=Listas!$X$3,Acompanhamento!I1552,0)","v":0},{"$f":"IF(H1552=Listas!$X$4,Acompanhamento!I1552,0)","v":0},null,0,null,0,null,0,null,0]
[null,null,null,null,null,null,null,null,null,{"$f":"IF(H1553=Listas!$X$3,Acompanhamento!I1553,0)","v":0},{"$f":"IF(H1553=Listas!$X$4,Acompanhamento!I1553,0)","v":0},null,0,null,0,null,0,null,0]
[null,null,null,null,null,null,null,null,null,{"$f":"IF(H1554=Listas!$X$3,Acompanhamento!I1554,0)","v":0},{"$f":"IF(H1554=Listas!$X$4,Acompanhamento!I1554,0)","v":0},null,0,null,0,null,0,null,0]
[null,null,null,null,null,null,null,null,null,{"$f":"IF(H1555=Listas!$X$3,Acompanhamento!I1555,0)","v":0},{"$f":"IF(H1555=Listas!$X$4,Acompanhamento!I1555,0)","v":0},null,0,null,0,null,0,null,0]
[null,null,null,null,null,null,null,null,null,{"$f":"IF(H1556=Listas!$X$3,Acompanhamento!I1556,0)","v":0},{"$f":"IF(H1556=Listas!$X$4,Acompanhamento!I1556,0)","v":0},null,0,null,0,null,0,null,0]
[null,null,null,null,null,null,null,null,null,{"$f":"IF(H1557=Listas!$X$3,Acompanhamento!I1557,0)","v":0},{"$f":"IF(H1557=Listas!$X$4,Acompanhamento!I1557,0)","v":0},null,0,null,0,null,0,null,0]
[null,null,null,null,null,null,null,null,null,{"$f":"IF(H1558=Listas!$X$3,Acompanhamento!I1558,0)","v":0},{"$f":"IF(H1558=Listas!$X$4,Acompanhamento!I1558,0)","v":0},null,0,null,0,null,0,null,0]
[null,null,null,null,null,null,null,null,null,{"$f":"IF(H1559=Listas!$X$3,Acompanhamento!I1559,0)","v":0},{"$f":"IF(H1559=Listas!$X$4,Acompanhamento!I1559,0)","v":0},null,0,null,0,null,0,null,0]
[null,null,null,null,null,null,null,null,null,{"$f":"IF(H1560=Listas!$X$3,Acompanhamento!I1560,0)","v":0},{"$f":"IF(H1560=Listas!$X$4,Acompanhamento!I1560,0)","v":0},null,0,null,0,null,0,null,0]
[null,null,null,null,null,null,null,null,null,{"$f":"IF(H1561=Listas!$X$3,Acompanhamento!I1561,0)","v":0},{"$f":"IF(H1561=Listas!$X$4,Acompanhamento!I1561,0)","v":0},null,0,null,0,null,0,null,0]
[null,null,null,null,null,null,null,null,null,{"$f":"IF(H1562=Listas!$X$3,Acompanhamento!I1562,0)","v":0},{"$f":"IF(H1562=Listas!$X$4,Acompanhamento!I1562,0)","v":0},null,0,null,0,null,0,null,0]
[null,null,null,null,null,null,null,null,null,{"$f":"IF(H1563=Listas!$X$3,Acompanhamento!I1563,0)","v":0},{"$f":"IF(H1563=Listas!$X$4,Acompanhamento!I1563,0)","v":0},null,0,null,0,null,0,null,0]
[null,null,null,null,null,null,null,null,null,{"$f":"IF(H1564=Listas!$X$3,Acompanhamento!I1564,0)","v":0},{"$f":"IF(H1564=Listas!$X$4,Acompanhamento!I1564,0)","v":0},null,0,null,0,null,0,null,0]
[null,null,null,null,null,null,null,null,null,{"$f":"IF(H1565=Listas!$X$3,Acompanhamento!I1565,0)","v":0},{"$f":"IF(H1565=Listas!$X$4,Acompanhamento!I1565,0)","v":0},null,0,null,0,null,0,null,0]
[null,null,null,null,null,null,null,null,null,{"$f":"IF(H1566=Listas!$X$3,Acompanhamento!I1566,0)","v":0},{"$f":"IF(H1566=Listas!$X$4,Acompanhamento!I1566,0)","v":0},null,0,null,0,null,0,null,0]
[null,null,null,null,null,null,null,null,null,{"$f":"IF(H1567=Listas!$X$3,Acompanhamento!I1567,0)","v":0},{"$f":"IF(H1567=Listas!$X$4,Acompanhamento!I1567,0)","v":0},null,0,null,0,null,0,null,0]
[null,null,null,null,null,null,null,null,null,{"$f":"IF(H1568=Listas!$X$3,Acompanhamento!I1568,0)","v":0},{"$f":"IF(H1568=Listas!$X$4,Acompanhamento!I1568,0)","v":0},null,0,null,0,null,0,null,0]
[null,null,null,null,null,null,null,null,null,{"$f":"IF(H1569=Listas!$X$3,Acompanhamento!I1569,0)","v":0},{"$f":"IF(H1569=Listas!$X$4,Acompanhamento!I1569,0)","v":0},null,0,null,0,null,0,null,0]
[null,null,null,null,null,null,null,null,null,{"$f":"IF(H1570=Listas!$X$3,Acompanhamento!I1570,0)","v":0},{"$f":"IF(H1570=Listas!$X$4,Acompanhamento!I1570,0)","v":0},null,0,null,0,null,0,null,0]
[null,null,null,null,null,null,null,null,null,{"$f":"IF(H1571=Listas!$X$3,Acompanhamento!I1571,0)","v":0},{"$f":"IF(H1571=Listas!$X$4,Acompanhamento!I1571,0)","v":0},null,0,null,0,null,0,null,0]
[null,null,null,null,null,null,null,null,null,{"$f":"IF(H1572=Listas!$X$3,Acompanhamento!I1572,0)","v":0},{"$f":"IF(H1572=Listas!$X$4,Acompanhamento!I1572,0)","v":0},null,0,null,0,null,0,null,0]
[null,null,null,null,null,null,null,null,null,{"$f":"IF(H1573=Listas!$X$3,Acompanhamento!I1573,0)","v":0},{"$f":"IF(H1573=Listas!$X$4,Acompanhamento!I1573,0)","v":0},null,0,null,0,null,0,null,0]
[null,null,null,null,null,null,null,null,null,{"$f":"IF(H1574=Listas!$X$3,Acompanhamento!I1574,0)","v":0},{"$f":"IF(H1574=Listas!$X$4,Acompanhamento!I1574,0)","v":0},null,0,null,0,null,0,null,0]
[null,null,null,null,null,null,null,null,null,{"$f":"IF(H1575=Listas!$X$3,Acompanhamento!I1575,0)","v":0},{"$f":"IF(H1575=Listas!$X$4,Acompanhamento!I1575,0)","v":0},null,0,null,0,null,0,null,0]
[null,null,null,null,null,null,null,null,null,{"$f":"IF(H1576=Listas!$X$3,Acompanhamento!I1576,0)","v":0},{"$f":"IF(H1576=Listas!$X$4,Acompanhamento!I1576,0)","v":0},null,0,null,0,null,0,null,0]
[null,null,null,null,null,null,null,null,null,{"$f":"IF(H1577=Listas!$X$3,Acompanhamento!I1577,0)","v":0},{"$f":"IF(H1577=Listas!$X$4,Acompanhamento!I1577,0)","v":0},null,0,null,0,null,0,null,0]
[null,null,null,null,null,null,null,null,null,{"$f":"IF(H1578=Listas!$X$3,Acompanhamento!I1578,0)","v":0},{"$f":"IF(H1578=Listas!$X$4,Acompanhamento!I1578,0)","v":0},null,0,null,0,null,0,null,0]
[null,null,null,null,null,null,null,null,null,{"$f":"IF(H1579=Listas!$X$3,Acompanhamento!I1579,0)","v":0},{"$f":"IF(H1579=Listas!$X$4,Acompanhamento!I1579,0)","v":0},null,0,null,0,null,0,null,0]
[null,null,null,null,null,null,null,null,null,{"$f":"IF(H1580=Listas!$X$3,Acompanhamento!I1580,0)","v":0},{"$f":"IF(H1580=Listas!$X$4,Acompanhamento!I1580,0)","v":0},null,0,null,0,null,0,null,0]
[null,null,null,null,null,null,null,null,null,{"$f":"IF(H1581=Listas!$X$3,Acompanhamento!I1581,0)","v":0},{"$f":"IF(H1581=Listas!$X$4,Acompanhamento!I1581,0)","v":0},null,0,null,0,null,0,null,0]
[null,null,null,null,null,null,null,null,null,{"$f":"IF(H1582=Listas!$X$3,Acompanhamento!I1582,0)","v":0},{"$f":"IF(H1582=Listas!$X$4,Acompanhamento!I1582,0)","v":0},null,0,null,0,null,0,null,0]
[null,null,null,null,null,null,null,null,null,{"$f":"IF(H1583=Listas!$X$3,Acompanhamento!I1583,0)","v":0},{"$f":"IF(H1583=Listas!$X$4,Acompanhamento!I1583,0)","v":0},null,0,null,0,null,0,null,0]
[null,null,null,null,null,null,null,null,null,{"$f":"IF(H1584=Listas!$X$3,Acompanhamento!I1584,0)","v":0},{"$f":"IF(H1584=Listas!$X$4,Acompanhamento!I1584,0)","v":0},null,0,null,0,null,0,null,0]
[null,null,null,null,null,null,null,null,null,{"$f":"IF(H1585=Listas!$X$3,Acompanhamento!I1585,0)","v":0},{"$f":"IF(H1585=Listas!$X$4,Acompanhamento!I1585,0)","v":0},null,0,null,0,null,0,null,0]
[null,null,null,null,null,null,null,null,null,{"$f":"IF(H1586=Listas!$X$3,Acompanhamento!I1586,0)","v":0},{"$f":"IF(H1586=Listas!$X$4,Acompanhamento!I1586,0)","v":0},null,0,null,0,null,0,null,0]
[null,null,null,null,null,null,null,null,null,{"$f":"IF(H1587=Listas!$X$3,Acompanhamento!I1587,0)","v":0},{"$f":"IF(H1587=Listas!$X$4,Acompanhamento!I1587,0)","v":0},null,0,null,0,null,0,null,0]
[null,null,null,null,null,null,null,null,null,{"$f":"IF(H1588=Listas!$X$3,Acompanhamento!I1588,0)","v":0},{"$f":"IF(H1588=Listas!$X$4,Acompanhamento!I1588,0)","v":0},null,0,null,0,null,0,null,0]
[null,null,null,null,null,null,null,null,null,{"$f":"IF(H1589=Listas!$X$3,Acompanhamento!I1589,0)","v":0},{"$f":"IF(H1589=Listas!$X$4,Acompanhamento!I1589,0)","v":0},null,0,null,0,null,0,null,0]
[null,null,null,null,null,null,null,null,null,{"$f":"IF(H1590=Listas!$X$3,Acompanhamento!I1590,0)","v":0},{"$f":"IF(H1590=Listas!$X$4,Acompanhamento!I1590,0)","v":0},null,0,null,0,null,0,null,0]
[null,null,null,null,null,null,null,null,null,{"$f":"IF(H1591=Listas!$X$3,Acompanhamento!I1591,0)","v":0},{"$f":"IF(H1591=Listas!$X$4,Acompanhamento!I1591,0)","v":0},null,0,null,0,null,0,null,0]
[null,null,null,null,null,null,null,null,null,{"$f":"IF(H1592=Listas!$X$3,Acompanhamento!I1592,0)","v":0},{"$f":"IF(H1592=Listas!$X$4,Acompanhamento!I1592,0)","v":0},null,0,null,0,null,0,null,0]
[null,null,null,null,null,null,null,null,null,{"$f":"IF(H1593=Listas!$X$3,Acompanhamento!I1593,0)","v":0},{"$f":"IF(H1593=Listas!$X$4,Acompanhamento!I1593,0)","v":0},null,0,null,0,null,0,null,0]
[null,null,null,null,null,null,null,null,null,{"$f":"IF(H1594=Listas!$X$3,Acompanhamento!I1594,0)","v":0},{"$f":"IF(H1594=Listas!$X$4,Acompanhamento!I1594,0)","v":0},null,0,null,0,null,0,null,0]
[null,null,null,null,null,null,null,null,null,{"$f":"IF(H1595=Listas!$X$3,Acompanhamento!I1595,0)","v":0},{"$f":"IF(H1595=Listas!$X$4,Acompanhamento!I1595,0)","v":0},null,0,null,0,null,0,null,0]
[null,null,null,null,null,null,null,null,null,{"$f":"IF(H1596=Listas!$X$3,Acompanhamento!I1596,0)","v":0},{"$f":"IF(H1596=Listas!$X$4,Acompanhamento!I1596,0)","v":0},null,0,null,0,null,0,null,0]
[null,null,null,null,null,null,null,null,null,{"$f":"IF(H1597=Listas!$X$3,Acompanhamento!I1597,0)","v":0},{"$f":"IF(H1597=Listas!$X$4,Acompanhamento!I1597,0)","v":0},null,0,null,0,null,0,null,0]
[null,null,null,null,null,null,null,null,null,{"$f":"IF(H1598=Listas!$X$3,Acompanhamento!I1598,0)","v":0},{"$f":"IF(H1598=Listas!$X$4,Acompanhamento!I1598,0)","v":0},null,0,null,0,null,0,null,0]
[null,null,null,null,null,null,null,null,null,{"$f":"IF(H1599=Listas!$X$3,Acompanhamento!I1599,0)","v":0},{"$f":"IF(H1599=Listas!$X$4,Acompanhamento!I1599,0)","v":0},null,0,null,0,null,0,null,0]
[null,null,null,null,null,null,null,null,null,{"$f":"IF(H1600=Listas!$X$3,Acompanhamento!I1600,0)","v":0},{"$f":"IF(H1600=Listas!$X$4,Acompanhamento!I1600,0)","v":0},null,0,null,0,null,0,null,0]
[null,null,null,null,null,null,null,null,null,{"$f":"IF(H1601=Listas!$X$3,Acompanhamento!I1601,0)","v":0},{"$f":"IF(H1601=Listas!$X$4,Acompanhamento!I1601,0)","v":0},null,0,null,0,null,0,null,0]
[null,null,null,null,null,null,null,null,null,{"$f":"IF(H1602=Listas!$X$3,Acompanhamento!I1602,0)","v":0},{"$f":"IF(H1602=Listas!$X$4,Acompanhamento!I1602,0)","v":0},null,0,null,0,null,0,null,0]
[null,null,null,null,null,null,null,null,null,{"$f":"IF(H1603=Listas!$X$3,Acompanhamento!I1603,0)","v":0},{"$f":"IF(H1603=Listas!$X$4,Acompanhamento!I1603,0)","v":0},null,0,null,0,null,0,null,0]
[null,null,null,null,null,null,null,null,null,{"$f":"IF(H1604=Listas!$X$3,Acompanhamento!I1604,0)","v":0},{"$f":"IF(H1604=Listas!$X$4,Acompanhamento!I1604,0)","v":0},null,0,null,0,null,0,null,0]
[null,null,null,null,null,null,null,null,null,{"$f":"IF(H1605=Listas!$X$3,Acompanhamento!I1605,0)","v":0},{"$f":"IF(H1605=Listas!$X$4,Acompanhamento!I1605,0)","v":0},null,0,null,0,null,0,null,0]
[null,null,null,null,null,null,null,null,null,{"$f":"IF(H1606=Listas!$X$3,Acompanhamento!I1606,0)","v":0},{"$f":"IF(H1606=Listas!$X$4,Acompanhamento!I1606,0)","v":0},null,0,null,0,null,0,null,0]
[null,null,null,null,null,null,null,null,null,{"$f":"IF(H1607=Listas!$X$3,Acompanhamento!I1607,0)","v":0},{"$f":"IF(H1607=Listas!$X$4,Acompanhamento!I1607,0)","v":0},null,0,null,0,null,0,null,0]
[null,null,null,null,null,null,null,null,null,{"$f":"IF(H1608=Listas!$X$3,Acompanhamento!I1608,0)","v":0},{"$f":"IF(H1608=Listas!$X$4,Acompanhamento!I1608,0)","v":0},null,0,null,0,null,0,null,0]
[null,null,null,null,null,null,null,null,null,{"$f":"IF(H1609=Listas!$X$3,Acompanhamento!I1609,0)","v":0},{"$f":"IF(H1609=Listas!$X$4,Acompanhamento!I1609,0)","v":0},null,0,null,0,null,0,null,0]
[null,null,null,null,null,null,null,null,null,{"$f":"IF(H1610=Listas!$X$3,Acompanhamento!I1610,0)","v":0},{"$f":"IF(H1610=Listas!$X$4,Acompanhamento!I1610,0)","v":0},null,{"$f":"J1610-L1610","v":0},null,{"$f":"M1610-N1610","v":0},null,{"$f":"O1610-P1610","v":0},null,{"$f":"Q1610-R1610","v":0}]
[null,null,null,null,null,null,null,null,null,{"$f":"IF(H1611=Listas!$X$3,Acompanhamento!I1611,0)","v":0},{"$f":"IF(H1611=Listas!$X$4,Acompanhamento!I1611,0)","v":0},null,0,null,0,null,0,null,0]
[null,null,null,null,null,null,null,null,null,{"$f":"IF(H1612=Listas!$X$3,Acompanhamento!I1612,0)","v":0},{"$f":"IF(H1612=Listas!$X$4,Acompanhamento!I1612,0)","v":0},null,0,null,0,null,0,null,0]
[null,null,null,null,null,null,null,null,null,{"$f":"IF(H1613=Listas!$X$3,Acompanhamento!I1613,0)","v":0},{"$f":"IF(H1613=Listas!$X$4,Acompanhamento!I1613,0)","v":0},null,0,null,0,null,0,null,0]
[null,null,null,null,null,null,null,null,null,{"$f":"IF(H1614=Listas!$X$3,Acompanhamento!I1614,0)","v":0},{"$f":"IF(H1614=Listas!$X$4,Acompanhamento!I1614,0)","v":0},null,0,null,0,null,0,null,0]
[null,null,null,null,null,null,null,null,null,{"$f":"IF(H1615=Listas!$X$3,Acompanhamento!I1615,0)","v":0},{"$f":"IF(H1615=Listas!$X$4,Acompanhamento!I1615,0)","v":0},null,0,null,0,null,0,null,0]
[null,null,null,null,null,null,null,null,null,{"$f":"IF(H1616=Listas!$X$3,Acompanhamento!I1616,0)","v":0},{"$f":"IF(H1616=Listas!$X$4,Acompanhamento!I1616,0)","v":0},null,0,null,0,null,0,null,0]
[null,null,null,null,null,null,null,null,null,{"$f":"IF(H1617=Listas!$X$3,Acompanhamento!I1617,0)","v":0},{"$f":"IF(H1617=Listas!$X$4,Acompanhamento!I1617,0)","v":0},null,0,null,0,null,0,null,0]
[null,null,null,null,null,null,null,null,null,{"$f":"IF(H1618=Listas!$X$3,Acompanhamento!I1618,0)","v":0},{"$f":"IF(H1618=Listas!$X$4,Acompanhamento!I1618,0)","v":0},null,0,null,0,null,0,null,0]
[null,null,null,null,null,null,null,null,null,{"$f":"IF(H1619=Listas!$X$3,Acompanhamento!I1619,0)","v":0},{"$f":"IF(H1619=Listas!$X$4,Acompanhamento!I1619,0)","v":0},null,0,null,0,null,0,null,0]
[null,null,null,null,null,null,null,null,null,{"$f":"IF(H1620=Listas!$X$3,Acompanhamento!I1620,0)","v":0},{"$f":"IF(H1620=Listas!$X$4,Acompanhamento!I1620,0)","v":0},null,0,null,0,null,0,null,0]
[null,null,null,null,null,null,null,null,null,{"$f":"IF(H1621=Listas!$X$3,Acompanhamento!I1621,0)","v":0},{"$f":"IF(H1621=Listas!$X$4,Acompanhamento!I1621,0)","v":0},null,0,null,0,null,0,null,0]
[null,null,null,null,null,null,null,null,null,{"$f":"IF(H1622=Listas!$X$3,Acompanhamento!I1622,0)","v":0},{"$f":"IF(H1622=Listas!$X$4,Acompanhamento!I1622,0)","v":0},null,0,null,0,null,0,null,0]
[null,null,null,null,null,null,null,null,null,{"$f":"IF(H1623=Listas!$X$3,Acompanhamento!I1623,0)","v":0},{"$f":"IF(H1623=Listas!$X$4,Acompanhamento!I1623,0)","v":0},null,0,null,0,null,0,null,0]
[null,null,null,null,null,null,null,null,null,{"$f":"IF(H1624=Listas!$X$3,Acompanhamento!I1624,0)","v":0},{"$f":"IF(H1624=Listas!$X$4,Acompanhamento!I1624,0)","v":0},null,0,null,0,null,0,null,0]
[null,null,null,null,null,null,null,null,null,{"$f":"IF(H1625=Listas!$X$3,Acompanhamento!I1625,0)","v":0},{"$f":"IF(H1625=Listas!$X$4,Acompanhamento!I1625,0)","v":0},null,0,null,0,null,0,null,0]
[null,null,null,null,null,null,null,null,null,{"$f":"IF(H1626=Listas!$X$3,Acompanhamento!I1626,0)","v":0},{"$f":"IF(H1626=Listas!$X$4,Acompanhamento!I1626,0)","v":0},null,0,null,0,null,0,null,0]
[null,null,null,null,null,null,null,null,null,{"$f":"IF(H1627=Listas!$X$3,Acompanhamento!I1627,0)","v":0},{"$f":"IF(H1627=Listas!$X$4,Acompanhamento!I1627,0)","v":0},null,0,null,0,null,0,null,0]
[null,null,null,null,null,null,null,null,null,{"$f":"IF(H1628=Listas!$X$3,Acompanhamento!I1628,0)","v":0},{"$f":"IF(H1628=Listas!$X$4,Acompanhamento!I1628,0)","v":0},null,0,null,0,null,0,null,0]
[null,null,null,null,null,null,null,null,null,{"$f":"IF(H1629=Listas!$X$3,Acompanhamento!I1629,0)","v":0},{"$f":"IF(H1629=Listas!$X$4,Acompanhamento!I1629,0)","v":0},null,0,null,0,null,0,null,0]
[null,null,null,null,null,null,null,null,null,{"$f":"IF(H1630=Listas!$X$3,Acompanhamento!I1630,0)","v":0},{"$f":"IF(H1630=Listas!$X$4,Acompanhamento!I1630,0)","v":0},null,0,null,0,null,0,null,0]
[null,null,null,null,null,null,null,null,null,{"$f":"IF(H1631=Listas!$X$3,Acompanhamento!I1631,0)","v":0},{"$f":"IF(H1631=Listas!$X$4,Acompanhamento!I1631,0)","v":0},null,0,null,0,null,0,null,0]
[null,null,null,null,null,null,null,null,null,{"$f":"IF(H1632=Listas!$X$3,Acompanhamento!I1632,0)","v":0},{"$f":"IF(H1632=Listas!$X$4,Acompanhamento!I1632,0)","v":0},null,0,null,0,null,0,null,0]
[null,null,null,null,null,null,null,null,null,{"$f":"IF(H1633=Listas!$X$3,Acompanhamento!I1633,0)","v":0},{"$f":"IF(H1633=Listas!$X$4,Acompanhamento!I1633,0)","v":0},null,0,null,0,null,0,null,0]
[null,null,null,null,null,null,null,null,null,{"$f":"IF(H1634=Listas!$X$3,Acompanhamento!I1634,0)","v":0},{"$f":"IF(H1634=Listas!$X$4,Acompanhamento!I1634,0)","v":0},null,0,null,0,null,0,null,0]
[null,null,null,null,null,null,null,null,null,{"$f":"IF(H1635=Listas!$X$3,Acompanhamento!I1635,0)","v":0},{"$f":"IF(H1635=Listas!$X$4,Acompanhamento!I1635,0)","v":0},null,0,null,0,null,0,null,0]
[null,null,null,null,null,null,null,null,null,{"$f":"IF(H1636=Listas!$X$3,Acompanhamento!I1636,0)","v":0},{"$f":"IF(H1636=Listas!$X$4,Acompanhamento!I1636,0)","v":0},null,0,null,0,null,0,null,0]
[null,null,null,null,null,null,null,null,null,{"$f":"IF(H1637=Listas!$X$3,Acompanhamento!I1637,0)","v":0},{"$f":"IF(H1637=Listas!$X$4,Acompanhamento!I1637,0)","v":0},null,0,null,0,null,0,null,0]
[null,null,null,null,null,null,null,null,null,{"$f":"IF(H1638=Listas!$X$3,Acompanhamento!I1638,0)","v":0},{"$f":"IF(H1638=Listas!$X$4,Acompanhamento!I1638,0)","v":0},null,0,null,0,null,0,null,0]
[null,null,null,null,null,null,null,null,null,{"$f":"IF(H1639=Listas!$X$3,Acompanhamento!I1639,0)","v":0},{"$f":"IF(H1639=Listas!$X$4,Acompanhamento!I1639,0)","v":0},null,0,null,0,null,0,null,0]
[null,null,null,null,null,null,null,null,null,{"$f":"IF(H1640=Listas!$X$3,Acompanhamento!I1640,0)","v":0},{"$f":"IF(H1640=Listas!$X$4,Acompanhamento!I1640,0)","v":0},null,0,null,0,null,0,null,0]
[null,null,null,null,null,null,null,null,null,{"$f":"IF(H1641=Listas!$X$3,Acompanhamento!I1641,0)","v":0},{"$f":"IF(H1641=Listas!$X$4,Acompanhamento!I1641,0)","v":0},null,0,null,0,null,0,null,0]
[null,null,null,null,null,null,null,null,null,{"$f":"IF(H1642=Listas!$X$3,Acompanhamento!I1642,0)","v":0},{"$f":"IF(H1642=Listas!$X$4,Acompanhamento!I1642,0)","v":0},null,0,null,0,null,0,null,0]
[null,null,null,null,null,null,null,null,null,{"$f":"IF(H1643=Listas!$X$3,Acompanhamento!I1643,0)","v":0},{"$f":"IF(H1643=Listas!$X$4,Acompanhamento!I1643,0)","v":0},null,0,null,0,null,0,null,0]
[null,null,null,null,null,null,null,null,null,{"$f":"IF(H1644=Listas!$X$3,Acompanhamento!I1644,0)","v":0},{"$f":"IF(H1644=Listas!$X$4,Acompanhamento!I1644,0)","v":0},null,0,null,0,null,0,null,0]
[null,null,null,null,null,null,null,null,null,{"$f":"IF(H1645=Listas!$X$3,Acompanhamento!I1645,0)","v":0},{"$f":"IF(H1645=Listas!$X$4,Acompanhamento!I1645,0)","v":0},null,0,null,0,null,0,null,0]
[null,null,null,null,null,null,null,null,null,{"$f":"IF(H1646=Listas!$X$3,Acompanhamento!I1646,0)","v":0},{"$f":"IF(H1646=Listas!$X$4,Acompanhamento!I1646,0)","v":0},null,0,null,0,null,0,null,0]
[null,null,null,null,null,null,null,null,null,{"$f":"IF(H1647=Listas!$X$3,Acompanhamento!I1647,0)","v":0},{"$f":"IF(H1647=Listas!$X$4,Acompanhamento!I1647,0)","v":0},null,0,null,0,null,0,null,0]
[null,null,null,null,null,null,null,null,null,{"$f":"IF(H1648=Listas!$X$3,Acompanhamento!I1648,0)","v":0},{"$f":"IF(H1648=Listas!$X$4,Acompanhamento!I1648,0)","v":0},null,0,null,0,null,0,null,0]
[null,null,null,null,null,null,null,null,null,{"$f":"IF(H1649=Listas!$X$3,Acompanhamento!I1649,0)","v":0},{"$f":"IF(H1649=Listas!$X$4,Acompanhamento!I1649,0)","v":0},null,0,null,0,null,0,null,0]
[null,null,null,null,null,null,null,null,null,{"$f":"IF(H1650=Listas!$X$3,Acompanhamento!I1650,0)","v":0},{"$f":"IF(H1650=Listas!$X$4,Acompanhamento!I1650,0)","v":0},null,0,null,0,null,0,null,0]
[null,null,null,null,null,null,null,null,null,{"$f":"IF(H1651=Listas!$X$3,Acompanhamento!I1651,0)","v":0},{"$f":"IF(H1651=Listas!$X$4,Acompanhamento!I1651,0)","v":0},null,0,null,0,null,0,null,0]
[null,null,null,null,null,null,null,null,null,{"$f":"IF(H1652=Listas!$X$3,Acompanhamento!I1652,0)","v":0},{"$f":"IF(H1652=Listas!$X$4,Acompanhamento!I1652,0)","v":0},null,0,null,0,null,0,null,0]
[null,null,null,null,null,null,null,null,null,{"$f":"IF(H1653=Listas!$X$3,Acompanhamento!I1653,0)","v":0},{"$f":"IF(H1653=Listas!$X$4,Acompanhamento!I1653,0)","v":0},null,0,null,0,null,0,null,0]
[null,null,null,null,null,null,null,null,null,{"$f":"IF(H1654=Listas!$X$3,Acompanhamento!I1654,0)","v":0},{"$f":"IF(H1654=Listas!$X$4,Acompanhamento!I1654,0)","v":0},null,0,null,0,null,0,null,0]
[null,null,null,null,null,null,null,null,null,{"$f":"IF(H1655=Listas!$X$3,Acompanhamento!I1655,0)","v":0},{"$f":"IF(H1655=Listas!$X$4,Acompanhamento!I1655,0)","v":0},null,0,null,0,null,0,null,0]
[null,null,null,null,null,null,null,null,null,{"$f":"IF(H1656=Listas!$X$3,Acompanhamento!I1656,0)","v":0},{"$f":"IF(H1656=Listas!$X$4,Acompanhamento!I1656,0)","v":0},null,0,null,0,null,0,null,0]
[null,null,null,null,null,null,null,null,null,{"$f":"IF(H1657=Listas!$X$3,Acompanhamento!I1657,0)","v":0},{"$f":"IF(H1657=Listas!$X$4,Acompanhamento!I1657,0)","v":0},null,0,null,0,null,0,null,0]
[null,null,null,null,null,null,null,null,null,{"$f":"IF(H1658=Listas!$X$3,Acompanhamento!I1658,0)","v":0},{"$f":"IF(H1658=Listas!$X$4,Acompanhamento!I1658,0)","v":0},null,0,null,0,null,0,null,0]
[null,null,null,null,null,null,null,null,null,{"$f":"IF(H1659=Listas!$X$3,Acompanhamento!I1659,0)","v":0},{"$f":"IF(H1659=Listas!$X$4,Acompanhamento!I1659,0)","v":0},null,0,null,0,null,0,null,0]
[null,null,null,null,null,null,null,null,null,{"$f":"IF(H1660=Listas!$X$3,Acompanhamento!I1660,0)","v":0},{"$f":"IF(H1660=Listas!$X$4,Acompanhamento!I1660,0)","v":0},null,0,null,0,null,0,null,0]
[null,null,null,null,null,null,null,null,null,{"$f":"IF(H1661=Listas!$X$3,Acompanhamento!I1661,0)","v":0},{"$f":"IF(H1661=Listas!$X$4,Acompanhamento!I1661,0)","v":0},null,0,null,0,null,0,null,0]
[null,null,null,null,null,null,null,null,null,{"$f":"IF(H1662=Listas!$X$3,Acompanhamento!I1662,0)","v":0},{"$f":"IF(H1662=Listas!$X$4,Acompanhamento!I1662,0)","v":0},null,0,null,0,null,0,null,0]
[null,null,null,null,null,null,null,null,null,{"$f":"IF(H1663=Listas!$X$3,Acompanhamento!I1663,0)","v":0},{"$f":"IF(H1663=Listas!$X$4,Acompanhamento!I1663,0)","v":0},null,0,null,0,null,0,null,0]
[null,null,null,null,null,null,null,null,null,{"$f":"IF(H1664=Listas!$X$3,Acompanhamento!I1664,0)","v":0},{"$f":"IF(H1664=Listas!$X$4,Acompanhamento!I1664,0)","v":0},null,0,null,0,null,0,null,0]
[null,null,null,null,null,null,null,null,null,{"$f":"IF(H1665=Listas!$X$3,Acompanhamento!I1665,0)","v":0},{"$f":"IF(H1665=Listas!$X$4,Acompanhamento!I1665,0)","v":0},null,0,null,0,null,0,null,0]
[null,null,null,null,null,null,null,null,null,{"$f":"IF(H1666=Listas!$X$3,Acompanhamento!I1666,0)","v":0},{"$f":"IF(H1666=Listas!$X$4,Acompanhamento!I1666,0)","v":0},null,0,null,0,null,0,null,0]
[null,null,null,null,null,null,null,null,null,{"$f":"IF(H1667=Listas!$X$3,Acompanhamento!I1667,0)","v":0},{"$f":"IF(H1667=Listas!$X$4,Acompanhamento!I1667,0)","v":0},null,0,null,0,null,0,null,0]
[null,null,null,null,null,null,null,null,null,{"$f":"IF(H1668=Listas!$X$3,Acompanhamento!I1668,0)","v":0},{"$f":"IF(H1668=Listas!$X$4,Acompanhamento!I1668,0)","v":0},null,0,null,0,null,0,null,0]
[null,null,null,null,null,null,null,null,null,{"$f":"IF(H1669=Listas!$X$3,Acompanhamento!I1669,0)","v":0},{"$f":"IF(H1669=Listas!$X$4,Acompanhamento!I1669,0)","v":0},null,0,null,0,null,0,null,0]
[null,null,null,null,null,null,null,null,null,{"$f":"IF(H1670=Listas!$X$3,Acompanhamento!I1670,0)","v":0},{"$f":"IF(H1670=Listas!$X$4,Acompanhamento!I1670,0)","v":0},null,0,null,0,null,0,null,0]
[null,null,null,null,null,null,null,null,null,{"$f":"IF(H1671=Listas!$X$3,Acompanhamento!I1671,0)","v":0},{"$f":"IF(H1671=Listas!$X$4,Acompanhamento!I1671,0)","v":0},null,0,null,0,null,0,null,0]
[null,null,null,null,null,null,null,null,null,{"$f":"IF(H1672=Listas!$X$3,Acompanhamento!I1672,0)","v":0},{"$f":"IF(H1672=Listas!$X$4,Acompanhamento!I1672,0)","v":0},null,0,null,0,null,0,null,0]
[null,null,null,null,null,null,null,null,null,{"$f":"IF(H1673=Listas!$X$3,Acompanhamento!I1673,0)","v":0},{"$f":"IF(H1673=Listas!$X$4,Acompanhamento!I1673,0)","v":0},null,0,null,0,null,0,null,0]
[null,null,null,null,null,null,null,null,null,{"$f":"IF(H1674=Listas!$X$3,Acompanhamento!I1674,0)","v":0},{"$f":"IF(H1674=Listas!$X$4,Acompanhamento!I1674,0)","v":0},null,{"$f":"J1674-L1674","v":0},null,{"$f":"M1674-N1674","v":0},null,{"$f":"O1674-P1674","v":0},null,{"$f":"Q1674-R1674","v":0}]
[null,null,null,null,null,null,null,null,null,{"$f":"IF(H1675=Listas!$X$3,Acompanhamento!I1675,0)","v":0},{"$f":"IF(H1675=Listas!$X$4,Acompanhamento!I1675,0)","v":0},null,0,null,0,null,0,null,0]
[null,null,null,null,null,null,null,null,null,{"$f":"IF(H1676=Listas!$X$3,Acompanhamento!I1676,0)","v":0},{"$f":"IF(H1676=Listas!$X$4,Acompanhamento!I1676,0)","v":0},null,0,null,0,null,0,null,0]
[null,null,null,null,null,null,null,null,null,{"$f":"IF(H1677=Listas!$X$3,Acompanhamento!I1677,0)","v":0},{"$f":"IF(H1677=Listas!$X$4,Acompanhamento!I1677,0)","v":0},null,0,null,0,null,0,null,0]
[null,null,null,null,null,null,null,null,null,{"$f":"IF(H1678=Listas!$X$3,Acompanhamento!I1678,0)","v":0},{"$f":"IF(H1678=Listas!$X$4,Acompanhamento!I1678,0)","v":0},null,0,null,0,null,0,null,0]
[null,null,null,null,null,null,null,null,null,{"$f":"IF(H1679=Listas!$X$3,Acompanhamento!I1679,0)","v":0},{"$f":"IF(H1679=Listas!$X$4,Acompanhamento!I1679,0)","v":0},null,0,null,0,null,0,null,0]
[null,null,null,null,null,null,null,null,null,{"$f":"IF(H1680=Listas!$X$3,Acompanhamento!I1680,0)","v":0},{"$f":"IF(H1680=Listas!$X$4,Acompanhamento!I1680,0)","v":0},null,0,null,0,null,0,null,0]
[null,null,null,null,null,null,null,null,null,{"$f":"IF(H1681=Listas!$X$3,Acompanhamento!I1681,0)","v":0},{"$f":"IF(H1681=Listas!$X$4,Acompanhamento!I1681,0)","v":0},null,0,null,0,null,0,null,0]
[null,null,null,null,null,null,null,null,null,{"$f":"IF(H1682=Listas!$X$3,Acompanhamento!I1682,0)","v":0},{"$f":"IF(H1682=Listas!$X$4,Acompanhamento!I1682,0)","v":0},null,0,null,0,null,0,null,0]
[null,null,null,null,null,null,null,null,null,{"$f":"IF(H1683=Listas!$X$3,Acompanhamento!I1683,0)","v":0},{"$f":"IF(H1683=Listas!$X$4,Acompanhamento!I1683,0)","v":0},null,0,null,0,null,0,null,0]
[null,null,null,null,null,null,null,null,null,{"$f":"IF(H1684=Listas!$X$3,Acompanhamento!I1684,0)","v":0},{"$f":"IF(H1684=Listas!$X$4,Acompanhamento!I1684,0)","v":0},null,0,null,0,null,0,null,0]
[null,null,null,null,null,null,null,null,null,{"$f":"IF(H1685=Listas!$X$3,Acompanhamento!I1685,0)","v":0},{"$f":"IF(H1685=Listas!$X$4,Acompanhamento!I1685,0)","v":0},null,0,null,0,null,0,null,0]
[null,null,null,null,null,null,null,null,null,{"$f":"IF(H1686=Listas!$X$3,Acompanhamento!I1686,0)","v":0},{"$f":"IF(H1686=Listas!$X$4,Acompanhamento!I1686,0)","v":0},null,0,null,0,null,0,null,0]
[null,null,null,null,null,null,null,null,null,{"$f":"IF(H1687=Listas!$X$3,Acompanhamento!I1687,0)","v":0},{"$f":"IF(H1687=Listas!$X$4,Acompanhamento!I1687,0)","v":0},null,0,null,0,null,0,null,0]
[null,null,null,null,null,null,null,null,null,{"$f":"IF(H1688=Listas!$X$3,Acompanhamento!I1688,0)","v":0},{"$f":"IF(H1688=Listas!$X$4,Acompanhamento!I1688,0)","v":0},null,0,null,0,null,0,null,0]
[null,null,null,null,null,null,null,null,null,{"$f":"IF(H1689=Listas!$X$3,Acompanhamento!I1689,0)","v":0},{"$f":"IF(H1689=Listas!$X$4,Acompanhamento!I1689,0)","v":0},null,0,null,0,null,0,null,0]
[null,null,null,null,null,null,null,null,null,{"$f":"IF(H1690=Listas!$X$3,Acompanhamento!I1690,0)","v":0},{"$f":"IF(H1690=Listas!$X$4,Acompanhamento!I1690,0)","v":0},null,0,null,0,null,0,null,0]
[null,null,null,null,null,null,null,null,null,{"$f":"IF(H1691=Listas!$X$3,Acompanhamento!I1691,0)","v":0},{"$f":"IF(H1691=Listas!$X$4,Acompanhamento!I1691,0)","v":0},null,0,null,0,null,0,null,0]
[null,null,null,null,null,null,null,null,null,{"$f":"IF(H1692=Listas!$X$3,Acompanhamento!I1692,0)","v":0},{"$f":"IF(H1692=Listas!$X$4,Acompanhamento!I1692,0)","v":0},null,0,null,0,null,0,null,0]
[null,null,null,null,null,null,null,null,null,{"$f":"IF(H1693=Listas!$X$3,Acompanhamento!I1693,0)","v":0},{"$f":"IF(H1693=Listas!$X$4,Acompanhamento!I1693,0)","v":0},null,0,null,0,null,0,null,0]
[null,null,null,null,null,null,null,null,null,{"$f":"IF(H1694=Listas!$X$3,Acompanhamento!I1694,0)","v":0},{"$f":"IF(H1694=Listas!$X$4,Acompanhamento!I1694,0)","v":0},null,0,null,0,null,0,null,0]
[null,null,null,null,null,null,null,null,null,{"$f":"IF(H1695=Listas!$X$3,Acompanhamento!I1695,0)","v":0},{"$f":"IF(H1695=Listas!$X$4,Acompanhamento!I1695,0)","v":0},null,0,null,0,null,0,null,0]
[null,null,null,null,null,null,null,null,null,{"$f":"IF(H1696=Listas!$X$3,Acompanhamento!I1696,0)","v":0},{"$f":"IF(H1696=Listas!$X$4,Acompanhamento!I1696,0)","v":0},null,0,null,0,null,0,null,0]
[null,null,null,null,null,null,null,null,null,{"$f":"IF(H1697=Listas!$X$3,Acompanhamento!I1697,0)","v":0},{"$f":"IF(H1697=Listas!$X$4,Acompanhamento!I1697,0)","v":0},null,0,null,0,null,0,null,0]
[null,null,null,null,null,null,null,null,null,{"$f":"IF(H1698=Listas!$X$3,Acompanhamento!I1698,0)","v":0},{"$f":"IF(H1698=Listas!$X$4,Acompanhamento!I1698,0)","v":0},null,0,null,0,null,0,null,0]
[null,null,null,null,null,null,null,null,null,{"$f":"IF(H1699=Listas!$X$3,Acompanhamento!I1699,0)","v":0},{"$f":"IF(H1699=Listas!$X$4,Acompanhamento!I1699,0)","v":0},null,0,null,0,null,0,null,0]
[null,null,null,null,null,null,null,null,null,{"$f":"IF(H1700=Listas!$X$3,Acompanhamento!I1700,0)","v":0},{"$f":"IF(H1700=Listas!$X$4,Acompanhamento!I1700,0)","v":0},null,0,null,0,null,0,null,0]
[null,null,null,null,null,null,null,null,null,{"$f":"IF(H1701=Listas!$X$3,Acompanhamento!I1701,0)","v":0},{"$f":"IF(H1701=Listas!$X$4,Acompanhamento!I1701,0)","v":0},null,0,null,0,null,0,null,0]
[null,null,null,null,null,null,null,null,null,{"$f":"IF(H1702=Listas!$X$3,Acompanhamento!I1702,0)","v":0},{"$f":"IF(H1702=Listas!$X$4,Acompanhamento!I1702,0)","v":0},null,0,null,0,null,0,null,0]
[null,null,null,null,null,null,null,null,null,{"$f":"IF(H1703=Listas!$X$3,Acompanhamento!I1703,0)","v":0},{"$f":"IF(H1703=Listas!$X$4,Acompanhamento!I1703,0)","v":0},null,0,null,0,null,0,null,0]
[null,null,null,null,null,null,null,null,null,{"$f":"IF(H1704=Listas!$X$3,Acompanhamento!I1704,0)","v":0},{"$f":"IF(H1704=Listas!$X$4,Acompanhamento!I1704,0)","v":0},null,0,null,0,null,0,null,0]
[null,null,null,null,null,null,null,null,null,{"$f":"IF(H1705=Listas!$X$3,Acompanhamento!I1705,0)","v":0},{"$f":"IF(H1705=Listas!$X$4,Acompanhamento!I1705,0)","v":0},null,0,null,0,null,0,null,0]
[null,null,null,null,null,null,null,null,null,{"$f":"IF(H1706=Listas!$X$3,Acompanhamento!I1706,0)","v":0},{"$f":"IF(H1706=Listas!$X$4,Acompanhamento!I1706,0)","v":0},null,0,null,0,null,0,null,0]
[null,null,null,null,null,null,null,null,null,{"$f":"IF(H1707=Listas!$X$3,Acompanhamento!I1707,0)","v":0},{"$f":"IF(H1707=Listas!$X$4,Acompanhamento!I1707,0)","v":0},null,0,null,0,null,0,null,0]
[null,null,null,null,null,null,null,null,null,{"$f":"IF(H1708=Listas!$X$3,Acompanhamento!I1708,0)","v":0},{"$f":"IF(H1708=Listas!$X$4,Acompanhamento!I1708,0)","v":0},null,0,null,0,null,0,null,0]
[null,null,null,null,null,null,null,null,null,{"$f":"IF(H1709=Listas!$X$3,Acompanhamento!I1709,0)","v":0},{"$f":"IF(H1709=Listas!$X$4,Acompanhamento!I1709,0)","v":0},null,0,null,0,null,0,null,0]
[null,null,null,null,null,null,null,null,null,{"$f":"IF(H1710=Listas!$X$3,Acompanhamento!I1710,0)","v":0},{"$f":"IF(H1710=Listas!$X$4,Acompanhamento!I1710,0)","v":0},null,0,null,0,null,0,null,0]
[null,null,null,null,null,null,null,null,null,{"$f":"IF(H1711=Listas!$X$3,Acompanhamento!I1711,0)","v":0},{"$f":"IF(H1711=Listas!$X$4,Acompanhamento!I1711,0)","v":0},null,0,null,0,null,0,null,0]
[null,null,null,null,null,null,null,null,null,{"$f":"IF(H1712=Listas!$X$3,Acompanhamento!I1712,0)","v":0},{"$f":"IF(H1712=Listas!$X$4,Acompanhamento!I1712,0)","v":0},null,0,null,0,null,0,null,0]
[null,null,null,null,null,null,null,null,null,{"$f":"IF(H1713=Listas!$X$3,Acompanhamento!I1713,0)","v":0},{"$f":"IF(H1713=Listas!$X$4,Acompanhamento!I1713,0)","v":0},null,0,null,0,null,0,null,0]
[null,null,null,null,null,null,null,null,null,{"$f":"IF(H1714=Listas!$X$3,Acompanhamento!I1714,0)","v":0},{"$f":"IF(H1714=Listas!$X$4,Acompanhamento!I1714,0)","v":0},null,0,null,0,null,0,null,0]
[null,null,null,null,null,null,null,null,null,{"$f":"IF(H1715=Listas!$X$3,Acompanhamento!I1715,0)","v":0},{"$f":"IF(H1715=Listas!$X$4,Acompanhamento!I1715,0)","v":0},null,0,null,0,null,0,null,0]
[null,null,null,null,null,null,null,null,null,{"$f":"IF(H1716=Listas!$X$3,Acompanhamento!I1716,0)","v":0},{"$f":"IF(H1716=Listas!$X$4,Acompanhamento!I1716,0)","v":0},null,0,null,0,null,0,null,0]
[null,null,null,null,null,null,null,null,null,{"$f":"IF(H1717=Listas!$X$3,Acompanhamento!I1717,0)","v":0},{"$f":"IF(H1717=Listas!$X$4,Acompanhamento!I1717,0)","v":0},null,0,null,0,null,0,null,0]
[null,null,null,null,null,null,null,null,null,{"$f":"IF(H1718=Listas!$X$3,Acompanhamento!I1718,0)","v":0},{"$f":"IF(H1718=Listas!$X$4,Acompanhamento!I1718,0)","v":0},null,0,null,0,null,0,null,0]
[null,null,null,null,null,null,null,null,null,{"$f":"IF(H1719=Listas!$X$3,Acompanhamento!I1719,0)","v":0},{"$f":"IF(H1719=Listas!$X$4,Acompanhamento!I1719,0)","v":0},null,0,null,0,null,0,null,0]
[null,null,null,null,null,null,null,null,null,{"$f":"IF(H1720=Listas!$X$3,Acompanhamento!I1720,0)","v":0},{"$f":"IF(H1720=Listas!$X$4,Acompanhamento!I1720,0)","v":0},null,0,null,0,null,0,null,0]
[null,null,null,null,null,null,null,null,null,{"$f":"IF(H1721=Listas!$X$3,Acompanhamento!I1721,0)","v":0},{"$f":"IF(H1721=Listas!$X$4,Acompanhamento!I1721,0)","v":0},null,0,null,0,null,0,null,0]
[null,null,null,null,null,null,null,null,null,{"$f":"IF(H1722=Listas!$X$3,Acompanhamento!I1722,0)","v":0},{"$f":"IF(H1722=Listas!$X$4,Acompanhamento!I1722,0)","v":0},null,0,null,0,null,0,null,0]
[null,null,null,null,null,null,null,null,null,{"$f":"IF(H1723=Listas!$X$3,Acompanhamento!I1723,0)","v":0},{"$f":"IF(H1723=Listas!$X$4,Acompanhamento!I1723,0)","v":0},null,0,null,0,null,0,null,0]
[null,null,null,null,null,null,null,null,null,{"$f":"IF(H1724=Listas!$X$3,Acompanhamento!I1724,0)","v":0},{"$f":"IF(H1724=Listas!$X$4,Acompanhamento!I1724,0)","v":0},null,0,null,0,null,0,null,0]
[null,null,null,null,null,null,null,null,null,{"$f":"IF(H1725=Listas!$X$3,Acompanhamento!I1725,0)","v":0},{"$f":"IF(H1725=Listas!$X$4,Acompanhamento!I1725,0)","v":0},null,0,null,0,null,0,null,0]
[null,null,null,null,null,null,null,null,null,{"$f":"IF(H1726=Listas!$X$3,Acompanhamento!I1726,0)","v":0},{"$f":"IF(H1726=Listas!$X$4,Acompanhamento!I1726,0)","v":0},null,0,null,0,null,0,null,0]
[null,null,null,null,null,null,null,null,null,{"$f":"IF(H1727=Listas!$X$3,Acompanhamento!I1727,0)","v":0},{"$f":"IF(H1727=Listas!$X$4,Acompanhamento!I1727,0)","v":0},null,0,null,0,null,0,null,0]
[null,null,null,null,null,null,null,null,null,{"$f":"IF(H1728=Listas!$X$3,Acompanhamento!I1728,0)","v":0},{"$f":"IF(H1728=Listas!$X$4,Acompanhamento!I1728,0)","v":0},null,0,null,0,null,0,null,0]
[null,null,null,null,null,null,null,null,null,{"$f":"IF(H1729=Listas!$X$3,Acompanhamento!I1729,0)","v":0},{"$f":"IF(H1729=Listas!$X$4,Acompanhamento!I1729,0)","v":0},null,0,null,0,null,0,null,0]
[null,null,null,null,null,null,null,null,null,{"$f":"IF(H1730=Listas!$X$3,Acompanhamento!I1730,0)","v":0},{"$f":"IF(H1730=Listas!$X$4,Acompanhamento!I1730,0)","v":0},null,0,null,0,null,0,null,0]
[null,null,null,null,null,null,null,null,null,{"$f":"IF(H1731=Listas!$X$3,Acompanhamento!I1731,0)","v":0},{"$f":"IF(H1731=Listas!$X$4,Acompanhamento!I1731,0)","v":0},null,0,null,0,null,0,null,0]
[null,null,null,null,null,null,null,null,null,{"$f":"IF(H1732=Listas!$X$3,Acompanhamento!I1732,0)","v":0},{"$f":"IF(H1732=Listas!$X$4,Acompanhamento!I1732,0)","v":0},null,0,null,0,null,0,null,0]
[null,null,null,null,null,null,null,null,null,{"$f":"IF(H1733=Listas!$X$3,Acompanhamento!I1733,0)","v":0},{"$f":"IF(H1733=Listas!$X$4,Acompanhamento!I1733,0)","v":0},null,0,null,0,null,0,null,0]
[null,null,null,null,null,null,null,null,null,{"$f":"IF(H1734=Listas!$X$3,Acompanhamento!I1734,0)","v":0},{"$f":"IF(H1734=Listas!$X$4,Acompanhamento!I1734,0)","v":0},null,0,null,0,null,0,null,0]
[null,null,null,null,null,null,null,null,null,{"$f":"IF(H1735=Listas!$X$3,Acompanhamento!I1735,0)","v":0},{"$f":"IF(H1735=Listas!$X$4,Acompanhamento!I1735,0)","v":0},null,0,null,0,null,0,null,0]
[null,null,null,null,null,null,null,null,null,{"$f":"IF(H1736=Listas!$X$3,Acompanhamento!I1736,0)","v":0},{"$f":"IF(H1736=Listas!$X$4,Acompanhamento!I1736,0)","v":0},null,0,null,0,null,0,null,0]
[null,null,null,null,null,null,null,null,null,{"$f":"IF(H1737=Listas!$X$3,Acompanhamento!I1737,0)","v":0},{"$f":"IF(H1737=Listas!$X$4,Acompanhamento!I1737,0)","v":0},null,0,null,0,null,0,null,0]
[null,null,null,null,null,null,null,null,null,{"$f":"IF(H1738=Listas!$X$3,Acompanhamento!I1738,0)","v":0},{"$f":"IF(H1738=Listas!$X$4,Acompanhamento!I1738,0)","v":0},null,{"$f":"J1738-L1738","v":0},null,{"$f":"M1738-N1738","v":0},null,{"$f":"O1738-P1738","v":0},null,{"$f":"Q1738-R1738","v":0}]
[null,null,null,null,null,null,null,null,null,{"$f":"IF(H1739=Listas!$X$3,Acompanhamento!I1739,0)","v":0},{"$f":"IF(H1739=Listas!$X$4,Acompanhamento!I1739,0)","v":0},null,0,null,0,null,0,null,0]
[null,null,null,null,null,null,null,null,null,{"$f":"IF(H1740=Listas!$X$3,Acompanhamento!I1740,0)","v":0},{"$f":"IF(H1740=Listas!$X$4,Acompanhamento!I1740,0)","v":0},null,0,null,0,null,0,null,0]
[null,null,null,null,null,null,null,null,null,{"$f":"IF(H1741=Listas!$X$3,Acompanhamento!I1741,0)","v":0},{"$f":"IF(H1741=Listas!$X$4,Acompanhamento!I1741,0)","v":0},null,0,null,0,null,0,null,0]
[null,null,null,null,null,null,null,null,null,{"$f":"IF(H1742=Listas!$X$3,Acompanhamento!I1742,0)","v":0},{"$f":"IF(H1742=Listas!$X$4,Acompanhamento!I1742,0)","v":0},null,0,null,0,null,0,null,0]
[null,null,null,null,null,null,null,null,null,{"$f":"IF(H1743=Listas!$X$3,Acompanhamento!I1743,0)","v":0},{"$f":"IF(H1743=Listas!$X$4,Acompanhamento!I1743,0)","v":0},null,0,null,0,null,0,null,0]
[null,null,null,null,null,null,null,null,null,{"$f":"IF(H1744=Listas!$X$3,Acompanhamento!I1744,0)","v":0},{"$f":"IF(H1744=Listas!$X$4,Acompanhamento!I1744,0)","v":0},null,0,null,0,null,0,null,0]
[null,null,null,null,null,null,null,null,null,{"$f":"IF(H1745=Listas!$X$3,Acompanhamento!I1745,0)","v":0},{"$f":"IF(H1745=Listas!$X$4,Acompanhamento!I1745,0)","v":0},null,0,null,0,null,0,null,0]
[null,null,null,null,null,null,null,null,null,{"$f":"IF(H1746=Listas!$X$3,Acompanhamento!I1746,0)","v":0},{"$f":"IF(H1746=Listas!$X$4,Acompanhamento!I1746,0)","v":0},null,0,null,0,null,0,null,0]
[null,null,null,null,null,null,null,null,null,{"$f":"IF(H1747=Listas!$X$3,Acompanhamento!I1747,0)","v":0},{"$f":"IF(H1747=Listas!$X$4,Acompanhamento!I1747,0)","v":0},null,0,null,0,null,0,null,0]
[null,null,null,null,null,null,null,null,null,{"$f":"IF(H1748=Listas!$X$3,Acompanhamento!I1748,0)","v":0},{"$f":"IF(H1748=Listas!$X$4,Acompanhamento!I1748,0)","v":0},null,0,null,0,null,0,null,0]
[null,null,null,null,null,null,null,null,null,{"$f":"IF(H1749=Listas!$X$3,Acompanhamento!I1749,0)","v":0},{"$f":"IF(H1749=Listas!$X$4,Acompanhamento!I1749,0)","v":0},null,0,null,0,null,0,null,0]
[null,null,null,null,null,null,null,null,null,{"$f":"IF(H1750=Listas!$X$3,Acompanhamento!I1750,0)","v":0},{"$f":"IF(H1750=Listas!$X$4,Acompanhamento!I1750,0)","v":0},null,0,null,0,null,0,null,0]
[null,null,null,null,null,null,null,null,null,{"$f":"IF(H1751=Listas!$X$3,Acompanhamento!I1751,0)","v":0},{"$f":"IF(H1751=Listas!$X$4,Acompanhamento!I1751,0)","v":0},null,0,null,0,null,0,null,0]
[null,null,null,null,null,null,null,null,null,{"$f":"IF(H1752=Listas!$X$3,Acompanhamento!I1752,0)","v":0},{"$f":"IF(H1752=Listas!$X$4,Acompanhamento!I1752,0)","v":0},null,0,null,0,null,0,null,0]
[null,null,null,null,null,null,null,null,null,{"$f":"IF(H1753=Listas!$X$3,Acompanhamento!I1753,0)","v":0},{"$f":"IF(H1753=Listas!$X$4,Acompanhamento!I1753,0)","v":0},null,0,null,0,null,0,null,0]
[null,null,null,null,null,null,null,null,null,{"$f":"IF(H1754=Listas!$X$3,Acompanhamento!I1754,0)","v":0},{"$f":"IF(H1754=Listas!$X$4,Acompanhamento!I1754,0)","v":0},null,0,null,0,null,0,null,0]
[null,null,null,null,null,null,null,null,null,{"$f":"IF(H1755=Listas!$X$3,Acompanhamento!I1755,0)","v":0},{"$f":"IF(H1755=Listas!$X$4,Acompanhamento!I1755,0)","v":0},null,0,null,0,null,0,null,0]
[null,null,null,null,null,null,null,null,null,{"$f":"IF(H1756=Listas!$X$3,Acompanhamento!I1756,0)","v":0},{"$f":"IF(H1756=Listas!$X$4,Acompanhamento!I1756,0)","v":0},null,0,null,0,null,0,null,0]
[null,null,null,null,null,null,null,null,null,{"$f":"IF(H1757=Listas!$X$3,Acompanhamento!I1757,0)","v":0},{"$f":"IF(H1757=Listas!$X$4,Acompanhamento!I1757,0)","v":0},null,0,null,0,null,0,null,0]
[null,null,null,null,null,null,null,null,null,{"$f":"IF(H1758=Listas!$X$3,Acompanhamento!I1758,0)","v":0},{"$f":"IF(H1758=Listas!$X$4,Acompanhamento!I1758,0)","v":0},null,0,null,0,null,0,null,0]
[null,null,null,null,null,null,null,null,null,{"$f":"IF(H1759=Listas!$X$3,Acompanhamento!I1759,0)","v":0},{"$f":"IF(H1759=Listas!$X$4,Acompanhamento!I1759,0)","v":0},null,0,null,0,null,0,null,0]
[null,null,null,null,null,null,null,null,null,{"$f":"IF(H1760=Listas!$X$3,Acompanhamento!I1760,0)","v":0},{"$f":"IF(H1760=Listas!$X$4,Acompanhamento!I1760,0)","v":0},null,0,null,0,null,0,null,0]
[null,null,null,null,null,null,null,null,null,{"$f":"IF(H1761=Listas!$X$3,Acompanhamento!I1761,0)","v":0},{"$f":"IF(H1761=Listas!$X$4,Acompanhamento!I1761,0)","v":0},null,0,null,0,null,0,null,0]
[null,null,null,null,null,null,null,null,null,{"$f":"IF(H1762=Listas!$X$3,Acompanhamento!I1762,0)","v":0},{"$f":"IF(H1762=Listas!$X$4,Acompanhamento!I1762,0)","v":0},null,0,null,0,null,0,null,0]
[null,null,null,null,null,null,null,null,null,{"$f":"IF(H1763=Listas!$X$3,Acompanhamento!I1763,0)","v":0},{"$f":"IF(H1763=Listas!$X$4,Acompanhamento!I1763,0)","v":0},null,0,null,0,null,0,null,0]
[null,null,null,null,null,null,null,null,null,{"$f":"IF(H1764=Listas!$X$3,Acompanhamento!I1764,0)","v":0},{"$f":"IF(H1764=Listas!$X$4,Acompanhamento!I1764,0)","v":0},null,0,null,0,null,0,null,0]
[null,null,null,null,null,null,null,null,null,{"$f":"IF(H1765=Listas!$X$3,Acompanhamento!I1765,0)","v":0},{"$f":"IF(H1765=Listas!$X$4,Acompanhamento!I1765,0)","v":0},null,0,null,0,null,0,null,0]
[null,null,null,null,null,null,null,null,null,{"$f":"IF(H1766=Listas!$X$3,Acompanhamento!I1766,0)","v":0},{"$f":"IF(H1766=Listas!$X$4,Acompanhamento!I1766,0)","v":0},null,0,null,0,null,0,null,0]
[null,null,null,null,null,null,null,null,null,{"$f":"IF(H1767=Listas!$X$3,Acompanhamento!I1767,0)","v":0},{"$f":"IF(H1767=Listas!$X$4,Acompanhamento!I1767,0)","v":0},null,0,null,0,null,0,null,0]
[null,null,null,null,null,null,null,null,null,{"$f":"IF(H1768=Listas!$X$3,Acompanhamento!I1768,0)","v":0},{"$f":"IF(H1768=Listas!$X$4,Acompanhamento!I1768,0)","v":0},null,0,null,0,null,0,null,0]
[null,null,null,null,null,null,null,null,null,{"$f":"IF(H1769=Listas!$X$3,Acompanhamento!I1769,0)","v":0},{"$f":"IF(H1769=Listas!$X$4,Acompanhamento!I1769,0)","v":0},null,0,null,0,null,0,null,0]
[null,null,null,null,null,null,null,null,null,{"$f":"IF(H1770=Listas!$X$3,Acompanhamento!I1770,0)","v":0},{"$f":"IF(H1770=Listas!$X$4,Acompanhamento!I1770,0)","v":0},null,0,null,0,null,0,null,0]
[null,null,null,null,null,null,null,null,null,{"$f":"IF(H1771=Listas!$X$3,Acompanhamento!I1771,0)","v":0},{"$f":"IF(H1771=Listas!$X$4,Acompanhamento!I1771,0)","v":0},null,0,null,0,null,0,null,0]
[null,null,null,null,null,null,null,null,null,{"$f":"IF(H1772=Listas!$X$3,Acompanhamento!I1772,0)","v":0},{"$f":"IF(H1772=Listas!$X$4,Acompanhamento!I1772,0)","v":0},null,0,null,0,null,0,null,0]
[null,null,null,null,null,null,null,null,null,{"$f":"IF(H1773=Listas!$X$3,Acompanhamento!I1773,0)","v":0},{"$f":"IF(H1773=Listas!$X$4,Acompanhamento!I1773,0)","v":0},null,0,null,0,null,0,null,0]
[null,null,null,null,null,null,null,null,null,{"$f":"IF(H1774=Listas!$X$3,Acompanhamento!I1774,0)","v":0},{"$f":"IF(H1774=Listas!$X$4,Acompanhamento!I1774,0)","v":0},null,0,null,0,null,0,null,0]
[null,null,null,null,null,null,null,null,null,{"$f":"IF(H1775=Listas!$X$3,Acompanhamento!I1775,0)","v":0},{"$f":"IF(H1775=Listas!$X$4,Acompanhamento!I1775,0)","v":0},null,0,null,0,null,0,null,0]
[null,null,null,null,null,null,null,null,null,{"$f":"IF(H1776=Listas!$X$3,Acompanhamento!I1776,0)","v":0},{"$f":"IF(H1776=Listas!$X$4,Acompanhamento!I1776,0)","v":0},null,0,null,0,null,0,null,0]
[null,null,null,null,null,null,null,null,null,{"$f":"IF(H1777=Listas!$X$3,Acompanhamento!I1777,0)","v":0},{"$f":"IF(H1777=Listas!$X$4,Acompanhamento!I1777,0)","v":0},null,0,null,0,null,0,null,0]
[null,null,null,null,null,null,null,null,null,{"$f":"IF(H1778=Listas!$X$3,Acompanhamento!I1778,0)","v":0},{"$f":"IF(H1778=Listas!$X$4,Acompanhamento!I1778,0)","v":0},null,0,null,0,null,0,null,0]
[null,null,null,null,null,null,null,null,null,{"$f":"IF(H1779=Listas!$X$3,Acompanhamento!I1779,0)","v":0},{"$f":"IF(H1779=Listas!$X$4,Acompanhamento!I1779,0)","v":0},null,0,null,0,null,0,null,0]
[null,null,null,null,null,null,null,null,null,{"$f":"IF(H1780=Listas!$X$3,Acompanhamento!I1780,0)","v":0},{"$f":"IF(H1780=Listas!$X$4,Acompanhamento!I1780,0)","v":0},null,0,null,0,null,0,null,0]
[null,null,null,null,null,null,null,null,null,{"$f":"IF(H1781=Listas!$X$3,Acompanhamento!I1781,0)","v":0},{"$f":"IF(H1781=Listas!$X$4,Acompanhamento!I1781,0)","v":0},null,0,null,0,null,0,null,0]
[null,null,null,null,null,null,null,null,null,{"$f":"IF(H1782=Listas!$X$3,Acompanhamento!I1782,0)","v":0},{"$f":"IF(H1782=Listas!$X$4,Acompanhamento!I1782,0)","v":0},null,0,null,0,null,0,null,0]
[null,null,null,null,null,null,null,null,null,{"$f":"IF(H1783=Listas!$X$3,Acompanhamento!I1783,0)","v":0},{"$f":"IF(H1783=Listas!$X$4,Acompanhamento!I1783,0)","v":0},null,0,null,0,null,0,null,0]
[null,null,null,null,null,null,null,null,null,{"$f":"IF(H1784=Listas!$X$3,Acompanhamento!I1784,0)","v":0},{"$f":"IF(H1784=Listas!$X$4,Acompanhamento!I1784,0)","v":0},null,0,null,0,null,0,null,0]
[null,null,null,null,null,null,null,null,null,{"$f":"IF(H1785=Listas!$X$3,Acompanhamento!I1785,0)","v":0},{"$f":"IF(H1785=Listas!$X$4,Acompanhamento!I1785,0)","v":0},null,0,null,0,null,0,null,0]
[null,null,null,null,null,null,null,null,null,{"$f":"IF(H1786=Listas!$X$3,Acompanhamento!I1786,0)","v":0},{"$f":"IF(H1786=Listas!$X$4,Acompanhamento!I1786,0)","v":0},null,0,null,0,null,0,null,0]
[null,null,null,null,null,null,null,null,null,{"$f":"IF(H1787=Listas!$X$3,Acompanhamento!I1787,0)","v":0},{"$f":"IF(H1787=Listas!$X$4,Acompanhamento!I1787,0)","v":0},null,0,null,0,null,0,null,0]
[null,null,null,null,null,null,null,null,null,{"$f":"IF(H1788=Listas!$X$3,Acompanhamento!I1788,0)","v":0},{"$f":"IF(H1788=Listas!$X$4,Acompanhamento!I1788,0)","v":0},null,0,null,0,null,0,null,0]
[null,null,null,null,null,null,null,null,null,{"$f":"IF(H1789=Listas!$X$3,Acompanhamento!I1789,0)","v":0},{"$f":"IF(H1789=Listas!$X$4,Acompanhamento!I1789,0)","v":0},null,0,null,0,null,0,null,0]
[null,null,null,null,null,null,null,null,null,{"$f":"IF(H1790=Listas!$X$3,Acompanhamento!I1790,0)","v":0},{"$f":"IF(H1790=Listas!$X$4,Acompanhamento!I1790,0)","v":0},null,0,null,0,null,0,null,0]
[null,null,null,null,null,null,null,null,null,{"$f":"IF(H1791=Listas!$X$3,Acompanhamento!I1791,0)","v":0},{"$f":"IF(H1791=Listas!$X$4,Acompanhamento!I1791,0)","v":0},null,0,null,0,null,0,null,0]
[null,null,null,null,null,null,null,null,null,{"$f":"IF(H1792=Listas!$X$3,Acompanhamento!I1792,0)","v":0},{"$f":"IF(H1792=Listas!$X$4,Acompanhamento!I1792,0)","v":0},null,0,null,0,null,0,null,0]
[null,null,null,null,null,null,null,null,null,{"$f":"IF(H1793=Listas!$X$3,Acompanhamento!I1793,0)","v":0},{"$f":"IF(H1793=Listas!$X$4,Acompanhamento!I1793,0)","v":0},null,0,null,0,null,0,null,0]
[null,null,null,null,null,null,null,null,null,{"$f":"IF(H1794=Listas!$X$3,Acompanhamento!I1794,0)","v":0},{"$f":"IF(H1794=Listas!$X$4,Acompanhamento!I1794,0)","v":0},null,0,null,0,null,0,null,0]
[null,null,null,null,null,null,null,null,null,{"$f":"IF(H1795=Listas!$X$3,Acompanhamento!I1795,0)","v":0},{"$f":"IF(H1795=Listas!$X$4,Acompanhamento!I1795,0)","v":0},null,0,null,0,null,0,null,0]
[null,null,null,null,null,null,null,null,null,{"$f":"IF(H1796=Listas!$X$3,Acompanhamento!I1796,0)","v":0},{"$f":"IF(H1796=Listas!$X$4,Acompanhamento!I1796,0)","v":0},null,0,null,0,null,0,null,0]
[null,null,null,null,null,null,null,null,null,{"$f":"IF(H1797=Listas!$X$3,Acompanhamento!I1797,0)","v":0},{"$f":"IF(H1797=Listas!$X$4,Acompanhamento!I1797,0)","v":0},null,0,null,0,null,0,null,0]
[null,null,null,null,null,null,null,null,null,{"$f":"IF(H1798=Listas!$X$3,Acompanhamento!I1798,0)","v":0},{"$f":"IF(H1798=Listas!$X$4,Acompanhamento!I1798,0)","v":0},null,0,null,0,null,0,null,0]
[null,null,null,null,null,null,null,null,null,{"$f":"IF(H1799=Listas!$X$3,Acompanhamento!I1799,0)","v":0},{"$f":"IF(H1799=Listas!$X$4,Acompanhamento!I1799,0)","v":0},null,0,null,0,null,0,null,0]
[null,null,null,null,null,null,null,null,null,{"$f":"IF(H1800=Listas!$X$3,Acompanhamento!I1800,0)","v":0},{"$f":"IF(H1800=Listas!$X$4,Acompanhamento!I1800,0)","v":0},null,0,null,0,null,0,null,0]
[null,null,null,null,null,null,null,null,null,{"$f":"IF(H1801=Listas!$X$3,Acompanhamento!I1801,0)","v":0},{"$f":"IF(H1801=Listas!$X$4,Acompanhamento!I1801,0)","v":0},null,0,null,0,null,0,null,0]
[null,null,null,null,null,null,null,null,null,{"$f":"IF(H1802=Listas!$X$3,Acompanhamento!I1802,0)","v":0},{"$f":"IF(H1802=Listas!$X$4,Acompanhamento!I1802,0)","v":0},null,{"$f":"J1802-L1802","v":0},null,{"$f":"M1802-N1802","v":0},null,{"$f":"O1802-P1802","v":0},null,{"$f":"Q1802-R1802","v":0}]
[null,null,null,null,null,null,null,null,null,{"$f":"IF(H1803=Listas!$X$3,Acompanhamento!I1803,0)","v":0},{"$f":"IF(H1803=Listas!$X$4,Acompanhamento!I1803,0)","v":0},null,0,null,0,null,0,null,0]
[null,null,null,null,null,null,null,null,null,{"$f":"IF(H1804=Listas!$X$3,Acompanhamento!I1804,0)","v":0},{"$f":"IF(H1804=Listas!$X$4,Acompanhamento!I1804,0)","v":0},null,0,null,0,null,0,null,0]
[null,null,null,null,null,null,null,null,null,{"$f":"IF(H1805=Listas!$X$3,Acompanhamento!I1805,0)","v":0},{"$f":"IF(H1805=Listas!$X$4,Acompanhamento!I1805,0)","v":0},null,0,null,0,null,0,null,0]
[null,null,null,null,null,null,null,null,null,{"$f":"IF(H1806=Listas!$X$3,Acompanhamento!I1806,0)","v":0},{"$f":"IF(H1806=Listas!$X$4,Acompanhamento!I1806,0)","v":0},null,0,null,0,null,0,null,0]
[null,null,null,null,null,null,null,null,null,{"$f":"IF(H1807=Listas!$X$3,Acompanhamento!I1807,0)","v":0},{"$f":"IF(H1807=Listas!$X$4,Acompanhamento!I1807,0)","v":0},null,0,null,0,null,0,null,0]
[null,null,null,null,null,null,null,null,null,{"$f":"IF(H1808=Listas!$X$3,Acompanhamento!I1808,0)","v":0},{"$f":"IF(H1808=Listas!$X$4,Acompanhamento!I1808,0)","v":0},null,0,null,0,null,0,null,0]
[null,null,null,null,null,null,null,null,null,{"$f":"IF(H1809=Listas!$X$3,Acompanhamento!I1809,0)","v":0},{"$f":"IF(H1809=Listas!$X$4,Acompanhamento!I1809,0)","v":0},null,0,null,0,null,0,null,0]
[null,null,null,null,null,null,null,null,null,{"$f":"IF(H1810=Listas!$X$3,Acompanhamento!I1810,0)","v":0},{"$f":"IF(H1810=Listas!$X$4,Acompanhamento!I1810,0)","v":0},null,0,null,0,null,0,null,0]
[null,null,null,null,null,null,null,null,null,{"$f":"IF(H1811=Listas!$X$3,Acompanhamento!I1811,0)","v":0},{"$f":"IF(H1811=Listas!$X$4,Acompanhamento!I1811,0)","v":0},null,0,null,0,null,0,null,0]
[null,null,null,null,null,null,null,null,null,{"$f":"IF(H1812=Listas!$X$3,Acompanhamento!I1812,0)","v":0},{"$f":"IF(H1812=Listas!$X$4,Acompanhamento!I1812,0)","v":0},null,0,null,0,null,0,null,0]
[null,null,null,null,null,null,null,null,null,{"$f":"IF(H1813=Listas!$X$3,Acompanhamento!I1813,0)","v":0},{"$f":"IF(H1813=Listas!$X$4,Acompanhamento!I1813,0)","v":0},null,0,null,0,null,0,null,0]
[null,null,null,null,null,null,null,null,null,{"$f":"IF(H1814=Listas!$X$3,Acompanhamento!I1814,0)","v":0},{"$f":"IF(H1814=Listas!$X$4,Acompanhamento!I1814,0)","v":0},null,0,null,0,null,0,null,0]
[null,null,null,null,null,null,null,null,null,{"$f":"IF(H1815=Listas!$X$3,Acompanhamento!I1815,0)","v":0},{"$f":"IF(H1815=Listas!$X$4,Acompanhamento!I1815,0)","v":0},null,0,null,0,null,0,null,0]
[null,null,null,null,null,null,null,null,null,{"$f":"IF(H1816=Listas!$X$3,Acompanhamento!I1816,0)","v":0},{"$f":"IF(H1816=Listas!$X$4,Acompanhamento!I1816,0)","v":0},null,0,null,0,null,0,null,0]
[null,null,null,null,null,null,null,null,null,{"$f":"IF(H1817=Listas!$X$3,Acompanhamento!I1817,0)","v":0},{"$f":"IF(H1817=Listas!$X$4,Acompanhamento!I1817,0)","v":0},null,0,null,0,null,0,null,0]
[null,null,null,null,null,null,null,null,null,{"$f":"IF(H1818=Listas!$X$3,Acompanhamento!I1818,0)","v":0},{"$f":"IF(H1818=Listas!$X$4,Acompanhamento!I1818,0)","v":0},null,0,null,0,null,0,null,0]
[null,null,null,null,null,null,null,null,null,{"$f":"IF(H1819=Listas!$X$3,Acompanhamento!I1819,0)","v":0},{"$f":"IF(H1819=Listas!$X$4,Acompanhamento!I1819,0)","v":0},null,0,null,0,null,0,null,0]
[null,null,null,null,null,null,null,null,null,{"$f":"IF(H1820=Listas!$X$3,Acompanhamento!I1820,0)","v":0},{"$f":"IF(H1820=Listas!$X$4,Acompanhamento!I1820,0)","v":0},null,0,null,0,null,0,null,0]
[null,null,null,null,null,null,null,null,null,{"$f":"IF(H1821=Listas!$X$3,Acompanhamento!I1821,0)","v":0},{"$f":"IF(H1821=Listas!$X$4,Acompanhamento!I1821,0)","v":0},null,0,null,0,null,0,null,0]
[null,null,null,null,null,null,null,null,null,{"$f":"IF(H1822=Listas!$X$3,Acompanhamento!I1822,0)","v":0},{"$f":"IF(H1822=Listas!$X$4,Acompanhamento!I1822,0)","v":0},null,0,null,0,null,0,null,0]
[null,null,null,null,null,null,null,null,null,{"$f":"IF(H1823=Listas!$X$3,Acompanhamento!I1823,0)","v":0},{"$f":"IF(H1823=Listas!$X$4,Acompanhamento!I1823,0)","v":0},null,0,null,0,null,0,null,0]
[null,null,null,null,null,null,null,null,null,{"$f":"IF(H1824=Listas!$X$3,Acompanhamento!I1824,0)","v":0},{"$f":"IF(H1824=Listas!$X$4,Acompanhamento!I1824,0)","v":0},null,0,null,0,null,0,null,0]
[null,null,null,null,null,null,null,null,null,{"$f":"IF(H1825=Listas!$X$3,Acompanhamento!I1825,0)","v":0},{"$f":"IF(H1825=Listas!$X$4,Acompanhamento!I1825,0)","v":0},null,0,null,0,null,0,null,0]
[null,null,null,null,null,null,null,null,null,{"$f":"IF(H1826=Listas!$X$3,Acompanhamento!I1826,0)","v":0},{"$f":"IF(H1826=Listas!$X$4,Acompanhamento!I1826,0)","v":0},null,0,null,0,null,0,null,0]
[null,null,null,null,null,null,null,null,null,{"$f":"IF(H1827=Listas!$X$3,Acompanhamento!I1827,0)","v":0},{"$f":"IF(H1827=Listas!$X$4,Acompanhamento!I1827,0)","v":0},null,0,null,0,null,0,null,0]
[null,null,null,null,null,null,null,null,null,{"$f":"IF(H1828=Listas!$X$3,Acompanhamento!I1828,0)","v":0},{"$f":"IF(H1828=Listas!$X$4,Acompanhamento!I1828,0)","v":0},null,0,null,0,null,0,null,0]
[null,null,null,null,null,null,null,null,null,{"$f":"IF(H1829=Listas!$X$3,Acompanhamento!I1829,0)","v":0},{"$f":"IF(H1829=Listas!$X$4,Acompanhamento!I1829,0)","v":0},null,0,null,0,null,0,null,0]
[null,null,null,null,null,null,null,null,null,{"$f":"IF(H1830=Listas!$X$3,Acompanhamento!I1830,0)","v":0},{"$f":"IF(H1830=Listas!$X$4,Acompanhamento!I1830,0)","v":0},null,0,null,0,null,0,null,0]
[null,null,null,null,null,null,null,null,null,{"$f":"IF(H1831=Listas!$X$3,Acompanhamento!I1831,0)","v":0},{"$f":"IF(H1831=Listas!$X$4,Acompanhamento!I1831,0)","v":0},null,0,null,0,null,0,null,0]
[null,null,null,null,null,null,null,null,null,{"$f":"IF(H1832=Listas!$X$3,Acompanhamento!I1832,0)","v":0},{"$f":"IF(H1832=Listas!$X$4,Acompanhamento!I1832,0)","v":0},null,0,null,0,null,0,null,0]
[null,null,null,null,null,null,null,null,null,{"$f":"IF(H1833=Listas!$X$3,Acompanhamento!I1833,0)","v":0},{"$f":"IF(H1833=Listas!$X$4,Acompanhamento!I1833,0)","v":0},null,0,null,0,null,0,null,0]
[null,null,null,null,null,null,null,null,null,{"$f":"IF(H1834=Listas!$X$3,Acompanhamento!I1834,0)","v":0},{"$f":"IF(H1834=Listas!$X$4,Acompanhamento!I1834,0)","v":0},null,0,null,0,null,0,null,0]
[null,null,null,null,null,null,null,null,null,{"$f":"IF(H1835=Listas!$X$3,Acompanhamento!I1835,0)","v":0},{"$f":"IF(H1835=Listas!$X$4,Acompanhamento!I1835,0)","v":0},null,0,null,0,null,0,null,0]
[null,null,null,null,null,null,null,null,null,{"$f":"IF(H1836=Listas!$X$3,Acompanhamento!I1836,0)","v":0},{"$f":"IF(H1836=Listas!$X$4,Acompanhamento!I1836,0)","v":0},null,0,null,0,null,0,null,0]
[null,null,null,null,null,null,null,null,null,{"$f":"IF(H1837=Listas!$X$3,Acompanhamento!I1837,0)","v":0},{"$f":"IF(H1837=Listas!$X$4,Acompanhamento!I1837,0)","v":0},null,0,null,0,null,0,null,0]
[null,null,null,null,null,null,null,null,null,{"$f":"IF(H1838=Listas!$X$3,Acompanhamento!I1838,0)","v":0},{"$f":"IF(H1838=Listas!$X$4,Acompanhamento!I1838,0)","v":0},null,0,null,0,null,0,null,0]
[null,null,null,null,null,null,null,null,null,{"$f":"IF(H1839=Listas!$X$3,Acompanhamento!I1839,0)","v":0},{"$f":"IF(H1839=Listas!$X$4,Acompanhamento!I1839,0)","v":0},null,0,null,0,null,0,null,0]
[null,null,null,null,null,null,null,null,null,{"$f":"IF(H1840=Listas!$X$3,Acompanhamento!I1840,0)","v":0},{"$f":"IF(H1840=Listas!$X$4,Acompanhamento!I1840,0)","v":0},null,0,null,0,null,0,null,0]
[null,null,null,null,null,null,null,null,null,{"$f":"IF(H1841=Listas!$X$3,Acompanhamento!I1841,0)","v":0},{"$f":"IF(H1841=Listas!$X$4,Acompanhamento!I1841,0)","v":0},null,0,null,0,null,0,null,0]
[null,null,null,null,null,null,null,null,null,{"$f":"IF(H1842=Listas!$X$3,Acompanhamento!I1842,0)","v":0},{"$f":"IF(H1842=Listas!$X$4,Acompanhamento!I1842,0)","v":0},null,0,null,0,null,0,null,0]
[null,null,null,null,null,null,null,null,null,{"$f":"IF(H1843=Listas!$X$3,Acompanhamento!I1843,0)","v":0},{"$f":"IF(H1843=Listas!$X$4,Acompanhamento!I1843,0)","v":0},null,0,null,0,null,0,null,0]
[null,null,null,null,null,null,null,null,null,{"$f":"IF(H1844=Listas!$X$3,Acompanhamento!I1844,0)","v":0},{"$f":"IF(H1844=Listas!$X$4,Acompanhamento!I1844,0)","v":0},null,0,null,0,null,0,null,0]
[null,null,null,null,null,null,null,null,null,{"$f":"IF(H1845=Listas!$X$3,Acompanhamento!I1845,0)","v":0},{"$f":"IF(H1845=Listas!$X$4,Acompanhamento!I1845,0)","v":0},null,0,null,0,null,0,null,0]
[null,null,null,null,null,null,null,null,null,{"$f":"IF(H1846=Listas!$X$3,Acompanhamento!I1846,0)","v":0},{"$f":"IF(H1846=Listas!$X$4,Acompanhamento!I1846,0)","v":0},null,0,null,0,null,0,null,0]
[null,null,null,null,null,null,null,null,null,{"$f":"IF(H1847=Listas!$X$3,Acompanhamento!I1847,0)","v":0},{"$f":"IF(H1847=Listas!$X$4,Acompanhamento!I1847,0)","v":0},null,0,null,0,null,0,null,0]
[null,null,null,null,null,null,null,null,null,{"$f":"IF(H1848=Listas!$X$3,Acompanhamento!I1848,0)","v":0},{"$f":"IF(H1848=Listas!$X$4,Acompanhamento!I1848,0)","v":0},null,0,null,0,null,0,null,0]
[null,null,null,null,null,null,null,null,null,{"$f":"IF(H1849=Listas!$X$3,Acompanhamento!I1849,0)","v":0},{"$f":"IF(H1849=Listas!$X$4,Acompanhamento!I1849,0)","v":0},null,0,null,0,null,0,null,0]
[null,null,null,null,null,null,null,null,null,{"$f":"IF(H1850=Listas!$X$3,Acompanhamento!I1850,0)","v":0},{"$f":"IF(H1850=Listas!$X$4,Acompanhamento!I1850,0)","v":0},null,0,null,0,null,0,null,0]
[null,null,null,null,null,null,null,null,null,{"$f":"IF(H1851=Listas!$X$3,Acompanhamento!I1851,0)","v":0},{"$f":"IF(H1851=Listas!$X$4,Acompanhamento!I1851,0)","v":0},null,0,null,0,null,0,null,0]
[null,null,null,null,null,null,null,null,null,{"$f":"IF(H1852=Listas!$X$3,Acompanhamento!I1852,0)","v":0},{"$f":"IF(H1852=Listas!$X$4,Acompanhamento!I1852,0)","v":0},null,0,null,0,null,0,null,0]
[null,null,null,null,null,null,null,null,null,{"$f":"IF(H1853=Listas!$X$3,Acompanhamento!I1853,0)","v":0},{"$f":"IF(H1853=Listas!$X$4,Acompanhamento!I1853,0)","v":0},null,0,null,0,null,0,null,0]
[null,null,null,null,null,null,null,null,null,{"$f":"IF(H1854=Listas!$X$3,Acompanhamento!I1854,0)","v":0},{"$f":"IF(H1854=Listas!$X$4,Acompanhamento!I1854,0)","v":0},null,0,null,0,null,0,null,0]
[null,null,null,null,null,null,null,null,null,{"$f":"IF(H1855=Listas!$X$3,Acompanhamento!I1855,0)","v":0},{"$f":"IF(H1855=Listas!$X$4,Acompanhamento!I1855,0)","v":0},null,0,null,0,null,0,null,0]
[null,null,null,null,null,null,null,null,null,{"$f":"IF(H1856=Listas!$X$3,Acompanhamento!I1856,0)","v":0},{"$f":"IF(H1856=Listas!$X$4,Acompanhamento!I1856,0)","v":0},null,0,null,0,null,0,null,0]
[null,null,null,null,null,null,null,null,null,{"$f":"IF(H1857=Listas!$X$3,Acompanhamento!I1857,0)","v":0},{"$f":"IF(H1857=Listas!$X$4,Acompanhamento!I1857,0)","v":0},null,0,null,0,null,0,null,0]
[null,null,null,null,null,null,null,null,null,{"$f":"IF(H1858=Listas!$X$3,Acompanhamento!I1858,0)","v":0},{"$f":"IF(H1858=Listas!$X$4,Acompanhamento!I1858,0)","v":0},null,0,null,0,null,0,null,0]
[null,null,null,null,null,null,null,null,null,{"$f":"IF(H1859=Listas!$X$3,Acompanhamento!I1859,0)","v":0},{"$f":"IF(H1859=Listas!$X$4,Acompanhamento!I1859,0)","v":0},null,0,null,0,null,0,null,0]
[null,null,null,null,null,null,null,null,null,{"$f":"IF(H1860=Listas!$X$3,Acompanhamento!I1860,0)","v":0},{"$f":"IF(H1860=Listas!$X$4,Acompanhamento!I1860,0)","v":0},null,0,null,0,null,0,null,0]
[null,null,null,null,null,null,null,null,null,{"$f":"IF(H1861=Listas!$X$3,Acompanhamento!I1861,0)","v":0},{"$f":"IF(H1861=Listas!$X$4,Acompanhamento!I1861,0)","v":0},null,0,null,0,null,0,null,0]
[null,null,null,null,null,null,null,null,null,{"$f":"IF(H1862=Listas!$X$3,Acompanhamento!I1862,0)","v":0},{"$f":"IF(H1862=Listas!$X$4,Acompanhamento!I1862,0)","v":0},null,0,null,0,null,0,null,0]
[null,null,null,null,null,null,null,null,null,{"$f":"IF(H1863=Listas!$X$3,Acompanhamento!I1863,0)","v":0},{"$f":"IF(H1863=Listas!$X$4,Acompanhamento!I1863,0)","v":0},null,0,null,0,null,0,null,0]
[null,null,null,null,null,null,null,null,null,{"$f":"IF(H1864=Listas!$X$3,Acompanhamento!I1864,0)","v":0},{"$f":"IF(H1864=Listas!$X$4,Acompanhamento!I1864,0)","v":0},null,0,null,0,null,0,null,0]
[null,null,null,null,null,null,null,null,null,{"$f":"IF(H1865=Listas!$X$3,Acompanhamento!I1865,0)","v":0},{"$f":"IF(H1865=Listas!$X$4,Acompanhamento!I1865,0)","v":0},null,0,null,0,null,0,null,0]
[null,null,null,null,null,null,null,null,null,{"$f":"IF(H1866=Listas!$X$3,Acompanhamento!I1866,0)","v":0},{"$f":"IF(H1866=Listas!$X$4,Acompanhamento!I1866,0)","v":0},null,{"$f":"J1866-L1866","v":0},null,{"$f":"M1866-N1866","v":0},null,{"$f":"O1866-P1866","v":0},null,{"$f":"Q1866-R1866","v":0}]
[null,null,null,null,null,null,null,null,null,{"$f":"IF(H1867=Listas!$X$3,Acompanhamento!I1867,0)","v":0},{"$f":"IF(H1867=Listas!$X$4,Acompanhamento!I1867,0)","v":0},null,0,null,0,null,0,null,0]
[null,null,null,null,null,null,null,null,null,{"$f":"IF(H1868=Listas!$X$3,Acompanhamento!I1868,0)","v":0},{"$f":"IF(H1868=Listas!$X$4,Acompanhamento!I1868,0)","v":0},null,0,null,0,null,0,null,0]
[null,null,null,null,null,null,null,null,null,{"$f":"IF(H1869=Listas!$X$3,Acompanhamento!I1869,0)","v":0},{"$f":"IF(H1869=Listas!$X$4,Acompanhamento!I1869,0)","v":0},null,0,null,0,null,0,null,0]
[null,null,null,null,null,null,null,null,null,{"$f":"IF(H1870=Listas!$X$3,Acompanhamento!I1870,0)","v":0},{"$f":"IF(H1870=Listas!$X$4,Acompanhamento!I1870,0)","v":0},null,0,null,0,null,0,null,0]
[null,null,null,null,null,null,null,null,null,{"$f":"IF(H1871=Listas!$X$3,Acompanhamento!I1871,0)","v":0},{"$f":"IF(H1871=Listas!$X$4,Acompanhamento!I1871,0)","v":0},null,0,null,0,null,0,null,0]
[null,null,null,null,null,null,null,null,null,{"$f":"IF(H1872=Listas!$X$3,Acompanhamento!I1872,0)","v":0},{"$f":"IF(H1872=Listas!$X$4,Acompanhamento!I1872,0)","v":0},null,0,null,0,null,0,null,0]
[null,null,null,null,null,null,null,null,null,{"$f":"IF(H1873=Listas!$X$3,Acompanhamento!I1873,0)","v":0},{"$f":"IF(H1873=Listas!$X$4,Acompanhamento!I1873,0)","v":0},null,0,null,0,null,0,null,0]
[null,null,null,null,null,null,null,null,null,{"$f":"IF(H1874=Listas!$X$3,Acompanhamento!I1874,0)","v":0},{"$f":"IF(H1874=Listas!$X$4,Acompanhamento!I1874,0)","v":0},null,0,null,0,null,0,null,0]
[null,null,null,null,null,null,null,null,null,{"$f":"IF(H1875=Listas!$X$3,Acompanhamento!I1875,0)","v":0},{"$f":"IF(H1875=Listas!$X$4,Acompanhamento!I1875,0)","v":0},null,0,null,0,null,0,null,0]
[null,null,null,null,null,null,null,null,null,{"$f":"IF(H1876=Listas!$X$3,Acompanhamento!I1876,0)","v":0},{"$f":"IF(H1876=Listas!$X$4,Acompanhamento!I1876,0)","v":0},null,0,null,0,null,0,null,0]
[null,null,null,null,null,null,null,null,null,{"$f":"IF(H1877=Listas!$X$3,Acompanhamento!I1877,0)","v":0},{"$f":"IF(H1877=Listas!$X$4,Acompanhamento!I1877,0)","v":0},null,0,null,0,null,0,null,0]
[null,null,null,null,null,null,null,null,null,{"$f":"IF(H1878=Listas!$X$3,Acompanhamento!I1878,0)","v":0},{"$f":"IF(H1878=Listas!$X$4,Acompanhamento!I1878,0)","v":0},null,0,null,0,null,0,null,0]
[null,null,null,null,null,null,null,null,null,{"$f":"IF(H1879=Listas!$X$3,Acompanhamento!I1879,0)","v":0},{"$f":"IF(H1879=Listas!$X$4,Acompanhamento!I1879,0)","v":0},null,0,null,0,null,0,null,0]
[null,null,null,null,null,null,null,null,null,{"$f":"IF(H1880=Listas!$X$3,Acompanhamento!I1880,0)","v":0},{"$f":"IF(H1880=Listas!$X$4,Acompanhamento!I1880,0)","v":0},null,0,null,0,null,0,null,0]
[null,null,null,null,null,null,null,null,null,{"$f":"IF(H1881=Listas!$X$3,Acompanhamento!I1881,0)","v":0},{"$f":"IF(H1881=Listas!$X$4,Acompanhamento!I1881,0)","v":0},null,0,null,0,null,0,null,0]
[null,null,null,null,null,null,null,null,null,{"$f":"IF(H1882=Listas!$X$3,Acompanhamento!I1882,0)","v":0},{"$f":"IF(H1882=Listas!$X$4,Acompanhamento!I1882,0)","v":0},null,0,null,0,null,0,null,0]
[null,null,null,null,null,null,null,null,null,{"$f":"IF(H1883=Listas!$X$3,Acompanhamento!I1883,0)","v":0},{"$f":"IF(H1883=Listas!$X$4,Acompanhamento!I1883,0)","v":0},null,0,null,0,null,0,null,0]
[null,null,null,null,null,null,null,null,null,{"$f":"IF(H1884=Listas!$X$3,Acompanhamento!I1884,0)","v":0},{"$f":"IF(H1884=Listas!$X$4,Acompanhamento!I1884,0)","v":0},null,0,null,0,null,0,null,0]
[null,null,null,null,null,null,null,null,null,{"$f":"IF(H1885=Listas!$X$3,Acompanhamento!I1885,0)","v":0},{"$f":"IF(H1885=Listas!$X$4,Acompanhamento!I1885,0)","v":0},null,0,null,0,null,0,null,0]
[null,null,null,null,null,null,null,null,null,{"$f":"IF(H1886=Listas!$X$3,Acompanhamento!I1886,0)","v":0},{"$f":"IF(H1886=Listas!$X$4,Acompanhamento!I1886,0)","v":0},null,0,null,0,null,0,null,0]
[null,null,null,null,null,null,null,null,null,{"$f":"IF(H1887=Listas!$X$3,Acompanhamento!I1887,0)","v":0},{"$f":"IF(H1887=Listas!$X$4,Acompanhamento!I1887,0)","v":0},null,0,null,0,null,0,null,0]
[null,null,null,null,null,null,null,null,null,{"$f":"IF(H1888=Listas!$X$3,Acompanhamento!I1888,0)","v":0},{"$f":"IF(H1888=Listas!$X$4,Acompanhamento!I1888,0)","v":0},null,0,null,0,null,0,null,0]
[null,null,null,null,null,null,null,null,null,{"$f":"IF(H1889=Listas!$X$3,Acompanhamento!I1889,0)","v":0},{"$f":"IF(H1889=Listas!$X$4,Acompanhamento!I1889,0)","v":0},null,0,null,0,null,0,null,0]
[null,null,null,null,null,null,null,null,null,{"$f":"IF(H1890=Listas!$X$3,Acompanhamento!I1890,0)","v":0},{"$f":"IF(H1890=Listas!$X$4,Acompanhamento!I1890,0)","v":0},null,0,null,0,null,0,null,0]
[null,null,null,null,null,null,null,null,null,{"$f":"IF(H1891=Listas!$X$3,Acompanhamento!I1891,0)","v":0},{"$f":"IF(H1891=Listas!$X$4,Acompanhamento!I1891,0)","v":0},null,0,null,0,null,0,null,0]
[null,null,null,null,null,null,null,null,null,{"$f":"IF(H1892=Listas!$X$3,Acompanhamento!I1892,0)","v":0},{"$f":"IF(H1892=Listas!$X$4,Acompanhamento!I1892,0)","v":0},null,0,null,0,null,0,null,0]
[null,null,null,null,null,null,null,null,null,{"$f":"IF(H1893=Listas!$X$3,Acompanhamento!I1893,0)","v":0},{"$f":"IF(H1893=Listas!$X$4,Acompanhamento!I1893,0)","v":0},null,0,null,0,null,0,null,0]
[null,null,null,null,null,null,null,null,null,{"$f":"IF(H1894=Listas!$X$3,Acompanhamento!I1894,0)","v":0},{"$f":"IF(H1894=Listas!$X$4,Acompanhamento!I1894,0)","v":0},null,0,null,0,null,0,null,0]
[null,null,null,null,null,null,null,null,null,{"$f":"IF(H1895=Listas!$X$3,Acompanhamento!I1895,0)","v":0},{"$f":"IF(H1895=Listas!$X$4,Acompanhamento!I1895,0)","v":0},null,0,null,0,null,0,null,0]
[null,null,null,null,null,null,null,null,null,{"$f":"IF(H1896=Listas!$X$3,Acompanhamento!I1896,0)","v":0},{"$f":"IF(H1896=Listas!$X$4,Acompanhamento!I1896,0)","v":0},null,0,null,0,null,0,null,0]
[null,null,null,null,null,null,null,null,null,{"$f":"IF(H1897=Listas!$X$3,Acompanhamento!I1897,0)","v":0},{"$f":"IF(H1897=Listas!$X$4,Acompanhamento!I1897,0)","v":0},null,0,null,0,null,0,null,0]
[null,null,null,null,null,null,null,null,null,{"$f":"IF(H1898=Listas!$X$3,Acompanhamento!I1898,0)","v":0},{"$f":"IF(H1898=Listas!$X$4,Acompanhamento!I1898,0)","v":0},null,0,null,0,null,0,null,0]
[null,null,null,null,null,null,null,null,null,{"$f":"IF(H1899=Listas!$X$3,Acompanhamento!I1899,0)","v":0},{"$f":"IF(H1899=Listas!$X$4,Acompanhamento!I1899,0)","v":0},null,0,null,0,null,0,null,0]
[null,null,null,null,null,null,null,null,null,{"$f":"IF(H1900=Listas!$X$3,Acompanhamento!I1900,0)","v":0},{"$f":"IF(H1900=Listas!$X$4,Acompanhamento!I1900,0)","v":0},null,0,null,0,null,0,null,0]
[null,null,null,null,null,null,null,null,null,{"$f":"IF(H1901=Listas!$X$3,Acompanhamento!I1901,0)","v":0},{"$f":"IF(H1901=Listas!$X$4,Acompanhamento!I1901,0)","v":0},null,0,null,0,null,0,null,0]
[null,null,null,null,null,null,null,null,null,{"$f":"IF(H1902=Listas!$X$3,Acompanhamento!I1902,0)","v":0},{"$f":"IF(H1902=Listas!$X$4,Acompanhamento!I1902,0)","v":0},null,0,null,0,null,0,null,0]
[null,null,null,null,null,null,null,null,null,{"$f":"IF(H1903=Listas!$X$3,Acompanhamento!I1903,0)","v":0},{"$f":"IF(H1903=Listas!$X$4,Acompanhamento!I1903,0)","v":0},null,0,null,0,null,0,null,0]
[null,null,null,null,null,null,null,null,null,{"$f":"IF(H1904=Listas!$X$3,Acompanhamento!I1904,0)","v":0},{"$f":"IF(H1904=Listas!$X$4,Acompanhamento!I1904,0)","v":0},null,0,null,0,null,0,null,0]
[null,null,null,null,null,null,null,null,null,{"$f":"IF(H1905=Listas!$X$3,Acompanhamento!I1905,0)","v":0},{"$f":"IF(H1905=Listas!$X$4,Acompanhamento!I1905,0)","v":0},null,0,null,0,null,0,null,0]
[null,null,null,null,null,null,null,null,null,{"$f":"IF(H1906=Listas!$X$3,Acompanhamento!I1906,0)","v":0},{"$f":"IF(H1906=Listas!$X$4,Acompanhamento!I1906,0)","v":0},null,0,null,0,null,0,null,0]
[null,null,null,null,null,null,null,null,null,{"$f":"IF(H1907=Listas!$X$3,Acompanhamento!I1907,0)","v":0},{"$f":"IF(H1907=Listas!$X$4,Acompanhamento!I1907,0)","v":0},null,0,null,0,null,0,null,0]
[null,null,null,null,null,null,null,null,null,{"$f":"IF(H1908=Listas!$X$3,Acompanhamento!I1908,0)","v":0},{"$f":"IF(H1908=Listas!$X$4,Acompanhamento!I1908,0)","v":0},null,0,null,0,null,0,null,0]
[null,null,null,null,null,null,null,null,null,{"$f":"IF(H1909=Listas!$X$3,Acompanhamento!I1909,0)","v":0},{"$f":"IF(H1909=Listas!$X$4,Acompanhamento!I1909,0)","v":0},null,0,null,0,null,0,null,0]
[null,null,null,null,null,null,null,null,null,{"$f":"IF(H1910=Listas!$X$3,Acompanhamento!I1910,0)","v":0},{"$f":"IF(H1910=Listas!$X$4,Acompanhamento!I1910,0)","v":0},null,0,null,0,null,0,null,0]
[null,null,null,null,null,null,null,null,null,{"$f":"IF(H1911=Listas!$X$3,Acompanhamento!I1911,0)","v":0},{"$f":"IF(H1911=Listas!$X$4,Acompanhamento!I1911,0)","v":0},null,0,null,0,null,0,null,0]
[null,null,null,null,null,null,null,null,null,{"$f":"IF(H1912=Listas!$X$3,Acompanhamento!I1912,0)","v":0},{"$f":"IF(H1912=Listas!$X$4,Acompanhamento!I1912,0)","v":0},null,0,null,0,null,0,null,0]
[null,null,null,null,null,null,null,null,null,{"$f":"IF(H1913=Listas!$X$3,Acompanhamento!I1913,0)","v":0},{"$f":"IF(H1913=Listas!$X$4,Acompanhamento!I1913,0)","v":0},null,0,null,0,null,0,null,0]
[null,null,null,null,null,null,null,null,null,{"$f":"IF(H1914=Listas!$X$3,Acompanhamento!I1914,0)","v":0},{"$f":"IF(H1914=Listas!$X$4,Acompanhamento!I1914,0)","v":0},null,0,null,0,null,0,null,0]
[null,null,null,null,null,null,null,null,null,{"$f":"IF(H1915=Listas!$X$3,Acompanhamento!I1915,0)","v":0},{"$f":"IF(H1915=Listas!$X$4,Acompanhamento!I1915,0)","v":0},null,0,null,0,null,0,null,0]
[null,null,null,null,null,null,null,null,null,{"$f":"IF(H1916=Listas!$X$3,Acompanhamento!I1916,0)","v":0},{"$f":"IF(H1916=Listas!$X$4,Acompanhamento!I1916,0)","v":0},null,0,null,0,null,0,null,0]
[null,null,null,null,null,null,null,null,null,{"$f":"IF(H1917=Listas!$X$3,Acompanhamento!I1917,0)","v":0},{"$f":"IF(H1917=Listas!$X$4,Acompanhamento!I1917,0)","v":0},null,0,null,0,null,0,null,0]
[null,null,null,null,null,null,null,null,null,{"$f":"IF(H1918=Listas!$X$3,Acompanhamento!I1918,0)","v":0},{"$f":"IF(H1918=Listas!$X$4,Acompanhamento!I1918,0)","v":0},null,0,null,0,null,0,null,0]
[null,null,null,null,null,null,null,null,null,{"$f":"IF(H1919=Listas!$X$3,Acompanhamento!I1919,0)","v":0},{"$f":"IF(H1919=Listas!$X$4,Acompanhamento!I1919,0)","v":0},null,0,null,0,null,0,null,0]
[null,null,null,null,null,null,null,null,null,{"$f":"IF(H1920=Listas!$X$3,Acompanhamento!I1920,0)","v":0},{"$f":"IF(H1920=Listas!$X$4,Acompanhamento!I1920,0)","v":0},null,0,null,0,null,0,null,0]
[null,null,null,null,null,null,null,null,null,{"$f":"IF(H1921=Listas!$X$3,Acompanhamento!I1921,0)","v":0},{"$f":"IF(H1921=Listas!$X$4,Acompanhamento!I1921,0)","v":0},null,0,null,0,null,0,null,0]
[null,null,null,null,null,null,null,null,null,{"$f":"IF(H1922=Listas!$X$3,Acompanhamento!I1922,0)","v":0},{"$f":"IF(H1922=Listas!$X$4,Acompanhamento!I1922,0)","v":0},null,0,null,0,null,0,null,0]
[null,null,null,null,null,null,null,null,null,{"$f":"IF(H1923=Listas!$X$3,Acompanhamento!I1923,0)","v":0},{"$f":"IF(H1923=Listas!$X$4,Acompanhamento!I1923,0)","v":0},null,0,null,0,null,0,null,0]
[null,null,null,null,null,null,null,null,null,{"$f":"IF(H1924=Listas!$X$3,Acompanhamento!I1924,0)","v":0},{"$f":"IF(H1924=Listas!$X$4,Acompanhamento!I1924,0)","v":0},null,0,null,0,null,0,null,0]
[null,null,null,null,null,null,null,null,null,{"$f":"IF(H1925=Listas!$X$3,Acompanhamento!I1925,0)","v":0},{"$f":"IF(H1925=Listas!$X$4,Acompanhamento!I1925,0)","v":0},null,0,null,0,null,0,null,0]
[null,null,null,null,null,null,null,null,null,{"$f":"IF(H1926=Listas!$X$3,Acompanhamento!I1926,0)","v":0},{"$f":"IF(H1926=Listas!$X$4,Acompanhamento!I1926,0)","v":0},null,0,null,0,null,0,null,0]
[null,null,null,null,null,null,null,null,null,{"$f":"IF(H1927=Listas!$X$3,Acompanhamento!I1927,0)","v":0},{"$f":"IF(H1927=Listas!$X$4,Acompanhamento!I1927,0)","v":0},null,0,null,0,null,0,null,0]
[null,null,null,null,null,null,null,null,null,{"$f":"IF(H1928=Listas!$X$3,Acompanhamento!I1928,0)","v":0},{"$f":"IF(H1928=Listas!$X$4,Acompanhamento!I1928,0)","v":0},null,0,null,0,null,0,null,0]
[null,null,null,null,null,null,null,null,null,{"$f":"IF(H1929=Listas!$X$3,Acompanhamento!I1929,0)","v":0},{"$f":"IF(H1929=Listas!$X$4,Acompanhamento!I1929,0)","v":0},null,0,null,0,null,0,null,0]
[null,null,null,null,null,null,null,null,null,{"$f":"IF(H1930=Listas!$X$3,Acompanhamento!I1930,0)","v":0},{"$f":"IF(H1930=Listas!$X$4,Acompanhamento!I1930,0)","v":0},null,{"$f":"J1930-L1930","v":0},null,{"$f":"M1930-N1930","v":0},null,{"$f":"O1930-P1930","v":0},null,{"$f":"Q1930-R1930","v":0}]
[null,null,null,null,null,null,null,null,null,{"$f":"IF(H1931=Listas!$X$3,Acompanhamento!I1931,0)","v":0},{"$f":"IF(H1931=Listas!$X$4,Acompanhamento!I1931,0)","v":0},null,0,null,0,null,0,null,0]
[null,null,null,null,null,null,null,null,null,{"$f":"IF(H1932=Listas!$X$3,Acompanhamento!I1932,0)","v":0},{"$f":"IF(H1932=Listas!$X$4,Acompanhamento!I1932,0)","v":0},null,0,null,0,null,0,null,0]
[null,null,null,null,null,null,null,null,null,{"$f":"IF(H1933=Listas!$X$3,Acompanhamento!I1933,0)","v":0},{"$f":"IF(H1933=Listas!$X$4,Acompanhamento!I1933,0)","v":0},null,0,null,0,null,0,null,0]
[null,null,null,null,null,null,null,null,null,{"$f":"IF(H1934=Listas!$X$3,Acompanhamento!I1934,0)","v":0},{"$f":"IF(H1934=Listas!$X$4,Acompanhamento!I1934,0)","v":0},null,0,null,0,null,0,null,0]
[null,null,null,null,null,null,null,null,null,{"$f":"IF(H1935=Listas!$X$3,Acompanhamento!I1935,0)","v":0},{"$f":"IF(H1935=Listas!$X$4,Acompanhamento!I1935,0)","v":0},null,0,null,0,null,0,null,0]
[null,null,null,null,null,null,null,null,null,{"$f":"IF(H1936=Listas!$X$3,Acompanhamento!I1936,0)","v":0},{"$f":"IF(H1936=Listas!$X$4,Acompanhamento!I1936,0)","v":0},null,0,null,0,null,0,null,0]
[null,null,null,null,null,null,null,null,null,{"$f":"IF(H1937=Listas!$X$3,Acompanhamento!I1937,0)","v":0},{"$f":"IF(H1937=Listas!$X$4,Acompanhamento!I1937,0)","v":0},null,0,null,0,null,0,null,0]
[null,null,null,null,null,null,null,null,null,{"$f":"IF(H1938=Listas!$X$3,Acompanhamento!I1938,0)","v":0},{"$f":"IF(H1938=Listas!$X$4,Acompanhamento!I1938,0)","v":0},null,0,null,0,null,0,null,0]
[null,null,null,null,null,null,null,null,null,{"$f":"IF(H1939=Listas!$X$3,Acompanhamento!I1939,0)","v":0},{"$f":"IF(H1939=Listas!$X$4,Acompanhamento!I1939,0)","v":0},null,0,null,0,null,0,null,0]
[null,null,null,null,null,null,null,null,null,{"$f":"IF(H1940=Listas!$X$3,Acompanhamento!I1940,0)","v":0},{"$f":"IF(H1940=Listas!$X$4,Acompanhamento!I1940,0)","v":0},null,0,null,0,null,0,null,0]
[null,null,null,null,null,null,null,null,null,{"$f":"IF(H1941=Listas!$X$3,Acompanhamento!I1941,0)","v":0},{"$f":"IF(H1941=Listas!$X$4,Acompanhamento!I1941,0)","v":0},null,0,null,0,null,0,null,0]
[null,null,null,null,null,null,null,null,null,{"$f":"IF(H1942=Listas!$X$3,Acompanhamento!I1942,0)","v":0},{"$f":"IF(H1942=Listas!$X$4,Acompanhamento!I1942,0)","v":0},null,0,null,0,null,0,null,0]
[null,null,null,null,null,null,null,null,null,{"$f":"IF(H1943=Listas!$X$3,Acompanhamento!I1943,0)","v":0},{"$f":"IF(H1943=Listas!$X$4,Acompanhamento!I1943,0)","v":0},null,0,null,0,null,0,null,0]
[null,null,null,null,null,null,null,null,null,{"$f":"IF(H1944=Listas!$X$3,Acompanhamento!I1944,0)","v":0},{"$f":"IF(H1944=Listas!$X$4,Acompanhamento!I1944,0)","v":0},null,0,null,0,null,0,null,0]
[null,null,null,null,null,null,null,null,null,{"$f":"IF(H1945=Listas!$X$3,Acompanhamento!I1945,0)","v":0},{"$f":"IF(H1945=Listas!$X$4,Acompanhamento!I1945,0)","v":0},null,0,null,0,null,0,null,0]
[null,null,null,null,null,null,null,null,null,{"$f":"IF(H1946=Listas!$X$3,Acompanhamento!I1946,0)","v":0},{"$f":"IF(H1946=Listas!$X$4,Acompanhamento!I1946,0)","v":0},null,0,null,0,null,0,null,0]
[null,null,null,null,null,null,null,null,null,{"$f":"IF(H1947=Listas!$X$3,Acompanhamento!I1947,0)","v":0},{"$f":"IF(H1947=Listas!$X$4,Acompanhamento!I1947,0)","v":0},null,0,null,0,null,0,null,0]
[null,null,null,null,null,null,null,null,null,{"$f":"IF(H1948=Listas!$X$3,Acompanhamento!I1948,0)","v":0},{"$f":"IF(H1948=Listas!$X$4,Acompanhamento!I1948,0)","v":0},null,0,null,0,null,0,null,0]
[null,null,null,null,null,null,null,null,null,{"$f":"IF(H1949=Listas!$X$3,Acompanhamento!I1949,0)","v":0},{"$f":"IF(H1949=Listas!$X$4,Acompanhamento!I1949,0)","v":0},null,0,null,0,null,0,null,0]
[null,null,null,null,null,null,null,null,null,{"$f":"IF(H1950=Listas!$X$3,Acompanhamento!I1950,0)","v":0},{"$f":"IF(H1950=Listas!$X$4,Acompanhamento!I1950,0)","v":0},null,0,null,0,null,0,null,0]
[null,null,null,null,null,null,null,null,null,{"$f":"IF(H1951=Listas!$X$3,Acompanhamento!I1951,0)","v":0},{"$f":"IF(H1951=Listas!$X$4,Acompanhamento!I1951,0)","v":0},null,0,null,0,null,0,null,0]
[null,null,null,null,null,null,null,null,null,{"$f":"IF(H1952=Listas!$X$3,Acompanhamento!I1952,0)","v":0},{"$f":"IF(H1952=Listas!$X$4,Acompanhamento!I1952,0)","v":0},null,0,null,0,null,0,null,0]
[null,null,null,null,null,null,null,null,null,{"$f":"IF(H1953=Listas!$X$3,Acompanhamento!I1953,0)","v":0},{"$f":"IF(H1953=Listas!$X$4,Acompanhamento!I1953,0)","v":0},null,0,null,0,null,0,null,0]
[null,null,null,null,null,null,null,null,null,{"$f":"IF(H1954=Listas!$X$3,Acompanhamento!I1954,0)","v":0},{"$f":"IF(H1954=Listas!$X$4,Acompanhamento!I1954,0)","v":0},null,0,null,0,null,0,null,0]
[null,null,null,null,null,null,null,null,null,{"$f":"IF(H1955=Listas!$X$3,Acompanhamento!I1955,0)","v":0},{"$f":"IF(H1955=Listas!$X$4,Acompanhamento!I1955,0)","v":0},null,0,null,0,null,0,null,0]
[null,null,null,null,null,null,null,null,null,{"$f":"IF(H1956=Listas!$X$3,Acompanhamento!I1956,0)","v":0},{"$f":"IF(H1956=Listas!$X$4,Acompanhamento!I1956,0)","v":0},null,0,null,0,null,0,null,0]
[null,null,null,null,null,null,null,null,null,{"$f":"IF(H1957=Listas!$X$3,Acompanhamento!I1957,0)","v":0},{"$f":"IF(H1957=Listas!$X$4,Acompanhamento!I1957,0)","v":0},null,0,null,0,null,0,null,0]
[null,null,null,null,null,null,null,null,null,{"$f":"IF(H1958=Listas!$X$3,Acompanhamento!I1958,0)","v":0},{"$f":"IF(H1958=Listas!$X$4,Acompanhamento!I1958,0)","v":0},null,0,null,0,null,0,null,0]
[null,null,null,null,null,null,null,null,null,{"$f":"IF(H1959=Listas!$X$3,Acompanhamento!I1959,0)","v":0},{"$f":"IF(H1959=Listas!$X$4,Acompanhamento!I1959,0)","v":0},null,0,null,0,null,0,null,0]
[null,null,null,null,null,null,null,null,null,{"$f":"IF(H1960=Listas!$X$3,Acompanhamento!I1960,0)","v":0},{"$f":"IF(H1960=Listas!$X$4,Acompanhamento!I1960,0)","v":0},null,0,null,0,null,0,null,0]
[null,null,null,null,null,null,null,null,null,{"$f":"IF(H1961=Listas!$X$3,Acompanhamento!I1961,0)","v":0},{"$f":"IF(H1961=Listas!$X$4,Acompanhamento!I1961,0)","v":0},null,0,null,0,null,0,null,0]
[null,null,null,null,null,null,null,null,null,{"$f":"IF(H1962=Listas!$X$3,Acompanhamento!I1962,0)","v":0},{"$f":"IF(H1962=Listas!$X$4,Acompanhamento!I1962,0)","v":0},null,0,null,0,null,0,null,0]
[null,null,null,null,null,null,null,null,null,{"$f":"IF(H1963=Listas!$X$3,Acompanhamento!I1963,0)","v":0},{"$f":"IF(H1963=Listas!$X$4,Acompanhamento!I1963,0)","v":0},null,0,null,0,null,0,null,0]
[null,null,null,null,null,null,null,null,null,{"$f":"IF(H1964=Listas!$X$3,Acompanhamento!I1964,0)","v":0},{"$f":"IF(H1964=Listas!$X$4,Acompanhamento!I1964,0)","v":0},null,0,null,0,null,0,null,0]
[null,null,null,null,null,null,null,null,null,{"$f":"IF(H1965=Listas!$X$3,Acompanhamento!I1965,0)","v":0},{"$f":"IF(H1965=Listas!$X$4,Acompanhamento!I1965,0)","v":0},null,0,null,0,null,0,null,0]
[null,null,null,null,null,null,null,null,null,{"$f":"IF(H1966=Listas!$X$3,Acompanhamento!I1966,0)","v":0},{"$f":"IF(H1966=Listas!$X$4,Acompanhamento!I1966,0)","v":0},null,0,null,0,null,0,null,0]
[null,null,null,null,null,null,null,null,null,{"$f":"IF(H1967=Listas!$X$3,Acompanhamento!I1967,0)","v":0},{"$f":"IF(H1967=Listas!$X$4,Acompanhamento!I1967,0)","v":0},null,0,null,0,null,0,null,0]
[null,null,null,null,null,null,null,null,null,{"$f":"IF(H1968=Listas!$X$3,Acompanhamento!I1968,0)","v":0},{"$f":"IF(H1968=Listas!$X$4,Acompanhamento!I1968,0)","v":0},null,0,null,0,null,0,null,0]
[null,null,null,null,null,null,null,null,null,{"$f":"IF(H1969=Listas!$X$3,Acompanhamento!I1969,0)","v":0},{"$f":"IF(H1969=Listas!$X$4,Acompanhamento!I1969,0)","v":0},null,0,null,0,null,0,null,0]
[null,null,null,null,null,null,null,null,null,{"$f":"IF(H1970=Listas!$X$3,Acompanhamento!I1970,0)","v":0},{"$f":"IF(H1970=Listas!$X$4,Acompanhamento!I1970,0)","v":0},null,0,null,0,null,0,null,0]
[null,null,null,null,null,null,null,null,null,{"$f":"IF(H1971=Listas!$X$3,Acompanhamento!I1971,0)","v":0},{"$f":"IF(H1971=Listas!$X$4,Acompanhamento!I1971,0)","v":0},null,0,null,0,null,0,null,0]
[null,null,null,null,null,null,null,null,null,{"$f":"IF(H1972=Listas!$X$3,Acompanhamento!I1972,0)","v":0},{"$f":"IF(H1972=Listas!$X$4,Acompanhamento!I1972,0)","v":0},null,0,null,0,null,0,null,0]
[null,null,null,null,null,null,null,null,null,{"$f":"IF(H1973=Listas!$X$3,Acompanhamento!I1973,0)","v":0},{"$f":"IF(H1973=Listas!$X$4,Acompanhamento!I1973,0)","v":0},null,0,null,0,null,0,null,0]
[null,null,null,null,null,null,null,null,null,{"$f":"IF(H1974=Listas!$X$3,Acompanhamento!I1974,0)","v":0},{"$f":"IF(H1974=Listas!$X$4,Acompanhamento!I1974,0)","v":0},null,0,null,0,null,0,null,0]
[null,null,null,null,null,null,null,null,null,{"$f":"IF(H1975=Listas!$X$3,Acompanhamento!I1975,0)","v":0},{"$f":"IF(H1975=Listas!$X$4,Acompanhamento!I1975,0)","v":0},null,0,null,0,null,0,null,0]
[null,null,null,null,null,null,null,null,null,{"$f":"IF(H1976=Listas!$X$3,Acompanhamento!I1976,0)","v":0},{"$f":"IF(H1976=Listas!$X$4,Acompanhamento!I1976,0)","v":0},null,0,null,0,null,0,null,0]
[null,null,null,null,null,null,null,null,null,{"$f":"IF(H1977=Listas!$X$3,Acompanhamento!I1977,0)","v":0},{"$f":"IF(H1977=Listas!$X$4,Acompanhamento!I1977,0)","v":0},null,0,null,0,null,0,null,0]
[null,null,null,null,null,null,null,null,null,{"$f":"IF(H1978=Listas!$X$3,Acompanhamento!I1978,0)","v":0},{"$f":"IF(H1978=Listas!$X$4,Acompanhamento!I1978,0)","v":0},null,0,null,0,null,0,null,0]
[null,null,null,null,null,null,null,null,null,{"$f":"IF(H1979=Listas!$X$3,Acompanhamento!I1979,0)","v":0},{"$f":"IF(H1979=Listas!$X$4,Acompanhamento!I1979,0)","v":0},null,0,null,0,null,0,null,0]
[null,null,null,null,null,null,null,null,null,{"$f":"IF(H1980=Listas!$X$3,Acompanhamento!I1980,0)","v":0},{"$f":"IF(H1980=Listas!$X$4,Acompanhamento!I1980,0)","v":0},null,0,null,0,null,0,null,0]
[null,null,null,null,null,null,null,null,null,{"$f":"IF(H1981=Listas!$X$3,Acompanhamento!I1981,0)","v":0},{"$f":"IF(H1981=Listas!$X$4,Acompanhamento!I1981,0)","v":0},null,0,null,0,null,0,null,0]
[null,null,null,null,null,null,null,null,null,{"$f":"IF(H1982=Listas!$X$3,Acompanhamento!I1982,0)","v":0},{"$f":"IF(H1982=Listas!$X$4,Acompanhamento!I1982,0)","v":0},null,0,null,0,null,0,null,0]
[null,null,null,null,null,null,null,null,null,{"$f":"IF(H1983=Listas!$X$3,Acompanhamento!I1983,0)","v":0},{"$f":"IF(H1983=Listas!$X$4,Acompanhamento!I1983,0)","v":0},null,0,null,0,null,0,null,0]
[null,null,null,null,null,null,null,null,null,{"$f":"IF(H1984=Listas!$X$3,Acompanhamento!I1984,0)","v":0},{"$f":"IF(H1984=Listas!$X$4,Acompanhamento!I1984,0)","v":0},null,0,null,0,null,0,null,0]
[null,null,null,null,null,null,null,null,null,{"$f":"IF(H1985=Listas!$X$3,Acompanhamento!I1985,0)","v":0},{"$f":"IF(H1985=Listas!$X$4,Acompanhamento!I1985,0)","v":0},null,0,null,0,null,0,null,0]
[null,null,null,null,null,null,null,null,null,{"$f":"IF(H1986=Listas!$X$3,Acompanhamento!I1986,0)","v":0},{"$f":"IF(H1986=Listas!$X$4,Acompanhamento!I1986,0)","v":0},null,0,null,0,null,0,null,0]
[null,null,null,null,null,null,null,null,null,{"$f":"IF(H1987=Listas!$X$3,Acompanhamento!I1987,0)","v":0},{"$f":"IF(H1987=Listas!$X$4,Acompanhamento!I1987,0)","v":0},null,0,null,0,null,0,null,0]
[null,null,null,null,null,null,null,null,null,{"$f":"IF(H1988=Listas!$X$3,Acompanhamento!I1988,0)","v":0},{"$f":"IF(H1988=Listas!$X$4,Acompanhamento!I1988,0)","v":0},null,0,null,0,null,0,null,0]
[null,null,null,null,null,null,null,null,null,{"$f":"IF(H1989=Listas!$X$3,Acompanhamento!I1989,0)","v":0},{"$f":"IF(H1989=Listas!$X$4,Acompanhamento!I1989,0)","v":0},null,0,null,0,null,0,null,0]
[null,null,null,null,null,null,null,null,null,{"$f":"IF(H1990=Listas!$X$3,Acompanhamento!I1990,0)","v":0},{"$f":"IF(H1990=Listas!$X$4,Acompanhamento!I1990,0)","v":0},null,0,null,0,null,0,null,0]
[null,null,null,null,null,null,null,null,null,{"$f":"IF(H1991=Listas!$X$3,Acompanhamento!I1991,0)","v":0},{"$f":"IF(H1991=Listas!$X$4,Acompanhamento!I1991,0)","v":0},null,0,null,0,null,0,null,0]
[null,null,null,null,null,null,null,null,null,{"$f":"IF(H1992=Listas!$X$3,Acompanhamento!I1992,0)","v":0},{"$f":"IF(H1992=Listas!$X$4,Acompanhamento!I1992,0)","v":0},null,0,null,0,null,0,null,0]
[null,null,null,null,null,null,null,null,null,{"$f":"IF(H1993=Listas!$X$3,Acompanhamento!I1993,0)","v":0},{"$f":"IF(H1993=Listas!$X$4,Acompanhamento!I1993,0)","v":0},null,0,null,0,null,0,null,0]
[null,null,null,null,null,null,null,null,null,{"$f":"IF(H1994=Listas!$X$3,Acompanhamento!I1994,0)","v":0},{"$f":"IF(H1994=Listas!$X$4,Acompanhamento!I1994,0)","v":0},null,{"$f":"J1994-L1994","v":0},null,{"$f":"M1994-N1994","v":0},null,{"$f":"O1994-P1994","v":0},null,{"$f":"Q1994-R1994","v":0}]
[null,null,null,null,null,null,null,null,null,{"$f":"IF(H1995=Listas!$X$3,Acompanhamento!I1995,0)","v":0},{"$f":"IF(H1995=Listas!$X$4,Acompanhamento!I1995,0)","v":0},null,0,null,0,null,0,null,0]
[null,null,null,null,null,null,null,null,null,{"$f":"IF(H1996=Listas!$X$3,Acompanhamento!I1996,0)","v":0},{"$f":"IF(H1996=Listas!$X$4,Acompanhamento!I1996,0)","v":0},null,0,null,0,null,0,null,0]
[null,null,null,null,null,null,null,null,null,{"$f":"IF(H1997=Listas!$X$3,Acompanhamento!I1997,0)","v":0},{"$f":"IF(H1997=Listas!$X$4,Acompanhamento!I1997,0)","v":0},null,0,null,0,null,0,null,0]
[null,null,null,null,null,null,null,null,null,{"$f":"IF(H1998=Listas!$X$3,Acompanhamento!I1998,0)","v":0},{"$f":"IF(H1998=Listas!$X$4,Acompanhamento!I1998,0)","v":0},null,0,null,0,null,0,null,0]
[null,null,null,null,null,null,null,null,null,{"$f":"IF(H1999=Listas!$X$3,Acompanhamento!I1999,0)","v":0},{"$f":"IF(H1999=Listas!$X$4,Acompanhamento!I1999,0)","v":0},null,0,null,0,null,0,null,0]
[null,null,null,null,null,null,null,null,null,{"$f":"IF(H2000=Listas!$X$3,Acompanhamento!I2000,0)","v":0},{"$f":"IF(H2000=Listas!$X$4,Acompanhamento!I2000,0)","v":0},null,0,null,0,null,0,null,0]
[null,null,null,null,null,null,null,null,null,{"$f":"IF(H2001=Listas!$X$3,Acompanhamento!I2001,0)","v":0},{"$f":"IF(H2001=Listas!$X$4,Acompanhamento!I2001,0)","v":0},null,0,null,0,null,0,null,0]
[null,null,null,null,null,null,null,null,null,{"$f":"IF(H2005=Listas!$X$3,Acompanhamento!I2005,0)","v":0},{"$f":"IF(H2005=Listas!$X$4,Acompanhamento!I2005,0)","v":0},null,0,null,0,null,0,null,0]
[null,null,null,null,null,null,null,null,null,{"$f":"IF(H2008=Listas!$X$3,Acompanhamento!I2008,0)","v":0},{"$f":"IF(H2008=Listas!$X$4,Acompanhamento!I2008,0)","v":0},null,0,null,0,null,0,null,0]
[null,null,null,null,null,null,null,null,null,{"$f":"IF(H2012=Listas!$X$3,Acompanhamento!I2012,0)","v":0},{"$f":"IF(H2012=Listas!$X$4,Acompanhamento!I2012,0)","v":0},null,0,null,0,null,0,null,0]
[null,null,null,null,null,null,null,null,null,{"$f":"IF(H2014=Listas!$X$3,Acompanhamento!I2014,0)","v":0},{"$f":"IF(H2014=Listas!$X$4,Acompanhamento!I2014,0)","v":0},null,0,null,0,null,0,null,0]
[null,null,null,null,null,null,null,null,null,{"$f":"IF(H2019=Listas!$X$3,Acompanhamento!I2019,0)","v":0},{"$f":"IF(H2019=Listas!$X$4,Acompanhamento!I2019,0)","v":0},null,0,null,0,null,0,null,0]
[null,null,null,null,null,null,null,null,null,{"$f":"IF(H2020=Listas!$X$3,Acompanhamento!I2020,0)","v":0},{"$f":"IF(H2020=Listas!$X$4,Acompanhamento!I2020,0)","v":0},null,0,null,0,null,0,null,0]
[null,null,null,null,null,null,null,null,null,{"$f":"IF(H2023=Listas!$X$3,Acompanhamento!I2023,0)","v":0},{"$f":"IF(H2023=Listas!$X$4,Acompanhamento!I2023,0)","v":0},null,0,null,0,null,0,null,0]
[null,null,null,null,null,null,null,null,null,{"$f":"IF(H2027=Listas!$X$3,Acompanhamento!I2027,0)","v":0},{"$f":"IF(H2027=Listas!$X$4,Acompanhamento!I2027,0)","v":0},null,0,null,0,null,0,null,0]
[null,null,null,null,null,null,null,null,null,{"$f":"IF(H2031=Listas!$X$3,Acompanhamento!I2031,0)","v":0},{"$f":"IF(H2031=Listas!$X$4,Acompanhamento!I2031,0)","v":0},null,0,null,0,null,0,null,0]
[null,null,null,null,null,null,null,null,null,{"$f":"IF(H2034=Listas!$X$3,Acompanhamento!I2034,0)","v":0},{"$f":"IF(H2034=Listas!$X$4,Acompanhamento!I2034,0)","v":0},null,0,null,0,null,0,null,0]
[null,null,null,null,null,null,null,null,null,{"$f":"IF(H2038=Listas!$X$3,Acompanhamento!I2038,0)","v":0},{"$f":"IF(H2038=Listas!$X$4,Acompanhamento!I2038,0)","v":0},null,0,null,0,null,0,null,0]
[null,null,null,null,null,null,null,null,null,{"$f":"IF(H2040=Listas!$X$3,Acompanhamento!I2040,0)","v":0},{"$f":"IF(H2040=Listas!$X$4,Acompanhamento!I2040,0)","v":0},null,0,null,0,null,0,null,0]
[null,null,null,null,null,null,null,null,null,{"$f":"IF(H2045=Listas!$X$3,Acompanhamento!I2045,0)","v":0},{"$f":"IF(H2045=Listas!$X$4,Acompanhamento!I2045,0)","v":0},null,0,null,0,null,0,null,0]
[null,null,null,null,null,null,null,null,null,{"$f":"IF(H2046=Listas!$X$3,Acompanhamento!I2046,0)","v":0},{"$f":"IF(H2046=Listas!$X$4,Acompanhamento!I2046,0)","v":0},null,0,null,0,null,0,null,0]
[null,null,null,null,null,null,null,null,null,{"$f":"IF(H2049=Listas!$X$3,Acompanhamento!I2049,0)","v":0},{"$f":"IF(H2049=Listas!$X$4,Acompanhamento!I2049,0)","v":0},null,0,null,0,null,0,null,0]
[null,null,null,null,null,null,null,null,null,{"$f":"IF(H2053=Listas!$X$3,Acompanhamento!I2053,0)","v":0},{"$f":"IF(H2053=Listas!$X$4,Acompanhamento!I2053,0)","v":0},null,0,null,0,null,0,null,0]
[null,null,null,null,null,null,null,null,null,{"$f":"IF(H2057=Listas!$X$3,Acompanhamento!I2057,0)","v":0},{"$f":"IF(H2057=Listas!$X$4,Acompanhamento!I2057,0)","v":0},null,0,null,0,null,0,null,0]
[null,null,null,null,null,null,null,null,null,{"$f":"IF(H2060=Listas!$X$3,Acompanhamento!I2060,0)","v":0},{"$f":"IF(H2060=Listas!$X$4,Acompanhamento!I2060,0)","v":0},null,0,null,0,null,0,null,0]
[null,null,null,null,null,null,null,null,null,{"$f":"IF(H2064=Listas!$X$3,Acompanhamento!I2064,0)","v":0},{"$f":"IF(H2064=Listas!$X$4,Acompanhamento!I2064,0)","v":0},null,0,null,0,null,0,null,0]
[null,null,null,null,null,null,null,null,null,{"$f":"IF(H2066=Listas!$X$3,Acompanhamento!I2066,0)","v":0},{"$f":"IF(H2066=Listas!$X$4,Acompanhamento!I2066,0)","v":0},null,0,null,0,null,0,null,0]
[null,null,null,null,null,null,null,null,null,{"$f":"IF(H2069=Listas!$X$3,Acompanhamento!I2069,0)","v":0},{"$f":"IF(H2069=Listas!$X$4,Acompanhamento!I2069,0)","v":0},null,0,null,0,null,0,null,0]
[null,null,null,null,null,null,null,null,null,{"$f":"IF(H2072=Listas!$X$3,Acompanhamento!I2072,0)","v":0},{"$f":"IF(H2072=Listas!$X$4,Acompanhamento!I2072,0)","v":0},null,0,null,0,null,0,null,0]
[null,null,null,null,null,null,null,null,null,{"$f":"IF(H2075=Listas!$X$3,Acompanhamento!I2075,0)","v":0},{"$f":"IF(H2075=Listas!$X$4,Acompanhamento!I2075,0)","v":0},null,0,null,0,null,0,null,0]
[null,null,null,null,null,null,null,null,null,{"$f":"IF(H2079=Listas!$X$3,Acompanhamento!I2079,0)","v":0},{"$f":"IF(H2079=Listas!$X$4,Acompanhamento!I2079,0)","v":0},null,0,null,0,null,0,null,0]
[null,null,null,null,null,null,null,null,null,{"$f":"IF(H2083=Listas!$X$3,Acompanhamento!I2083,0)","v":0},{"$f":"IF(H2083=Listas!$X$4,Acompanhamento!I2083,0)","v":0},null,0,null,0,null,0,null,0]
[null,null,null,null,null,null,null,null,null,{"$f":"IF(H2086=Listas!$X$3,Acompanhamento!I2086,0)","v":0},{"$f":"IF(H2086=Listas!$X$4,Acompanhamento!I2086,0)","v":0},null,0,null,0,null,0,null,0]
[null,null,null,null,null,null,null,null,null,{"$f":"IF(H2090=Listas!$X$3,Acompanhamento!I2090,0)","v":0},{"$f":"IF(H2090=Listas!$X$4,Acompanhamento!I2090,0)","v":0},null,0,null,0,null,0,null,0]
[null,null,null,null,null,null,null,null,null,{"$f":"IF(H2092=Listas!$X$3,Acompanhamento!I2092,0)","v":0},{"$f":"IF(H2092=Listas!$X$4,Acompanhamento!I2092,0)","v":0},null,0,null,0,null,0,null,0]
[null,null,null,null,null,null,null,null,null,{"$f":"IF(H2095=Listas!$X$3,Acompanhamento!I2095,0)","v":0},{"$f":"IF(H2095=Listas!$X$4,Acompanhamento!I2095,0)","v":0},null,0,null,0,null,0,null,0]
[null,null,null,null,null,null,null,null,null,{"$f":"IF(H2098=Listas!$X$3,Acompanhamento!I2098,0)","v":0},{"$f":"IF(H2098=Listas!$X$4,Acompanhamento!I2098,0)","v":0},null,0,null,0,null,0,null,0]
[null,null,null,null,null,null,null,null,null,{"$f":"IF(H2101=Listas!$X$3,Acompanhamento!I2101,0)","v":0},{"$f":"IF(H2101=Listas!$X$4,Acompanhamento!I2101,0)","v":0},null,0,null,0,null,0,null,0]
[null,null,null,null,null,null,null,null,null,{"$f":"IF(H2105=Listas!$X$3,Acompanhamento!I2105,0)","v":0},{"$f":"IF(H2105=Listas!$X$4,Acompanhamento!I2105,0)","v":0},null,0,null,0,null,0,null,0]
[null,null,null,null,null,null,null,null,null,{"$f":"IF(H2109=Listas!$X$3,Acompanhamento!I2109,0)","v":0},{"$f":"IF(H2109=Listas!$X$4,Acompanhamento!I2109,0)","v":0},null,0,null,0,null,0,null,0]
[null,null,null,null,null,null,null,null,null,{"$f":"IF(H2112=Listas!$X$3,Acompanhamento!I2112,0)","v":0},{"$f":"IF(H2112=Listas!$X$4,Acompanhamento!I2112,0)","v":0},null,0,null,0,null,0,null,0]
[null,null,null,null,null,null,null,null,null,{"$f":"IF(H2116=Listas!$X$3,Acompanhamento!I2116,0)","v":0},{"$f":"IF(H2116=Listas!$X$4,Acompanhamento!I2116,0)","v":0},null,0,null,0,null,0,null,0]
[null,null,null,null,null,null,null,null,null,{"$f":"IF(H2118=Listas!$X$3,Acompanhamento!I2118,0)","v":0},{"$f":"IF(H2118=Listas!$X$4,Acompanhamento!I2118,0)","v":0},null,0,null,0,null,0,null,0]
[null,null,null,null,null,null,null,null,null,{"$f":"IF(H2121=Listas!$X$3,Acompanhamento!I2121,0)","v":0},{"$f":"IF(H2121=Listas!$X$4,Acompanhamento!I2121,0)","v":0},null,0,null,0,null,0,null,0]
[null,null,null,null,null,null,null,null,null,{"$f":"IF(H2124=Listas!$X$3,Acompanhamento!I2124,0)","v":0},{"$f":"IF(H2124=Listas!$X$4,Acompanhamento!I2124,0)","v":0},null,0,null,0,null,0,null,0]
[null,null,null,null,null,null,null,null,null,{"$f":"IF(H2127=Listas!$X$3,Acompanhamento!I2127,0)","v":0},{"$f":"IF(H2127=Listas!$X$4,Acompanhamento!I2127,0)","v":0},null,0,null,0,null,0,null,0]
[null,null,null,null,null,null,null,null,null,{"$f":"IF(H2131=Listas!$X$3,Acompanhamento!I2131,0)","v":0},{"$f":"IF(H2131=Listas!$X$4,Acompanhamento!I2131,0)","v":0},null,0,null,0,null,0,null,0]
[null,null,null,null,null,null,null,null,null,{"$f":"IF(H2135=Listas!$X$3,Acompanhamento!I2135,0)","v":0},{"$f":"IF(H2135=Listas!$X$4,Acompanhamento!I2135,0)","v":0},null,0,null,0,null,0,null,0]
[null,null,null,null,null,null,null,null,null,{"$f":"IF(H2139=Listas!$X$3,Acompanhamento!I2139,0)","v":0},{"$f":"IF(H2139=Listas!$X$4,Acompanhamento!I2139,0)","v":0},null,0,null,0,null,0,null,0]
[null,null,null,null,null,null,null,null,null,{"$f":"IF(H2142=Listas!$X$3,Acompanhamento!I2142,0)","v":0},{"$f":"IF(H2142=Listas!$X$4,Acompanhamento!I2142,0)","v":0},null,0,null,0,null,0,null,0]
[null,null,null,null,null,null,null,null,null,{"$f":"IF(H2144=Listas!$X$3,Acompanhamento!I2144,0)","v":0},{"$f":"IF(H2144=Listas!$X$4,Acompanhamento!I2144,0)","v":0},null,0,null,0,null,0,null,0]
[null,null,null,null,null,null,null,null,null,{"$f":"IF(H2147=Listas!$X$3,Acompanhamento!I2147,0)","v":0},{"$f":"IF(H2147=Listas!$X$4,Acompanhamento!I2147,0)","v":0},null,0,null,0,null,0,null,0]
[null,null,null,null,null,null,null,null,null,{"$f":"IF(H2150=Listas!$X$3,Acompanhamento!I2150,0)","v":0},{"$f":"IF(H2150=Listas!$X$4,Acompanhamento!I2150,0)","v":0},null,0,null,0,null,0,null,0]
[null,null,null,null,null,null,null,null,null,{"$f":"IF(H2153=Listas!$X$3,Acompanhamento!I2153,0)","v":0},{"$f":"IF(H2153=Listas!$X$4,Acompanhamento!I2153,0)","v":0},null,0,null,0,null,0,null,0]
[null,null,null,null,null,null,null,null,null,{"$f":"IF(H2157=Listas!$X$3,Acompanhamento!I2157,0)","v":0},{"$f":"IF(H2157=Listas!$X$4,Acompanhamento!I2157,0)","v":0},null,0,null,0,null,0,null,0]
[null,null,null,null,null,null,null,null,null,{"$f":"IF(H2161=Listas!$X$3,Acompanhamento!I2161,0)","v":0},{"$f":"IF(H2161=Listas!$X$4,Acompanhamento!I2161,0)","v":0},null,0,null,0,null,0,null,0]
[null,null,null,null,null,null,null,null,null,{"$f":"IF(H2165=Listas!$X$3,Acompanhamento!I2165,0)","v":0},{"$f":"IF(H2165=Listas!$X$4,Acompanhamento!I2165,0)","v":0},null,0,null,0,null,0,null,0]
[null,null,null,null,null,null,null,null,null,{"$f":"IF(H2168=Listas!$X$3,Acompanhamento!I2168,0)","v":0},{"$f":"IF(H2168=Listas!$X$4,Acompanhamento!I2168,0)","v":0},null,0,null,0,null,0,null,0]
[null,null,null,null,null,null,null,null,null,{"$f":"IF(H2170=Listas!$X$3,Acompanhamento!I2170,0)","v":0},{"$f":"IF(H2170=Listas!$X$4,Acompanhamento!I2170,0)","v":0},null,0,null,0,null,0,null,0]
[null,null,null,null,null,null,null,null,null,{"$f":"IF(H2173=Listas!$X$3,Acompanhamento!I2173,0)","v":0},{"$f":"IF(H2173=Listas!$X$4,Acompanhamento!I2173,0)","v":0},null,0,null,0,null,0,null,0]
[null,null,null,null,null,null,null,null,null,{"$f":"IF(H2176=Listas!$X$3,Acompanhamento!I2176,0)","v":0},{"$f":"IF(H2176=Listas!$X$4,Acompanhamento!I2176,0)","v":0},null,0,null,0,null,0,null,0]
[null,null,null,null,null,null,null,null,null,{"$f":"IF(H2180=Listas!$X$3,Acompanhamento!I2180,0)","v":0},{"$f":"IF(H2180=Listas!$X$4,Acompanhamento!I2180,0)","v":0},null,0,null,0,null,0,null,0]
[null,null,null,null,null,null,null,null,null,{"$f":"IF(H2183=Listas!$X$3,Acompanhamento!I2183,0)","v":0},{"$f":"IF(H2183=Listas!$X$4,Acompanhamento!I2183,0)","v":0},null,0,null,0,null,0,null,0]
[null,null,null,null,null,null,null,null,null,{"$f":"IF(H2187=Listas!$X$3,Acompanhamento!I2187,0)","v":0},{"$f":"IF(H2187=Listas!$X$4,Acompanhamento!I2187,0)","v":0},null,0,null,0,null,0,null,0]
[null,null,null,null,null,null,null,null,null,{"$f":"IF(H2191=Listas!$X$3,Acompanhamento!I2191,0)","v":0},{"$f":"IF(H2191=Listas!$X$4,Acompanhamento!I2191,0)","v":0},null,0,null,0,null,0,null,0]
[null,null,null,null,null,null,null,null,null,{"$f":"IF(H2194=Listas!$X$3,Acompanhamento!I2194,0)","v":0},{"$f":"IF(H2194=Listas!$X$4,Acompanhamento!I2194,0)","v":0},null,0,null,0,null,0,null,0]
[null,null,null,null,null,null,null,null,null,{"$f":"IF(H2196=Listas!$X$3,Acompanhamento!I2196,0)","v":0},{"$f":"IF(H2196=Listas!$X$4,Acompanhamento!I2196,0)","v":0},null,0,null,0,null,0,null,0]
[null,null,null,null,null,null,null,null,null,{"$f":"IF(H2199=Listas!$X$3,Acompanhamento!I2199,0)","v":0},{"$f":"IF(H2199=Listas!$X$4,Acompanhamento!I2199,0)","v":0},null,0,null,0,null,0,null,0]
[null,null,null,null,null,null,null,null,null,{"$f":"IF(H2202=Listas!$X$3,Acompanhamento!I2202,0)","v":0},{"$f":"IF(H2202=Listas!$X$4,Acompanhamento!I2202,0)","v":0},null,0,null,0,null,0,null,0]
[null,null,null,null,null,null,null,null,null,{"$f":"IF(H2206=Listas!$X$3,Acompanhamento!I2206,0)","v":0},{"$f":"IF(H2206=Listas!$X$4,Acompanhamento!I2206,0)","v":0},null,0,null,0,null,0,null,0]
[null,null,null,null,null,null,null,null,null,{"$f":"IF(H2209=Listas!$X$3,Acompanhamento!I2209,0)","v":0},{"$f":"IF(H2209=Listas!$X$4,Acompanhamento!I2209,0)","v":0},null,0,null,0,null,0,null,0]
[null,null,null,null,null,null,null,null,null,{"$f":"IF(H2213=Listas!$X$3,Acompanhamento!I2213,0)","v":0},{"$f":"IF(H2213=Listas!$X$4,Acompanhamento!I2213,0)","v":0},null,0,null,0,null,0,null,0]
[null,null,null,null,null,null,null,null,null,{"$f":"IF(H2217=Listas!$X$3,Acompanhamento!I2217,0)","v":0},{"$f":"IF(H2217=Listas!$X$4,Acompanhamento!I2217,0)","v":0},null,0,null,0,null,0,null,0]
[null,null,null,null,null,null,null,null,null,{"$f":"IF(H2220=Listas!$X$3,Acompanhamento!I2220,0)","v":0},{"$f":"IF(H2220=Listas!$X$4,Acompanhamento!I2220,0)","v":0},null,0,null,0,null,0,null,0]
[null,null,null,null,null,null,null,null,null,{"$f":"IF(H2222=Listas!$X$3,Acompanhamento!I2222,0)","v":0},{"$f":"IF(H2222=Listas!$X$4,Acompanhamento!I2222,0)","v":0},null,0,null,0,null,0,null,0]
[null,null,null,null,null,null,null,null,null,{"$f":"IF(H2225=Listas!$X$3,Acompanhamento!I2225,0)","v":0},{"$f":"IF(H2225=Listas!$X$4,Acompanhamento!I2225,0)","v":0},null,0,null,0,null,0,null,0]
[null,null,null,null,null,null,null,null,null,{"$f":"IF(H2228=Listas!$X$3,Acompanhamento!I2228,0)","v":0},{"$f":"IF(H2228=Listas!$X$4,Acompanhamento!I2228,0)","v":0},null,0,null,0,null,0,null,0]
[null,null,null,null,null,null,null,null,null,{"$f":"IF(H2232=Listas!$X$3,Acompanhamento!I2232,0)","v":0},{"$f":"IF(H2232=Listas!$X$4,Acompanhamento!I2232,0)","v":0},null,0,null,0,null,0,null,0]
[null,null,null,null,null,null,null,null,null,{"$f":"IF(H2235=Listas!$X$3,Acompanhamento!I2235,0)","v":0},{"$f":"IF(H2235=Listas!$X$4,Acompanhamento!I2235,0)","v":0},null,0,null,0,null,0,null,0]
[null,null,null,null,null,null,null,null,null,{"$f":"IF(H2239=Listas!$X$3,Acompanhamento!I2239,0)","v":0},{"$f":"IF(H2239=Listas!$X$4,Acompanhamento!I2239,0)","v":0},null,0,null,0,null,0,null,0]
[null,null,null,null,null,null,null,null,null,{"$f":"IF(H2243=Listas!$X$3,Acompanhamento!I2243,0)","v":0},{"$f":"IF(H2243=Listas!$X$4,Acompanhamento!I2243,0)","v":0},null,0,null,0,null,0,null,0]
[null,null,null,null,null,null,null,null,null,{"$f":"IF(H2246=Listas!$X$3,Acompanhamento!I2246,0)","v":0},{"$f":"IF(H2246=Listas!$X$4,Acompanhamento!I2246,0)","v":0},null,0,null,0,null,0,null,0]
[null,null,null,null,null,null,null,null,null,{"$f":"IF(H2248=Listas!$X$3,Acompanhamento!I2248,0)","v":0},{"$f":"IF(H2248=Listas!$X$4,Acompanhamento!I2248,0)","v":0},null,0,null,0,null,0,null,0]
[null,null,null,null,null,null,null,null,null,{"$f":"IF(H2251=Listas!$X$3,Acompanhamento!I2251,0)","v":0},{"$f":"IF(H2251=Listas!$X$4,Acompanhamento!I2251,0)","v":0},null,0,null,0,null,0,null,0]
[null,null,null,null,null,null,null,null,null,{"$f":"IF(H2254=Listas!$X$3,Acompanhamento!I2254,0)","v":0},{"$f":"IF(H2254=Listas!$X$4,Acompanhamento!I2254,0)","v":0},null,0,null,0,null,0,null,0]
[null,null,null,null,null,null,null,null,null,{"$f":"IF(H2258=Listas!$X$3,Acompanhamento!I2258,0)","v":0},{"$f":"IF(H2258=Listas!$X$4,Acompanhamento!I2258,0)","v":0},null,0,null,0,null,0,null,0]
[null,null,null,null,null,null,null,null,null,{"$f":"IF(H2261=Listas!$X$3,Acompanhamento!I2261,0)","v":0},{"$f":"IF(H2261=Listas!$X$4,Acompanhamento!I2261,0)","v":0},null,0,null,0,null,0,null,0]
[null,null,null,null,null,null,null,null,null,{"$f":"IF(H2265=Listas!$X$3,Acompanhamento!I2265,0)","v":0},{"$f":"IF(H2265=Listas!$X$4,Acompanhamento!I2265,0)","v":0},null,0,null,0,null,0,null,0]
[null,null,null,null,null,null,null,null,null,{"$f":"IF(H2269=Listas!$X$3,Acompanhamento!I2269,0)","v":0},{"$f":"IF(H2269=Listas!$X$4,Acompanhamento!I2269,0)","v":0},null,0,null,0,null,0,null,0]
[null,null,null,null,null,null,null,null,null,{"$f":"IF(H2272=Listas!$X$3,Acompanhamento!I2272,0)","v":0},{"$f":"IF(H2272=Listas!$X$4,Acompanhamento!I2272,0)","v":0},null,0,null,0,null,0,null,0]
[null,null,null,null,null,null,null,null,null,{"$f":"IF(H2274=Listas!$X$3,Acompanhamento!I2274,0)","v":0},{"$f":"IF(H2274=Listas!$X$4,Acompanhamento!I2274,0)","v":0},null,0,null,0,null,0,null,0]
[null,null,null,null,null,null,null,null,null,{"$f":"IF(H2277=Listas!$X$3,Acompanhamento!I2277,0)","v":0},{"$f":"IF(H2277=Listas!$X$4,Acompanhamento!I2277,0)","v":0},null,0,null,0,null,0,null,0]
[null,null,null,null,null,null,null,null,null,{"$f":"IF(H2280=Listas!$X$3,Acompanhamento!I2280,0)","v":0},{"$f":"IF(H2280=Listas!$X$4,Acompanhamento!I2280,0)","v":0},null,0,null,0,null,0,null,0]
[null,null,null,null,null,null,null,null,null,{"$f":"IF(H2284=Listas!$X$3,Acompanhamento!I2284,0)","v":0},{"$f":"IF(H2284=Listas!$X$4,Acompanhamento!I2284,0)","v":0},null,0,null,0,null,0,null,0]
[null,null,null,null,null,null,null,null,null,{"$f":"IF(H2287=Listas!$X$3,Acompanhamento!I2287,0)","v":0},{"$f":"IF(H2287=Listas!$X$4,Acompanhamento!I2287,0)","v":0},null,0,null,0,null,0,null,0]
[null,null,null,null,null,null,null,null,null,{"$f":"IF(H2291=Listas!$X$3,Acompanhamento!I2291,0)","v":0},{"$f":"IF(H2291=Listas!$X$4,Acompanhamento!I2291,0)","v":0},null,0,null,0,null,0,null,0]
[null,null,null,null,null,null,null,null,null,{"$f":"IF(H2295=Listas!$X$3,Acompanhamento!I2295,0)","v":0},{"$f":"IF(H2295=Listas!$X$4,Acompanhamento!I2295,0)","v":0},null,0,null,0,null,0,null,0]
[null,null,null,null,null,null,null,null,null,{"$f":"IF(H2298=Listas!$X$3,Acompanhamento!I2298,0)","v":0},{"$f":"IF(H2298=Listas!$X$4,Acompanhamento!I2298,0)","v":0},null,0,null,0,null,0,null,0]
[null,null,null,null,null,null,null,null,null,{"$f":"IF(H2300=Listas!$X$3,Acompanhamento!I2300,0)","v":0},{"$f":"IF(H2300=Listas!$X$4,Acompanhamento!I2300,0)","v":0},null,0,null,0,null,0,null,0]
[null,null,null,null,null,null,null,null,null,{"$f":"IF(H2303=Listas!$X$3,Acompanhamento!I2303,0)","v":0},{"$f":"IF(H2303=Listas!$X$4,Acompanhamento!I2303,0)","v":0},null,0,null,0,null,0,null,0]
[null,null,null,null,null,null,null,null,null,{"$f":"IF(H2306=Listas!$X$3,Acompanhamento!I2306,0)","v":0},{"$f":"IF(H2306=Listas!$X$4,Acompanhamento!I2306,0)","v":0},null,0,null,0,null,0,null,0]
[null,null,null,null,null,null,null,null,null,{"$f":"IF(H2310=Listas!$X$3,Acompanhamento!I2310,0)","v":0},{"$f":"IF(H2310=Listas!$X$4,Acompanhamento!I2310,0)","v":0},null,0,null,0,null,0,null,0]
[null,null,null,null,null,null,null,null,null,{"$f":"IF(H2313=Listas!$X$3,Acompanhamento!I2313,0)","v":0},{"$f":"IF(H2313=Listas!$X$4,Acompanhamento!I2313,0)","v":0},null,0,null,0,null,0,null,0]
[null,null,null,null,null,null,null,null,null,{"$f":"IF(H2318=Listas!$X$3,Acompanhamento!I2318,0)","v":0},{"$f":"IF(H2318=Listas!$X$4,Acompanhamento!I2318,0)","v":0},null,0,null,0,null,0,null,0]
[null,null,null,null,null,null,null,null,null,{"$f":"IF(H2321=Listas!$X$3,Acompanhamento!I2321,0)","v":0},{"$f":"IF(H2321=Listas!$X$4,Acompanhamento!I2321,0)","v":0},null,0,null,0,null,0,null,0]
[null,null,null,null,null,null,null,null,null,{"$f":"IF(H2324=Listas!$X$3,Acompanhamento!I2324,0)","v":0},{"$f":"IF(H2324=Listas!$X$4,Acompanhamento!I2324,0)","v":0},null,0,null,0,null,0,null,0]
[null,null,null,null,null,null,null,null,null,{"$f":"IF(H2326=Listas!$X$3,Acompanhamento!I2326,0)","v":0},{"$f":"IF(H2326=Listas!$X$4,Acompanhamento!I2326,0)","v":0},null,0,null,0,null,0,null,0]
[null,null,null,null,null,null,null,null,null,{"$f":"IF(H2329=Listas!$X$3,Acompanhamento!I2329,0)","v":0},{"$f":"IF(H2329=Listas!$X$4,Acompanhamento!I2329,0)","v":0},null,0,null,0,null,0,null,0]
[null,null,null,null,null,null,null,null,null,{"$f":"IF(H2332=Listas!$X$3,Acompanhamento!I2332,0)","v":0},{"$f":"IF(H2332=Listas!$X$4,Acompanhamento!I2332,0)","v":0},null,0,null,0,null,0,null,0]
[null,null,null,null,null,null,null,null,null,{"$f":"IF(H2336=Listas!$X$3,Acompanhamento!I2336,0)","v":0},{"$f":"IF(H2336=Listas!$X$4,Acompanhamento!I2336,0)","v":0},null,0,null,0,null,0,null,0]
[null,null,null,null,null,null,null,null,null,{"$f":"IF(H2339=Listas!$X$3,Acompanhamento!I2339,0)","v":0},{"$f":"IF(H2339=Listas!$X$4,Acompanhamento!I2339,0)","v":0},null,0,null,0,null,0,null,0]
[null,null,null,null,null,null,null,null,null,{"$f":"IF(H2344=Listas!$X$3,Acompanhamento!I2344,0)","v":0},{"$f":"IF(H2344=Listas!$X$4,Acompanhamento!I2344,0)","v":0},null,0,null,0,null,0,null,0]
[null,null,null,null,null,null,null,null,null,{"$f":"IF(H2347=Listas!$X$3,Acompanhamento!I2347,0)","v":0},{"$f":"IF(H2347=Listas!$X$4,Acompanhamento!I2347,0)","v":0},null,0,null,0,null,0,null,0]
[null,null,null,null,null,null,null,null,null,{"$f":"IF(H2350=Listas!$X$3,Acompanhamento!I2350,0)","v":0},{"$f":"IF(H2350=Listas!$X$4,Acompanhamento!I2350,0)","v":0},null,0,null,0,null,0,null,0]
[null,null,null,null,null,null,null,null,null,{"$f":"IF(H2352=Listas!$X$3,Acompanhamento!I2352,0)","v":0},{"$f":"IF(H2352=Listas!$X$4,Acompanhamento!I2352,0)","v":0},null,0,null,0,null,0,null,0]
[null,null,null,null,null,null,null,null,null,{"$f":"IF(H2355=Listas!$X$3,Acompanhamento!I2355,0)","v":0},{"$f":"IF(H2355=Listas!$X$4,Acompanhamento!I2355,0)","v":0},null,0,null,0,null,0,null,0]
[null,null,null,null,null,null,null,null,null,{"$f":"IF(H2359=Listas!$X$3,Acompanhamento!I2359,0)","v":0},{"$f":"IF(H2359=Listas!$X$4,Acompanhamento!I2359,0)","v":0},null,0,null,0,null,0,null,0]
[null,null,null,null,null,null,null,null,null,{"$f":"IF(H2362=Listas!$X$3,Acompanhamento!I2362,0)","v":0},{"$f":"IF(H2362=Listas!$X$4,Acompanhamento!I2362,0)","v":0},null,0,null,0,null,0,null,0]
[null,null,null,null,null,null,null,null,null,{"$f":"IF(H2365=Listas!$X$3,Acompanhamento!I2365,0)","v":0},{"$f":"IF(H2365=Listas!$X$4,Acompanhamento!I2365,0)","v":0},null,0,null,0,null,0,null,0]
[null,null,null,null,null,null,null,null,null,{"$f":"IF(H2370=Listas!$X$3,Acompanhamento!I2370,0)","v":0},{"$f":"IF(H2370=Listas!$X$4,Acompanhamento!I2370,0)","v":0},null,0,null,0,null,0,null,0]
[null,null,null,null,null,null,null,null,null,{"$f":"IF(H2373=Listas!$X$3,Acompanhamento!I2373,0)","v":0},{"$f":"IF(H2373=Listas!$X$4,Acompanhamento!I2373,0)","v":0},null,0,null,0,null,0,null,0]
[null,null,null,null,null,null,null,null,null,{"$f":"IF(H2376=Listas!$X$3,Acompanhamento!I2376,0)","v":0},{"$f":"IF(H2376=Listas!$X$4,Acompanhamento!I2376,0)","v":0},null,0,null,0,null,0,null,0]
[null,null,null,null,null,null,null,null,null,{"$f":"IF(H2378=Listas!$X$3,Acompanhamento!I2378,0)","v":0},{"$f":"IF(H2378=Listas!$X$4,Acompanhamento!I2378,0)","v":0},null,{"$f":"J2378-L2378","v":0},null,{"$f":"M2378-N2378","v":0},null,{"$f":"O2378-P2378","v":0},null,{"$f":"Q2378-R2378","v":0}]
[null,null,null,null,null,null,null,null,null,{"$f":"IF(H2381=Listas!$X$3,Acompanhamento!I2381,0)","v":0},{"$f":"IF(H2381=Listas!$X$4,Acompanhamento!I2381,0)","v":0},null,0,null,0,null,0,null,0]
[null,null,null,null,null,null,null,null,null,{"$f":"IF(H2385=Listas!$X$3,Acompanhamento!I2385,0)","v":0},{"$f":"IF(H2385=Listas!$X$4,Acompanhamento!I2385,0)","v":0},null,0,null,0,null,0,null,0]
[null,null,null,null,null,null,null,null,null,{"$f":"IF(H2388=Listas!$X$3,Acompanhamento!I2388,0)","v":0},{"$f":"IF(H2388=Listas!$X$4,Acompanhamento!I2388,0)","v":0},null,0,null,0,null,0,null,0]
[null,null,null,null,null,null,null,null,null,{"$f":"IF(H2391=Listas!$X$3,Acompanhamento!I2391,0)","v":0},{"$f":"IF(H2391=Listas!$X$4,Acompanhamento!I2391,0)","v":0},null,0,null,0,null,0,null,0]
[null,null,null,null,null,null,null,null,null,{"$f":"IF(H2396=Listas!$X$3,Acompanhamento!I2396,0)","v":0},{"$f":"IF(H2396=Listas!$X$4,Acompanhamento!I2396,0)","v":0},null,0,null,0,null,0,null,0]
[null,null,null,null,null,null,null,null,null,{"$f":"IF(H2399=Listas!$X$3,Acompanhamento!I2399,0)","v":0},{"$f":"IF(H2399=Listas!$X$4,Acompanhamento!I2399,0)","v":0},null,0,null,0,null,0,null,0]
[null,null,null,null,null,null,null,null,null,{"$f":"IF(H2402=Listas!$X$3,Acompanhamento!I2402,0)","v":0},{"$f":"IF(H2402=Listas!$X$4,Acompanhamento!I2402,0)","v":0},null,0,null,0,null,0,null,0]
[null,null,null,null,null,null,null,null,null,{"$f":"IF(H2404=Listas!$X$3,Acompanhamento!I2404,0)","v":0},{"$f":"IF(H2404=Listas!$X$4,Acompanhamento!I2404,0)","v":0},null,0,null,0,null,0,null,0]
[null,null,null,null,null,null,null,null,null,{"$f":"IF(H2407=Listas!$X$3,Acompanhamento!I2407,0)","v":0},{"$f":"IF(H2407=Listas!$X$4,Acompanhamento!I2407,0)","v":0},null,0,null,0,null,0,null,0]
[null,null,null,null,null,null,null,null,null,{"$f":"IF(H2411=Listas!$X$3,Acompanhamento!I2411,0)","v":0},{"$f":"IF(H2411=Listas!$X$4,Acompanhamento!I2411,0)","v":0},null,0,null,0,null,0,null,0]
[null,null,null,null,null,null,null,null,null,{"$f":"IF(H2414=Listas!$X$3,Acompanhamento!I2414,0)","v":0},{"$f":"IF(H2414=Listas!$X$4,Acompanhamento!I2414,0)","v":0},null,0,null,0,null,0,null,0]
[null,null,null,null,null,null,null,null,null,{"$f":"IF(H2417=Listas!$X$3,Acompanhamento!I2417,0)","v":0},{"$f":"IF(H2417=Listas!$X$4,Acompanhamento!I2417,0)","v":0},null,0,null,0,null,0,null,0]
[null,null,null,null,null,null,null,null,null,{"$f":"IF(H2422=Listas!$X$3,Acompanhamento!I2422,0)","v":0},{"$f":"IF(H2422=Listas!$X$4,Acompanhamento!I2422,0)","v":0},null,0,null,0,null,0,null,0]
[null,null,null,null,null,null,null,null,null,{"$f":"IF(H2425=Listas!$X$3,Acompanhamento!I2425,0)","v":0},{"$f":"IF(H2425=Listas!$X$4,Acompanhamento!I2425,0)","v":0},null,0,null,0,null,0,null,0]
[null,null,null,null,null,null,null,null,null,{"$f":"IF(H2426=Listas!$X$3,Acompanhamento!I2426,0)","v":0},{"$f":"IF(H2426=Listas!$X$4,Acompanhamento!I2426,0)","v":0},null,0,null,0,null,0,null,0]
[null,null,null,null,null,null,null,null,null,{"$f":"IF(H2430=Listas!$X$3,Acompanhamento!I2430,0)","v":0},{"$f":"IF(H2430=Listas!$X$4,Acompanhamento!I2430,0)","v":0},null,0,null,0,null,0,null,0]
[null,null,null,null,null,null,null,null,null,{"$f":"IF(H2433=Listas!$X$3,Acompanhamento!I2433,0)","v":0},{"$f":"IF(H2433=Listas!$X$4,Acompanhamento!I2433,0)","v":0},null,0,null,0,null,0,null,0]
[null,null,null,null,null,null,null,null,null,{"$f":"IF(H2437=Listas!$X$3,Acompanhamento!I2437,0)","v":0},{"$f":"IF(H2437=Listas!$X$4,Acompanhamento!I2437,0)","v":0},null,0,null,0,null,0,null,0]
[null,null,null,null,null,null,null,null,null,{"$f":"IF(H2440=Listas!$X$3,Acompanhamento!I2440,0)","v":0},{"$f":"IF(H2440=Listas!$X$4,Acompanhamento!I2440,0)","v":0},null,0,null,0,null,0,null,0]
[null,null,null,null,null,null,null,null,null,{"$f":"IF(H2443=Listas!$X$3,Acompanhamento!I2443,0)","v":0},{"$f":"IF(H2443=Listas!$X$4,Acompanhamento!I2443,0)","v":0},null,0,null,0,null,0,null,0]
[null,null,null,null,null,null,null,null,null,{"$f":"IF(H2448=Listas!$X$3,Acompanhamento!I2448,0)","v":0},{"$f":"IF(H2448=Listas!$X$4,Acompanhamento!I2448,0)","v":0},null,0,null,0,null,0,null,0]
[null,null,null,null,null,null,null,null,null,{"$f":"IF(H2451=Listas!$X$3,Acompanhamento!I2451,0)","v":0},{"$f":"IF(H2451=Listas!$X$4,Acompanhamento!I2451,0)","v":0},null,0,null,0,null,0,null,0]
[null,null,null,null,null,null,null,null,null,{"$f":"IF(H2452=Listas!$X$3,Acompanhamento!I2452,0)","v":0},{"$f":"IF(H2452=Listas!$X$4,Acompanhamento!I2452,0)","v":0},null,0,null,0,null,0,null,0]
[null,null,null,null,null,null,null,null,null,{"$f":"IF(H2456=Listas!$X$3,Acompanhamento!I2456,0)","v":0},{"$f":"IF(H2456=Listas!$X$4,Acompanhamento!I2456,0)","v":0},null,0,null,0,null,0,null,0]
[null,null,null,null,null,null,null,null,null,{"$f":"IF(H2459=Listas!$X$3,Acompanhamento!I2459,0)","v":0},{"$f":"IF(H2459=Listas!$X$4,Acompanhamento!I2459,0)","v":0},null,0,null,0,null,0,null,0]
[null,null,null,null,null,null,null,null,null,{"$f":"IF(H2463=Listas!$X$3,Acompanhamento!I2463,0)","v":0},{"$f":"IF(H2463=Listas!$X$4,Acompanhamento!I2463,0)","v":0},null,0,null,0,null,0,null,0]
[null,null,null,null,null,null,null,null,null,{"$f":"IF(H2466=Listas!$X$3,Acompanhamento!I2466,0)","v":0},{"$f":"IF(H2466=Listas!$X$4,Acompanhamento!I2466,0)","v":0},null,0,null,0,null,0,null,0]
[null,null,null,null,null,null,null,null,null,{"$f":"IF(H2469=Listas!$X$3,Acompanhamento!I2469,0)","v":0},{"$f":"IF(H2469=Listas!$X$4,Acompanhamento!I2469,0)","v":0},null,0,null,0,null,0,null,0]
[null,null,null,null,null,null,null,null,null,{"$f":"IF(H2474=Listas!$X$3,Acompanhamento!I2474,0)","v":0},{"$f":"IF(H2474=Listas!$X$4,Acompanhamento!I2474,0)","v":0},null,0,null,0,null,0,null,0]
[null,null,null,null,null,null,null,null,null,{"$f":"IF(H2477=Listas!$X$3,Acompanhamento!I2477,0)","v":0},{"$f":"IF(H2477=Listas!$X$4,Acompanhamento!I2477,0)","v":0},null,0,null,0,null,0,null,0]
[null,null,null,null,null,null,null,null,null,{"$f":"IF(H2478=Listas!$X$3,Acompanhamento!I2478,0)","v":0},{"$f":"IF(H2478=Listas!$X$4,Acompanhamento!I2478,0)","v":0},null,0,null,0,null,0,null,0]
[null,null,null,null,null,null,null,null,null,{"$f":"IF(H2482=Listas!$X$3,Acompanhamento!I2482,0)","v":0},{"$f":"IF(H2482=Listas!$X$4,Acompanhamento!I2482,0)","v":0},null,0,null,0,null,0,null,0]
[null,null,null,null,null,null,null,null,null,{"$f":"IF(H2485=Listas!$X$3,Acompanhamento!I2485,0)","v":0},{"$f":"IF(H2485=Listas!$X$4,Acompanhamento!I2485,0)","v":0},null,0,null,0,null,0,null,0]
[null,null,null,null,null,null,null,null,null,{"$f":"IF(H2489=Listas!$X$3,Acompanhamento!I2489,0)","v":0},{"$f":"IF(H2489=Listas!$X$4,Acompanhamento!I2489,0)","v":0},null,0,null,0,null,0,null,0]
[null,null,null,null,null,null,null,null,null,{"$f":"IF(H2492=Listas!$X$3,Acompanhamento!I2492,0)","v":0},{"$f":"IF(H2492=Listas!$X$4,Acompanhamento!I2492,0)","v":0},null,0,null,0,null,0,null,0]
[null,null,null,null,null,null,null,null,null,{"$f":"IF(H2495=Listas!$X$3,Acompanhamento!I2495,0)","v":0},{"$f":"IF(H2495=Listas!$X$4,Acompanhamento!I2495,0)","v":0},null,0,null,0,null,0,null,0]
[null,null,null,null,null,null,null,null,null,{"$f":"IF(H2500=Listas!$X$3,Acompanhamento!I2500,0)","v":0},{"$f":"IF(H2500=Listas!$X$4,Acompanhamento!I2500,0)","v":0},null,0,null,0,null,0,null,0]
[null,null,null,null,null,null,null,null,null,{"$f":"IF(H2503=Listas!$X$3,Acompanhamento!I2503,0)","v":0},{"$f":"IF(H2503=Listas!$X$4,Acompanhamento!I2503,0)","v":0},null,0,null,0,null,0,null,0]
[null,null,null,null,null,null,null,null,null,{"$f":"IF(H2504=Listas!$X$3,Acompanhamento!I2504,0)","v":0},{"$f":"IF(H2504=Listas!$X$4,Acompanhamento!I2504,0)","v":0},null,0,null,0,null,0,null,0]
[null,null,null,null,null,null,null,null,null,{"$f":"IF(H2508=Listas!$X$3,Acompanhamento!I2508,0)","v":0},{"$f":"IF(H2508=Listas!$X$4,Acompanhamento!I2508,0)","v":0},null,0,null,0,null,0,null,0]
[null,null,null,null,null,null,null,null,null,{"$f":"IF(H2511=Listas!$X$3,Acompanhamento!I2511,0)","v":0},{"$f":"IF(H2511=Listas!$X$4,Acompanhamento!I2511,0)","v":0},null,0,null,0,null,0,null,0]
[null,null,null,null,null,null,null,null,null,{"$f":"IF(H2515=Listas!$X$3,Acompanhamento!I2515,0)","v":0},{"$f":"IF(H2515=Listas!$X$4,Acompanhamento!I2515,0)","v":0},null,0,null,0,null,0,null,0]
[null,null,null,null,null,null,null,null,null,{"$f":"IF(H2518=Listas!$X$3,Acompanhamento!I2518,0)","v":0},{"$f":"IF(H2518=Listas!$X$4,Acompanhamento!I2518,0)","v":0},null,0,null,0,null,0,null,0]
[null,null,null,null,null,null,null,null,null,{"$f":"IF(H2521=Listas!$X$3,Acompanhamento!I2521,0)","v":0},{"$f":"IF(H2521=Listas!$X$4,Acompanhamento!I2521,0)","v":0},null,0,null,0,null,0,null,0]
[null,null,null,null,null,null,null,null,null,{"$f":"IF(H2526=Listas!$X$3,Acompanhamento!I2526,0)","v":0},{"$f":"IF(H2526=Listas!$X$4,Acompanhamento!I2526,0)","v":0},null,0,null,0,null,0,null,0]
[null,null,null,null,null,null,null,null,null,{"$f":"IF(H2529=Listas!$X$3,Acompanhamento!I2529,0)","v":0},{"$f":"IF(H2529=Listas!$X$4,Acompanhamento!I2529,0)","v":0},null,0,null,0,null,0,null,0]
[null,null,null,null,null,null,null,null,null,{"$f":"IF(H2530=Listas!$X$3,Acompanhamento!I2530,0)","v":0},{"$f":"IF(H2530=Listas!$X$4,Acompanhamento!I2530,0)","v":0},null,0,null,0,null,0,null,0]
[null,null,null,null,null,null,null,null,null,{"$f":"IF(H2534=Listas!$X$3,Acompanhamento!I2534,0)","v":0},{"$f":"IF(H2534=Listas!$X$4,Acompanhamento!I2534,0)","v":0},null,0,null,0,null,0,null,0]
[null,null,null,null,null,null,null,null,null,{"$f":"IF(H2538=Listas!$X$3,Acompanhamento!I2538,0)","v":0},{"$f":"IF(H2538=Listas!$X$4,Acompanhamento!I2538,0)","v":0},null,0,null,0,null,0,null,0]
[null,null,null,null,null,null,null,null,null,{"$f":"IF(H2541=Listas!$X$3,Acompanhamento!I2541,0)","v":0},{"$f":"IF(H2541=Listas!$X$4,Acompanhamento!I2541,0)","v":0},null,0,null,0,null,0,null,0]
[null,null,null,null,null,null,null,null,null,{"$f":"IF(H2544=Listas!$X$3,Acompanhamento!I2544,0)","v":0},{"$f":"IF(H2544=Listas!$X$4,Acompanhamento!I2544,0)","v":0},null,0,null,0,null,0,null,0]
[null,null,null,null,null,null,null,null,null,{"$f":"IF(H2547=Listas!$X$3,Acompanhamento!I2547,0)","v":0},{"$f":"IF(H2547=Listas!$X$4,Acompanhamento!I2547,0)","v":0},null,0,null,0,null,0,null,0]
[null,null,null,null,null,null,null,null,null,{"$f":"IF(H2552=Listas!$X$3,Acompanhamento!I2552,0)","v":0},{"$f":"IF(H2552=Listas!$X$4,Acompanhamento!I2552,0)","v":0},null,0,null,0,null,0,null,0]
[null,null,null,null,null,null,null,null,null,{"$f":"IF(H2555=Listas!$X$3,Acompanhamento!I2555,0)","v":0},{"$f":"IF(H2555=Listas!$X$4,Acompanhamento!I2555,0)","v":0},null,0,null,0,null,0,null,0]
[null,null,null,null,null,null,null,null,null,{"$f":"IF(H2556=Listas!$X$3,Acompanhamento!I2556,0)","v":0},{"$f":"IF(H2556=Listas!$X$4,Acompanhamento!I2556,0)","v":0},null,0,null,0,null,0,null,0]
[null,null,null,null,null,null,null,null,null,{"$f":"IF(H2560=Listas!$X$3,Acompanhamento!I2560,0)","v":0},{"$f":"IF(H2560=Listas!$X$4,Acompanhamento!I2560,0)","v":0},null,0,null,0,null,0,null,0]
[null,null,null,null,null,null,null,null,null,{"$f":"IF(H2564=Listas!$X$3,Acompanhamento!I2564,0)","v":0},{"$f":"IF(H2564=Listas!$X$4,Acompanhamento!I2564,0)","v":0},null,0,null,0,null,0,null,0]
[null,null,null,null,null,null,null,null,null,{"$f":"IF(H2567=Listas!$X$3,Acompanhamento!I2567,0)","v":0},{"$f":"IF(H2567=Listas!$X$4,Acompanhamento!I2567,0)","v":0},null,0,null,0,null,0,null,0]
[null,null,null,null,null,null,null,null,null,{"$f":"IF(H2570=Listas!$X$3,Acompanhamento!I2570,0)","v":0},{"$f":"IF(H2570=Listas!$X$4,Acompanhamento!I2570,0)","v":0},null,{"$f":"J2570-L2570","v":0},null,{"$f":"M2570-N2570","v":0},null,{"$f":"O2570-P2570","v":0},null,{"$f":"Q2570-R2570","v":0}]
[null,null,null,null,null,null,null,null,null,{"$f":"IF(H2573=Listas!$X$3,Acompanhamento!I2573,0)","v":0},{"$f":"IF(H2573=Listas!$X$4,Acompanhamento!I2573,0)","v":0},null,0,null,0,null,0,null,0]
[null,null,null,null,null,null,null,null,null,{"$f":"IF(H2578=Listas!$X$3,Acompanhamento!I2578,0)","v":0},{"$f":"IF(H2578=Listas!$X$4,Acompanhamento!I2578,0)","v":0},null,0,null,0,null,0,null,0]
[null,null,null,null,null,null,null,null,null,{"$f":"IF(H2581=Listas!$X$3,Acompanhamento!I2581,0)","v":0},{"$f":"IF(H2581=Listas!$X$4,Acompanhamento!I2581,0)","v":0},null,0,null,0,null,0,null,0]
[null,null,null,null,null,null,null,null,null,{"$f":"IF(H2582=Listas!$X$3,Acompanhamento!I2582,0)","v":0},{"$f":"IF(H2582=Listas!$X$4,Acompanhamento!I2582,0)","v":0},null,0,null,0,null,0,null,0]
[null,null,null,null,null,null,null,null,null,{"$f":"IF(H2586=Listas!$X$3,Acompanhamento!I2586,0)","v":0},{"$f":"IF(H2586=Listas!$X$4,Acompanhamento!I2586,0)","v":0},null,0,null,0,null,0,null,0]
[null,null,null,null,null,null,null,null,null,{"$f":"IF(H2590=Listas!$X$3,Acompanhamento!I2590,0)","v":0},{"$f":"IF(H2590=Listas!$X$4,Acompanhamento!I2590,0)","v":0},null,0,null,0,null,0,null,0]
[null,null,null,null,null,null,null,null,null,{"$f":"IF(H2593=Listas!$X$3,Acompanhamento!I2593,0)","v":0},{"$f":"IF(H2593=Listas!$X$4,Acompanhamento!I2593,0)","v":0},null,0,null,0,null,0,null,0]
[null,null,null,null,null,null,null,null,null,{"$f":"IF(H2596=Listas!$X$3,Acompanhamento!I2596,0)","v":0},{"$f":"IF(H2596=Listas!$X$4,Acompanhamento!I2596,0)","v":0},null,0,null,0,null,0,null,0]
[null,null,null,null,null,null,null,null,null,{"$f":"IF(H2599=Listas!$X$3,Acompanhamento!I2599,0)","v":0},{"$f":"IF(H2599=Listas!$X$4,Acompanhamento!I2599,0)","v":0},null,0,null,0,null,0,null,0]
[null,null,null,null,null,null,null,null,null,{"$f":"IF(H2604=Listas!$X$3,Acompanhamento!I2604,0)","v":0},{"$f":"IF(H2604=Listas!$X$4,Acompanhamento!I2604,0)","v":0},null,0,null,0,null,0,null,0]
[null,null,null,null,null,null,null,null,null,{"$f":"IF(H2605=Listas!$X$3,Acompanhamento!I2605,0)","v":0},{"$f":"IF(H2605=Listas!$X$4,Acompanhamento!I2605,0)","v":0},null,0,null,0,null,0,null,0]
[null,null,null,null,null,null,null,null,null,{"$f":"IF(H2608=Listas!$X$3,Acompanhamento!I2608,0)","v":0},{"$f":"IF(H2608=Listas!$X$4,Acompanhamento!I2608,0)","v":0},null,0,null,0,null,0,null,0]
[null,null,null,null,null,null,null,null,null,{"$f":"IF(H2612=Listas!$X$3,Acompanhamento!I2612,0)","v":0},{"$f":"IF(H2612=Listas!$X$4,Acompanhamento!I2612,0)","v":0},null,0,null,0,null,0,null,0]
[null,null,null,null,null,null,null,null,null,{"$f":"IF(H2616=Listas!$X$3,Acompanhamento!I2616,0)","v":0},{"$f":"IF(H2616=Listas!$X$4,Acompanhamento!I2616,0)","v":0},null,0,null,0,null,0,null,0]
[null,null,null,null,null,null,null,null,null,{"$f":"IF(H2619=Listas!$X$3,Acompanhamento!I2619,0)","v":0},{"$f":"IF(H2619=Listas!$X$4,Acompanhamento!I2619,0)","v":0},null,0,null,0,null,0,null,0]
[null,null,null,null,null,null,null,null,null,{"$f":"IF(H2622=Listas!$X$3,Acompanhamento!I2622,0)","v":0},{"$f":"IF(H2622=Listas!$X$4,Acompanhamento!I2622,0)","v":0},null,0,null,0,null,0,null,0]
[null,null,null,null,null,null,null,null,null,{"$f":"IF(H2625=Listas!$X$3,Acompanhamento!I2625,0)","v":0},{"$f":"IF(H2625=Listas!$X$4,Acompanhamento!I2625,0)","v":0},null,0,null,0,null,0,null,0]
[null,null,null,null,null,null,null,null,null,{"$f":"IF(H2630=Listas!$X$3,Acompanhamento!I2630,0)","v":0},{"$f":"IF(H2630=Listas!$X$4,Acompanhamento!I2630,0)","v":0},null,0,null,0,null,0,null,0]
[null,null,null,null,null,null,null,null,null,{"$f":"IF(H2631=Listas!$X$3,Acompanhamento!I2631,0)","v":0},{"$f":"IF(H2631=Listas!$X$4,Acompanhamento!I2631,0)","v":0},null,0,null,0,null,0,null,0]
[null,null,null,null,null,null,null,null,null,{"$f":"IF(H2634=Listas!$X$3,Acompanhamento!I2634,0)","v":0},{"$f":"IF(H2634=Listas!$X$4,Acompanhamento!I2634,0)","v":0},null,{"$f":"J2634-L2634","v":0},null,{"$f":"M2634-N2634","v":0},null,{"$f":"O2634-P2634","v":0},null,{"$f":"Q2634-R2634","v":0}]
[null,null,null,null,null,null,null,null,null,{"$f":"IF(H2638=Listas!$X$3,Acompanhamento!I2638,0)","v":0},{"$f":"IF(H2638=Listas!$X$4,Acompanhamento!I2638,0)","v":0},null,0,null,0,null,0,null,0]
[null,null,null,null,null,null,null,null,null,{"$f":"IF(H2642=Listas!$X$3,Acompanhamento!I2642,0)","v":0},{"$f":"IF(H2642=Listas!$X$4,Acompanhamento!I2642,0)","v":0},null,0,null,0,null,0,null,0]
[null,null,null,null,null,null,null,null,null,{"$f":"IF(H2645=Listas!$X$3,Acompanhamento!I2645,0)","v":0},{"$f":"IF(H2645=Listas!$X$4,Acompanhamento!I2645,0)","v":0},null,0,null,0,null,0,null,0]
[null,null,null,null,null,null,null,null,null,{"$f":"IF(H2649=Listas!$X$3,Acompanhamento!I2649,0)","v":0},{"$f":"IF(H2649=Listas!$X$4,Acompanhamento!I2649,0)","v":0},null,0,null,0,null,0,null,0]
[null,null,null,null,null,null,null,null,null,{"$f":"IF(H2651=Listas!$X$3,Acompanhamento!I2651,0)","v":0},{"$f":"IF(H2651=Listas!$X$4,Acompanhamento!I2651,0)","v":0},null,0,null,0,null,0,null,0]
[null,null,null,null,null,null,null,null,null,{"$f":"IF(H2656=Listas!$X$3,Acompanhamento!I2656,0)","v":0},{"$f":"IF(H2656=Listas!$X$4,Acompanhamento!I2656,0)","v":0},null,0,null,0,null,0,null,0]
[null,null,null,null,null,null,null,null,null,{"$f":"IF(H2657=Listas!$X$3,Acompanhamento!I2657,0)","v":0},{"$f":"IF(H2657=Listas!$X$4,Acompanhamento!I2657,0)","v":0},null,0,null,0,null,0,null,0]
[null,null,null,null,null,null,null,null,null,{"$f":"IF(H2660=Listas!$X$3,Acompanhamento!I2660,0)","v":0},{"$f":"IF(H2660=Listas!$X$4,Acompanhamento!I2660,0)","v":0},null,0,null,0,null,0,null,0]
[null,null,null,null,null,null,null,null,null,{"$f":"IF(H2664=Listas!$X$3,Acompanhamento!I2664,0)","v":0},{"$f":"IF(H2664=Listas!$X$4,Acompanhamento!I2664,0)","v":0},null,0,null,0,null,0,null,0]
[null,null,null,null,null,null,null,null,null,{"$f":"IF(H2668=Listas!$X$3,Acompanhamento!I2668,0)","v":0},{"$f":"IF(H2668=Listas!$X$4,Acompanhamento!I2668,0)","v":0},null,0,null,0,null,0,null,0]
[null,null,null,null,null,null,null,null,null,{"$f":"IF(H2671=Listas!$X$3,Acompanhamento!I2671,0)","v":0},{"$f":"IF(H2671=Listas!$X$4,Acompanhamento!I2671,0)","v":0},null,0,null,0,null,0,null,0]
[null,null,null,null,null,null,null,null,null,{"$f":"IF(H2675=Listas!$X$3,Acompanhamento!I2675,0)","v":0},{"$f":"IF(H2675=Listas!$X$4,Acompanhamento!I2675,0)","v":0},null,0,null,0,null,0,null,0]
[null,null,null,null,null,null,null,null,null,{"$f":"IF(H2677=Listas!$X$3,Acompanhamento!I2677,0)","v":0},{"$f":"IF(H2677=Listas!$X$4,Acompanhamento!I2677,0)","v":0},null,0,null,0,null,0,null,0]
[null,null,null,null,null,null,null,null,null,{"$f":"IF(H2682=Listas!$X$3,Acompanhamento!I2682,0)","v":0},{"$f":"IF(H2682=Listas!$X$4,Acompanhamento!I2682,0)","v":0},null,0,null,0,null,0,null,0]
[null,null,null,null,null,null,null,null,null,{"$f":"IF(H2683=Listas!$X$3,Acompanhamento!I2683,0)","v":0},{"$f":"IF(H2683=Listas!$X$4,Acompanhamento!I2683,0)","v":0},null,0,null,0,null,0,null,0]
[null,null,null,null,null,null,null,null,null,{"$f":"IF(H2686=Listas!$X$3,Acompanhamento!I2686,0)","v":0},{"$f":"IF(H2686=Listas!$X$4,Acompanhamento!I2686,0)","v":0},null,0,null,0,null,0,null,0]
[null,null,null,null,null,null,null,null,null,{"$f":"IF(H2690=Listas!$X$3,Acompanhamento!I2690,0)","v":0},{"$f":"IF(H2690=Listas!$X$4,Acompanhamento!I2690,0)","v":0},null,0,null,0,null,0,null,0]
[null,null,null,null,null,null,null,null,null,{"$f":"IF(H2694=Listas!$X$3,Acompanhamento!I2694,0)","v":0},{"$f":"IF(H2694=Listas!$X$4,Acompanhamento!I2694,0)","v":0},null,0,null,0,null,0,null,0]
[null,null,null,null,null,null,null,null,null,{"$f":"IF(H2697=Listas!$X$3,Acompanhamento!I2697,0)","v":0},{"$f":"IF(H2697=Listas!$X$4,Acompanhamento!I2697,0)","v":0},null,0,null,0,null,0,null,0]
[null,null,null,null,null,null,null,null,null,{"$f":"IF(H2701=Listas!$X$3,Acompanhamento!I2701,0)","v":0},{"$f":"IF(H2701=Listas!$X$4,Acompanhamento!I2701,0)","v":0},null,0,null,0,null,0,null,0]
[null,null,null,null,null,null,null,null,null,{"$f":"IF(H2703=Listas!$X$3,Acompanhamento!I2703,0)","v":0},{"$f":"IF(H2703=Listas!$X$4,Acompanhamento!I2703,0)","v":0},null,0,null,0,null,0,null,0]
[null,null,null,null,null,null,null,null,null,{"$f":"IF(H2708=Listas!$X$3,Acompanhamento!I2708,0)","v":0},{"$f":"IF(H2708=Listas!$X$4,Acompanhamento!I2708,0)","v":0},null,0,null,0,null,0,null,0]
[null,null,null,null,null,null,null,null,null,{"$f":"IF(H2709=Listas!$X$3,Acompanhamento!I2709,0)","v":0},{"$f":"IF(H2709=Listas!$X$4,Acompanhamento!I2709,0)","v":0},null,0,null,0,null,0,null,0]
[null,null,null,null,null,null,null,null,null,{"$f":"IF(H2712=Listas!$X$3,Acompanhamento!I2712,0)","v":0},{"$f":"IF(H2712=Listas!$X$4,Acompanhamento!I2712,0)","v":0},null,0,null,0,null,0,null,0]
[null,null,null,null,null,null,null,null,null,{"$f":"IF(H2716=Listas!$X$3,Acompanhamento!I2716,0)","v":0},{"$f":"IF(H2716=Listas!$X$4,Acompanhamento!I2716,0)","v":0},null,0,null,0,null,0,null,0]
[null,null,null,null,null,null,null,null,null,{"$f":"IF(H2720=Listas!$X$3,Acompanhamento!I2720,0)","v":0},{"$f":"IF(H2720=Listas!$X$4,Acompanhamento!I2720,0)","v":0},null,0,null,0,null,0,null,0]
[null,null,null,null,null,null,null,null,null,{"$f":"IF(H2723=Listas!$X$3,Acompanhamento!I2723,0)","v":0},{"$f":"IF(H2723=Listas!$X$4,Acompanhamento!I2723,0)","v":0},null,0,null,0,null,0,null,0]
[null,null,null,null,null,null,null,null,null,{"$f":"IF(H2727=Listas!$X$3,Acompanhamento!I2727,0)","v":0},{"$f":"IF(H2727=Listas!$X$4,Acompanhamento!I2727,0)","v":0},null,0,null,0,null,0,null,0]
[null,null,null,null,null,null,null,null,null,{"$f":"IF(H2729=Listas!$X$3,Acompanhamento!I2729,0)","v":0},{"$f":"IF(H2729=Listas!$X$4,Acompanhamento!I2729,0)","v":0},null,0,null,0,null,0,null,0]
[null,null,null,null,null,null,null,null,null,{"$f":"IF(H2734=Listas!$X$3,Acompanhamento!I2734,0)","v":0},{"$f":"IF(H2734=Listas!$X$4,Acompanhamento!I2734,0)","v":0},null,0,null,0,null,0,null,0]
[null,null,null,null,null,null,null,null,null,{"$f":"IF(H2735=Listas!$X$3,Acompanhamento!I2735,0)","v":0},{"$f":"IF(H2735=Listas!$X$4,Acompanhamento!I2735,0)","v":0},null,0,null,0,null,0,null,0]
[null,null,null,null,null,null,null,null,null,{"$f":"IF(H2738=Listas!$X$3,Acompanhamento!I2738,0)","v":0},{"$f":"IF(H2738=Listas!$X$4,Acompanhamento!I2738,0)","v":0},null,0,null,0,null,0,null,0]
[null,null,null,null,null,null,null,null,null,{"$f":"IF(H2742=Listas!$X$3,Acompanhamento!I2742,0)","v":0},{"$f":"IF(H2742=Listas!$X$4,Acompanhamento!I2742,0)","v":0},null,0,null,0,null,0,null,0]
[null,null,null,null,null,null,null,null,null,{"$f":"IF(H2746=Listas!$X$3,Acompanhamento!I2746,0)","v":0},{"$f":"IF(H2746=Listas!$X$4,Acompanhamento!I2746,0)","v":0},null,0,null,0,null,0,null,0]
[null,null,null,null,null,null,null,null,null,{"$f":"IF(H2749=Listas!$X$3,Acompanhamento!I2749,0)","v":0},{"$f":"IF(H2749=Listas!$X$4,Acompanhamento!I2749,0)","v":0},null,0,null,0,null,0,null,0]
[null,null,null,null,null,null,null,null,null,{"$f":"IF(H2753=Listas!$X$3,Acompanhamento!I2753,0)","v":0},{"$f":"IF(H2753=Listas!$X$4,Acompanhamento!I2753,0)","v":0},null,0,null,0,null,0,null,0]
[null,null,null,null,null,null,null,null,null,{"$f":"IF(H2755=Listas!$X$3,Acompanhamento!I2755,0)","v":0},{"$f":"IF(H2755=Listas!$X$4,Acompanhamento!I2755,0)","v":0},null,0,null,0,null,0,null,0]
[null,null,null,null,null,null,null,null,null,{"$f":"IF(H2760=Listas!$X$3,Acompanhamento!I2760,0)","v":0},{"$f":"IF(H2760=Listas!$X$4,Acompanhamento!I2760,0)","v":0},null,0,null,0,null,0,null,0]
[null,null,null,null,null,null,null,null,null,{"$f":"IF(H2761=Listas!$X$3,Acompanhamento!I2761,0)","v":0},{"$f":"IF(H2761=Listas!$X$4,Acompanhamento!I2761,0)","v":0},null,0,null,0,null,0,null,0]
[null,null,null,null,null,null,null,null,null,{"$f":"IF(H2764=Listas!$X$3,Acompanhamento!I2764,0)","v":0},{"$f":"IF(H2764=Listas!$X$4,Acompanhamento!I2764,0)","v":0},null,0,null,0,null,0,null,0]
[null,null,null,null,null,null,null,null,null,{"$f":"IF(H2768=Listas!$X$3,Acompanhamento!I2768,0)","v":0},{"$f":"IF(H2768=Listas!$X$4,Acompanhamento!I2768,0)","v":0},null,0,null,0,null,0,null,0]
[null,null,null,null,null,null,null,null,null,{"$f":"IF(H2772=Listas!$X$3,Acompanhamento!I2772,0)","v":0},{"$f":"IF(H2772=Listas!$X$4,Acompanhamento!I2772,0)","v":0},null,0,null,0,null,0,null,0]
[null,null,null,null,null,null,null,null,null,{"$f":"IF(H2775=Listas!$X$3,Acompanhamento!I2775,0)","v":0},{"$f":"IF(H2775=Listas!$X$4,Acompanhamento!I2775,0)","v":0},null,0,null,0,null,0,null,0]
[null,null,null,null,null,null,null,null,null,{"$f":"IF(H2779=Listas!$X$3,Acompanhamento!I2779,0)","v":0},{"$f":"IF(H2779=Listas!$X$4,Acompanhamento!I2779,0)","v":0},null,0,null,0,null,0,null,0]
[null,null,null,null,null,null,null,null,null,{"$f":"IF(H2781=Listas!$X$3,Acompanhamento!I2781,0)","v":0},{"$f":"IF(H2781=Listas!$X$4,Acompanhamento!I2781,0)","v":0},null,0,null,0,null,0,null,0]
[null,null,null,null,null,null,null,null,null,{"$f":"IF(H2784=Listas!$X$3,Acompanhamento!I2784,0)","v":0},{"$f":"IF(H2784=Listas!$X$4,Acompanhamento!I2784,0)","v":0},null,0,null,0,null,0,null,0]
[null,null,null,null,null,null,null,null,null,{"$f":"IF(H2787=Listas!$X$3,Acompanhamento!I2787,0)","v":0},{"$f":"IF(H2787=Listas!$X$4,Acompanhamento!I2787,0)","v":0},null,0,null,0,null,0,null,0]
[null,null,null,null,null,null,null,null,null,{"$f":"IF(H2790=Listas!$X$3,Acompanhamento!I2790,0)","v":0},{"$f":"IF(H2790=Listas!$X$4,Acompanhamento!I2790,0)","v":0},null,0,null,0,null,0,null,0]
[null,null,null,null,null,null,null,null,null,{"$f":"IF(H2794=Listas!$X$3,Acompanhamento!I2794,0)","v":0},{"$f":"IF(H2794=Listas!$X$4,Acompanhamento!I2794,0)","v":0},null,0,null,0,null,0,null,0]
[null,null,null,null,null,null,null,null,null,{"$f":"IF(H2798=Listas!$X$3,Acompanhamento!I2798,0)","v":0},{"$f":"IF(H2798=Listas!$X$4,Acompanhamento!I2798,0)","v":0},null,0,null,0,null,0,null,0]
[null,null,null,null,null,null,null,null,null,{"$f":"IF(H2801=Listas!$X$3,Acompanhamento!I2801,0)","v":0},{"$f":"IF(H2801=Listas!$X$4,Acompanhamento!I2801,0)","v":0},null,0,null,0,null,0,null,0]
[null,null,null,null,null,null,null,null,null,{"$f":"IF(H2805=Listas!$X$3,Acompanhamento!I2805,0)","v":0},{"$f":"IF(H2805=Listas!$X$4,Acompanhamento!I2805,0)","v":0},null,0,null,0,null,0,null,0]
[null,null,null,null,null,null,null,null,null,{"$f":"IF(H2807=Listas!$X$3,Acompanhamento!I2807,0)","v":0},{"$f":"IF(H2807=Listas!$X$4,Acompanhamento!I2807,0)","v":0},null,0,null,0,null,0,null,0]
[null,null,null,null,null,null,null,null,null,{"$f":"IF(H2810=Listas!$X$3,Acompanhamento!I2810,0)","v":0},{"$f":"IF(H2810=Listas!$X$4,Acompanhamento!I2810,0)","v":0},null,0,null,0,null,0,null,0]
[null,null,null,null,null,null,null,null,null,{"$f":"IF(H2813=Listas!$X$3,Acompanhamento!I2813,0)","v":0},{"$f":"IF(H2813=Listas!$X$4,Acompanhamento!I2813,0)","v":0},null,0,null,0,null,0,null,0]
[null,null,null,null,null,null,null,null,null,{"$f":"IF(H2816=Listas!$X$3,Acompanhamento!I2816,0)","v":0},{"$f":"IF(H2816=Listas!$X$4,Acompanhamento!I2816,0)","v":0},null,0,null,0,null,0,null,0]
[null,null,null,null,null,null,null,null,null,{"$f":"IF(H2820=Listas!$X$3,Acompanhamento!I2820,0)","v":0},{"$f":"IF(H2820=Listas!$X$4,Acompanhamento!I2820,0)","v":0},null,0,null,0,null,0,null,0]
[null,null,null,null,null,null,null,null,null,{"$f":"IF(H2824=Listas!$X$3,Acompanhamento!I2824,0)","v":0},{"$f":"IF(H2824=Listas!$X$4,Acompanhamento!I2824,0)","v":0},null,0,null,0,null,0,null,0]
[null,null,null,null,null,null,null,null,null,{"$f":"IF(H2828=Listas!$X$3,Acompanhamento!I2828,0)","v":0},{"$f":"IF(H2828=Listas!$X$4,Acompanhamento!I2828,0)","v":0},null,0,null,0,null,0,null,0]
[null,null,null,null,null,null,null,null,null,{"$f":"IF(H2831=Listas!$X$3,Acompanhamento!I2831,0)","v":0},{"$f":"IF(H2831=Listas!$X$4,Acompanhamento!I2831,0)","v":0},null,0,null,0,null,0,null,0]
[null,null,null,null,null,null,null,null,null,{"$f":"IF(H2833=Listas!$X$3,Acompanhamento!I2833,0)","v":0},{"$f":"IF(H2833=Listas!$X$4,Acompanhamento!I2833,0)","v":0},null,0,null,0,null,0,null,0]
[null,null,null,null,null,null,null,null,null,{"$f":"IF(H2836=Listas!$X$3,Acompanhamento!I2836,0)","v":0},{"$f":"IF(H2836=Listas!$X$4,Acompanhamento!I2836,0)","v":0},null,0,null,0,null,0,null,0]
[null,null,null,null,null,null,null,null,null,{"$f":"IF(H2839=Listas!$X$3,Acompanhamento!I2839,0)","v":0},{"$f":"IF(H2839=Listas!$X$4,Acompanhamento!I2839,0)","v":0},null,0,null,0,null,0,null,0]
[null,null,null,null,null,null,null,null,null,{"$f":"IF(H2842=Listas!$X$3,Acompanhamento!I2842,0)","v":0},{"$f":"IF(H2842=Listas!$X$4,Acompanhamento!I2842,0)","v":0},null,0,null,0,null,0,null,0]
[null,null,null,null,null,null,null,null,null,{"$f":"IF(H2846=Listas!$X$3,Acompanhamento!I2846,0)","v":0},{"$f":"IF(H2846=Listas!$X$4,Acompanhamento!I2846,0)","v":0},null,0,null,0,null,0,null,0]
[null,null,null,null,null,null,null,null,null,{"$f":"IF(H2850=Listas!$X$3,Acompanhamento!I2850,0)","v":0},{"$f":"IF(H2850=Listas!$X$4,Acompanhamento!I2850,0)","v":0},null,0,null,0,null,0,null,0]
[null,null,null,null,null,null,null,null,null,{"$f":"IF(H2854=Listas!$X$3,Acompanhamento!I2854,0)","v":0},{"$f":"IF(H2854=Listas!$X$4,Acompanhamento!I2854,0)","v":0},null,0,null,0,null,0,null,0]
[null,null,null,null,null,null,null,null,null,{"$f":"IF(H2857=Listas!$X$3,Acompanhamento!I2857,0)","v":0},{"$f":"IF(H2857=Listas!$X$4,Acompanhamento!I2857,0)","v":0},null,0,null,0,null,0,null,0]
[null,null,null,null,null,null,null,null,null,{"$f":"IF(H2859=Listas!$X$3,Acompanhamento!I2859,0)","v":0},{"$f":"IF(H2859=Listas!$X$4,Acompanhamento!I2859,0)","v":0},null,0,null,0,null,0,null,0]
[null,null,null,null,null,null,null,null,null,{"$f":"IF(H2862=Listas!$X$3,Acompanhamento!I2862,0)","v":0},{"$f":"IF(H2862=Listas!$X$4,Acompanhamento!I2862,0)","v":0},null,0,null,0,null,0,null,0]
[null,null,null,null,null,null,null,null,null,{"$f":"IF(H2865=Listas!$X$3,Acompanhamento!I2865,0)","v":0},{"$f":"IF(H2865=Listas!$X$4,Acompanhamento!I2865,0)","v":0},null,0,null,0,null,0,null,0]
[null,null,null,null,null,null,null,null,null,{"$f":"IF(H2868=Listas!$X$3,Acompanhamento!I2868,0)","v":0},{"$f":"IF(H2868=Listas!$X$4,Acompanhamento!I2868,0)","v":0},null,0,null,0,null,0,null,0]
[null,null,null,null,null,null,null,null,null,{"$f":"IF(H2872=Listas!$X$3,Acompanhamento!I2872,0)","v":0},{"$f":"IF(H2872=Listas!$X$4,Acompanhamento!I2872,0)","v":0},null,0,null,0,null,0,null,0]
[null,null,null,null,null,null,null,null,null,{"$f":"IF(H2876=Listas!$X$3,Acompanhamento!I2876,0)","v":0},{"$f":"IF(H2876=Listas!$X$4,Acompanhamento!I2876,0)","v":0},null,0,null,0,null,0,null,0]
[null,null,null,null,null,null,null,null,null,{"$f":"IF(H2880=Listas!$X$3,Acompanhamento!I2880,0)","v":0},{"$f":"IF(H2880=Listas!$X$4,Acompanhamento!I2880,0)","v":0},null,0,null,0,null,0,null,0]
[null,null,null,null,null,null,null,null,null,{"$f":"IF(H2883=Listas!$X$3,Acompanhamento!I2883,0)","v":0},{"$f":"IF(H2883=Listas!$X$4,Acompanhamento!I2883,0)","v":0},null,0,null,0,null,0,null,0]
[null,null,null,null,null,null,null,null,null,{"$f":"IF(H2885=Listas!$X$3,Acompanhamento!I2885,0)","v":0},{"$f":"IF(H2885=Listas!$X$4,Acompanhamento!I2885,0)","v":0},null,0,null,0,null,0,null,0]
[null,null,null,null,null,null,null,null,null,{"$f":"IF(H2888=Listas!$X$3,Acompanhamento!I2888,0)","v":0},{"$f":"IF(H2888=Listas!$X$4,Acompanhamento!I2888,0)","v":0},null,0,null,0,null,0,null,0]
[null,null,null,null,null,null,null,null,null,{"$f":"IF(H2891=Listas!$X$3,Acompanhamento!I2891,0)","v":0},{"$f":"IF(H2891=Listas!$X$4,Acompanhamento!I2891,0)","v":0},null,0,null,0,null,0,null,0]
[null,null,null,null,null,null,null,null,null,{"$f":"IF(H2895=Listas!$X$3,Acompanhamento!I2895,0)","v":0},{"$f":"IF(H2895=Listas!$X$4,Acompanhamento!I2895,0)","v":0},null,0,null,0,null,0,null,0]
[null,null,null,null,null,null,null,null,null,{"$f":"IF(H2898=Listas!$X$3,Acompanhamento!I2898,0)","v":0},{"$f":"IF(H2898=Listas!$X$4,Acompanhamento!I2898,0)","v":0},null,0,null,0,null,0,null,0]
[null,null,null,null,null,null,null,null,null,{"$f":"IF(H2902=Listas!$X$3,Acompanhamento!I2902,0)","v":0},{"$f":"IF(H2902=Listas!$X$4,Acompanhamento!I2902,0)","v":0},null,0,null,0,null,0,null,0]
[null,null,null,null,null,null,null,null,null,{"$f":"IF(H2906=Listas!$X$3,Acompanhamento!I2906,0)","v":0},{"$f":"IF(H2906=Listas!$X$4,Acompanhamento!I2906,0)","v":0},null,0,null,0,null,0,null,0]
[null,null,null,null,null,null,null,null,null,{"$f":"IF(H2909=Listas!$X$3,Acompanhamento!I2909,0)","v":0},{"$f":"IF(H2909=Listas!$X$4,Acompanhamento!I2909,0)","v":0},null,0,null,0,null,0,null,0]
[null,null,null,null,null,null,null,null,null,{"$f":"IF(H2911=Listas!$X$3,Acompanhamento!I2911,0)","v":0},{"$f":"IF(H2911=Listas!$X$4,Acompanhamento!I2911,0)","v":0},null,0,null,0,null,0,null,0]
[null,null,null,null,null,null,null,null,null,{"$f":"IF(H2914=Listas!$X$3,Acompanhamento!I2914,0)","v":0},{"$f":"IF(H2914=Listas!$X$4,Acompanhamento!I2914,0)","v":0},null,0,null,0,null,0,null,0]
[null,null,null,null,null,null,null,null,null,{"$f":"IF(H2917=Listas!$X$3,Acompanhamento!I2917,0)","v":0},{"$f":"IF(H2917=Listas!$X$4,Acompanhamento!I2917,0)","v":0},null,0,null,0,null,0,null,0]
[null,null,null,null,null,null,null,null,null,{"$f":"IF(H2921=Listas!$X$3,Acompanhamento!I2921,0)","v":0},{"$f":"IF(H2921=Listas!$X$4,Acompanhamento!I2921,0)","v":0},null,0,null,0,null,0,null,0]
[null,null,null,null,null,null,null,null,null,{"$f":"IF(H2924=Listas!$X$3,Acompanhamento!I2924,0)","v":0},{"$f":"IF(H2924=Listas!$X$4,Acompanhamento!I2924,0)","v":0},null,0,null,0,null,0,null,0]
[null,null,null,null,null,null,null,null,null,{"$f":"IF(H2928=Listas!$X$3,Acompanhamento!I2928,0)","v":0},{"$f":"IF(H2928=Listas!$X$4,Acompanhamento!I2928,0)","v":0},null,0,null,0,null,0,null,0]
[null,null,null,null,null,null,null,null,null,{"$f":"IF(H2932=Listas!$X$3,Acompanhamento!I2932,0)","v":0},{"$f":"IF(H2932=Listas!$X$4,Acompanhamento!I2932,0)","v":0},null,0,null,0,null,0,null,0]
[null,null,null,null,null,null,null,null,null,{"$f":"IF(H2935=Listas!$X$3,Acompanhamento!I2935,0)","v":0},{"$f":"IF(H2935=Listas!$X$4,Acompanhamento!I2935,0)","v":0},null,0,null,0,null,0,null,0]
[null,null,null,null,null,null,null,null,null,{"$f":"IF(H2937=Listas!$X$3,Acompanhamento!I2937,0)","v":0},{"$f":"IF(H2937=Listas!$X$4,Acompanhamento!I2937,0)","v":0},null,0,null,0,null,0,null,0]
[null,null,null,null,null,null,null,null,null,{"$f":"IF(H2940=Listas!$X$3,Acompanhamento!I2940,0)","v":0},{"$f":"IF(H2940=Listas!$X$4,Acompanhamento!I2940,0)","v":0},null,0,null,0,null,0,null,0]
[null,null,null,null,null,null,null,null,null,{"$f":"IF(H2943=Listas!$X$3,Acompanhamento!I2943,0)","v":0},{"$f":"IF(H2943=Listas!$X$4,Acompanhamento!I2943,0)","v":0},null,0,null,0,null,0,null,0]
[null,null,null,null,null,null,null,null,null,{"$f":"IF(H2947=Listas!$X$3,Acompanhamento!I2947,0)","v":0},{"$f":"IF(H2947=Listas!$X$4,Acompanhamento!I2947,0)","v":0},null,0,null,0,null,0,null,0]
[null,null,null,null,null,null,null,null,null,{"$f":"IF(H2950=Listas!$X$3,Acompanhamento!I2950,0)","v":0},{"$f":"IF(H2950=Listas!$X$4,Acompanhamento!I2950,0)","v":0},null,0,null,0,null,0,null,0]
[null,null,null,null,null,null,null,null,null,{"$f":"IF(H2954=Listas!$X$3,Acompanhamento!I2954,0)","v":0},{"$f":"IF(H2954=Listas!$X$4,Acompanhamento!I2954,0)","v":0},null,{"$f":"J2954-L2954","v":0},null,{"$f":"M2954-N2954","v":0},null,{"$f":"O2954-P2954","v":0},null,{"$f":"Q2954-R2954","v":0}]
[null,null,null,null,null,null,null,null,null,{"$f":"IF(H2958=Listas!$X$3,Acompanhamento!I2958,0)","v":0},{"$f":"IF(H2958=Listas!$X$4,Acompanhamento!I2958,0)","v":0},null,0,null,0,null,0,null,0]
[null,null,null,null,null,null,null,null,null,{"$f":"IF(H2961=Listas!$X$3,Acompanhamento!I2961,0)","v":0},{"$f":"IF(H2961=Listas!$X$4,Acompanhamento!I2961,0)","v":0},null,0,null,0,null,0,null,0]
[null,null,null,null,null,null,null,null,null,{"$f":"IF(H2963=Listas!$X$3,Acompanhamento!I2963,0)","v":0},{"$f":"IF(H2963=Listas!$X$4,Acompanhamento!I2963,0)","v":0},null,0,null,0,null,0,null,0]
[null,null,null,null,null,null,null,null,null,{"$f":"IF(H2966=Listas!$X$3,Acompanhamento!I2966,0)","v":0},{"$f":"IF(H2966=Listas!$X$4,Acompanhamento!I2966,0)","v":0},null,0,null,0,null,0,null,0]
[null,null,null,null,null,null,null,null,null,{"$f":"IF(H2969=Listas!$X$3,Acompanhamento!I2969,0)","v":0},{"$f":"IF(H2969=Listas!$X$4,Acompanhamento!I2969,0)","v":0},null,0,null,0,null,0,null,0]
[null,null,null,null,null,null,null,null,null,{"$f":"IF(H2973=Listas!$X$3,Acompanhamento!I2973,0)","v":0},{"$f":"IF(H2973=Listas!$X$4,Acompanhamento!I2973,0)","v":0},null,0,null,0,null,0,null,0]
[null,null,null,null,null,null,null,null,null,{"$f":"IF(H2976=Listas!$X$3,Acompanhamento!I2976,0)","v":0},{"$f":"IF(H2976=Listas!$X$4,Acompanhamento!I2976,0)","v":0},null,0,null,0,null,0,null,0]
[null,null,null,null,null,null,null,null,null,{"$f":"IF(H2980=Listas!$X$3,Acompanhamento!I2980,0)","v":0},{"$f":"IF(H2980=Listas!$X$4,Acompanhamento!I2980,0)","v":0},null,0,null,0,null,0,null,0]
[null,null,null,null,null,null,null,null,null,{"$f":"IF(H2984=Listas!$X$3,Acompanhamento!I2984,0)","v":0},{"$f":"IF(H2984=Listas!$X$4,Acompanhamento!I2984,0)","v":0},null,0,null,0,null,0,null,0]
[null,null,null,null,null,null,null,null,null,{"$f":"IF(H2987=Listas!$X$3,Acompanhamento!I2987,0)","v":0},{"$f":"IF(H2987=Listas!$X$4,Acompanhamento!I2987,0)","v":0},null,0,null,0,null,0,null,0]
[null,null,null,null,null,null,null,null,null,{"$f":"IF(H2989=Listas!$X$3,Acompanhamento!I2989,0)","v":0},{"$f":"IF(H2989=Listas!$X$4,Acompanhamento!I2989,0)","v":0},null,0,null,0,null,0,null,0]
[null,null,null,null,null,null,null,null,null,{"$f":"IF(H2992=Listas!$X$3,Acompanhamento!I2992,0)","v":0},{"$f":"IF(H2992=Listas!$X$4,Acompanhamento!I2992,0)","v":0},null,0,null,0,null,0,null,0]
[null,null,null,null,null,null,null,null,null,{"$f":"IF(H2995=Listas!$X$3,Acompanhamento!I2995,0)","v":0},{"$f":"IF(H2995=Listas!$X$4,Acompanhamento!I2995,0)","v":0},null,0,null,0,null,0,null,0]
[null,null,null,null,null,null,null,null,null,{"$f":"IF(H2999=Listas!$X$3,Acompanhamento!I2999,0)","v":0},{"$f":"IF(H2999=Listas!$X$4,Acompanhamento!I2999,0)","v":0},null,0,null,0,null,0,null,0]
[null,null,null,null,null,null,null,null,null,{"$f":"IF(H3002=Listas!$X$3,Acompanhamento!I3002,0)","v":0},{"$f":"IF(H3002=Listas!$X$4,Acompanhamento!I3002,0)","v":0},null,0,null,0,null,0,null,0]
[null,null,null,null,null,null,null,null,null,{"$f":"IF(H3007=Listas!$X$3,Acompanhamento!I3007,0)","v":0},{"$f":"IF(H3007=Listas!$X$4,Acompanhamento!I3007,0)","v":0},null,0,null,0,null,0,null,0]
[null,null,null,null,null,null,null,null,null,{"$f":"IF(H3010=Listas!$X$3,Acompanhamento!I3010,0)","v":0},{"$f":"IF(H3010=Listas!$X$4,Acompanhamento!I3010,0)","v":0},null,0,null,0,null,0,null,0]
[null,null,null,null,null,null,null,null,null,{"$f":"IF(H3013=Listas!$X$3,Acompanhamento!I3013,0)","v":0},{"$f":"IF(H3013=Listas!$X$4,Acompanhamento!I3013,0)","v":0},null,0,null,0,null,0,null,0]
[null,null,null,null,null,null,null,null,null,{"$f":"IF(H3015=Listas!$X$3,Acompanhamento!I3015,0)","v":0},{"$f":"IF(H3015=Listas!$X$4,Acompanhamento!I3015,0)","v":0},null,0,null,0,null,0,null,0]
[null,null,null,null,null,null,null,null,null,{"$f":"IF(H3018=Listas!$X$3,Acompanhamento!I3018,0)","v":0},{"$f":"IF(H3018=Listas!$X$4,Acompanhamento!I3018,0)","v":0},null,{"$f":"J3018-L3018","v":0},null,{"$f":"M3018-N3018","v":0},null,{"$f":"O3018-P3018","v":0},null,{"$f":"Q3018-R3018","v":0}]
[null,null,null,null,null,null,null,null,null,{"$f":"IF(H3021=Listas!$X$3,Acompanhamento!I3021,0)","v":0},{"$f":"IF(H3021=Listas!$X$4,Acompanhamento!I3021,0)","v":0},null,0,null,0,null,0,null,0]
[null,null,null,null,null,null,null,null,null,{"$f":"IF(H3025=Listas!$X$3,Acompanhamento!I3025,0)","v":0},{"$f":"IF(H3025=Listas!$X$4,Acompanhamento!I3025,0)","v":0},null,0,null,0,null,0,null,0]
[null,null,null,null,null,null,null,null,null,{"$f":"IF(H3028=Listas!$X$3,Acompanhamento!I3028,0)","v":0},{"$f":"IF(H3028=Listas!$X$4,Acompanhamento!I3028,0)","v":0},null,0,null,0,null,0,null,0]
[null,null,null,null,null,null,null,null,null,{"$f":"IF(H3033=Listas!$X$3,Acompanhamento!I3033,0)","v":0},{"$f":"IF(H3033=Listas!$X$4,Acompanhamento!I3033,0)","v":0},null,0,null,0,null,0,null,0]
[null,null,null,null,null,null,null,null,null,{"$f":"IF(H3036=Listas!$X$3,Acompanhamento!I3036,0)","v":0},{"$f":"IF(H3036=Listas!$X$4,Acompanhamento!I3036,0)","v":0},null,0,null,0,null,0,null,0]
[null,null,null,null,null,null,null,null,null,{"$f":"IF(H3039=Listas!$X$3,Acompanhamento!I3039,0)","v":0},{"$f":"IF(H3039=Listas!$X$4,Acompanhamento!I3039,0)","v":0},null,0,null,0,null,0,null,0]
[null,null,null,null,null,null,null,null,null,{"$f":"IF(H3041=Listas!$X$3,Acompanhamento!I3041,0)","v":0},{"$f":"IF(H3041=Listas!$X$4,Acompanhamento!I3041,0)","v":0},null,0,null,0,null,0,null,0]
[null,null,null,null,null,null,null,null,null,{"$f":"IF(H3044=Listas!$X$3,Acompanhamento!I3044,0)","v":0},{"$f":"IF(H3044=Listas!$X$4,Acompanhamento!I3044,0)","v":0},null,0,null,0,null,0,null,0]
[null,null,null,null,null,null,null,null,null,{"$f":"IF(H3047=Listas!$X$3,Acompanhamento!I3047,0)","v":0},{"$f":"IF(H3047=Listas!$X$4,Acompanhamento!I3047,0)","v":0},null,0,null,0,null,0,null,0]
[null,null,null,null,null,null,null,null,null,{"$f":"IF(H3051=Listas!$X$3,Acompanhamento!I3051,0)","v":0},{"$f":"IF(H3051=Listas!$X$4,Acompanhamento!I3051,0)","v":0},null,0,null,0,null,0,null,0]
[null,null,null,null,null,null,null,null,null,{"$f":"IF(H3054=Listas!$X$3,Acompanhamento!I3054,0)","v":0},{"$f":"IF(H3054=Listas!$X$4,Acompanhamento!I3054,0)","v":0},null,0,null,0,null,0,null,0]
[null,null,null,null,null,null,null,null,null,{"$f":"IF(H3059=Listas!$X$3,Acompanhamento!I3059,0)","v":0},{"$f":"IF(H3059=Listas!$X$4,Acompanhamento!I3059,0)","v":0},null,0,null,0,null,0,null,0]
[null,null,null,null,null,null,null,null,null,{"$f":"IF(H3062=Listas!$X$3,Acompanhamento!I3062,0)","v":0},{"$f":"IF(H3062=Listas!$X$4,Acompanhamento!I3062,0)","v":0},null,0,null,0,null,0,null,0]
[null,null,null,null,null,null,null,null,null,{"$f":"IF(H3065=Listas!$X$3,Acompanhamento!I3065,0)","v":0},{"$f":"IF(H3065=Listas!$X$4,Acompanhamento!I3065,0)","v":0},null,0,null,0,null,0,null,0]
[null,null,null,null,null,null,null,null,null,{"$f":"IF(H3067=Listas!$X$3,Acompanhamento!I3067,0)","v":0},{"$f":"IF(H3067=Listas!$X$4,Acompanhamento!I3067,0)","v":0},null,0,null,0,null,0,null,0]
[null,null,null,null,null,null,null,null,null,{"$f":"IF(H3070=Listas!$X$3,Acompanhamento!I3070,0)","v":0},{"$f":"IF(H3070=Listas!$X$4,Acompanhamento!I3070,0)","v":0},null,0,null,0,null,0,null,0]
[null,null,null,null,null,null,null,null,null,{"$f":"IF(H3074=Listas!$X$3,Acompanhamento!I3074,0)","v":0},{"$f":"IF(H3074=Listas!$X$4,Acompanhamento!I3074,0)","v":0},null,0,null,0,null,0,null,0]
[null,null,null,null,null,null,null,null,null,{"$f":"IF(H3077=Listas!$X$3,Acompanhamento!I3077,0)","v":0},{"$f":"IF(H3077=Listas!$X$4,Acompanhamento!I3077,0)","v":0},null,0,null,0,null,0,null,0]
[null,null,null,null,null,null,null,null,null,{"$f":"IF(H3080=Listas!$X$3,Acompanhamento!I3080,0)","v":0},{"$f":"IF(H3080=Listas!$X$4,Acompanhamento!I3080,0)","v":0},null,0,null,0,null,0,null,0]
[null,null,null,null,null,null,null,null,null,{"$f":"IF(H3085=Listas!$X$3,Acompanhamento!I3085,0)","v":0},{"$f":"IF(H3085=Listas!$X$4,Acompanhamento!I3085,0)","v":0},null,0,null,0,null,0,null,0]
[null,null,null,null,null,null,null,null,null,{"$f":"IF(H3088=Listas!$X$3,Acompanhamento!I3088,0)","v":0},{"$f":"IF(H3088=Listas!$X$4,Acompanhamento!I3088,0)","v":0},null,0,null,0,null,0,null,0]
[null,null,null,null,null,null,null,null,null,{"$f":"IF(H3091=Listas!$X$3,Acompanhamento!I3091,0)","v":0},{"$f":"IF(H3091=Listas!$X$4,Acompanhamento!I3091,0)","v":0},null,0,null,0,null,0,null,0]
[null,null,null,null,null,null,null,null,null,{"$f":"IF(H3093=Listas!$X$3,Acompanhamento!I3093,0)","v":0},{"$f":"IF(H3093=Listas!$X$4,Acompanhamento!I3093,0)","v":0},null,0,null,0,null,0,null,0]
[null,null,null,null,null,null,null,null,null,{"$f":"IF(H3096=Listas!$X$3,Acompanhamento!I3096,0)","v":0},{"$f":"IF(H3096=Listas!$X$4,Acompanhamento!I3096,0)","v":0},null,0,null,0,null,0,null,0]
[null,null,null,null,null,null,null,null,null,{"$f":"IF(H3100=Listas!$X$3,Acompanhamento!I3100,0)","v":0},{"$f":"IF(H3100=Listas!$X$4,Acompanhamento!I3100,0)","v":0},null,0,null,0,null,0,null,0]
[null,null,null,null,null,null,null,null,null,{"$f":"IF(H3103=Listas!$X$3,Acompanhamento!I3103,0)","v":0},{"$f":"IF(H3103=Listas!$X$4,Acompanhamento!I3103,0)","v":0},null,0,null,0,null,0,null,0]
[null,null,null,null,null,null,null,null,null,{"$f":"IF(H3106=Listas!$X$3,Acompanhamento!I3106,0)","v":0},{"$f":"IF(H3106=Listas!$X$4,Acompanhamento!I3106,0)","v":0},null,0,null,0,null,0,null,0]
[null,null,null,null,null,null,null,null,null,{"$f":"IF(H3111=Listas!$X$3,Acompanhamento!I3111,0)","v":0},{"$f":"IF(H3111=Listas!$X$4,Acompanhamento!I3111,0)","v":0},null,0,null,0,null,0,null,0]
[null,null,null,null,null,null,null,null,null,{"$f":"IF(H3114=Listas!$X$3,Acompanhamento!I3114,0)","v":0},{"$f":"IF(H3114=Listas!$X$4,Acompanhamento!I3114,0)","v":0},null,0,null,0,null,0,null,0]
[null,null,null,null,null,null,null,null,null,{"$f":"IF(H3115=Listas!$X$3,Acompanhamento!I3115,0)","v":0},{"$f":"IF(H3115=Listas!$X$4,Acompanhamento!I3115,0)","v":0},null,0,null,0,null,0,null,0]
[null,null,null,null,null,null,null,null,null,{"$f":"IF(H3119=Listas!$X$3,Acompanhamento!I3119,0)","v":0},{"$f":"IF(H3119=Listas!$X$4,Acompanhamento!I3119,0)","v":0},null,0,null,0,null,0,null,0]
[null,null,null,null,null,null,null,null,null,{"$f":"IF(H3122=Listas!$X$3,Acompanhamento!I3122,0)","v":0},{"$f":"IF(H3122=Listas!$X$4,Acompanhamento!I3122,0)","v":0},null,0,null,0,null,0,null,0]
[null,null,null,null,null,null,null,null,null,{"$f":"IF(H3126=Listas!$X$3,Acompanhamento!I3126,0)","v":0},{"$f":"IF(H3126=Listas!$X$4,Acompanhamento!I3126,0)","v":0},null,0,null,0,null,0,null,0]
[null,null,null,null,null,null,null,null,null,{"$f":"IF(H3129=Listas!$X$3,Acompanhamento!I3129,0)","v":0},{"$f":"IF(H3129=Listas!$X$4,Acompanhamento!I3129,0)","v":0},null,0,null,0,null,0,null,0]
[null,null,null,null,null,null,null,null,null,{"$f":"IF(H3132=Listas!$X$3,Acompanhamento!I3132,0)","v":0},{"$f":"IF(H3132=Listas!$X$4,Acompanhamento!I3132,0)","v":0},null,0,null,0,null,0,null,0]
[null,null,null,null,null,null,null,null,null,{"$f":"IF(H3137=Listas!$X$3,Acompanhamento!I3137,0)","v":0},{"$f":"IF(H3137=Listas!$X$4,Acompanhamento!I3137,0)","v":0},null,0,null,0,null,0,null,0]
[null,null,null,null,null,null,null,null,null,{"$f":"IF(H3140=Listas!$X$3,Acompanhamento!I3140,0)","v":0},{"$f":"IF(H3140=Listas!$X$4,Acompanhamento!I3140,0)","v":0},null,0,null,0,null,0,null,0]
[null,null,null,null,null,null,null,null,null,{"$f":"IF(H3141=Listas!$X$3,Acompanhamento!I3141,0)","v":0},{"$f":"IF(H3141=Listas!$X$4,Acompanhamento!I3141,0)","v":0},null,0,null,0,null,0,null,0]
[null,null,null,null,null,null,null,null,null,{"$f":"IF(H3145=Listas!$X$3,Acompanhamento!I3145,0)","v":0},{"$f":"IF(H3145=Listas!$X$4,Acompanhamento!I3145,0)","v":0},null,0,null,0,null,0,null,0]
[null,null,null,null,null,null,null,null,null,{"$f":"IF(H3148=Listas!$X$3,Acompanhamento!I3148,0)","v":0},{"$f":"IF(H3148=Listas!$X$4,Acompanhamento!I3148,0)","v":0},null,0,null,0,null,0,null,0]
[null,null,null,null,null,null,null,null,null,{"$f":"IF(H3152=Listas!$X$3,Acompanhamento!I3152,0)","v":0},{"$f":"IF(H3152=Listas!$X$4,Acompanhamento!I3152,0)","v":0},null,0,null,0,null,0,null,0]
[null,null,null,null,null,null,null,null,null,{"$f":"IF(H3155=Listas!$X$3,Acompanhamento!I3155,0)","v":0},{"$f":"IF(H3155=Listas!$X$4,Acompanhamento!I3155,0)","v":0},null,0,null,0,null,0,null,0]
[null,null,null,null,null,null,null,null,null,{"$f":"IF(H3158=Listas!$X$3,Acompanhamento!I3158,0)","v":0},{"$f":"IF(H3158=Listas!$X$4,Acompanhamento!I3158,0)","v":0},null,0,null,0,null,0,null,0]
[null,null,null,null,null,null,null,null,null,{"$f":"IF(H3163=Listas!$X$3,Acompanhamento!I3163,0)","v":0},{"$f":"IF(H3163=Listas!$X$4,Acompanhamento!I3163,0)","v":0},null,0,null,0,null,0,null,0]
[null,null,null,null,null,null,null,null,null,{"$f":"IF(H3166=Listas!$X$3,Acompanhamento!I3166,0)","v":0},{"$f":"IF(H3166=Listas!$X$4,Acompanhamento!I3166,0)","v":0},null,0,null,0,null,0,null,0]
[null,null,null,null,null,null,null,null,null,{"$f":"IF(H3167=Listas!$X$3,Acompanhamento!I3167,0)","v":0},{"$f":"IF(H3167=Listas!$X$4,Acompanhamento!I3167,0)","v":0},null,0,null,0,null,0,null,0]
[null,null,null,null,null,null,null,null,null,{"$f":"IF(H3171=Listas!$X$3,Acompanhamento!I3171,0)","v":0},{"$f":"IF(H3171=Listas!$X$4,Acompanhamento!I3171,0)","v":0},null,0,null,0,null,0,null,0]
[null,null,null,null,null,null,null,null,null,{"$f":"IF(H3174=Listas!$X$3,Acompanhamento!I3174,0)","v":0},{"$f":"IF(H3174=Listas!$X$4,Acompanhamento!I3174,0)","v":0},null,0,null,0,null,0,null,0]
[null,null,null,null,null,null,null,null,null,{"$f":"IF(H3178=Listas!$X$3,Acompanhamento!I3178,0)","v":0},{"$f":"IF(H3178=Listas!$X$4,Acompanhamento!I3178,0)","v":0},null,0,null,0,null,0,null,0]
[null,null,null,null,null,null,null,null,null,{"$f":"IF(H3181=Listas!$X$3,Acompanhamento!I3181,0)","v":0},{"$f":"IF(H3181=Listas!$X$4,Acompanhamento!I3181,0)","v":0},null,0,null,0,null,0,null,0]
[null,null,null,null,null,null,null,null,null,{"$f":"IF(H3184=Listas!$X$3,Acompanhamento!I3184,0)","v":0},{"$f":"IF(H3184=Listas!$X$4,Acompanhamento!I3184,0)","v":0},null,0,null,0,null,0,null,0]
[null,null,null,null,null,null,null,null,null,{"$f":"IF(H3189=Listas!$X$3,Acompanhamento!I3189,0)","v":0},{"$f":"IF(H3189=Listas!$X$4,Acompanhamento!I3189,0)","v":0},null,0,null,0,null,0,null,0]
[null,null,null,null,null,null,null,null,null,{"$f":"IF(H3192=Listas!$X$3,Acompanhamento!I3192,0)","v":0},{"$f":"IF(H3192=Listas!$X$4,Acompanhamento!I3192,0)","v":0},null,0,null,0,null,0,null,0]
[null,null,null,null,null,null,null,null,null,{"$f":"IF(H3193=Listas!$X$3,Acompanhamento!I3193,0)","v":0},{"$f":"IF(H3193=Listas!$X$4,Acompanhamento!I3193,0)","v":0},null,0,null,0,null,0,null,0]
[null,null,null,null,null,null,null,null,null,{"$f":"IF(H3197=Listas!$X$3,Acompanhamento!I3197,0)","v":0},{"$f":"IF(H3197=Listas!$X$4,Acompanhamento!I3197,0)","v":0},null,0,null,0,null,0,null,0]
[null,null,null,null,null,null,null,null,null,{"$f":"IF(H3200=Listas!$X$3,Acompanhamento!I3200,0)","v":0},{"$f":"IF(H3200=Listas!$X$4,Acompanhamento!I3200,0)","v":0},null,0,null,0,null,0,null,0]
[null,null,null,null,null,null,null,null,null,{"$f":"IF(H3204=Listas!$X$3,Acompanhamento!I3204,0)","v":0},{"$f":"IF(H3204=Listas!$X$4,Acompanhamento!I3204,0)","v":0},null,0,null,0,null,0,null,0]
[null,null,null,null,null,null,null,null,null,{"$f":"IF(H3207=Listas!$X$3,Acompanhamento!I3207,0)","v":0},{"$f":"IF(H3207=Listas!$X$4,Acompanhamento!I3207,0)","v":0},null,0,null,0,null,0,null,0]
[null,null,null,null,null,null,null,null,null,{"$f":"IF(H3210=Listas!$X$3,Acompanhamento!I3210,0)","v":0},{"$f":"IF(H3210=Listas!$X$4,Acompanhamento!I3210,0)","v":0},null,{"$f":"J3210-L3210","v":0},null,{"$f":"M3210-N3210","v":0},null,{"$f":"O3210-P3210","v":0},null,{"$f":"Q3210-R3210","v":0}]
[null,null,null,null,null,null,null,null,null,{"$f":"IF(H3215=Listas!$X$3,Acompanhamento!I3215,0)","v":0},{"$f":"IF(H3215=Listas!$X$4,Acompanhamento!I3215,0)","v":0},null,0,null,0,null,0,null,0]
[null,null,null,null,null,null,null,null,null,{"$f":"IF(H3218=Listas!$X$3,Acompanhamento!I3218,0)","v":0},{"$f":"IF(H3218=Listas!$X$4,Acompanhamento!I3218,0)","v":0},null,0,null,0,null,0,null,0]
[null,null,null,null,null,null,null,null,null,{"$f":"IF(H3219=Listas!$X$3,Acompanhamento!I3219,0)","v":0},{"$f":"IF(H3219=Listas!$X$4,Acompanhamento!I3219,0)","v":0},null,0,null,0,null,0,null,0]
[null,null,null,null,null,null,null,null,null,{"$f":"IF(H3223=Listas!$X$3,Acompanhamento!I3223,0)","v":0},{"$f":"IF(H3223=Listas!$X$4,Acompanhamento!I3223,0)","v":0},null,0,null,0,null,0,null,0]
[null,null,null,null,null,null,null,null,null,{"$f":"IF(H3227=Listas!$X$3,Acompanhamento!I3227,0)","v":0},{"$f":"IF(H3227=Listas!$X$4,Acompanhamento!I3227,0)","v":0},null,0,null,0,null,0,null,0]
[null,null,null,null,null,null,null,null,null,{"$f":"IF(H3230=Listas!$X$3,Acompanhamento!I3230,0)","v":0},{"$f":"IF(H3230=Listas!$X$4,Acompanhamento!I3230,0)","v":0},null,0,null,0,null,0,null,0]
[null,null,null,null,null,null,null,null,null,{"$f":"IF(H3233=Listas!$X$3,Acompanhamento!I3233,0)","v":0},{"$f":"IF(H3233=Listas!$X$4,Acompanhamento!I3233,0)","v":0},null,0,null,0,null,0,null,0]
[null,null,null,null,null,null,null,null,null,{"$f":"IF(H3236=Listas!$X$3,Acompanhamento!I3236,0)","v":0},{"$f":"IF(H3236=Listas!$X$4,Acompanhamento!I3236,0)","v":0},null,0,null,0,null,0,null,0]
[null,null,null,null,null,null,null,null,null,{"$f":"IF(H3241=Listas!$X$3,Acompanhamento!I3241,0)","v":0},{"$f":"IF(H3241=Listas!$X$4,Acompanhamento!I3241,0)","v":0},null,0,null,0,null,0,null,0]
[null,null,null,null,null,null,null,null,null,{"$f":"IF(H3244=Listas!$X$3,Acompanhamento!I3244,0)","v":0},{"$f":"IF(H3244=Listas!$X$4,Acompanhamento!I3244,0)","v":0},null,0,null,0,null,0,null,0]
[null,null,null,null,null,null,null,null,null,{"$f":"IF(H3245=Listas!$X$3,Acompanhamento!I3245,0)","v":0},{"$f":"IF(H3245=Listas!$X$4,Acompanhamento!I3245,0)","v":0},null,0,null,0,null,0,null,0]
[null,null,null,null,null,null,null,null,null,{"$f":"IF(H3249=Listas!$X$3,Acompanhamento!I3249,0)","v":0},{"$f":"IF(H3249=Listas!$X$4,Acompanhamento!I3249,0)","v":0},null,0,null,0,null,0,null,0]
[null,null,null,null,null,null,null,null,null,{"$f":"IF(H3253=Listas!$X$3,Acompanhamento!I3253,0)","v":0},{"$f":"IF(H3253=Listas!$X$4,Acompanhamento!I3253,0)","v":0},null,0,null,0,null,0,null,0]
[null,null,null,null,null,null,null,null,null,{"$f":"IF(H3256=Listas!$X$3,Acompanhamento!I3256,0)","v":0},{"$f":"IF(H3256=Listas!$X$4,Acompanhamento!I3256,0)","v":0},null,0,null,0,null,0,null,0]
[null,null,null,null,null,null,null,null,null,{"$f":"IF(H3259=Listas!$X$3,Acompanhamento!I3259,0)","v":0},{"$f":"IF(H3259=Listas!$X$4,Acompanhamento!I3259,0)","v":0},null,0,null,0,null,0,null,0]
[null,null,null,null,null,null,null,null,null,{"$f":"IF(H3262=Listas!$X$3,Acompanhamento!I3262,0)","v":0},{"$f":"IF(H3262=Listas!$X$4,Acompanhamento!I3262,0)","v":0},null,0,null,0,null,0,null,0]
[null,null,null,null,null,null,null,null,null,{"$f":"IF(H3267=Listas!$X$3,Acompanhamento!I3267,0)","v":0},{"$f":"IF(H3267=Listas!$X$4,Acompanhamento!I3267,0)","v":0},null,0,null,0,null,0,null,0]
[null,null,null,null,null,null,null,null,null,{"$f":"IF(H3270=Listas!$X$3,Acompanhamento!I3270,0)","v":0},{"$f":"IF(H3270=Listas!$X$4,Acompanhamento!I3270,0)","v":0},null,0,null,0,null,0,null,0]
[null,null,null,null,null,null,null,null,null,{"$f":"IF(H3271=Listas!$X$3,Acompanhamento!I3271,0)","v":0},{"$f":"IF(H3271=Listas!$X$4,Acompanhamento!I3271,0)","v":0},null,0,null,0,null,0,null,0]
[null,null,null,null,null,null,null,null,null,{"$f":"IF(H3275=Listas!$X$3,Acompanhamento!I3275,0)","v":0},{"$f":"IF(H3275=Listas!$X$4,Acompanhamento!I3275,0)","v":0},null,0,null,0,null,0,null,0]
[null,null,null,null,null,null,null,null,null,{"$f":"IF(H3279=Listas!$X$3,Acompanhamento!I3279,0)","v":0},{"$f":"IF(H3279=Listas!$X$4,Acompanhamento!I3279,0)","v":0},null,0,null,0,null,0,null,0]
[null,null,null,null,null,null,null,null,null,{"$f":"IF(H3282=Listas!$X$3,Acompanhamento!I3282,0)","v":0},{"$f":"IF(H3282=Listas!$X$4,Acompanhamento!I3282,0)","v":0},null,0,null,0,null,0,null,0]
[null,null,null,null,null,null,null,null,null,{"$f":"IF(H3285=Listas!$X$3,Acompanhamento!I3285,0)","v":0},{"$f":"IF(H3285=Listas!$X$4,Acompanhamento!I3285,0)","v":0},null,0,null,0,null,0,null,0]
[null,null,null,null,null,null,null,null,null,{"$f":"IF(H3288=Listas!$X$3,Acompanhamento!I3288,0)","v":0},{"$f":"IF(H3288=Listas!$X$4,Acompanhamento!I3288,0)","v":0},null,0,null,0,null,0,null,0]
[null,null,null,null,null,null,null,null,null,{"$f":"IF(H3293=Listas!$X$3,Acompanhamento!I3293,0)","v":0},{"$f":"IF(H3293=Listas!$X$4,Acompanhamento!I3293,0)","v":0},null,0,null,0,null,0,null,0]
[null,null,null,null,null,null,null,null,null,{"$f":"IF(H3294=Listas!$X$3,Acompanhamento!I3294,0)","v":0},{"$f":"IF(H3294=Listas!$X$4,Acompanhamento!I3294,0)","v":0},null,0,null,0,null,0,null,0]
[null,null,null,null,null,null,null,null,null,{"$f":"IF(H3297=Listas!$X$3,Acompanhamento!I3297,0)","v":0},{"$f":"IF(H3297=Listas!$X$4,Acompanhamento!I3297,0)","v":0},null,0,null,0,null,0,null,0]
[null,null,null,null,null,null,null,null,null,{"$f":"IF(H3301=Listas!$X$3,Acompanhamento!I3301,0)","v":0},{"$f":"IF(H3301=Listas!$X$4,Acompanhamento!I3301,0)","v":0},null,0,null,0,null,0,null,0]
[null,null,null,null,null,null,null,null,null,{"$f":"IF(H3305=Listas!$X$3,Acompanhamento!I3305,0)","v":0},{"$f":"IF(H3305=Listas!$X$4,Acompanhamento!I3305,0)","v":0},null,0,null,0,null,0,null,0]
[null,null,null,null,null,null,null,null,null,{"$f":"IF(H3308=Listas!$X$3,Acompanhamento!I3308,0)","v":0},{"$f":"IF(H3308=Listas!$X$4,Acompanhamento!I3308,0)","v":0},null,0,null,0,null,0,null,0]
[null,null,null,null,null,null,null,null,null,{"$f":"IF(H3311=Listas!$X$3,Acompanhamento!I3311,0)","v":0},{"$f":"IF(H3311=Listas!$X$4,Acompanhamento!I3311,0)","v":0},null,0,null,0,null,0,null,0]
[null,null,null,null,null,null,null,null,null,{"$f":"IF(H3314=Listas!$X$3,Acompanhamento!I3314,0)","v":0},{"$f":"IF(H3314=Listas!$X$4,Acompanhamento!I3314,0)","v":0},null,0,null,0,null,0,null,0]
[null,null,null,null,null,null,null,null,null,{"$f":"IF(H3319=Listas!$X$3,Acompanhamento!I3319,0)","v":0},{"$f":"IF(H3319=Listas!$X$4,Acompanhamento!I3319,0)","v":0},null,0,null,0,null,0,null,0]
[null,null,null,null,null,null,null,null,null,{"$f":"IF(H3320=Listas!$X$3,Acompanhamento!I3320,0)","v":0},{"$f":"IF(H3320=Listas!$X$4,Acompanhamento!I3320,0)","v":0},null,0,null,0,null,0,null,0]
[null,null,null,null,null,null,null,null,null,{"$f":"IF(H3323=Listas!$X$3,Acompanhamento!I3323,0)","v":0},{"$f":"IF(H3323=Listas!$X$4,Acompanhamento!I3323,0)","v":0},null,0,null,0,null,0,null,0]
[null,null,null,null,null,null,null,null,null,{"$f":"IF(H3327=Listas!$X$3,Acompanhamento!I3327,0)","v":0},{"$f":"IF(H3327=Listas!$X$4,Acompanhamento!I3327,0)","v":0},null,0,null,0,null,0,null,0]
[null,null,null,null,null,null,null,null,null,{"$f":"IF(H3331=Listas!$X$3,Acompanhamento!I3331,0)","v":0},{"$f":"IF(H3331=Listas!$X$4,Acompanhamento!I3331,0)","v":0},null,0,null,0,null,0,null,0]
[null,null,null,null,null,null,null,null,null,{"$f":"IF(H3334=Listas!$X$3,Acompanhamento!I3334,0)","v":0},{"$f":"IF(H3334=Listas!$X$4,Acompanhamento!I3334,0)","v":0},null,0,null,0,null,0,null,0]
[null,null,null,null,null,null,null,null,null,{"$f":"IF(H3337=Listas!$X$3,Acompanhamento!I3337,0)","v":0},{"$f":"IF(H3337=Listas!$X$4,Acompanhamento!I3337,0)","v":0},null,0,null,0,null,0,null,0]
[null,null,null,null,null,null,null,null,null,{"$f":"IF(H3340=Listas!$X$3,Acompanhamento!I3340,0)","v":0},{"$f":"IF(H3340=Listas!$X$4,Acompanhamento!I3340,0)","v":0},null,0,null,0,null,0,null,0]
[null,null,null,null,null,null,null,null,null,{"$f":"IF(H3345=Listas!$X$3,Acompanhamento!I3345,0)","v":0},{"$f":"IF(H3345=Listas!$X$4,Acompanhamento!I3345,0)","v":0},null,0,null,0,null,0,null,0]
[null,null,null,null,null,null,null,null,null,{"$f":"IF(H3346=Listas!$X$3,Acompanhamento!I3346,0)","v":0},{"$f":"IF(H3346=Listas!$X$4,Acompanhamento!I3346,0)","v":0},null,0,null,0,null,0,null,0]
[null,null,null,null,null,null,null,null,null,{"$f":"IF(H3349=Listas!$X$3,Acompanhamento!I3349,0)","v":0},{"$f":"IF(H3349=Listas!$X$4,Acompanhamento!I3349,0)","v":0},null,0,null,0,null,0,null,0]
[null,null,null,null,null,null,null,null,null,{"$f":"IF(H3353=Listas!$X$3,Acompanhamento!I3353,0)","v":0},{"$f":"IF(H3353=Listas!$X$4,Acompanhamento!I3353,0)","v":0},null,0,null,0,null,0,null,0]
[null,null,null,null,null,null,null,null,null,{"$f":"IF(H3357=Listas!$X$3,Acompanhamento!I3357,0)","v":0},{"$f":"IF(H3357=Listas!$X$4,Acompanhamento!I3357,0)","v":0},null,0,null,0,null,0,null,0]
[null,null,null,null,null,null,null,null,null,{"$f":"IF(H3360=Listas!$X$3,Acompanhamento!I3360,0)","v":0},{"$f":"IF(H3360=Listas!$X$4,Acompanhamento!I3360,0)","v":0},null,0,null,0,null,0,null,0]
[null,null,null,null,null,null,null,null,null,{"$f":"IF(H3364=Listas!$X$3,Acompanhamento!I3364,0)","v":0},{"$f":"IF(H3364=Listas!$X$4,Acompanhamento!I3364,0)","v":0},null,0,null,0,null,0,null,0]
[null,null,null,null,null,null,null,null,null,{"$f":"IF(H3366=Listas!$X$3,Acompanhamento!I3366,0)","v":0},{"$f":"IF(H3366=Listas!$X$4,Acompanhamento!I3366,0)","v":0},null,0,null,0,null,0,null,0]
[null,null,null,null,null,null,null,null,null,{"$f":"IF(H3371=Listas!$X$3,Acompanhamento!I3371,0)","v":0},{"$f":"IF(H3371=Listas!$X$4,Acompanhamento!I3371,0)","v":0},null,0,null,0,null,0,null,0]
[null,null,null,null,null,null,null,null,null,{"$f":"IF(H3372=Listas!$X$3,Acompanhamento!I3372,0)","v":0},{"$f":"IF(H3372=Listas!$X$4,Acompanhamento!I3372,0)","v":0},null,0,null,0,null,0,null,0]
[null,null,null,null,null,null,null,null,null,{"$f":"IF(H3375=Listas!$X$3,Acompanhamento!I3375,0)","v":0},{"$f":"IF(H3375=Listas!$X$4,Acompanhamento!I3375,0)","v":0},null,0,null,0,null,0,null,0]
[null,null,null,null,null,null,null,null,null,{"$f":"IF(H3379=Listas!$X$3,Acompanhamento!I3379,0)","v":0},{"$f":"IF(H3379=Listas!$X$4,Acompanhamento!I3379,0)","v":0},null,0,null,0,null,0,null,0]
[null,null,null,null,null,null,null,null,null,{"$f":"IF(H3383=Listas!$X$3,Acompanhamento!I3383,0)","v":0},{"$f":"IF(H3383=Listas!$X$4,Acompanhamento!I3383,0)","v":0},null,0,null,0,null,0,null,0]
[null,null,null,null,null,null,null,null,null,{"$f":"IF(H3386=Listas!$X$3,Acompanhamento!I3386,0)","v":0},{"$f":"IF(H3386=Listas!$X$4,Acompanhamento!I3386,0)","v":0},null,0,null,0,null,0,null,0]
[null,null,null,null,null,null,null,null,null,{"$f":"IF(H3390=Listas!$X$3,Acompanhamento!I3390,0)","v":0},{"$f":"IF(H3390=Listas!$X$4,Acompanhamento!I3390,0)","v":0},null,0,null,0,null,0,null,0]
[null,null,null,null,null,null,null,null,null,{"$f":"IF(H3392=Listas!$X$3,Acompanhamento!I3392,0)","v":0},{"$f":"IF(H3392=Listas!$X$4,Acompanhamento!I3392,0)","v":0},null,0,null,0,null,0,null,0]
[null,null,null,null,null,null,null,null,null,{"$f":"IF(H3397=Listas!$X$3,Acompanhamento!I3397,0)","v":0},{"$f":"IF(H3397=Listas!$X$4,Acompanhamento!I3397,0)","v":0},null,0,null,0,null,0,null,0]
[null,null,null,null,null,null,null,null,null,{"$f":"IF(H3398=Listas!$X$3,Acompanhamento!I3398,0)","v":0},{"$f":"IF(H3398=Listas!$X$4,Acompanhamento!I3398,0)","v":0},null,0,null,0,null,0,null,0]
[null,null,null,null,null,null,null,null,null,{"$f":"IF(H3401=Listas!$X$3,Acompanhamento!I3401,0)","v":0},{"$f":"IF(H3401=Listas!$X$4,Acompanhamento!I3401,0)","v":0},null,0,null,0,null,0,null,0]
[null,null,null,null,null,null,null,null,null,{"$f":"IF(H3405=Listas!$X$3,Acompanhamento!I3405,0)","v":0},{"$f":"IF(H3405=Listas!$X$4,Acompanhamento!I3405,0)","v":0},null,0,null,0,null,0,null,0]
[null,null,null,null,null,null,null,null,null,{"$f":"IF(H3409=Listas!$X$3,Acompanhamento!I3409,0)","v":0},{"$f":"IF(H3409=Listas!$X$4,Acompanhamento!I3409,0)","v":0},null,0,null,0,null,0,null,0]
[null,null,null,null,null,null,null,null,null,{"$f":"IF(H3412=Listas!$X$3,Acompanhamento!I3412,0)","v":0},{"$f":"IF(H3412=Listas!$X$4,Acompanhamento!I3412,0)","v":0},null,0,null,0,null,0,null,0]
[null,null,null,null,null,null,null,null,null,{"$f":"IF(H3416=Listas!$X$3,Acompanhamento!I3416,0)","v":0},{"$f":"IF(H3416=Listas!$X$4,Acompanhamento!I3416,0)","v":0},null,0,null,0,null,0,null,0]
[null,null,null,null,null,null,null,null,null,{"$f":"IF(H3418=Listas!$X$3,Acompanhamento!I3418,0)","v":0},{"$f":"IF(H3418=Listas!$X$4,Acompanhamento!I3418,0)","v":0},null,0,null,0,null,0,null,0]
[null,null,null,null,null,null,null,null,null,{"$f":"IF(H3423=Listas!$X$3,Acompanhamento!I3423,0)","v":0},{"$f":"IF(H3423=Listas!$X$4,Acompanhamento!I3423,0)","v":0},null,0,null,0,null,0,null,0]
[null,null,null,null,null,null,null,null,null,{"$f":"IF(H3424=Listas!$X$3,Acompanhamento!I3424,0)","v":0},{"$f":"IF(H3424=Listas!$X$4,Acompanhamento!I3424,0)","v":0},null,0,null,0,null,0,null,0]
[null,null,null,null,null,null,null,null,null,{"$f":"IF(H3427=Listas!$X$3,Acompanhamento!I3427,0)","v":0},{"$f":"IF(H3427=Listas!$X$4,Acompanhamento!I3427,0)","v":0},null,0,null,0,null,0,null,0]
[null,null,null,null,null,null,null,null,null,{"$f":"IF(H3431=Listas!$X$3,Acompanhamento!I3431,0)","v":0},{"$f":"IF(H3431=Listas!$X$4,Acompanhamento!I3431,0)","v":0},null,0,null,0,null,0,null,0]
[null,null,null,null,null,null,null,null,null,{"$f":"IF(H3435=Listas!$X$3,Acompanhamento!I3435,0)","v":0},{"$f":"IF(H3435=Listas!$X$4,Acompanhamento!I3435,0)","v":0},null,0,null,0,null,0,null,0]
[null,null,null,null,null,null,null,null,null,{"$f":"IF(H3438=Listas!$X$3,Acompanhamento!I3438,0)","v":0},{"$f":"IF(H3438=Listas!$X$4,Acompanhamento!I3438,0)","v":0},null,0,null,0,null,0,null,0]
[null,null,null,null,null,null,null,null,null,{"$f":"IF(H3442=Listas!$X$3,Acompanhamento!I3442,0)","v":0},{"$f":"IF(H3442=Listas!$X$4,Acompanhamento!I3442,0)","v":0},null,0,null,0,null,0,null,0]
[null,null,null,null,null,null,null,null,null,{"$f":"IF(H3444=Listas!$X$3,Acompanhamento!I3444,0)","v":0},{"$f":"IF(H3444=Listas!$X$4,Acompanhamento!I3444,0)","v":0},null,0,null,0,null,0,null,0]
[null,null,null,null,null,null,null,null,null,{"$f":"IF(H3449=Listas!$X$3,Acompanhamento!I3449,0)","v":0},{"$f":"IF(H3449=Listas!$X$4,Acompanhamento!I3449,0)","v":0},null,0,null,0,null,0,null,0]
[null,null,null,null,null,null,null,null,null,{"$f":"IF(H3450=Listas!$X$3,Acompanhamento!I3450,0)","v":0},{"$f":"IF(H3450=Listas!$X$4,Acompanhamento!I3450,0)","v":0},null,0,null,0,null,0,null,0]
[null,null,null,null,null,null,null,null,null,{"$f":"IF(H3453=Listas!$X$3,Acompanhamento!I3453,0)","v":0},{"$f":"IF(H3453=Listas!$X$4,Acompanhamento!I3453,0)","v":0},null,0,null,0,null,0,null,0]
[null,null,null,null,null,null,null,null,null,{"$f":"IF(H3457=Listas!$X$3,Acompanhamento!I3457,0)","v":0},{"$f":"IF(H3457=Listas!$X$4,Acompanhamento!I3457,0)","v":0},null,0,null,0,null,0,null,0]
[null,null,null,null,null,null,null,null,null,{"$f":"IF(H3461=Listas!$X$3,Acompanhamento!I3461,0)","v":0},{"$f":"IF(H3461=Listas!$X$4,Acompanhamento!I3461,0)","v":0},null,0,null,0,null,0,null,0]
[null,null,null,null,null,null,null,null,null,{"$f":"IF(H3464=Listas!$X$3,Acompanhamento!I3464,0)","v":0},{"$f":"IF(H3464=Listas!$X$4,Acompanhamento!I3464,0)","v":0},null,0,null,0,null,0,null,0]
[null,null,null,null,null,null,null,null,null,{"$f":"IF(H3468=Listas!$X$3,Acompanhamento!I3468,0)","v":0},{"$f":"IF(H3468=Listas!$X$4,Acompanhamento!I3468,0)","v":0},null,0,null,0,null,0,null,0]
[null,null,null,null,null,null,null,null,null,{"$f":"IF(H3470=Listas!$X$3,Acompanhamento!I3470,0)","v":0},{"$f":"IF(H3470=Listas!$X$4,Acompanhamento!I3470,0)","v":0},null,0,null,0,null,0,null,0]
[null,null,null,null,null,null,null,null,null,{"$f":"IF(H3473=Listas!$X$3,Acompanhamento!I3473,0)","v":0},{"$f":"IF(H3473=Listas!$X$4,Acompanhamento!I3473,0)","v":0},null,0,null,0,null,0,null,0]
[null,null,null,null,null,null,null,null,null,{"$f":"IF(H3476=Listas!$X$3,Acompanhamento!I3476,0)","v":0},{"$f":"IF(H3476=Listas!$X$4,Acompanhamento!I3476,0)","v":0},null,0,null,0,null,0,null,0]
[null,null,null,null,null,null,null,null,null,{"$f":"IF(H3479=Listas!$X$3,Acompanhamento!I3479,0)","v":0},{"$f":"IF(H3479=Listas!$X$4,Acompanhamento!I3479,0)","v":0},null,0,null,0,null,0,null,0]
[null,null,null,null,null,null,null,null,null,{"$f":"IF(H3483=Listas!$X$3,Acompanhamento!I3483,0)","v":0},{"$f":"IF(H3483=Listas!$X$4,Acompanhamento!I3483,0)","v":0},null,0,null,0,null,0,null,0]
[null,null,null,null,null,null,null,null,null,{"$f":"IF(H3487=Listas!$X$3,Acompanhamento!I3487,0)","v":0},{"$f":"IF(H3487=Listas!$X$4,Acompanhamento!I3487,0)","v":0},null,0,null,0,null,0,null,0]
[null,null,null,null,null,null,null,null,null,{"$f":"IF(H3490=Listas!$X$3,Acompanhamento!I3490,0)","v":0},{"$f":"IF(H3490=Listas!$X$4,Acompanhamento!I3490,0)","v":0},null,0,null,0,null,0,null,0]
[null,null,null,null,null,null,null,null,null,{"$f":"IF(H3494=Listas!$X$3,Acompanhamento!I3494,0)","v":0},{"$f":"IF(H3494=Listas!$X$4,Acompanhamento!I3494,0)","v":0},null,0,null,0,null,0,null,0]
[null,null,null,null,null,null,null,null,null,{"$f":"IF(H3496=Listas!$X$3,Acompanhamento!I3496,0)","v":0},{"$f":"IF(H3496=Listas!$X$4,Acompanhamento!I3496,0)","v":0},null,0,null,0,null,0,null,0]
[null,null,null,null,null,null,null,null,null,{"$f":"IF(H3499=Listas!$X$3,Acompanhamento!I3499,0)","v":0},{"$f":"IF(H3499=Listas!$X$4,Acompanhamento!I3499,0)","v":0},null,0,null,0,null,0,null,0]
[null,null,null,null,null,null,null,null,null,{"$f":"IF(H3502=Listas!$X$3,Acompanhamento!I3502,0)","v":0},{"$f":"IF(H3502=Listas!$X$4,Acompanhamento!I3502,0)","v":0},null,0,null,0,null,0,null,0]
[null,null,null,null,null,null,null,null,null,{"$f":"IF(H3505=Listas!$X$3,Acompanhamento!I3505,0)","v":0},{"$f":"IF(H3505=Listas!$X$4,Acompanhamento!I3505,0)","v":0},null,0,null,0,null,0,null,0]
[null,null,null,null,null,null,null,null,null,{"$f":"IF(H3509=Listas!$X$3,Acompanhamento!I3509,0)","v":0},{"$f":"IF(H3509=Listas!$X$4,Acompanhamento!I3509,0)","v":0},null,0,null,0,null,0,null,0]
[null,null,null,null,null,null,null,null,null,{"$f":"IF(H3513=Listas!$X$3,Acompanhamento!I3513,0)","v":0},{"$f":"IF(H3513=Listas!$X$4,Acompanhamento!I3513,0)","v":0},null,0,null,0,null,0,null,0]
[null,null,null,null,null,null,null,null,null,{"$f":"IF(H3516=Listas!$X$3,Acompanhamento!I3516,0)","v":0},{"$f":"IF(H3516=Listas!$X$4,Acompanhamento!I3516,0)","v":0},null,0,null,0,null,0,null,0]
[null,null,null,null,null,null,null,null,null,{"$f":"IF(H3520=Listas!$X$3,Acompanhamento!I3520,0)","v":0},{"$f":"IF(H3520=Listas!$X$4,Acompanhamento!I3520,0)","v":0},null,0,null,0,null,0,null,0]
[null,null,null,null,null,null,null,null,null,{"$f":"IF(H3522=Listas!$X$3,Acompanhamento!I3522,0)","v":0},{"$f":"IF(H3522=Listas!$X$4,Acompanhamento!I3522,0)","v":0},null,0,null,0,null,0,null,0]
[null,null,null,null,null,null,null,null,null,{"$f":"IF(H3525=Listas!$X$3,Acompanhamento!I3525,0)","v":0},{"$f":"IF(H3525=Listas!$X$4,Acompanhamento!I3525,0)","v":0},null,0,null,0,null,0,null,0]
[null,null,null,null,null,null,null,null,null,{"$f":"IF(H3528=Listas!$X$3,Acompanhamento!I3528,0)","v":0},{"$f":"IF(H3528=Listas!$X$4,Acompanhamento!I3528,0)","v":0},null,0,null,0,null,0,null,0]
[null,null,null,null,null,null,null,null,null,{"$f":"IF(H3531=Listas!$X$3,Acompanhamento!I3531,0)","v":0},{"$f":"IF(H3531=Listas!$X$4,Acompanhamento!I3531,0)","v":0},null,0,null,0,null,0,null,0]
[null,null,null,null,null,null,null,null,null,{"$f":"IF(H3535=Listas!$X$3,Acompanhamento!I3535,0)","v":0},{"$f":"IF(H3535=Listas!$X$4,Acompanhamento!I3535,0)","v":0},null,0,null,0,null,0,null,0]
[null,null,null,null,null,null,null,null,null,{"$f":"IF(H3539=Listas!$X$3,Acompanhamento!I3539,0)","v":0},{"$f":"IF(H3539=Listas!$X$4,Acompanhamento!I3539,0)","v":0},null,0,null,0,null,0,null,0]
[null,null,null,null,null,null,null,null,null,{"$f":"IF(H3543=Listas!$X$3,Acompanhamento!I3543,0)","v":0},{"$f":"IF(H3543=Listas!$X$4,Acompanhamento!I3543,0)","v":0},null,0,null,0,null,0,null,0]
[null,null,null,null,null,null,null,null,null,{"$f":"IF(H3546=Listas!$X$3,Acompanhamento!I3546,0)","v":0},{"$f":"IF(H3546=Listas!$X$4,Acompanhamento!I3546,0)","v":0},null,0,null,0,null,0,null,0]
[null,null,null,null,null,null,null,null,null,{"$f":"IF(H3548=Listas!$X$3,Acompanhamento!I3548,0)","v":0},{"$f":"IF(H3548=Listas!$X$4,Acompanhamento!I3548,0)","v":0},null,0,null,0,null,0,null,0]
[null,null,null,null,null,null,null,null,null,{"$f":"IF(H3551=Listas!$X$3,Acompanhamento!I3551,0)","v":0},{"$f":"IF(H3551=Listas!$X$4,Acompanhamento!I3551,0)","v":0},null,0,null,0,null,0,null,0]
[null,null,null,null,null,null,null,null,null,{"$f":"IF(H3554=Listas!$X$3,Acompanhamento!I3554,0)","v":0},{"$f":"IF(H3554=Listas!$X$4,Acompanhamento!I3554,0)","v":0},null,0,null,0,null,0,null,0]
[null,null,null,null,null,null,null,null,null,{"$f":"IF(H3557=Listas!$X$3,Acompanhamento!I3557,0)","v":0},{"$f":"IF(H3557=Listas!$X$4,Acompanhamento!I3557,0)","v":0},null,0,null,0,null,0,null,0]
[null,null,null,null,null,null,null,null,null,{"$f":"IF(H3561=Listas!$X$3,Acompanhamento!I3561,0)","v":0},{"$f":"IF(H3561=Listas!$X$4,Acompanhamento!I3561,0)","v":0},null,0,null,0,null,0,null,0]
[null,null,null,null,null,null,null,null,null,{"$f":"IF(H3565=Listas!$X$3,Acompanhamento!I3565,0)","v":0},{"$f":"IF(H3565=Listas!$X$4,Acompanhamento!I3565,0)","v":0},null,0,null,0,null,0,null,0]
[null,null,null,null,null,null,null,null,null,{"$f":"IF(H3569=Listas!$X$3,Acompanhamento!I3569,0)","v":0},{"$f":"IF(H3569=Listas!$X$4,Acompanhamento!I3569,0)","v":0},null,0,null,0,null,0,null,0]
[null,null,null,null,null,null,null,null,null,{"$f":"IF(H3572=Listas!$X$3,Acompanhamento!I3572,0)","v":0},{"$f":"IF(H3572=Listas!$X$4,Acompanhamento!I3572,0)","v":0},null,0,null,0,null,0,null,0]
[null,null,null,null,null,null,null,null,null,{"$f":"IF(H3574=Listas!$X$3,Acompanhamento!I3574,0)","v":0},{"$f":"IF(H3574=Listas!$X$4,Acompanhamento!I3574,0)","v":0},null,0,null,0,null,0,null,0]
[null,null,null,null,null,null,null,null,null,{"$f":"IF(H3577=Listas!$X$3,Acompanhamento!I3577,0)","v":0},{"$f":"IF(H3577=Listas!$X$4,Acompanhamento!I3577,0)","v":0},null,0,null,0,null,0,null,0]
[null,null,null,null,null,null,null,null,null,{"$f":"IF(H3580=Listas!$X$3,Acompanhamento!I3580,0)","v":0},{"$f":"IF(H3580=Listas!$X$4,Acompanhamento!I3580,0)","v":0},null,0,null,0,null,0,null,0]
[null,null,null,null,null,null,null,null,null,{"$f":"IF(H3584=Listas!$X$3,Acompanhamento!I3584,0)","v":0},{"$f":"IF(H3584=Listas!$X$4,Acompanhamento!I3584,0)","v":0},null,0,null,0,null,0,null,0]
[null,null,null,null,null,null,null,null,null,{"$f":"IF(H3587=Listas!$X$3,Acompanhamento!I3587,0)","v":0},{"$f":"IF(H3587=Listas!$X$4,Acompanhamento!I3587,0)","v":0},null,0,null,0,null,0,null,0]
[null,null,null,null,null,null,null,null,null,{"$f":"IF(H3591=Listas!$X$3,Acompanhamento!I3591,0)","v":0},{"$f":"IF(H3591=Listas!$X$4,Acompanhamento!I3591,0)","v":0},null,0,null,0,null,0,null,0]
[null,null,null,null,null,null,null,null,null,{"$f":"IF(H3595=Listas!$X$3,Acompanhamento!I3595,0)","v":0},{"$f":"IF(H3595=Listas!$X$4,Acompanhamento!I3595,0)","v":0},null,0,null,0,null,0,null,0]
[null,null,null,null,null,null,null,null,null,{"$f":"IF(H3598=Listas!$X$3,Acompanhamento!I3598,0)","v":0},{"$f":"IF(H3598=Listas!$X$4,Acompanhamento!I3598,0)","v":0},null,0,null,0,null,0,null,0]
[null,null,null,null,null,null,null,null,null,{"$f":"IF(H3600=Listas!$X$3,Acompanhamento!I3600,0)","v":0},{"$f":"IF(H3600=Listas!$X$4,Acompanhamento!I3600,0)","v":0},null,0,null,0,null,0,null,0]
[null,null,null,null,null,null,null,null,null,{"$f":"IF(H3603=Listas!$X$3,Acompanhamento!I3603,0)","v":0},{"$f":"IF(H3603=Listas!$X$4,Acompanhamento!I3603,0)","v":0},null,0,null,0,null,0,null,0]
[null,null,null,null,null,null,null,null,null,{"$f":"IF(H3606=Listas!$X$3,Acompanhamento!I3606,0)","v":0},{"$f":"IF(H3606=Listas!$X$4,Acompanhamento!I3606,0)","v":0},null,0,null,0,null,0,null,0]
[null,null,null,null,null,null,null,null,null,{"$f":"IF(H3610=Listas!$X$3,Acompanhamento!I3610,0)","v":0},{"$f":"IF(H3610=Listas!$X$4,Acompanhamento!I3610,0)","v":0},null,0,null,0,null,0,null,0]
[null,null,null,null,null,null,null,null,null,{"$f":"IF(H3613=Listas!$X$3,Acompanhamento!I3613,0)","v":0},{"$f":"IF(H3613=Listas!$X$4,Acompanhamento!I3613,0)","v":0},null,0,null,0,null,0,null,0]
[null,null,null,null,null,null,null,null,null,{"$f":"IF(H3617=Listas!$X$3,Acompanhamento!I3617,0)","v":0},{"$f":"IF(H3617=Listas!$X$4,Acompanhamento!I3617,0)","v":0},null,0,null,0,null,0,null,0]
[null,null,null,null,null,null,null,null,null,{"$f":"IF(H3621=Listas!$X$3,Acompanhamento!I3621,0)","v":0},{"$f":"IF(H3621=Listas!$X$4,Acompanhamento!I3621,0)","v":0},null,0,null,0,null,0,null,0]
[null,null,null,null,null,null,null,null,null,{"$f":"IF(H3624=Listas!$X$3,Acompanhamento!I3624,0)","v":0},{"$f":"IF(H3624=Listas!$X$4,Acompanhamento!I3624,0)","v":0},null,0,null,0,null,0,null,0]
[null,null,null,null,null,null,null,null,null,{"$f":"IF(H3627=Listas!$X$3,Acompanhamento!I3627,0)","v":0},{"$f":"IF(H3627=Listas!$X$4,Acompanhamento!I3627,0)","v":0},null,0,null,0,null,0,null,0]
[null,null,null,null,null,null,null,null,null,{"$f":"IF(H3630=Listas!$X$3,Acompanhamento!I3630,0)","v":0},{"$f":"IF(H3630=Listas!$X$4,Acompanhamento!I3630,0)","v":0},null,0,null,0,null,0,null,0]
[null,null,null,null,null,null,null,null,null,{"$f":"IF(H3632=Listas!$X$3,Acompanhamento!I3632,0)","v":0},{"$f":"IF(H3632=Listas!$X$4,Acompanhamento!I3632,0)","v":0},null,0,null,0,null,0,null,0]
[null,null,null,null,null,null,null,null,null,{"$f":"IF(H3636=Listas!$X$3,Acompanhamento!I3636,0)","v":0},{"$f":"IF(H3636=Listas!$X$4,Acompanhamento!I3636,0)","v":0},null,0,null,0,null,0,null,0]
[null,null,null,null,null,null,null,null,null,{"$f":"IF(H3639=Listas!$X$3,Acompanhamento!I3639,0)","v":0},{"$f":"IF(H3639=Listas!$X$4,Acompanhamento!I3639,0)","v":0},null,0,null,0,null,0,null,0]
[null,null,null,null,null,null,null,null,null,{"$f":"IF(H3643=Listas!$X$3,Acompanhamento!I3643,0)","v":0},{"$f":"IF(H3643=Listas!$X$4,Acompanhamento!I3643,0)","v":0},null,0,null,0,null,0,null,0]
[null,null,null,null,null,null,null,null,null,{"$f":"IF(H3647=Listas!$X$3,Acompanhamento!I3647,0)","v":0},{"$f":"IF(H3647=Listas!$X$4,Acompanhamento!I3647,0)","v":0},null,0,null,0,null,0,null,0]
[null,null,null,null,null,null,null,null,null,{"$f":"IF(H3650=Listas!$X$3,Acompanhamento!I3650,0)","v":0},{"$f":"IF(H3650=Listas!$X$4,Acompanhamento!I3650,0)","v":0},null,0,null,0,null,0,null,0]
[null,null,null,null,null,null,null,null,null,{"$f":"IF(H3651=Listas!$X$3,Acompanhamento!I3651,0)","v":0},{"$f":"IF(H3651=Listas!$X$4,Acompanhamento!I3651,0)","v":0},null,0,null,0,null,0,null,0]
[null,null,null,null,null,null,null,null,null,{"$f":"IF(H3656=Listas!$X$3,Acompanhamento!I3656,0)","v":0},{"$f":"IF(H3656=Listas!$X$4,Acompanhamento!I3656,0)","v":0},null,0,null,0,null,0,null,0]
[null,null,null,null,null,null,null,null,null,{"$f":"IF(H3658=Listas!$X$3,Acompanhamento!I3658,0)","v":0},{"$f":"IF(H3658=Listas!$X$4,Acompanhamento!I3658,0)","v":0},null,{"$f":"J3658-L3658","v":0},null,{"$f":"M3658-N3658","v":0},null,{"$f":"O3658-P3658","v":0},null,{"$f":"Q3658-R3658","v":0}]
[null,null,null,null,null,null,null,null,null,{"$f":"IF(H3662=Listas!$X$3,Acompanhamento!I3662,0)","v":0},{"$f":"IF(H3662=Listas!$X$4,Acompanhamento!I3662,0)","v":0},null,0,null,0,null,0,null,0]
[null,null,null,null,null,null,null,null,null,{"$f":"IF(H3665=Listas!$X$3,Acompanhamento!I3665,0)","v":0},{"$f":"IF(H3665=Listas!$X$4,Acompanhamento!I3665,0)","v":0},null,0,null,0,null,0,null,0]
[null,null,null,null,null,null,null,null,null,{"$f":"IF(H3669=Listas!$X$3,Acompanhamento!I3669,0)","v":0},{"$f":"IF(H3669=Listas!$X$4,Acompanhamento!I3669,0)","v":0},null,0,null,0,null,0,null,0]
[null,null,null,null,null,null,null,null,null,{"$f":"IF(H3673=Listas!$X$3,Acompanhamento!I3673,0)","v":0},{"$f":"IF(H3673=Listas!$X$4,Acompanhamento!I3673,0)","v":0},null,0,null,0,null,0,null,0]
[null,null,null,null,null,null,null,null,null,{"$f":"IF(H3676=Listas!$X$3,Acompanhamento!I3676,0)","v":0},{"$f":"IF(H3676=Listas!$X$4,Acompanhamento!I3676,0)","v":0},null,0,null,0,null,0,null,0]
[null,null,null,null,null,null,null,null,null,{"$f":"IF(H3677=Listas!$X$3,Acompanhamento!I3677,0)","v":0},{"$f":"IF(H3677=Listas!$X$4,Acompanhamento!I3677,0)","v":0},null,0,null,0,null,0,null,0]
[null,null,null,null,null,null,null,null,null,{"$f":"IF(H3682=Listas!$X$3,Acompanhamento!I3682,0)","v":0},{"$f":"IF(H3682=Listas!$X$4,Acompanhamento!I3682,0)","v":0},null,0,null,0,null,0,null,0]
[null,null,null,null,null,null,null,null,null,{"$f":"IF(H3684=Listas!$X$3,Acompanhamento!I3684,0)","v":0},{"$f":"IF(H3684=Listas!$X$4,Acompanhamento!I3684,0)","v":0},null,0,null,0,null,0,null,0]
[null,null,null,null,null,null,null,null,null,{"$f":"IF(H3688=Listas!$X$3,Acompanhamento!I3688,0)","v":0},{"$f":"IF(H3688=Listas!$X$4,Acompanhamento!I3688,0)","v":0},null,0,null,0,null,0,null,0]
[null,null,null,null,null,null,null,null,null,{"$f":"IF(H3691=Listas!$X$3,Acompanhamento!I3691,0)","v":0},{"$f":"IF(H3691=Listas!$X$4,Acompanhamento!I3691,0)","v":0},null,0,null,0,null,0,null,0]
[null,null,null,null,null,null,null,null,null,{"$f":"IF(H3695=Listas!$X$3,Acompanhamento!I3695,0)","v":0},{"$f":"IF(H3695=Listas!$X$4,Acompanhamento!I3695,0)","v":0},null,0,null,0,null,0,null,0]
[null,null,null,null,null,null,null,null,null,{"$f":"IF(H3699=Listas!$X$3,Acompanhamento!I3699,0)","v":0},{"$f":"IF(H3699=Listas!$X$4,Acompanhamento!I3699,0)","v":0},null,0,null,0,null,0,null,0]
[null,null,null,null,null,null,null,null,null,{"$f":"IF(H3702=Listas!$X$3,Acompanhamento!I3702,0)","v":0},{"$f":"IF(H3702=Listas!$X$4,Acompanhamento!I3702,0)","v":0},null,0,null,0,null,0,null,0]
[null,null,null,null,null,null,null,null,null,{"$f":"IF(H3703=Listas!$X$3,Acompanhamento!I3703,0)","v":0},{"$f":"IF(H3703=Listas!$X$4,Acompanhamento!I3703,0)","v":0},null,0,null,0,null,0,null,0]
[null,null,null,null,null,null,null,null,null,{"$f":"IF(H3708=Listas!$X$3,Acompanhamento!I3708,0)","v":0},{"$f":"IF(H3708=Listas!$X$4,Acompanhamento!I3708,0)","v":0},null,0,null,0,null,0,null,0]
[null,null,null,null,null,null,null,null,null,{"$f":"IF(H3710=Listas!$X$3,Acompanhamento!I3710,0)","v":0},{"$f":"IF(H3710=Listas!$X$4,Acompanhamento!I3710,0)","v":0},null,0,null,0,null,0,null,0]
[null,null,null,null,null,null,null,null,null,{"$f":"IF(H3714=Listas!$X$3,Acompanhamento!I3714,0)","v":0},{"$f":"IF(H3714=Listas!$X$4,Acompanhamento!I3714,0)","v":0},null,0,null,0,null,0,null,0]
[null,null,null,null,null,null,null,null,null,{"$f":"IF(H3717=Listas!$X$3,Acompanhamento!I3717,0)","v":0},{"$f":"IF(H3717=Listas!$X$4,Acompanhamento!I3717,0)","v":0},null,0,null,0,null,0,null,0]
[null,null,null,null,null,null,null,null,null,{"$f":"IF(H3721=Listas!$X$3,Acompanhamento!I3721,0)","v":0},{"$f":"IF(H3721=Listas!$X$4,Acompanhamento!I3721,0)","v":0},null,0,null,0,null,0,null,0]
[null,null,null,null,null,null,null,null,null,{"$f":"IF(H3725=Listas!$X$3,Acompanhamento!I3725,0)","v":0},{"$f":"IF(H3725=Listas!$X$4,Acompanhamento!I3725,0)","v":0},null,0,null,0,null,0,null,0]
[null,null,null,null,null,null,null,null,null,{"$f":"IF(H3728=Listas!$X$3,Acompanhamento!I3728,0)","v":0},{"$f":"IF(H3728=Listas!$X$4,Acompanhamento!I3728,0)","v":0},null,0,null,0,null,0,null,0]
[null,null,null,null,null,null,null,null,null,{"$f":"IF(H3729=Listas!$X$3,Acompanhamento!I3729,0)","v":0},{"$f":"IF(H3729=Listas!$X$4,Acompanhamento!I3729,0)","v":0},null,0,null,0,null,0,null,0]
[null,null,null,null,null,null,null,null,null,{"$f":"IF(H3734=Listas!$X$3,Acompanhamento!I3734,0)","v":0},{"$f":"IF(H3734=Listas!$X$4,Acompanhamento!I3734,0)","v":0},null,0,null,0,null,0,null,0]
[null,null,null,null,null,null,null,null,null,{"$f":"IF(H3736=Listas!$X$3,Acompanhamento!I3736,0)","v":0},{"$f":"IF(H3736=Listas!$X$4,Acompanhamento!I3736,0)","v":0},null,0,null,0,null,0,null,0]
[null,null,null,null,null,null,null,null,null,{"$f":"IF(H3740=Listas!$X$3,Acompanhamento!I3740,0)","v":0},{"$f":"IF(H3740=Listas!$X$4,Acompanhamento!I3740,0)","v":0},null,0,null,0,null,0,null,0]
[null,null,null,null,null,null,null,null,null,{"$f":"IF(H3743=Listas!$X$3,Acompanhamento!I3743,0)","v":0},{"$f":"IF(H3743=Listas!$X$4,Acompanhamento!I3743,0)","v":0},null,0,null,0,null,0,null,0]
[null,null,null,null,null,null,null,null,null,{"$f":"IF(H3747=Listas!$X$3,Acompanhamento!I3747,0)","v":0},{"$f":"IF(H3747=Listas!$X$4,Acompanhamento!I3747,0)","v":0},null,0,null,0,null,0,null,0]
[null,null,null,null,null,null,null,null,null,{"$f":"IF(H3751=Listas!$X$3,Acompanhamento!I3751,0)","v":0},{"$f":"IF(H3751=Listas!$X$4,Acompanhamento!I3751,0)","v":0},null,0,null,0,null,0,null,0]
[null,null,null,null,null,null,null,null,null,{"$f":"IF(H3754=Listas!$X$3,Acompanhamento!I3754,0)","v":0},{"$f":"IF(H3754=Listas!$X$4,Acompanhamento!I3754,0)","v":0},null,0,null,0,null,0,null,0]
[null,null,null,null,null,null,null,null,null,{"$f":"IF(H3755=Listas!$X$3,Acompanhamento!I3755,0)","v":0},{"$f":"IF(H3755=Listas!$X$4,Acompanhamento!I3755,0)","v":0},null,0,null,0,null,0,null,0]
[null,null,null,null,null,null,null,null,null,{"$f":"IF(H3760=Listas!$X$3,Acompanhamento!I3760,0)","v":0},{"$f":"IF(H3760=Listas!$X$4,Acompanhamento!I3760,0)","v":0},null,0,null,0,null,0,null,0]
[null,null,null,null,null,null,null,null,null,{"$f":"IF(H3763=Listas!$X$3,Acompanhamento!I3763,0)","v":0},{"$f":"IF(H3763=Listas!$X$4,Acompanhamento!I3763,0)","v":0},null,0,null,0,null,0,null,0]
[null,null,null,null,null,null,null,null,null,{"$f":"IF(H3766=Listas!$X$3,Acompanhamento!I3766,0)","v":0},{"$f":"IF(H3766=Listas!$X$4,Acompanhamento!I3766,0)","v":0},null,0,null,0,null,0,null,0]
[null,null,null,null,null,null,null,null,null,{"$f":"IF(H3769=Listas!$X$3,Acompanhamento!I3769,0)","v":0},{"$f":"IF(H3769=Listas!$X$4,Acompanhamento!I3769,0)","v":0},null,0,null,0,null,0,null,0]
[null,null,null,null,null,null,null,null,null,{"$f":"IF(H3773=Listas!$X$3,Acompanhamento!I3773,0)","v":0},{"$f":"IF(H3773=Listas!$X$4,Acompanhamento!I3773,0)","v":0},null,0,null,0,null,0,null,0]
[null,null,null,null,null,null,null,null,null,{"$f":"IF(H3777=Listas!$X$3,Acompanhamento!I3777,0)","v":0},{"$f":"IF(H3777=Listas!$X$4,Acompanhamento!I3777,0)","v":0},null,0,null,0,null,0,null,0]
[null,null,null,null,null,null,null,null,null,{"$f":"IF(H3780=Listas!$X$3,Acompanhamento!I3780,0)","v":0},{"$f":"IF(H3780=Listas!$X$4,Acompanhamento!I3780,0)","v":0},null,0,null,0,null,0,null,0]
[null,null,null,null,null,null,null,null,null,{"$f":"IF(H3781=Listas!$X$3,Acompanhamento!I3781,0)","v":0},{"$f":"IF(H3781=Listas!$X$4,Acompanhamento!I3781,0)","v":0},null,0,null,0,null,0,null,0]
[null,null,null,null,null,null,null,null,null,{"$f":"IF(H3786=Listas!$X$3,Acompanhamento!I3786,0)","v":0},{"$f":"IF(H3786=Listas!$X$4,Acompanhamento!I3786,0)","v":0},null,{"$f":"J3786-L3786","v":0},null,{"$f":"M3786-N3786","v":0},null,{"$f":"O3786-P3786","v":0},null,{"$f":"Q3786-R3786","v":0}]
[null,null,null,null,null,null,null,null,null,{"$f":"IF(H3789=Listas!$X$3,Acompanhamento!I3789,0)","v":0},{"$f":"IF(H3789=Listas!$X$4,Acompanhamento!I3789,0)","v":0},null,0,null,0,null,0,null,0]
[null,null,null,null,null,null,null,null,null,{"$f":"IF(H3792=Listas!$X$3,Acompanhamento!I3792,0)","v":0},{"$f":"IF(H3792=Listas!$X$4,Acompanhamento!I3792,0)","v":0},null,0,null,0,null,0,null,0]
[null,null,null,null,null,null,null,null,null,{"$f":"IF(H3795=Listas!$X$3,Acompanhamento!I3795,0)","v":0},{"$f":"IF(H3795=Listas!$X$4,Acompanhamento!I3795,0)","v":0},null,0,null,0,null,0,null,0]
[null,null,null,null,null,null,null,null,null,{"$f":"IF(H3799=Listas!$X$3,Acompanhamento!I3799,0)","v":0},{"$f":"IF(H3799=Listas!$X$4,Acompanhamento!I3799,0)","v":0},null,0,null,0,null,0,null,0]
[null,null,null,null,null,null,null,null,null,{"$f":"IF(H3803=Listas!$X$3,Acompanhamento!I3803,0)","v":0},{"$f":"IF(H3803=Listas!$X$4,Acompanhamento!I3803,0)","v":0},null,0,null,0,null,0,null,0]
[null,null,null,null,null,null,null,null,null,{"$f":"IF(H3806=Listas!$X$3,Acompanhamento!I3806,0)","v":0},{"$f":"IF(H3806=Listas!$X$4,Acompanhamento!I3806,0)","v":0},null,0,null,0,null,0,null,0]
[null,null,null,null,null,null,null,null,null,{"$f":"IF(H3807=Listas!$X$3,Acompanhamento!I3807,0)","v":0},{"$f":"IF(H3807=Listas!$X$4,Acompanhamento!I3807,0)","v":0},null,0,null,0,null,0,null,0]
[null,null,null,null,null,null,null,null,null,{"$f":"IF(H3812=Listas!$X$3,Acompanhamento!I3812,0)","v":0},{"$f":"IF(H3812=Listas!$X$4,Acompanhamento!I3812,0)","v":0},null,0,null,0,null,0,null,0]
[null,null,null,null,null,null,null,null,null,{"$f":"IF(H3815=Listas!$X$3,Acompanhamento!I3815,0)","v":0},{"$f":"IF(H3815=Listas!$X$4,Acompanhamento!I3815,0)","v":0},null,0,null,0,null,0,null,0]
[null,null,null,null,null,null,null,null,null,{"$f":"IF(H3818=Listas!$X$3,Acompanhamento!I3818,0)","v":0},{"$f":"IF(H3818=Listas!$X$4,Acompanhamento!I3818,0)","v":0},null,0,null,0,null,0,null,0]
[null,null,null,null,null,null,null,null,null,{"$f":"IF(H3821=Listas!$X$3,Acompanhamento!I3821,0)","v":0},{"$f":"IF(H3821=Listas!$X$4,Acompanhamento!I3821,0)","v":0},null,0,null,0,null,0,null,0]
[null,null,null,null,null,null,null,null,null,{"$f":"IF(H3825=Listas!$X$3,Acompanhamento!I3825,0)","v":0},{"$f":"IF(H3825=Listas!$X$4,Acompanhamento!I3825,0)","v":0},null,0,null,0,null,0,null,0]
[null,null,null,null,null,null,null,null,null,{"$f":"IF(H3829=Listas!$X$3,Acompanhamento!I3829,0)","v":0},{"$f":"IF(H3829=Listas!$X$4,Acompanhamento!I3829,0)","v":0},null,0,null,0,null,0,null,0]
[null,null,null,null,null,null,null,null,null,{"$f":"IF(H3830=Listas!$X$3,Acompanhamento!I3830,0)","v":0},{"$f":"IF(H3830=Listas!$X$4,Acompanhamento!I3830,0)","v":0},null,0,null,0,null,0,null,0]
[null,null,null,null,null,null,null,null,null,{"$f":"IF(H3833=Listas!$X$3,Acompanhamento!I3833,0)","v":0},{"$f":"IF(H3833=Listas!$X$4,Acompanhamento!I3833,0)","v":0},null,0,null,0,null,0,null,0]
[null,null,null,null,null,null,null,null,null,{"$f":"IF(H3838=Listas!$X$3,Acompanhamento!I3838,0)","v":0},{"$f":"IF(H3838=Listas!$X$4,Acompanhamento!I3838,0)","v":0},null,0,null,0,null,0,null,0]
[null,null,null,null,null,null,null,null,null,{"$f":"IF(H3841=Listas!$X$3,Acompanhamento!I3841,0)","v":0},{"$f":"IF(H3841=Listas!$X$4,Acompanhamento!I3841,0)","v":0},null,0,null,0,null,0,null,0]
[null,null,null,null,null,null,null,null,null,{"$f":"IF(H3844=Listas!$X$3,Acompanhamento!I3844,0)","v":0},{"$f":"IF(H3844=Listas!$X$4,Acompanhamento!I3844,0)","v":0},null,0,null,0,null,0,null,0]
[null,null,null,null,null,null,null,null,null,{"$f":"IF(H3847=Listas!$X$3,Acompanhamento!I3847,0)","v":0},{"$f":"IF(H3847=Listas!$X$4,Acompanhamento!I3847,0)","v":0},null,0,null,0,null,0,null,0]
[null,null,null,null,null,null,null,null,null,{"$f":"IF(H3851=Listas!$X$3,Acompanhamento!I3851,0)","v":0},{"$f":"IF(H3851=Listas!$X$4,Acompanhamento!I3851,0)","v":0},null,0,null,0,null,0,null,0]
[null,null,null,null,null,null,null,null,null,{"$f":"IF(H3855=Listas!$X$3,Acompanhamento!I3855,0)","v":0},{"$f":"IF(H3855=Listas!$X$4,Acompanhamento!I3855,0)","v":0},null,0,null,0,null,0,null,0]
[null,null,null,null,null,null,null,null,null,{"$f":"IF(H3856=Listas!$X$3,Acompanhamento!I3856,0)","v":0},{"$f":"IF(H3856=Listas!$X$4,Acompanhamento!I3856,0)","v":0},null,0,null,0,null,0,null,0]
[null,null,null,null,null,null,null,null,null,{"$f":"IF(H3859=Listas!$X$3,Acompanhamento!I3859,0)","v":0},{"$f":"IF(H3859=Listas!$X$4,Acompanhamento!I3859,0)","v":0},null,0,null,0,null,0,null,0]
[null,null,null,null,null,null,null,null,null,{"$f":"IF(H3864=Listas!$X$3,Acompanhamento!I3864,0)","v":0},{"$f":"IF(H3864=Listas!$X$4,Acompanhamento!I3864,0)","v":0},null,0,null,0,null,0,null,0]
[null,null,null,null,null,null,null,null,null,{"$f":"IF(H3867=Listas!$X$3,Acompanhamento!I3867,0)","v":0},{"$f":"IF(H3867=Listas!$X$4,Acompanhamento!I3867,0)","v":0},null,0,null,0,null,0,null,0]
[null,null,null,null,null,null,null,null,null,{"$f":"IF(H3870=Listas!$X$3,Acompanhamento!I3870,0)","v":0},{"$f":"IF(H3870=Listas!$X$4,Acompanhamento!I3870,0)","v":0},null,0,null,0,null,0,null,0]
[null,null,null,null,null,null,null,null,null,{"$f":"IF(H3874=Listas!$X$3,Acompanhamento!I3874,0)","v":0},{"$f":"IF(H3874=Listas!$X$4,Acompanhamento!I3874,0)","v":0},null,0,null,0,null,0,null,0]
[null,null,null,null,null,null,null,null,null,{"$f":"IF(H3877=Listas!$X$3,Acompanhamento!I3877,0)","v":0},{"$f":"IF(H3877=Listas!$X$4,Acompanhamento!I3877,0)","v":0},null,0,null,0,null,0,null,0]
[null,null,null,null,null,null,null,null,null,{"$f":"IF(H3881=Listas!$X$3,Acompanhamento!I3881,0)","v":0},{"$f":"IF(H3881=Listas!$X$4,Acompanhamento!I3881,0)","v":0},null,0,null,0,null,0,null,0]
[null,null,null,null,null,null,null,null,null,{"$f":"IF(H3882=Listas!$X$3,Acompanhamento!I3882,0)","v":0},{"$f":"IF(H3882=Listas!$X$4,Acompanhamento!I3882,0)","v":0},null,0,null,0,null,0,null,0]
[null,null,null,null,null,null,null,null,null,{"$f":"IF(H3885=Listas!$X$3,Acompanhamento!I3885,0)","v":0},{"$f":"IF(H3885=Listas!$X$4,Acompanhamento!I3885,0)","v":0},null,0,null,0,null,0,null,0]
[null,null,null,null,null,null,null,null,null,{"$f":"IF(H3890=Listas!$X$3,Acompanhamento!I3890,0)","v":0},{"$f":"IF(H3890=Listas!$X$4,Acompanhamento!I3890,0)","v":0},null,0,null,0,null,0,null,0]
[null,null,null,null,null,null,null,null,null,{"$f":"IF(H3893=Listas!$X$3,Acompanhamento!I3893,0)","v":0},{"$f":"IF(H3893=Listas!$X$4,Acompanhamento!I3893,0)","v":0},null,0,null,0,null,0,null,0]
[null,null,null,null,null,null,null,null,null,{"$f":"IF(H3896=Listas!$X$3,Acompanhamento!I3896,0)","v":0},{"$f":"IF(H3896=Listas!$X$4,Acompanhamento!I3896,0)","v":0},null,0,null,0,null,0,null,0]
[null,null,null,null,null,null,null,null,null,{"$f":"IF(H3900=Listas!$X$3,Acompanhamento!I3900,0)","v":0},{"$f":"IF(H3900=Listas!$X$4,Acompanhamento!I3900,0)","v":0},null,0,null,0,null,0,null,0]
[null,null,null,null,null,null,null,null,null,{"$f":"IF(H3903=Listas!$X$3,Acompanhamento!I3903,0)","v":0},{"$f":"IF(H3903=Listas!$X$4,Acompanhamento!I3903,0)","v":0},null,0,null,0,null,0,null,0]
[null,null,null,null,null,null,null,null,null,{"$f":"IF(H3907=Listas!$X$3,Acompanhamento!I3907,0)","v":0},{"$f":"IF(H3907=Listas!$X$4,Acompanhamento!I3907,0)","v":0},null,0,null,0,null,0,null,0]
[null,null,null,null,null,null,null,null,null,{"$f":"IF(H3908=Listas!$X$3,Acompanhamento!I3908,0)","v":0},{"$f":"IF(H3908=Listas!$X$4,Acompanhamento!I3908,0)","v":0},null,0,null,0,null,0,null,0]
[null,null,null,null,null,null,null,null,null,{"$f":"IF(H3911=Listas!$X$3,Acompanhamento!I3911,0)","v":0},{"$f":"IF(H3911=Listas!$X$4,Acompanhamento!I3911,0)","v":0},null,0,null,0,null,0,null,0]
[null,null,null,null,null,null,null,null,null,{"$f":"IF(H3916=Listas!$X$3,Acompanhamento!I3916,0)","v":0},{"$f":"IF(H3916=Listas!$X$4,Acompanhamento!I3916,0)","v":0},null,0,null,0,null,0,null,0]
[null,null,null,null,null,null,null,null,null,{"$f":"IF(H3919=Listas!$X$3,Acompanhamento!I3919,0)","v":0},{"$f":"IF(H3919=Listas!$X$4,Acompanhamento!I3919,0)","v":0},null,0,null,0,null,0,null,0]
[null,null,null,null,null,null,null,null,null,{"$f":"IF(H3922=Listas!$X$3,Acompanhamento!I3922,0)","v":0},{"$f":"IF(H3922=Listas!$X$4,Acompanhamento!I3922,0)","v":0},null,0,null,0,null,0,null,0]
[null,null,null,null,null,null,null,null,null,{"$f":"IF(H3926=Listas!$X$3,Acompanhamento!I3926,0)","v":0},{"$f":"IF(H3926=Listas!$X$4,Acompanhamento!I3926,0)","v":0},null,0,null,0,null,0,null,0]
[null,null,null,null,null,null,null,null,null,{"$f":"IF(H3929=Listas!$X$3,Acompanhamento!I3929,0)","v":0},{"$f":"IF(H3929=Listas!$X$4,Acompanhamento!I3929,0)","v":0},null,0,null,0,null,0,null,0]
[null,null,null,null,null,null,null,null,null,{"$f":"IF(H3933=Listas!$X$3,Acompanhamento!I3933,0)","v":0},{"$f":"IF(H3933=Listas!$X$4,Acompanhamento!I3933,0)","v":0},null,0,null,0,null,0,null,0]
[null,null,null,null,null,null,null,null,null,{"$f":"IF(H3934=Listas!$X$3,Acompanhamento!I3934,0)","v":0},{"$f":"IF(H3934=Listas!$X$4,Acompanhamento!I3934,0)","v":0},null,0,null,0,null,0,null,0]
[null,null,null,null,null,null,null,null,null,{"$f":"IF(H3937=Listas!$X$3,Acompanhamento!I3937,0)","v":0},{"$f":"IF(H3937=Listas!$X$4,Acompanhamento!I3937,0)","v":0},null,0,null,0,null,0,null,0]
[null,null,null,null,null,null,null,null,null,{"$f":"IF(H3942=Listas!$X$3,Acompanhamento!I3942,0)","v":0},{"$f":"IF(H3942=Listas!$X$4,Acompanhamento!I3942,0)","v":0},null,0,null,0,null,0,null,0]
[null,null,null,null,null,null,null,null,null,{"$f":"IF(H3945=Listas!$X$3,Acompanhamento!I3945,0)","v":0},{"$f":"IF(H3945=Listas!$X$4,Acompanhamento!I3945,0)","v":0},null,0,null,0,null,0,null,0]
[null,null,null,null,null,null,null,null,null,{"$f":"IF(H3948=Listas!$X$3,Acompanhamento!I3948,0)","v":0},{"$f":"IF(H3948=Listas!$X$4,Acompanhamento!I3948,0)","v":0},null,0,null,0,null,0,null,0]
[null,null,null,null,null,null,null,null,null,{"$f":"IF(H3952=Listas!$X$3,Acompanhamento!I3952,0)","v":0},{"$f":"IF(H3952=Listas!$X$4,Acompanhamento!I3952,0)","v":0},null,0,null,0,null,0,null,0]
[null,null,null,null,null,null,null,null,null,{"$f":"IF(H3955=Listas!$X$3,Acompanhamento!I3955,0)","v":0},{"$f":"IF(H3955=Listas!$X$4,Acompanhamento!I3955,0)","v":0},null,0,null,0,null,0,null,0]
[null,null,null,null,null,null,null,null,null,{"$f":"IF(H3959=Listas!$X$3,Acompanhamento!I3959,0)","v":0},{"$f":"IF(H3959=Listas!$X$4,Acompanhamento!I3959,0)","v":0},null,0,null,0,null,0,null,0]
[null,null,null,null,null,null,null,null,null,{"$f":"IF(H3960=Listas!$X$3,Acompanhamento!I3960,0)","v":0},{"$f":"IF(H3960=Listas!$X$4,Acompanhamento!I3960,0)","v":0},null,0,null,0,null,0,null,0]
[null,null,null,null,null,null,null,null,null,{"$f":"IF(H3963=Listas!$X$3,Acompanhamento!I3963,0)","v":0},{"$f":"IF(H3963=Listas!$X$4,Acompanhamento!I3963,0)","v":0},null,0,null,0,null,0,null,0]
[null,null,null,null,null,null,null,null,null,{"$f":"IF(H3968=Listas!$X$3,Acompanhamento!I3968,0)","v":0},{"$f":"IF(H3968=Listas!$X$4,Acompanhamento!I3968,0)","v":0},null,0,null,0,null,0,null,0]
[null,null,null,null,null,null,null,null,null,{"$f":"IF(H3971=Listas!$X$3,Acompanhamento!I3971,0)","v":0},{"$f":"IF(H3971=Listas!$X$4,Acompanhamento!I3971,0)","v":0},null,0,null,0,null,0,null,0]
[null,null,null,null,null,null,null,null,null,{"$f":"IF(H3974=Listas!$X$3,Acompanhamento!I3974,0)","v":0},{"$f":"IF(H3974=Listas!$X$4,Acompanhamento!I3974,0)","v":0},null,0,null,0,null,0,null,0]
[null,null,null,null,null,null,null,null,null,{"$f":"IF(H3978=Listas!$X$3,Acompanhamento!I3978,0)","v":0},{"$f":"IF(H3978=Listas!$X$4,Acompanhamento!I3978,0)","v":0},null,{"$f":"J3978-L3978","v":0},null,{"$f":"M3978-N3978","v":0},null,{"$f":"O3978-P3978","v":0},null,{"$f":"Q3978-R3978","v":0}]
[null,null,null,null,null,null,null,null,null,{"$f":"IF(H3981=Listas!$X$3,Acompanhamento!I3981,0)","v":0},{"$f":"IF(H3981=Listas!$X$4,Acompanhamento!I3981,0)","v":0},null,0,null,0,null,0,null,0]
[null,null,null,null,null,null,null,null,null,{"$f":"IF(H3985=Listas!$X$3,Acompanhamento!I3985,0)","v":0},{"$f":"IF(H3985=Listas!$X$4,Acompanhamento!I3985,0)","v":0},null,0,null,0,null,0,null,0]
[null,null,null,null,null,null,null,null,null,{"$f":"IF(H3986=Listas!$X$3,Acompanhamento!I3986,0)","v":0},{"$f":"IF(H3986=Listas!$X$4,Acompanhamento!I3986,0)","v":0},null,0,null,0,null,0,null,0]
[null,null,null,null,null,null,null,null,null,{"$f":"IF(H3989=Listas!$X$3,Acompanhamento!I3989,0)","v":0},{"$f":"IF(H3989=Listas!$X$4,Acompanhamento!I3989,0)","v":0},null,0,null,0,null,0,null,0]
[null,null,null,null,null,null,null,null,null,{"$f":"IF(H3994=Listas!$X$3,Acompanhamento!I3994,0)","v":0},{"$f":"IF(H3994=Listas!$X$4,Acompanhamento!I3994,0)","v":0},null,0,null,0,null,0,null,0]
[null,null,null,null,null,null,null,null,null,{"$f":"IF(H3997=Listas!$X$3,Acompanhamento!I3997,0)","v":0},{"$f":"IF(H3997=Listas!$X$4,Acompanhamento!I3997,0)","v":0},null,0,null,0,null,0,null,0]
[null,null,null,null,null,null,null,null,null,{"$f":"IF(H4000=Listas!$X$3,Acompanhamento!I4000,0)","v":0},{"$f":"IF(H4000=Listas!$X$4,Acompanhamento!I4000,0)","v":0},null,0,null,0,null,0,null,0]
[null,null,null,null,null,null,null,null,null,{"$f":"IF(H4004=Listas!$X$3,Acompanhamento!I4004,0)","v":0},{"$f":"IF(H4004=Listas!$X$4,Acompanhamento!I4004,0)","v":0},null,0,null,0,null,0,null,0]
[null,null,null,null,null,null,null,null,null,{"$f":"IF(H4007=Listas!$X$3,Acompanhamento!I4007,0)","v":0},{"$f":"IF(H4007=Listas!$X$4,Acompanhamento!I4007,0)","v":0},null,0,null,0,null,0,null,0]
[null,null,null,null,null,null,null,null,null,{"$f":"IF(H4009=Listas!$X$3,Acompanhamento!I4009,0)","v":0},{"$f":"IF(H4009=Listas!$X$4,Acompanhamento!I4009,0)","v":0},null,0,null,0,null,0,null,0]
[null,null,null,null,null,null,null,null,null,{"$f":"IF(H4012=Listas!$X$3,Acompanhamento!I4012,0)","v":0},{"$f":"IF(H4012=Listas!$X$4,Acompanhamento!I4012,0)","v":0},null,0,null,0,null,0,null,0]
[null,null,null,null,null,null,null,null,null,{"$f":"IF(H4015=Listas!$X$3,Acompanhamento!I4015,0)","v":0},{"$f":"IF(H4015=Listas!$X$4,Acompanhamento!I4015,0)","v":0},null,0,null,0,null,0,null,0]
[null,null,null,null,null,null,null,null,null,{"$f":"IF(H4020=Listas!$X$3,Acompanhamento!I4020,0)","v":0},{"$f":"IF(H4020=Listas!$X$4,Acompanhamento!I4020,0)","v":0},null,0,null,0,null,0,null,0]
[null,null,null,null,null,null,null,null,null,{"$f":"IF(H4023=Listas!$X$3,Acompanhamento!I4023,0)","v":0},{"$f":"IF(H4023=Listas!$X$4,Acompanhamento!I4023,0)","v":0},null,0,null,0,null,0,null,0]
[null,null,null,null,null,null,null,null,null,{"$f":"IF(H4026=Listas!$X$3,Acompanhamento!I4026,0)","v":0},{"$f":"IF(H4026=Listas!$X$4,Acompanhamento!I4026,0)","v":0},null,0,null,0,null,0,null,0]
[null,null,null,null,null,null,null,null,null,{"$f":"IF(H4030=Listas!$X$3,Acompanhamento!I4030,0)","v":0},{"$f":"IF(H4030=Listas!$X$4,Acompanhamento!I4030,0)","v":0},null,0,null,0,null,0,null,0]
[null,null,null,null,null,null,null,null,null,{"$f":"IF(H4033=Listas!$X$3,Acompanhamento!I4033,0)","v":0},{"$f":"IF(H4033=Listas!$X$4,Acompanhamento!I4033,0)","v":0},null,0,null,0,null,0,null,0]
[null,null,null,null,null,null,null,null,null,{"$f":"IF(H4035=Listas!$X$3,Acompanhamento!I4035,0)","v":0},{"$f":"IF(H4035=Listas!$X$4,Acompanhamento!I4035,0)","v":0},null,0,null,0,null,0,null,0]
[null,null,null,null,null,null,null,null,null,{"$f":"IF(H4038=Listas!$X$3,Acompanhamento!I4038,0)","v":0},{"$f":"IF(H4038=Listas!$X$4,Acompanhamento!I4038,0)","v":0},null,0,null,0,null,0,null,0]
[null,null,null,null,null,null,null,null,null,{"$f":"IF(H4041=Listas!$X$3,Acompanhamento!I4041,0)","v":0},{"$f":"IF(H4041=Listas!$X$4,Acompanhamento!I4041,0)","v":0},null,0,null,0,null,0,null,0]
[null,null,null,null,null,null,null,null,null,{"$f":"IF(H4046=Listas!$X$3,Acompanhamento!I4046,0)","v":0},{"$f":"IF(H4046=Listas!$X$4,Acompanhamento!I4046,0)","v":0},null,0,null,0,null,0,null,0]
[null,null,null,null,null,null,null,null,null,{"$f":"IF(H4049=Listas!$X$3,Acompanhamento!I4049,0)","v":0},{"$f":"IF(H4049=Listas!$X$4,Acompanhamento!I4049,0)","v":0},null,0,null,0,null,0,null,0]
[null,null,null,null,null,null,null,null,null,{"$f":"IF(H4053=Listas!$X$3,Acompanhamento!I4053,0)","v":0},{"$f":"IF(H4053=Listas!$X$4,Acompanhamento!I4053,0)","v":0},null,0,null,0,null,0,null,0]
[null,null,null,null,null,null,null,null,null,{"$f":"IF(H4056=Listas!$X$3,Acompanhamento!I4056,0)","v":0},{"$f":"IF(H4056=Listas!$X$4,Acompanhamento!I4056,0)","v":0},null,0,null,0,null,0,null,0]
[null,null,null,null,null,null,null,null,null,{"$f":"IF(H4059=Listas!$X$3,Acompanhamento!I4059,0)","v":0},{"$f":"IF(H4059=Listas!$X$4,Acompanhamento!I4059,0)","v":0},null,0,null,0,null,0,null,0]
[null,null,null,null,null,null,null,null,null,{"$f":"IF(H4061=Listas!$X$3,Acompanhamento!I4061,0)","v":0},{"$f":"IF(H4061=Listas!$X$4,Acompanhamento!I4061,0)","v":0},null,0,null,0,null,0,null,0]
[null,null,null,null,null,null,null,null,null,{"$f":"IF(H4064=Listas!$X$3,Acompanhamento!I4064,0)","v":0},{"$f":"IF(H4064=Listas!$X$4,Acompanhamento!I4064,0)","v":0},null,0,null,0,null,0,null,0]
[null,null,null,null,null,null,null,null,null,{"$f":"IF(H4067=Listas!$X$3,Acompanhamento!I4067,0)","v":0},{"$f":"IF(H4067=Listas!$X$4,Acompanhamento!I4067,0)","v":0},null,0,null,0,null,0,null,0]
[null,null,null,null,null,null,null,null,null,{"$f":"IF(H4072=Listas!$X$3,Acompanhamento!I4072,0)","v":0},{"$f":"IF(H4072=Listas!$X$4,Acompanhamento!I4072,0)","v":0},null,0,null,0,null,0,null,0]
[null,null,null,null,null,null,null,null,null,{"$f":"IF(H4075=Listas!$X$3,Acompanhamento!I4075,0)","v":0},{"$f":"IF(H4075=Listas!$X$4,Acompanhamento!I4075,0)","v":0},null,0,null,0,null,0,null,0]
[null,null,null,null,null,null,null,null,null,{"$f":"IF(H4079=Listas!$X$3,Acompanhamento!I4079,0)","v":0},{"$f":"IF(H4079=Listas!$X$4,Acompanhamento!I4079,0)","v":0},null,0,null,0,null,0,null,0]
[null,null,null,null,null,null,null,null,null,{"$f":"IF(H4082=Listas!$X$3,Acompanhamento!I4082,0)","v":0},{"$f":"IF(H4082=Listas!$X$4,Acompanhamento!I4082,0)","v":0},null,0,null,0,null,0,null,0]
[null,null,null,null,null,null,null,null,null,{"$f":"IF(H4085=Listas!$X$3,Acompanhamento!I4085,0)","v":0},{"$f":"IF(H4085=Listas!$X$4,Acompanhamento!I4085,0)","v":0},null,0,null,0,null,0,null,0]
[null,null,null,null,null,null,null,null,null,{"$f":"IF(H4087=Listas!$X$3,Acompanhamento!I4087,0)","v":0},{"$f":"IF(H4087=Listas!$X$4,Acompanhamento!I4087,0)","v":0},null,0,null,0,null,0,null,0]
[null,null,null,null,null,null,null,null,null,{"$f":"IF(H4090=Listas!$X$3,Acompanhamento!I4090,0)","v":0},{"$f":"IF(H4090=Listas!$X$4,Acompanhamento!I4090,0)","v":0},null,0,null,0,null,0,null,0]
[null,null,null,null,null,null,null,null,null,{"$f":"IF(H4093=Listas!$X$3,Acompanhamento!I4093,0)","v":0},{"$f":"IF(H4093=Listas!$X$4,Acompanhamento!I4093,0)","v":0},null,0,null,0,null,0,null,0]
[null,null,null,null,null,null,null,null,null,{"$f":"IF(H4098=Listas!$X$3,Acompanhamento!I4098,0)","v":0},{"$f":"IF(H4098=Listas!$X$4,Acompanhamento!I4098,0)","v":0},null,0,null,0,null,0,null,0]
[null,null,null,null,null,null,null,null,null,{"$f":"IF(H4101=Listas!$X$3,Acompanhamento!I4101,0)","v":0},{"$f":"IF(H4101=Listas!$X$4,Acompanhamento!I4101,0)","v":0},null,0,null,0,null,0,null,0]
[null,null,null,null,null,null,null,null,null,{"$f":"IF(H4105=Listas!$X$3,Acompanhamento!I4105,0)","v":0},{"$f":"IF(H4105=Listas!$X$4,Acompanhamento!I4105,0)","v":0},null,0,null,0,null,0,null,0]
[null,null,null,null,null,null,null,null,null,{"$f":"IF(H4108=Listas!$X$3,Acompanhamento!I4108,0)","v":0},{"$f":"IF(H4108=Listas!$X$4,Acompanhamento!I4108,0)","v":0},null,0,null,0,null,0,null,0]
[null,null,null,null,null,null,null,null,null,{"$f":"IF(H4111=Listas!$X$3,Acompanhamento!I4111,0)","v":0},{"$f":"IF(H4111=Listas!$X$4,Acompanhamento!I4111,0)","v":0},null,0,null,0,null,0,null,0]
[null,null,null,null,null,null,null,null,null,{"$f":"IF(H4113=Listas!$X$3,Acompanhamento!I4113,0)","v":0},{"$f":"IF(H4113=Listas!$X$4,Acompanhamento!I4113,0)","v":0},null,0,null,0,null,0,null,0]
[null,null,null,null,null,null,null,null,null,{"$f":"IF(H4116=Listas!$X$3,Acompanhamento!I4116,0)","v":0},{"$f":"IF(H4116=Listas!$X$4,Acompanhamento!I4116,0)","v":0},null,0,null,0,null,0,null,0]
[null,null,null,null,null,null,null,null,null,{"$f":"IF(H4120=Listas!$X$3,Acompanhamento!I4120,0)","v":0},{"$f":"IF(H4120=Listas!$X$4,Acompanhamento!I4120,0)","v":0},null,0,null,0,null,0,null,0]
[null,null,null,null,null,null,null,null,null,{"$f":"IF(H4124=Listas!$X$3,Acompanhamento!I4124,0)","v":0},{"$f":"IF(H4124=Listas!$X$4,Acompanhamento!I4124,0)","v":0},null,0,null,0,null,0,null,0]
[null,null,null,null,null,null,null,null,null,{"$f":"IF(H4127=Listas!$X$3,Acompanhamento!I4127,0)","v":0},{"$f":"IF(H4127=Listas!$X$4,Acompanhamento!I4127,0)","v":0},null,0,null,0,null,0,null,0]
[null,null,null,null,null,null,null,null,null,{"$f":"IF(H4131=Listas!$X$3,Acompanhamento!I4131,0)","v":0},{"$f":"IF(H4131=Listas!$X$4,Acompanhamento!I4131,0)","v":0},null,0,null,0,null,0,null,0]
[null,null,null,null,null,null,null,null,null,{"$f":"IF(H4134=Listas!$X$3,Acompanhamento!I4134,0)","v":0},{"$f":"IF(H4134=Listas!$X$4,Acompanhamento!I4134,0)","v":0},null,0,null,0,null,0,null,0]
[null,null,null,null,null,null,null,null,null,{"$f":"IF(H4137=Listas!$X$3,Acompanhamento!I4137,0)","v":0},{"$f":"IF(H4137=Listas!$X$4,Acompanhamento!I4137,0)","v":0},null,0,null,0,null,0,null,0]
[null,null,null,null,null,null,null,null,null,{"$f":"IF(H4139=Listas!$X$3,Acompanhamento!I4139,0)","v":0},{"$f":"IF(H4139=Listas!$X$4,Acompanhamento!I4139,0)","v":0},null,0,null,0,null,0,null,0]
[null,null,null,null,null,null,null,null,null,{"$f":"IF(H4142=Listas!$X$3,Acompanhamento!I4142,0)","v":0},{"$f":"IF(H4142=Listas!$X$4,Acompanhamento!I4142,0)","v":0},null,0,null,0,null,0,null,0]
[null,null,null,null,null,null,null,null,null,{"$f":"IF(H4146=Listas!$X$3,Acompanhamento!I4146,0)","v":0},{"$f":"IF(H4146=Listas!$X$4,Acompanhamento!I4146,0)","v":0},null,0,null,0,null,0,null,0]
[null,null,null,null,null,null,null,null,null,{"$f":"IF(H4150=Listas!$X$3,Acompanhamento!I4150,0)","v":0},{"$f":"IF(H4150=Listas!$X$4,Acompanhamento!I4150,0)","v":0},null,0,null,0,null,0,null,0]
[null,null,null,null,null,null,null,null,null,{"$f":"IF(H4153=Listas!$X$3,Acompanhamento!I4153,0)","v":0},{"$f":"IF(H4153=Listas!$X$4,Acompanhamento!I4153,0)","v":0},null,0,null,0,null,0,null,0]
[null,null,null,null,null,null,null,null,null,{"$f":"IF(H4157=Listas!$X$3,Acompanhamento!I4157,0)","v":0},{"$f":"IF(H4157=Listas!$X$4,Acompanhamento!I4157,0)","v":0},null,0,null,0,null,0,null,0]
[null,null,null,null,null,null,null,null,null,{"$f":"IF(H4160=Listas!$X$3,Acompanhamento!I4160,0)","v":0},{"$f":"IF(H4160=Listas!$X$4,Acompanhamento!I4160,0)","v":0},null,0,null,0,null,0,null,0]
[null,null,null,null,null,null,null,null,null,{"$f":"IF(H4163=Listas!$X$3,Acompanhamento!I4163,0)","v":0},{"$f":"IF(H4163=Listas!$X$4,Acompanhamento!I4163,0)","v":0},null,0,null,0,null,0,null,0]
[null,null,null,null,null,null,null,null,null,{"$f":"IF(H4165=Listas!$X$3,Acompanhamento!I4165,0)","v":0},{"$f":"IF(H4165=Listas!$X$4,Acompanhamento!I4165,0)","v":0},null,0,null,0,null,0,null,0]
[null,null,null,null,null,null,null,null,null,{"$f":"IF(H4168=Listas!$X$3,Acompanhamento!I4168,0)","v":0},{"$f":"IF(H4168=Listas!$X$4,Acompanhamento!I4168,0)","v":0},null,0,null,0,null,0,null,0]
[null,null,null,null,null,null,null,null,null,{"$f":"IF(H4172=Listas!$X$3,Acompanhamento!I4172,0)","v":0},{"$f":"IF(H4172=Listas!$X$4,Acompanhamento!I4172,0)","v":0},null,0,null,0,null,0,null,0]
[null,null,null,null,null,null,null,null,null,{"$f":"IF(H4176=Listas!$X$3,Acompanhamento!I4176,0)","v":0},{"$f":"IF(H4176=Listas!$X$4,Acompanhamento!I4176,0)","v":0},null,0,null,0,null,0,null,0]
[null,null,null,null,null,null,null,null,null,{"$f":"IF(H4179=Listas!$X$3,Acompanhamento!I4179,0)","v":0},{"$f":"IF(H4179=Listas!$X$4,Acompanhamento!I4179,0)","v":0},null,0,null,0,null,0,null,0]
[null,null,null,null,null,null,null,null,null,{"$f":"IF(H4183=Listas!$X$3,Acompanhamento!I4183,0)","v":0},{"$f":"IF(H4183=Listas!$X$4,Acompanhamento!I4183,0)","v":0},null,0,null,0,null,0,null,0]
[null,null,null,null,null,null,null,null,null,{"$f":"IF(H4186=Listas!$X$3,Acompanhamento!I4186,0)","v":0},{"$f":"IF(H4186=Listas!$X$4,Acompanhamento!I4186,0)","v":0},null,0,null,0,null,0,null,0]
[null,null,null,null,null,null,null,null,null,{"$f":"IF(H4189=Listas!$X$3,Acompanhamento!I4189,0)","v":0},{"$f":"IF(H4189=Listas!$X$4,Acompanhamento!I4189,0)","v":0},null,0,null,0,null,0,null,0]
[null,null,null,null,null,null,null,null,null,{"$f":"IF(H4191=Listas!$X$3,Acompanhamento!I4191,0)","v":0},{"$f":"IF(H4191=Listas!$X$4,Acompanhamento!I4191,0)","v":0},null,0,null,0,null,0,null,0]
[null,null,null,null,null,null,null,null,null,{"$f":"IF(H4194=Listas!$X$3,Acompanhamento!I4194,0)","v":0},{"$f":"IF(H4194=Listas!$X$4,Acompanhamento!I4194,0)","v":0},null,0,null,0,null,0,null,0]
[null,null,null,null,null,null,null,null,null,{"$f":"IF(H4198=Listas!$X$3,Acompanhamento!I4198,0)","v":0},{"$f":"IF(H4198=Listas!$X$4,Acompanhamento!I4198,0)","v":0},null,0,null,0,null,0,null,0]
[null,null,null,null,null,null,null,null,null,{"$f":"IF(H4202=Listas!$X$3,Acompanhamento!I4202,0)","v":0},{"$f":"IF(H4202=Listas!$X$4,Acompanhamento!I4202,0)","v":0},null,0,null,0,null,0,null,0]
[null,null,null,null,null,null,null,null,null,{"$f":"IF(H4205=Listas!$X$3,Acompanhamento!I4205,0)","v":0},{"$f":"IF(H4205=Listas!$X$4,Acompanhamento!I4205,0)","v":0},null,0,null,0,null,0,null,0]
[null,null,null,null,null,null,null,null,null,{"$f":"IF(H4209=Listas!$X$3,Acompanhamento!I4209,0)","v":0},{"$f":"IF(H4209=Listas!$X$4,Acompanhamento!I4209,0)","v":0},null,0,null,0,null,0,null,0]
[null,null,null,null,null,null,null,null,null,{"$f":"IF(H4212=Listas!$X$3,Acompanhamento!I4212,0)","v":0},{"$f":"IF(H4212=Listas!$X$4,Acompanhamento!I4212,0)","v":0},null,0,null,0,null,0,null,0]
[null,null,null,null,null,null,null,null,null,{"$f":"IF(H4215=Listas!$X$3,Acompanhamento!I4215,0)","v":0},{"$f":"IF(H4215=Listas!$X$4,Acompanhamento!I4215,0)","v":0},null,0,null,0,null,0,null,0]
[null,null,null,null,null,null,null,null,null,{"$f":"IF(H4217=Listas!$X$3,Acompanhamento!I4217,0)","v":0},{"$f":"IF(H4217=Listas!$X$4,Acompanhamento!I4217,0)","v":0},null,0,null,0,null,0,null,0]
[null,null,null,null,null,null,null,null,null,{"$f":"IF(H4220=Listas!$X$3,Acompanhamento!I4220,0)","v":0},{"$f":"IF(H4220=Listas!$X$4,Acompanhamento!I4220,0)","v":0},null,0,null,0,null,0,null,0]
[null,null,null,null,null,null,null,null,null,{"$f":"IF(H4224=Listas!$X$3,Acompanhamento!I4224,0)","v":0},{"$f":"IF(H4224=Listas!$X$4,Acompanhamento!I4224,0)","v":0},null,0,null,0,null,0,null,0]
[null,null,null,null,null,null,null,null,null,{"$f":"IF(H4228=Listas!$X$3,Acompanhamento!I4228,0)","v":0},{"$f":"IF(H4228=Listas!$X$4,Acompanhamento!I4228,0)","v":0},null,0,null,0,null,0,null,0]
[null,null,null,null,null,null,null,null,null,{"$f":"IF(H4232=Listas!$X$3,Acompanhamento!I4232,0)","v":0},{"$f":"IF(H4232=Listas!$X$4,Acompanhamento!I4232,0)","v":0},null,0,null,0,null,0,null,0]
[null,null,null,null,null,null,null,null,null,{"$f":"IF(H4235=Listas!$X$3,Acompanhamento!I4235,0)","v":0},{"$f":"IF(H4235=Listas!$X$4,Acompanhamento!I4235,0)","v":0},null,0,null,0,null,0,null,0]
[null,null,null,null,null,null,null,null,null,{"$f":"IF(H4238=Listas!$X$3,Acompanhamento!I4238,0)","v":0},{"$f":"IF(H4238=Listas!$X$4,Acompanhamento!I4238,0)","v":0},null,0,null,0,null,0,null,0]
[null,null,null,null,null,null,null,null,null,{"$f":"IF(H4241=Listas!$X$3,Acompanhamento!I4241,0)","v":0},{"$f":"IF(H4241=Listas!$X$4,Acompanhamento!I4241,0)","v":0},null,0,null,0,null,0,null,0]
[null,null,null,null,null,null,null,null,null,{"$f":"IF(H4243=Listas!$X$3,Acompanhamento!I4243,0)","v":0},{"$f":"IF(H4243=Listas!$X$4,Acompanhamento!I4243,0)","v":0},null,0,null,0,null,0,null,0]
[null,null,null,null,null,null,null,null,null,{"$f":"IF(H4246=Listas!$X$3,Acompanhamento!I4246,0)","v":0},{"$f":"IF(H4246=Listas!$X$4,Acompanhamento!I4246,0)","v":0},null,0,null,0,null,0,null,0]
[null,null,null,null,null,null,null,null,null,{"$f":"IF(H4250=Listas!$X$3,Acompanhamento!I4250,0)","v":0},{"$f":"IF(H4250=Listas!$X$4,Acompanhamento!I4250,0)","v":0},null,0,null,0,null,0,null,0]
[null,null,null,null,null,null,null,null,null,{"$f":"IF(H4254=Listas!$X$3,Acompanhamento!I4254,0)","v":0},{"$f":"IF(H4254=Listas!$X$4,Acompanhamento!I4254,0)","v":0},null,0,null,0,null,0,null,0]
[null,null,null,null,null,null,null,null,null,{"$f":"IF(H4258=Listas!$X$3,Acompanhamento!I4258,0)","v":0},{"$f":"IF(H4258=Listas!$X$4,Acompanhamento!I4258,0)","v":0},null,0,null,0,null,0,null,0]
[null,null,null,null,null,null,null,null,null,{"$f":"IF(H4261=Listas!$X$3,Acompanhamento!I4261,0)","v":0},{"$f":"IF(H4261=Listas!$X$4,Acompanhamento!I4261,0)","v":0},null,0,null,0,null,0,null,0]
[null,null,null,null,null,null,null,null,null,{"$f":"IF(H4264=Listas!$X$3,Acompanhamento!I4264,0)","v":0},{"$f":"IF(H4264=Listas!$X$4,Acompanhamento!I4264,0)","v":0},null,0,null,0,null,0,null,0]
[null,null,null,null,null,null,null,null,null,{"$f":"IF(H4267=Listas!$X$3,Acompanhamento!I4267,0)","v":0},{"$f":"IF(H4267=Listas!$X$4,Acompanhamento!I4267,0)","v":0},null,0,null,0,null,0,null,0]
[null,null,null,null,null,null,null,null,null,{"$f":"IF(H4269=Listas!$X$3,Acompanhamento!I4269,0)","v":0},{"$f":"IF(H4269=Listas!$X$4,Acompanhamento!I4269,0)","v":0},null,0,null,0,null,0,null,0]
[null,null,null,null,null,null,null,null,null,{"$f":"IF(H4272=Listas!$X$3,Acompanhamento!I4272,0)","v":0},{"$f":"IF(H4272=Listas!$X$4,Acompanhamento!I4272,0)","v":0},null,0,null,0,null,0,null,0]
[null,null,null,null,null,null,null,null,null,{"$f":"IF(H4276=Listas!$X$3,Acompanhamento!I4276,0)","v":0},{"$f":"IF(H4276=Listas!$X$4,Acompanhamento!I4276,0)","v":0},null,0,null,0,null,0,null,0]
[null,null,null,null,null,null,null,null,null,{"$f":"IF(H4280=Listas!$X$3,Acompanhamento!I4280,0)","v":0},{"$f":"IF(H4280=Listas!$X$4,Acompanhamento!I4280,0)","v":0},null,0,null,0,null,0,null,0]
[null,null,null,null,null,null,null,null,null,{"$f":"IF(H4284=Listas!$X$3,Acompanhamento!I4284,0)","v":0},{"$f":"IF(H4284=Listas!$X$4,Acompanhamento!I4284,0)","v":0},null,0,null,0,null,0,null,0]
[null,null,null,null,null,null,null,null,null,{"$f":"IF(H4287=Listas!$X$3,Acompanhamento!I4287,0)","v":0},{"$f":"IF(H4287=Listas!$X$4,Acompanhamento!I4287,0)","v":0},null,0,null,0,null,0,null,0]
[null,null,null,null,null,null,null,null,null,{"$f":"IF(H4290=Listas!$X$3,Acompanhamento!I4290,0)","v":0},{"$f":"IF(H4290=Listas!$X$4,Acompanhamento!I4290,0)","v":0},null,0,null,0,null,0,null,0]
[null,null,null,null,null,null,null,null,null,{"$f":"IF(H4293=Listas!$X$3,Acompanhamento!I4293,0)","v":0},{"$f":"IF(H4293=Listas!$X$4,Acompanhamento!I4293,0)","v":0},null,0,null,0,null,0,null,0]
[null,null,null,null,null,null,null,null,null,{"$f":"IF(H4295=Listas!$X$3,Acompanhamento!I4295,0)","v":0},{"$f":"IF(H4295=Listas!$X$4,Acompanhamento!I4295,0)","v":0},null,0,null,0,null,0,null,0]
[null,null,null,null,null,null,null,null,null,{"$f":"IF(H4299=Listas!$X$3,Acompanhamento!I4299,0)","v":0},{"$f":"IF(H4299=Listas!$X$4,Acompanhamento!I4299,0)","v":0},null,0,null,0,null,0,null,0]
[null,null,null,null,null,null,null,null,null,{"$f":"IF(H4302=Listas!$X$3,Acompanhamento!I4302,0)","v":0},{"$f":"IF(H4302=Listas!$X$4,Acompanhamento!I4302,0)","v":0},null,0,null,0,null,0,null,0]
[null,null,null,null,null,null,null,null,null,{"$f":"IF(H4306=Listas!$X$3,Acompanhamento!I4306,0)","v":0},{"$f":"IF(H4306=Listas!$X$4,Acompanhamento!I4306,0)","v":0},null,0,null,0,null,0,null,0]
[null,null,null,null,null,null,null,null,null,{"$f":"IF(H4310=Listas!$X$3,Acompanhamento!I4310,0)","v":0},{"$f":"IF(H4310=Listas!$X$4,Acompanhamento!I4310,0)","v":0},null,0,null,0,null,0,null,0]
[null,null,null,null,null,null,null,null,null,{"$f":"IF(H4313=Listas!$X$3,Acompanhamento!I4313,0)","v":0},{"$f":"IF(H4313=Listas!$X$4,Acompanhamento!I4313,0)","v":0},null,0,null,0,null,0,null,0]
[null,null,null,null,null,null,null,null,null,{"$f":"IF(H4316=Listas!$X$3,Acompanhamento!I4316,0)","v":0},{"$f":"IF(H4316=Listas!$X$4,Acompanhamento!I4316,0)","v":0},null,0,null,0,null,0,null,0]
[null,null,null,null,null,null,null,null,null,{"$f":"IF(H4319=Listas!$X$3,Acompanhamento!I4319,0)","v":0},{"$f":"IF(H4319=Listas!$X$4,Acompanhamento!I4319,0)","v":0},null,0,null,0,null,0,null,0]
[null,null,null,null,null,null,null,null,null,{"$f":"IF(H4321=Listas!$X$3,Acompanhamento!I4321,0)","v":0},{"$f":"IF(H4321=Listas!$X$4,Acompanhamento!I4321,0)","v":0},null,0,null,0,null,0,null,0]
[null,null,null,null,null,null,null,null,null,{"$f":"IF(H4325=Listas!$X$3,Acompanhamento!I4325,0)","v":0},{"$f":"IF(H4325=Listas!$X$4,Acompanhamento!I4325,0)","v":0},null,0,null,0,null,0,null,0]
[null,null,null,null,null,null,null,null,null,{"$f":"IF(H4328=Listas!$X$3,Acompanhamento!I4328,0)","v":0},{"$f":"IF(H4328=Listas!$X$4,Acompanhamento!I4328,0)","v":0},null,0,null,0,null,0,null,0]
[null,null,null,null,null,null,null,null,null,{"$f":"IF(H4332=Listas!$X$3,Acompanhamento!I4332,0)","v":0},{"$f":"IF(H4332=Listas!$X$4,Acompanhamento!I4332,0)","v":0},null,0,null,0,null,0,null,0]
[null,null,null,null,null,null,null,null,null,{"$f":"IF(H4336=Listas!$X$3,Acompanhamento!I4336,0)","v":0},{"$f":"IF(H4336=Listas!$X$4,Acompanhamento!I4336,0)","v":0},null,0,null,0,null,0,null,0]
[null,null,null,null,null,null,null,null,null,{"$f":"IF(H4339=Listas!$X$3,Acompanhamento!I4339,0)","v":0},{"$f":"IF(H4339=Listas!$X$4,Acompanhamento!I4339,0)","v":0},null,0,null,0,null,0,null,0]
[null,null,null,null,null,null,null,null,null,{"$f":"IF(H4340=Listas!$X$3,Acompanhamento!I4340,0)","v":0},{"$f":"IF(H4340=Listas!$X$4,Acompanhamento!I4340,0)","v":0},null,0,null,0,null,0,null,0]
[null,null,null,null,null,null,null,null,null,{"$f":"IF(H4345=Listas!$X$3,Acompanhamento!I4345,0)","v":0},{"$f":"IF(H4345=Listas!$X$4,Acompanhamento!I4345,0)","v":0},null,0,null,0,null,0,null,0]
[null,null,null,null,null,null,null,null,null,{"$f":"IF(H4347=Listas!$X$3,Acompanhamento!I4347,0)","v":0},{"$f":"IF(H4347=Listas!$X$4,Acompanhamento!I4347,0)","v":0},null,0,null,0,null,0,null,0]
[null,null,null,null,null,null,null,null,null,{"$f":"IF(H4351=Listas!$X$3,Acompanhamento!I4351,0)","v":0},{"$f":"IF(H4351=Listas!$X$4,Acompanhamento!I4351,0)","v":0},null,0,null,0,null,0,null,0]
[null,null,null,null,null,null,null,null,null,{"$f":"IF(H4354=Listas!$X$3,Acompanhamento!I4354,0)","v":0},{"$f":"IF(H4354=Listas!$X$4,Acompanhamento!I4354,0)","v":0},null,0,null,0,null,0,null,0]
[null,null,null,null,null,null,null,null,null,{"$f":"IF(H4358=Listas!$X$3,Acompanhamento!I4358,0)","v":0},{"$f":"IF(H4358=Listas!$X$4,Acompanhamento!I4358,0)","v":0},null,0,null,0,null,0,null,0]
[null,null,null,null,null,null,null,null,null,{"$f":"IF(H4362=Listas!$X$3,Acompanhamento!I4362,0)","v":0},{"$f":"IF(H4362=Listas!$X$4,Acompanhamento!I4362,0)","v":0},null,{"$f":"J4362-L4362","v":0},null,{"$f":"M4362-N4362","v":0},null,{"$f":"O4362-P4362","v":0},null,{"$f":"Q4362-R4362","v":0}]
[null,null,null,null,null,null,null,null,null,{"$f":"IF(H4365=Listas!$X$3,Acompanhamento!I4365,0)","v":0},{"$f":"IF(H4365=Listas!$X$4,Acompanhamento!I4365,0)","v":0},null,0,null,0,null,0,null,0]
[null,null,null,null,null,null,null,null,null,{"$f":"IF(H4366=Listas!$X$3,Acompanhamento!I4366,0)","v":0},{"$f":"IF(H4366=Listas!$X$4,Acompanhamento!I4366,0)","v":0},null,0,null,0,null,0,null,0]
[null,null,null,null,null,null,null,null,null,{"$f":"IF(H4371=Listas!$X$3,Acompanhamento!I4371,0)","v":0},{"$f":"IF(H4371=Listas!$X$4,Acompanhamento!I4371,0)","v":0},null,0,null,0,null,0,null,0]
[null,null,null,null,null,null,null,null,null,{"$f":"IF(H4373=Listas!$X$3,Acompanhamento!I4373,0)","v":0},{"$f":"IF(H4373=Listas!$X$4,Acompanhamento!I4373,0)","v":0},null,0,null,0,null,0,null,0]
[null,null,null,null,null,null,null,null,null,{"$f":"IF(H4377=Listas!$X$3,Acompanhamento!I4377,0)","v":0},{"$f":"IF(H4377=Listas!$X$4,Acompanhamento!I4377,0)","v":0},null,0,null,0,null,0,null,0]
[null,null,null,null,null,null,null,null,null,{"$f":"IF(H4380=Listas!$X$3,Acompanhamento!I4380,0)","v":0},{"$f":"IF(H4380=Listas!$X$4,Acompanhamento!I4380,0)","v":0},null,0,null,0,null,0,null,0]
[null,null,null,null,null,null,null,null,null,{"$f":"IF(H4384=Listas!$X$3,Acompanhamento!I4384,0)","v":0},{"$f":"IF(H4384=Listas!$X$4,Acompanhamento!I4384,0)","v":0},null,0,null,0,null,0,null,0]
[null,null,null,null,null,null,null,null,null,{"$f":"IF(H4388=Listas!$X$3,Acompanhamento!I4388,0)","v":0},{"$f":"IF(H4388=Listas!$X$4,Acompanhamento!I4388,0)","v":0},null,0,null,0,null,0,null,0]
[null,null,null,null,null,null,null,null,null,{"$f":"IF(H4391=Listas!$X$3,Acompanhamento!I4391,0)","v":0},{"$f":"IF(H4391=Listas!$X$4,Acompanhamento!I4391,0)","v":0},null,0,null,0,null,0,null,0]
[null,null,null,null,null,null,null,null,null,{"$f":"IF(H4392=Listas!$X$3,Acompanhamento!I4392,0)","v":0},{"$f":"IF(H4392=Listas!$X$4,Acompanhamento!I4392,0)","v":0},null,0,null,0,null,0,null,0]
[null,null,null,null,null,null,null,null,null,{"$f":"IF(H4397=Listas!$X$3,Acompanhamento!I4397,0)","v":0},{"$f":"IF(H4397=Listas!$X$4,Acompanhamento!I4397,0)","v":0},null,0,null,0,null,0,null,0]
[null,null,null,null,null,null,null,null,null,{"$f":"IF(H4399=Listas!$X$3,Acompanhamento!I4399,0)","v":0},{"$f":"IF(H4399=Listas!$X$4,Acompanhamento!I4399,0)","v":0},null,0,null,0,null,0,null,0]
[null,null,null,null,null,null,null,null,null,{"$f":"IF(H4403=Listas!$X$3,Acompanhamento!I4403,0)","v":0},{"$f":"IF(H4403=Listas!$X$4,Acompanhamento!I4403,0)","v":0},null,0,null,0,null,0,null,0]
[null,null,null,null,null,null,null,null,null,{"$f":"IF(H4406=Listas!$X$3,Acompanhamento!I4406,0)","v":0},{"$f":"IF(H4406=Listas!$X$4,Acompanhamento!I4406,0)","v":0},null,0,null,0,null,0,null,0]
[null,null,null,null,null,null,null,null,null,{"$f":"IF(H4410=Listas!$X$3,Acompanhamento!I4410,0)","v":0},{"$f":"IF(H4410=Listas!$X$4,Acompanhamento!I4410,0)","v":0},null,0,null,0,null,0,null,0]
[null,null,null,null,null,null,null,null,null,{"$f":"IF(H4414=Listas!$X$3,Acompanhamento!I4414,0)","v":0},{"$f":"IF(H4414=Listas!$X$4,Acompanhamento!I4414,0)","v":0},null,0,null,0,null,0,null,0]
[null,null,null,null,null,null,null,null,null,{"$f":"IF(H4417=Listas!$X$3,Acompanhamento!I4417,0)","v":0},{"$f":"IF(H4417=Listas!$X$4,Acompanhamento!I4417,0)","v":0},null,0,null,0,null,0,null,0]
[null,null,null,null,null,null,null,null,null,{"$f":"IF(H4418=Listas!$X$3,Acompanhamento!I4418,0)","v":0},{"$f":"IF(H4418=Listas!$X$4,Acompanhamento!I4418,0)","v":0},null,0,null,0,null,0,null,0]
[null,null,null,null,null,null,null,null,null,{"$f":"IF(H4423=Listas!$X$3,Acompanhamento!I4423,0)","v":0},{"$f":"IF(H4423=Listas!$X$4,Acompanhamento!I4423,0)","v":0},null,0,null,0,null,0,null,0]
[null,null,null,null,null,null,null,null,null,{"$f":"IF(H4425=Listas!$X$3,Acompanhamento!I4425,0)","v":0},{"$f":"IF(H4425=Listas!$X$4,Acompanhamento!I4425,0)","v":0},null,0,null,0,null,0,null,0]
[null,null,null,null,null,null,null,null,null,{"$f":"IF(H4429=Listas!$X$3,Acompanhamento!I4429,0)","v":0},{"$f":"IF(H4429=Listas!$X$4,Acompanhamento!I4429,0)","v":0},null,0,null,0,null,0,null,0]
[null,null,null,null,null,null,null,null,null,{"$f":"IF(H4432=Listas!$X$3,Acompanhamento!I4432,0)","v":0},{"$f":"IF(H4432=Listas!$X$4,Acompanhamento!I4432,0)","v":0},null,0,null,0,null,0,null,0]
[null,null,null,null,null,null,null,null,null,{"$f":"IF(H4436=Listas!$X$3,Acompanhamento!I4436,0)","v":0},{"$f":"IF(H4436=Listas!$X$4,Acompanhamento!I4436,0)","v":0},null,0,null,0,null,0,null,0]
[null,null,null,null,null,null,null,null,null,{"$f":"IF(H4440=Listas!$X$3,Acompanhamento!I4440,0)","v":0},{"$f":"IF(H4440=Listas!$X$4,Acompanhamento!I4440,0)","v":0},null,0,null,0,null,0,null,0]
[null,null,null,null,null,null,null,null,null,{"$f":"IF(H4443=Listas!$X$3,Acompanhamento!I4443,0)","v":0},{"$f":"IF(H4443=Listas!$X$4,Acompanhamento!I4443,0)","v":0},null,0,null,0,null,0,null,0]
[null,null,null,null,null,null,null,null,null,{"$f":"IF(H4444=Listas!$X$3,Acompanhamento!I4444,0)","v":0},{"$f":"IF(H4444=Listas!$X$4,Acompanhamento!I4444,0)","v":0},null,0,null,0,null,0,null,0]
[null,null,null,null,null,null,null,null,null,{"$f":"IF(H4449=Listas!$X$3,Acompanhamento!I4449,0)","v":0},{"$f":"IF(H4449=Listas!$X$4,Acompanhamento!I4449,0)","v":0},null,0,null,0,null,0,null,0]
[null,null,null,null,null,null,null,null,null,{"$f":"IF(H4452=Listas!$X$3,Acompanhamento!I4452,0)","v":0},{"$f":"IF(H4452=Listas!$X$4,Acompanhamento!I4452,0)","v":0},null,0,null,0,null,0,null,0]
[null,null,null,null,null,null,null,null,null,{"$f":"IF(H4455=Listas!$X$3,Acompanhamento!I4455,0)","v":0},{"$f":"IF(H4455=Listas!$X$4,Acompanhamento!I4455,0)","v":0},null,0,null,0,null,0,null,0]
[null,null,null,null,null,null,null,null,null,{"$f":"IF(H4458=Listas!$X$3,Acompanhamento!I4458,0)","v":0},{"$f":"IF(H4458=Listas!$X$4,Acompanhamento!I4458,0)","v":0},null,0,null,0,null,0,null,0]
[null,null,null,null,null,null,null,null,null,{"$f":"IF(H4462=Listas!$X$3,Acompanhamento!I4462,0)","v":0},{"$f":"IF(H4462=Listas!$X$4,Acompanhamento!I4462,0)","v":0},null,0,null,0,null,0,null,0]
[null,null,null,null,null,null,null,null,null,{"$f":"IF(H4466=Listas!$X$3,Acompanhamento!I4466,0)","v":0},{"$f":"IF(H4466=Listas!$X$4,Acompanhamento!I4466,0)","v":0},null,0,null,0,null,0,null,0]
[null,null,null,null,null,null,null,null,null,{"$f":"IF(H4469=Listas!$X$3,Acompanhamento!I4469,0)","v":0},{"$f":"IF(H4469=Listas!$X$4,Acompanhamento!I4469,0)","v":0},null,0,null,0,null,0,null,0]
[null,null,null,null,null,null,null,null,null,{"$f":"IF(H4470=Listas!$X$3,Acompanhamento!I4470,0)","v":0},{"$f":"IF(H4470=Listas!$X$4,Acompanhamento!I4470,0)","v":0},null,0,null,0,null,0,null,0]
[null,null,null,null,null,null,null,null,null,{"$f":"IF(H4475=Listas!$X$3,Acompanhamento!I4475,0)","v":0},{"$f":"IF(H4475=Listas!$X$4,Acompanhamento!I4475,0)","v":0},null,0,null,0,null,0,null,0]
[null,null,null,null,null,null,null,null,null,{"$f":"IF(H4478=Listas!$X$3,Acompanhamento!I4478,0)","v":0},{"$f":"IF(H4478=Listas!$X$4,Acompanhamento!I4478,0)","v":0},null,0,null,0,null,0,null,0]
[null,null,null,null,null,null,null,null,null,{"$f":"IF(H4481=Listas!$X$3,Acompanhamento!I4481,0)","v":0},{"$f":"IF(H4481=Listas!$X$4,Acompanhamento!I4481,0)","v":0},null,0,null,0,null,0,null,0]
[null,null,null,null,null,null,null,null,null,{"$f":"IF(H4484=Listas!$X$3,Acompanhamento!I4484,0)","v":0},{"$f":"IF(H4484=Listas!$X$4,Acompanhamento!I4484,0)","v":0},null,0,null,0,null,0,null,0]
[null,null,null,null,null,null,null,null,null,{"$f":"IF(H4488=Listas!$X$3,Acompanhamento!I4488,0)","v":0},{"$f":"IF(H4488=Listas!$X$4,Acompanhamento!I4488,0)","v":0},null,0,null,0,null,0,null,0]
[null,null,null,null,null,null,null,null,null,{"$f":"IF(H4492=Listas!$X$3,Acompanhamento!I4492,0)","v":0},{"$f":"IF(H4492=Listas!$X$4,Acompanhamento!I4492,0)","v":0},null,0,null,0,null,0,null,0]
[null,null,null,null,null,null,null,null,null,{"$f":"IF(H4495=Listas!$X$3,Acompanhamento!I4495,0)","v":0},{"$f":"IF(H4495=Listas!$X$4,Acompanhamento!I4495,0)","v":0},null,0,null,0,null,0,null,0]
[null,null,null,null,null,null,null,null,null,{"$f":"IF(H4496=Listas!$X$3,Acompanhamento!I4496,0)","v":0},{"$f":"IF(H4496=Listas!$X$4,Acompanhamento!I4496,0)","v":0},null,0,null,0,null,0,null,0]
[null,null,null,null,null,null,null,null,null,{"$f":"IF(H4501=Listas!$X$3,Acompanhamento!I4501,0)","v":0},{"$f":"IF(H4501=Listas!$X$4,Acompanhamento!I4501,0)","v":0},null,0,null,0,null,0,null,0]
[null,null,null,null,null,null,null,null,null,{"$f":"IF(H4504=Listas!$X$3,Acompanhamento!I4504,0)","v":0},{"$f":"IF(H4504=Listas!$X$4,Acompanhamento!I4504,0)","v":0},null,0,null,0,null,0,null,0]
[null,null,null,null,null,null,null,null,null,{"$f":"IF(H4507=Listas!$X$3,Acompanhamento!I4507,0)","v":0},{"$f":"IF(H4507=Listas!$X$4,Acompanhamento!I4507,0)","v":0},null,0,null,0,null,0,null,0]
[null,null,null,null,null,null,null,null,null,{"$f":"IF(H4510=Listas!$X$3,Acompanhamento!I4510,0)","v":0},{"$f":"IF(H4510=Listas!$X$4,Acompanhamento!I4510,0)","v":0},null,0,null,0,null,0,null,0]
[null,null,null,null,null,null,null,null,null,{"$f":"IF(H4514=Listas!$X$3,Acompanhamento!I4514,0)","v":0},{"$f":"IF(H4514=Listas!$X$4,Acompanhamento!I4514,0)","v":0},null,0,null,0,null,0,null,0]
[null,null,null,null,null,null,null,null,null,{"$f":"IF(H4518=Listas!$X$3,Acompanhamento!I4518,0)","v":0},{"$f":"IF(H4518=Listas!$X$4,Acompanhamento!I4518,0)","v":0},null,0,null,0,null,0,null,0]
[null,null,null,null,null,null,null,null,null,{"$f":"IF(H4519=Listas!$X$3,Acompanhamento!I4519,0)","v":0},{"$f":"IF(H4519=Listas!$X$4,Acompanhamento!I4519,0)","v":0},null,0,null,0,null,0,null,0]
[null,null,null,null,null,null,null,null,null,{"$f":"IF(H4522=Listas!$X$3,Acompanhamento!I4522,0)","v":0},{"$f":"IF(H4522=Listas!$X$4,Acompanhamento!I4522,0)","v":0},null,0,null,0,null,0,null,0]
[null,null,null,null,null,null,null,null,null,{"$f":"IF(H4527=Listas!$X$3,Acompanhamento!I4527,0)","v":0},{"$f":"IF(H4527=Listas!$X$4,Acompanhamento!I4527,0)","v":0},null,0,null,0,null,0,null,0]
[null,null,null,null,null,null,null,null,null,{"$f":"IF(H4530=Listas!$X$3,Acompanhamento!I4530,0)","v":0},{"$f":"IF(H4530=Listas!$X$4,Acompanhamento!I4530,0)","v":0},null,0,null,0,null,0,null,0]
[null,null,null,null,null,null,null,null,null,{"$f":"IF(H4533=Listas!$X$3,Acompanhamento!I4533,0)","v":0},{"$f":"IF(H4533=Listas!$X$4,Acompanhamento!I4533,0)","v":0},null,0,null,0,null,0,null,0]
[null,null,null,null,null,null,null,null,null,{"$f":"IF(H4536=Listas!$X$3,Acompanhamento!I4536,0)","v":0},{"$f":"IF(H4536=Listas!$X$4,Acompanhamento!I4536,0)","v":0},null,0,null,0,null,0,null,0]
[null,null,null,null,null,null,null,null,null,{"$f":"IF(H4540=Listas!$X$3,Acompanhamento!I4540,0)","v":0},{"$f":"IF(H4540=Listas!$X$4,Acompanhamento!I4540,0)","v":0},null,0,null,0,null,0,null,0]
[null,null,null,null,null,null,null,null,null,{"$f":"IF(H4544=Listas!$X$3,Acompanhamento!I4544,0)","v":0},{"$f":"IF(H4544=Listas!$X$4,Acompanhamento!I4544,0)","v":0},null,0,null,0,null,0,null,0]
[null,null,null,null,null,null,null,null,null,{"$f":"IF(H4545=Listas!$X$3,Acompanhamento!I4545,0)","v":0},{"$f":"IF(H4545=Listas!$X$4,Acompanhamento!I4545,0)","v":0},null,0,null,0,null,0,null,0]
[null,null,null,null,null,null,null,null,null,{"$f":"IF(H4548=Listas!$X$3,Acompanhamento!I4548,0)","v":0},{"$f":"IF(H4548=Listas!$X$4,Acompanhamento!I4548,0)","v":0},null,0,null,0,null,0,null,0]
[null,null,null,null,null,null,null,null,null,{"$f":"IF(H4553=Listas!$X$3,Acompanhamento!I4553,0)","v":0},{"$f":"IF(H4553=Listas!$X$4,Acompanhamento!I4553,0)","v":0},null,0,null,0,null,0,null,0]
[null,null,null,null,null,null,null,null,null,{"$f":"IF(H4556=Listas!$X$3,Acompanhamento!I4556,0)","v":0},{"$f":"IF(H4556=Listas!$X$4,Acompanhamento!I4556,0)","v":0},null,0,null,0,null,0,null,0]
[null,null,null,null,null,null,null,null,null,{"$f":"IF(H4559=Listas!$X$3,Acompanhamento!I4559,0)","v":0},{"$f":"IF(H4559=Listas!$X$4,Acompanhamento!I4559,0)","v":0},null,0,null,0,null,0,null,0]
[null,null,null,null,null,null,null,null,null,{"$f":"IF(H4562=Listas!$X$3,Acompanhamento!I4562,0)","v":0},{"$f":"IF(H4562=Listas!$X$4,Acompanhamento!I4562,0)","v":0},null,0,null,0,null,0,null,0]
[null,null,null,null,null,null,null,null,null,{"$f":"IF(H4566=Listas!$X$3,Acompanhamento!I4566,0)","v":0},{"$f":"IF(H4566=Listas!$X$4,Acompanhamento!I4566,0)","v":0},null,0,null,0,null,0,null,0]
[null,null,null,null,null,null,null,null,null,{"$f":"IF(H4570=Listas!$X$3,Acompanhamento!I4570,0)","v":0},{"$f":"IF(H4570=Listas!$X$4,Acompanhamento!I4570,0)","v":0},null,0,null,0,null,0,null,0]
[null,null,null,null,null,null,null,null,null,{"$f":"IF(H4571=Listas!$X$3,Acompanhamento!I4571,0)","v":0},{"$f":"IF(H4571=Listas!$X$4,Acompanhamento!I4571,0)","v":0},null,0,null,0,null,0,null,0]
[null,null,null,null,null,null,null,null,null,{"$f":"IF(H4574=Listas!$X$3,Acompanhamento!I4574,0)","v":0},{"$f":"IF(H4574=Listas!$X$4,Acompanhamento!I4574,0)","v":0},null,0,null,0,null,0,null,0]
[null,null,null,null,null,null,null,null,null,{"$f":"IF(H4579=Listas!$X$3,Acompanhamento!I4579,0)","v":0},{"$f":"IF(H4579=Listas!$X$4,Acompanhamento!I4579,0)","v":0},null,0,null,0,null,0,null,0]
[null,null,null,null,null,null,null,null,null,{"$f":"IF(H4582=Listas!$X$3,Acompanhamento!I4582,0)","v":0},{"$f":"IF(H4582=Listas!$X$4,Acompanhamento!I4582,0)","v":0},null,0,null,0,null,0,null,0]
[null,null,null,null,null,null,null,null,null,{"$f":"IF(H4585=Listas!$X$3,Acompanhamento!I4585,0)","v":0},{"$f":"IF(H4585=Listas!$X$4,Acompanhamento!I4585,0)","v":0},null,0,null,0,null,0,null,0]
[null,null,null,null,null,null,null,null,null,{"$f":"IF(H4589=Listas!$X$3,Acompanhamento!I4589,0)","v":0},{"$f":"IF(H4589=Listas!$X$4,Acompanhamento!I4589,0)","v":0},null,0,null,0,null,0,null,0]
[null,null,null,null,null,null,null,null,null,{"$f":"IF(H4592=Listas!$X$3,Acompanhamento!I4592,0)","v":0},{"$f":"IF(H4592=Listas!$X$4,Acompanhamento!I4592,0)","v":0},null,0,null,0,null,0,null,0]
[null,null,null,null,null,null,null,null,null,{"$f":"IF(H4596=Listas!$X$3,Acompanhamento!I4596,0)","v":0},{"$f":"IF(H4596=Listas!$X$4,Acompanhamento!I4596,0)","v":0},null,0,null,0,null,0,null,0]
[null,null,null,null,null,null,null,null,null,{"$f":"IF(H4597=Listas!$X$3,Acompanhamento!I4597,0)","v":0},{"$f":"IF(H4597=Listas!$X$4,Acompanhamento!I4597,0)","v":0},null,0,null,0,null,0,null,0]
[null,null,null,null,null,null,null,null,null,{"$f":"IF(H4600=Listas!$X$3,Acompanhamento!I4600,0)","v":0},{"$f":"IF(H4600=Listas!$X$4,Acompanhamento!I4600,0)","v":0},null,0,null,0,null,0,null,0]
[null,null,null,null,null,null,null,null,null,{"$f":"IF(H4605=Listas!$X$3,Acompanhamento!I4605,0)","v":0},{"$f":"IF(H4605=Listas!$X$4,Acompanhamento!I4605,0)","v":0},null,0,null,0,null,0,null,0]
[null,null,null,null,null,null,null,null,null,{"$f":"IF(H4608=Listas!$X$3,Acompanhamento!I4608,0)","v":0},{"$f":"IF(H4608=Listas!$X$4,Acompanhamento!I4608,0)","v":0},null,0,null,0,null,0,null,0]
[null,null,null,null,null,null,null,null,null,{"$f":"IF(H4611=Listas!$X$3,Acompanhamento!I4611,0)","v":0},{"$f":"IF(H4611=Listas!$X$4,Acompanhamento!I4611,0)","v":0},null,0,null,0,null,0,null,0]
[null,null,null,null,null,null,null,null,null,{"$f":"IF(H4615=Listas!$X$3,Acompanhamento!I4615,0)","v":0},{"$f":"IF(H4615=Listas!$X$4,Acompanhamento!I4615,0)","v":0},null,0,null,0,null,0,null,0]
[null,null,null,null,null,null,null,null,null,{"$f":"IF(H4618=Listas!$X$3,Acompanhamento!I4618,0)","v":0},{"$f":"IF(H4618=Listas!$X$4,Acompanhamento!I4618,0)","v":0},null,{"$f":"J4618-L4618","v":0},null,{"$f":"M4618-N4618","v":0},null,{"$f":"O4618-P4618","v":0},null,{"$f":"Q4618-R4618","v":0}]
[null,null,null,null,null,null,null,null,null,{"$f":"IF(H4622=Listas!$X$3,Acompanhamento!I4622,0)","v":0},{"$f":"IF(H4622=Listas!$X$4,Acompanhamento!I4622,0)","v":0},null,0,null,0,null,0,null,0]
[null,null,null,null,null,null,null,null,null,{"$f":"IF(H4623=Listas!$X$3,Acompanhamento!I4623,0)","v":0},{"$f":"IF(H4623=Listas!$X$4,Acompanhamento!I4623,0)","v":0},null,0,null,0,null,0,null,0]
[null,null,null,null,null,null,null,null,null,{"$f":"IF(H4626=Listas!$X$3,Acompanhamento!I4626,0)","v":0},{"$f":"IF(H4626=Listas!$X$4,Acompanhamento!I4626,0)","v":0},null,0,null,0,null,0,null,0]
[null,null,null,null,null,null,null,null,null,{"$f":"IF(H4631=Listas!$X$3,Acompanhamento!I4631,0)","v":0},{"$f":"IF(H4631=Listas!$X$4,Acompanhamento!I4631,0)","v":0},null,0,null,0,null,0,null,0]
[null,null,null,null,null,null,null,null,null,{"$f":"IF(H4634=Listas!$X$3,Acompanhamento!I4634,0)","v":0},{"$f":"IF(H4634=Listas!$X$4,Acompanhamento!I4634,0)","v":0},null,0,null,0,null,0,null,0]
[null,null,null,null,null,null,null,null,null,{"$f":"IF(H4637=Listas!$X$3,Acompanhamento!I4637,0)","v":0},{"$f":"IF(H4637=Listas!$X$4,Acompanhamento!I4637,0)","v":0},null,0,null,0,null,0,null,0]
[null,null,null,null,null,null,null,null,null,{"$f":"IF(H4641=Listas!$X$3,Acompanhamento!I4641,0)","v":0},{"$f":"IF(H4641=Listas!$X$4,Acompanhamento!I4641,0)","v":0},null,0,null,0,null,0,null,0]
[null,null,null,null,null,null,null,null,null,{"$f":"IF(H4644=Listas!$X$3,Acompanhamento!I4644,0)","v":0},{"$f":"IF(H4644=Listas!$X$4,Acompanhamento!I4644,0)","v":0},null,0,null,0,null,0,null,0]
[null,null,null,null,null,null,null,null,null,{"$f":"IF(H4648=Listas!$X$3,Acompanhamento!I4648,0)","v":0},{"$f":"IF(H4648=Listas!$X$4,Acompanhamento!I4648,0)","v":0},null,0,null,0,null,0,null,0]
[null,null,null,null,null,null,null,null,null,{"$f":"IF(H4649=Listas!$X$3,Acompanhamento!I4649,0)","v":0},{"$f":"IF(H4649=Listas!$X$4,Acompanhamento!I4649,0)","v":0},null,0,null,0,null,0,null,0]
[null,null,null,null,null,null,null,null,null,{"$f":"IF(H4652=Listas!$X$3,Acompanhamento!I4652,0)","v":0},{"$f":"IF(H4652=Listas!$X$4,Acompanhamento!I4652,0)","v":0},null,0,null,0,null,0,null,0]
[null,null,null,null,null,null,null,null,null,{"$f":"IF(H4657=Listas!$X$3,Acompanhamento!I4657,0)","v":0},{"$f":"IF(H4657=Listas!$X$4,Acompanhamento!I4657,0)","v":0},null,0,null,0,null,0,null,0]
[null,null,null,null,null,null,null,null,null,{"$f":"IF(H4660=Listas!$X$3,Acompanhamento!I4660,0)","v":0},{"$f":"IF(H4660=Listas!$X$4,Acompanhamento!I4660,0)","v":0},null,0,null,0,null,0,null,0]
[null,null,null,null,null,null,null,null,null,{"$f":"IF(H4663=Listas!$X$3,Acompanhamento!I4663,0)","v":0},{"$f":"IF(H4663=Listas!$X$4,Acompanhamento!I4663,0)","v":0},null,0,null,0,null,0,null,0]
[null,null,null,null,null,null,null,null,null,{"$f":"IF(H4667=Listas!$X$3,Acompanhamento!I4667,0)","v":0},{"$f":"IF(H4667=Listas!$X$4,Acompanhamento!I4667,0)","v":0},null,0,null,0,null,0,null,0]
[null,null,null,null,null,null,null,null,null,{"$f":"IF(H4670=Listas!$X$3,Acompanhamento!I4670,0)","v":0},{"$f":"IF(H4670=Listas!$X$4,Acompanhamento!I4670,0)","v":0},null,0,null,0,null,0,null,0]
[null,null,null,null,null,null,null,null,null,{"$f":"IF(H4674=Listas!$X$3,Acompanhamento!I4674,0)","v":0},{"$f":"IF(H4674=Listas!$X$4,Acompanhamento!I4674,0)","v":0},null,0,null,0,null,0,null,0]
[null,null,null,null,null,null,null,null,null,{"$f":"IF(H4675=Listas!$X$3,Acompanhamento!I4675,0)","v":0},{"$f":"IF(H4675=Listas!$X$4,Acompanhamento!I4675,0)","v":0},null,0,null,0,null,0,null,0]
[null,null,null,null,null,null,null,null,null,{"$f":"IF(H4678=Listas!$X$3,Acompanhamento!I4678,0)","v":0},{"$f":"IF(H4678=Listas!$X$4,Acompanhamento!I4678,0)","v":0},null,0,null,0,null,0,null,0]
[null,null,null,null,null,null,null,null,null,{"$f":"IF(H4683=Listas!$X$3,Acompanhamento!I4683,0)","v":0},{"$f":"IF(H4683=Listas!$X$4,Acompanhamento!I4683,0)","v":0},null,0,null,0,null,0,null,0]
[null,null,null,null,null,null,null,null,null,{"$f":"IF(H4686=Listas!$X$3,Acompanhamento!I4686,0)","v":0},{"$f":"IF(H4686=Listas!$X$4,Acompanhamento!I4686,0)","v":0},null,0,null,0,null,0,null,0]
[null,null,null,null,null,null,null,null,null,{"$f":"IF(H4689=Listas!$X$3,Acompanhamento!I4689,0)","v":0},{"$f":"IF(H4689=Listas!$X$4,Acompanhamento!I4689,0)","v":0},null,0,null,0,null,0,null,0]
[null,null,null,null,null,null,null,null,null,{"$f":"IF(H4693=Listas!$X$3,Acompanhamento!I4693,0)","v":0},{"$f":"IF(H4693=Listas!$X$4,Acompanhamento!I4693,0)","v":0},null,0,null,0,null,0,null,0]
[null,null,null,null,null,null,null,null,null,{"$f":"IF(H4696=Listas!$X$3,Acompanhamento!I4696,0)","v":0},{"$f":"IF(H4696=Listas!$X$4,Acompanhamento!I4696,0)","v":0},null,0,null,0,null,0,null,0]
[null,null,null,null,null,null,null,null,null,{"$f":"IF(H4698=Listas!$X$3,Acompanhamento!I4698,0)","v":0},{"$f":"IF(H4698=Listas!$X$4,Acompanhamento!I4698,0)","v":0},null,0,null,0,null,0,null,0]
[null,null,null,null,null,null,null,null,null,{"$f":"IF(H4701=Listas!$X$3,Acompanhamento!I4701,0)","v":0},{"$f":"IF(H4701=Listas!$X$4,Acompanhamento!I4701,0)","v":0},null,0,null,0,null,0,null,0]
[null,null,null,null,null,null,null,null,null,{"$f":"IF(H4704=Listas!$X$3,Acompanhamento!I4704,0)","v":0},{"$f":"IF(H4704=Listas!$X$4,Acompanhamento!I4704,0)","v":0},null,0,null,0,null,0,null,0]
[null,null,null,null,null,null,null,null,null,{"$f":"IF(H4709=Listas!$X$3,Acompanhamento!I4709,0)","v":0},{"$f":"IF(H4709=Listas!$X$4,Acompanhamento!I4709,0)","v":0},null,0,null,0,null,0,null,0]
[null,null,null,null,null,null,null,null,null,{"$f":"IF(H4712=Listas!$X$3,Acompanhamento!I4712,0)","v":0},{"$f":"IF(H4712=Listas!$X$4,Acompanhamento!I4712,0)","v":0},null,0,null,0,null,0,null,0]
[null,null,null,null,null,null,null,null,null,{"$f":"IF(H4715=Listas!$X$3,Acompanhamento!I4715,0)","v":0},{"$f":"IF(H4715=Listas!$X$4,Acompanhamento!I4715,0)","v":0},null,0,null,0,null,0,null,0]
[null,null,null,null,null,null,null,null,null,{"$f":"IF(H4719=Listas!$X$3,Acompanhamento!I4719,0)","v":0},{"$f":"IF(H4719=Listas!$X$4,Acompanhamento!I4719,0)","v":0},null,0,null,0,null,0,null,0]
[null,null,null,null,null,null,null,null,null,{"$f":"IF(H4722=Listas!$X$3,Acompanhamento!I4722,0)","v":0},{"$f":"IF(H4722=Listas!$X$4,Acompanhamento!I4722,0)","v":0},null,0,null,0,null,0,null,0]
[null,null,null,null,null,null,null,null,null,{"$f":"IF(H4724=Listas!$X$3,Acompanhamento!I4724,0)","v":0},{"$f":"IF(H4724=Listas!$X$4,Acompanhamento!I4724,0)","v":0},null,0,null,0,null,0,null,0]
[null,null,null,null,null,null,null,null,null,{"$f":"IF(H4727=Listas!$X$3,Acompanhamento!I4727,0)","v":0},{"$f":"IF(H4727=Listas!$X$4,Acompanhamento!I4727,0)","v":0},null,0,null,0,null,0,null,0]
[null,null,null,null,null,null,null,null,null,{"$f":"IF(H4730=Listas!$X$3,Acompanhamento!I4730,0)","v":0},{"$f":"IF(H4730=Listas!$X$4,Acompanhamento!I4730,0)","v":0},null,0,null,0,null,0,null,0]
[null,null,null,null,null,null,null,null,null,{"$f":"IF(H4735=Listas!$X$3,Acompanhamento!I4735,0)","v":0},{"$f":"IF(H4735=Listas!$X$4,Acompanhamento!I4735,0)","v":0},null,0,null,0,null,0,null,0]
[null,null,null,null,null,null,null,null,null,{"$f":"IF(H4738=Listas!$X$3,Acompanhamento!I4738,0)","v":0},{"$f":"IF(H4738=Listas!$X$4,Acompanhamento!I4738,0)","v":0},null,0,null,0,null,0,null,0]
[null,null,null,null,null,null,null,null,null,{"$f":"IF(H4741=Listas!$X$3,Acompanhamento!I4741,0)","v":0},{"$f":"IF(H4741=Listas!$X$4,Acompanhamento!I4741,0)","v":0},null,0,null,0,null,0,null,0]
[null,null,null,null,null,null,null,null,null,{"$f":"IF(H4745=Listas!$X$3,Acompanhamento!I4745,0)","v":0},{"$f":"IF(H4745=Listas!$X$4,Acompanhamento!I4745,0)","v":0},null,0,null,0,null,0,null,0]
[null,null,null,null,null,null,null,null,null,{"$f":"IF(H4748=Listas!$X$3,Acompanhamento!I4748,0)","v":0},{"$f":"IF(H4748=Listas!$X$4,Acompanhamento!I4748,0)","v":0},null,0,null,0,null,0,null,0]
[null,null,null,null,null,null,null,null,null,{"$f":"IF(H4750=Listas!$X$3,Acompanhamento!I4750,0)","v":0},{"$f":"IF(H4750=Listas!$X$4,Acompanhamento!I4750,0)","v":0},null,0,null,0,null,0,null,0]
[null,null,null,null,null,null,null,null,null,{"$f":"IF(H4753=Listas!$X$3,Acompanhamento!I4753,0)","v":0},{"$f":"IF(H4753=Listas!$X$4,Acompanhamento!I4753,0)","v":0},null,0,null,0,null,0,null,0]
[null,null,null,null,null,null,null,null,null,{"$f":"IF(H4756=Listas!$X$3,Acompanhamento!I4756,0)","v":0},{"$f":"IF(H4756=Listas!$X$4,Acompanhamento!I4756,0)","v":0},null,0,null,0,null,0,null,0]
[null,null,null,null,null,null,null,null,null,{"$f":"IF(H4761=Listas!$X$3,Acompanhamento!I4761,0)","v":0},{"$f":"IF(H4761=Listas!$X$4,Acompanhamento!I4761,0)","v":0},null,0,null,0,null,0,null,0]
[null,null,null,null,null,null,null,null,null,{"$f":"IF(H4764=Listas!$X$3,Acompanhamento!I4764,0)","v":0},{"$f":"IF(H4764=Listas!$X$4,Acompanhamento!I4764,0)","v":0},null,0,null,0,null,0,null,0]
[null,null,null,null,null,null,null,null,null,{"$f":"IF(H4768=Listas!$X$3,Acompanhamento!I4768,0)","v":0},{"$f":"IF(H4768=Listas!$X$4,Acompanhamento!I4768,0)","v":0},null,0,null,0,null,0,null,0]
[null,null,null,null,null,null,null,null,null,{"$f":"IF(H4771=Listas!$X$3,Acompanhamento!I4771,0)","v":0},{"$f":"IF(H4771=Listas!$X$4,Acompanhamento!I4771,0)","v":0},null,0,null,0,null,0,null,0]
[null,null,null,null,null,null,null,null,null,{"$f":"IF(H4774=Listas!$X$3,Acompanhamento!I4774,0)","v":0},{"$f":"IF(H4774=Listas!$X$4,Acompanhamento!I4774,0)","v":0},null,0,null,0,null,0,null,0]
[null,null,null,null,null,null,null,null,null,{"$f":"IF(H4776=Listas!$X$3,Acompanhamento!I4776,0)","v":0},{"$f":"IF(H4776=Listas!$X$4,Acompanhamento!I4776,0)","v":0},null,0,null,0,null,0,null,0]
[null,null,null,null,null,null,null,null,null,{"$f":"IF(H4779=Listas!$X$3,Acompanhamento!I4779,0)","v":0},{"$f":"IF(H4779=Listas!$X$4,Acompanhamento!I4779,0)","v":0},null,0,null,0,null,0,null,0]
[null,null,null,null,null,null,null,null,null,{"$f":"IF(H4782=Listas!$X$3,Acompanhamento!I4782,0)","v":0},{"$f":"IF(H4782=Listas!$X$4,Acompanhamento!I4782,0)","v":0},null,0,null,0,null,0,null,0]
[null,null,null,null,null,null,null,null,null,{"$f":"IF(H4787=Listas!$X$3,Acompanhamento!I4787,0)","v":0},{"$f":"IF(H4787=Listas!$X$4,Acompanhamento!I4787,0)","v":0},null,0,null,0,null,0,null,0]
[null,null,null,null,null,null,null,null,null,{"$f":"IF(H4790=Listas!$X$3,Acompanhamento!I4790,0)","v":0},{"$f":"IF(H4790=Listas!$X$4,Acompanhamento!I4790,0)","v":0},null,0,null,0,null,0,null,0]
[null,null,null,null,null,null,null,null,null,{"$f":"IF(H4794=Listas!$X$3,Acompanhamento!I4794,0)","v":0},{"$f":"IF(H4794=Listas!$X$4,Acompanhamento!I4794,0)","v":0},null,0,null,0,null,0,null,0]
[null,null,null,null,null,null,null,null,null,{"$f":"IF(H4797=Listas!$X$3,Acompanhamento!I4797,0)","v":0},{"$f":"IF(H4797=Listas!$X$4,Acompanhamento!I4797,0)","v":0},null,0,null,0,null,0,null,0]
[null,null,null,null,null,null,null,null,null,{"$f":"IF(H4800=Listas!$X$3,Acompanhamento!I4800,0)","v":0},{"$f":"IF(H4800=Listas!$X$4,Acompanhamento!I4800,0)","v":0},null,0,null,0,null,0,null,0]
[null,null,null,null,null,null,null,null,null,{"$f":"IF(H4802=Listas!$X$3,Acompanhamento!I4802,0)","v":0},{"$f":"IF(H4802=Listas!$X$4,Acompanhamento!I4802,0)","v":0},null,0,null,0,null,0,null,0]
[null,null,null,null,null,null,null,null,null,{"$f":"IF(H4805=Listas!$X$3,Acompanhamento!I4805,0)","v":0},{"$f":"IF(H4805=Listas!$X$4,Acompanhamento!I4805,0)","v":0},null,0,null,0,null,0,null,0]
[null,null,null,null,null,null,null,null,null,{"$f":"IF(H4809=Listas!$X$3,Acompanhamento!I4809,0)","v":0},{"$f":"IF(H4809=Listas!$X$4,Acompanhamento!I4809,0)","v":0},null,0,null,0,null,0,null,0]
[null,null,null,null,null,null,null,null,null,{"$f":"IF(H4813=Listas!$X$3,Acompanhamento!I4813,0)","v":0},{"$f":"IF(H4813=Listas!$X$4,Acompanhamento!I4813,0)","v":0},null,0,null,0,null,0,null,0]
[null,null,null,null,null,null,null,null,null,{"$f":"IF(H4816=Listas!$X$3,Acompanhamento!I4816,0)","v":0},{"$f":"IF(H4816=Listas!$X$4,Acompanhamento!I4816,0)","v":0},null,0,null,0,null,0,null,0]
[null,null,null,null,null,null,null,null,null,{"$f":"IF(H4820=Listas!$X$3,Acompanhamento!I4820,0)","v":0},{"$f":"IF(H4820=Listas!$X$4,Acompanhamento!I4820,0)","v":0},null,0,null,0,null,0,null,0]
[null,null,null,null,null,null,null,null,null,{"$f":"IF(H4823=Listas!$X$3,Acompanhamento!I4823,0)","v":0},{"$f":"IF(H4823=Listas!$X$4,Acompanhamento!I4823,0)","v":0},null,0,null,0,null,0,null,0]
[null,null,null,null,null,null,null,null,null,{"$f":"IF(H4826=Listas!$X$3,Acompanhamento!I4826,0)","v":0},{"$f":"IF(H4826=Listas!$X$4,Acompanhamento!I4826,0)","v":0},null,0,null,0,null,0,null,0]
[null,null,null,null,null,null,null,null,null,{"$f":"IF(H4828=Listas!$X$3,Acompanhamento!I4828,0)","v":0},{"$f":"IF(H4828=Listas!$X$4,Acompanhamento!I4828,0)","v":0},null,0,null,0,null,0,null,0]
[null,null,null,null,null,null,null,null,null,{"$f":"IF(H4831=Listas!$X$3,Acompanhamento!I4831,0)","v":0},{"$f":"IF(H4831=Listas!$X$4,Acompanhamento!I4831,0)","v":0},null,0,null,0,null,0,null,0]
[null,null,null,null,null,null,null,null,null,{"$f":"IF(H4835=Listas!$X$3,Acompanhamento!I4835,0)","v":0},{"$f":"IF(H4835=Listas!$X$4,Acompanhamento!I4835,0)","v":0},null,0,null,0,null,0,null,0]
[null,null,null,null,null,null,null,null,null,{"$f":"IF(H4839=Listas!$X$3,Acompanhamento!I4839,0)","v":0},{"$f":"IF(H4839=Listas!$X$4,Acompanhamento!I4839,0)","v":0},null,0,null,0,null,0,null,0]
[null,null,null,null,null,null,null,null,null,{"$f":"IF(H4842=Listas!$X$3,Acompanhamento!I4842,0)","v":0},{"$f":"IF(H4842=Listas!$X$4,Acompanhamento!I4842,0)","v":0},null,0,null,0,null,0,null,0]
[null,null,null,null,null,null,null,null,null,{"$f":"IF(H4846=Listas!$X$3,Acompanhamento!I4846,0)","v":0},{"$f":"IF(H4846=Listas!$X$4,Acompanhamento!I4846,0)","v":0},null,0,null,0,null,0,null,0]
[null,null,null,null,null,null,null,null,null,{"$f":"IF(H4849=Listas!$X$3,Acompanhamento!I4849,0)","v":0},{"$f":"IF(H4849=Listas!$X$4,Acompanhamento!I4849,0)","v":0},null,0,null,0,null,0,null,0]
[null,null,null,null,null,null,null,null,null,{"$f":"IF(H4852=Listas!$X$3,Acompanhamento!I4852,0)","v":0},{"$f":"IF(H4852=Listas!$X$4,Acompanhamento!I4852,0)","v":0},null,0,null,0,null,0,null,0]
[null,null,null,null,null,null,null,null,null,{"$f":"IF(H4854=Listas!$X$3,Acompanhamento!I4854,0)","v":0},{"$f":"IF(H4854=Listas!$X$4,Acompanhamento!I4854,0)","v":0},null,0,null,0,null,0,null,0]
[null,null,null,null,null,null,null,null,null,{"$f":"IF(H4857=Listas!$X$3,Acompanhamento!I4857,0)","v":0},{"$f":"IF(H4857=Listas!$X$4,Acompanhamento!I4857,0)","v":0},null,0,null,0,null,0,null,0]
[null,null,null,null,null,null,null,null,null,{"$f":"IF(H4861=Listas!$X$3,Acompanhamento!I4861,0)","v":0},{"$f":"IF(H4861=Listas!$X$4,Acompanhamento!I4861,0)","v":0},null,0,null,0,null,0,null,0]
[null,null,null,null,null,null,null,null,null,{"$f":"IF(H4865=Listas!$X$3,Acompanhamento!I4865,0)","v":0},{"$f":"IF(H4865=Listas!$X$4,Acompanhamento!I4865,0)","v":0},null,0,null,0,null,0,null,0]
[null,null,null,null,null,null,null,null,null,{"$f":"IF(H4868=Listas!$X$3,Acompanhamento!I4868,0)","v":0},{"$f":"IF(H4868=Listas!$X$4,Acompanhamento!I4868,0)","v":0},null,0,null,0,null,0,null,0]
[null,null,null,null,null,null,null,null,null,{"$f":"IF(H4872=Listas!$X$3,Acompanhamento!I4872,0)","v":0},{"$f":"IF(H4872=Listas!$X$4,Acompanhamento!I4872,0)","v":0},null,0,null,0,null,0,null,0]
[null,null,null,null,null,null,null,null,null,{"$f":"IF(H4875=Listas!$X$3,Acompanhamento!I4875,0)","v":0},{"$f":"IF(H4875=Listas!$X$4,Acompanhamento!I4875,0)","v":0},null,0,null,0,null,0,null,0]
[null,null,null,null,null,null,null,null,null,{"$f":"IF(H4878=Listas!$X$3,Acompanhamento!I4878,0)","v":0},{"$f":"IF(H4878=Listas!$X$4,Acompanhamento!I4878,0)","v":0},null,0,null,0,null,0,null,0]
[null,null,null,null,null,null,null,null,null,{"$f":"IF(H4880=Listas!$X$3,Acompanhamento!I4880,0)","v":0},{"$f":"IF(H4880=Listas!$X$4,Acompanhamento!I4880,0)","v":0},null,0,null,0,null,0,null,0]
[null,null,null,null,null,null,null,null,null,{"$f":"IF(H4883=Listas!$X$3,Acompanhamento!I4883,0)","v":0},{"$f":"IF(H4883=Listas!$X$4,Acompanhamento!I4883,0)","v":0},null,0,null,0,null,0,null,0]
[null,null,null,null,null,null,null,null,null,{"$f":"IF(H4887=Listas!$X$3,Acompanhamento!I4887,0)","v":0},{"$f":"IF(H4887=Listas!$X$4,Acompanhamento!I4887,0)","v":0},null,0,null,0,null,0,null,0]
[null,null,null,null,null,null,null,null,null,{"$f":"IF(H4891=Listas!$X$3,Acompanhamento!I4891,0)","v":0},{"$f":"IF(H4891=Listas!$X$4,Acompanhamento!I4891,0)","v":0},null,0,null,0,null,0,null,0]
[null,null,null,null,null,null,null,null,null,{"$f":"IF(H4894=Listas!$X$3,Acompanhamento!I4894,0)","v":0},{"$f":"IF(H4894=Listas!$X$4,Acompanhamento!I4894,0)","v":0},null,0,null,0,null,0,null,0]
[null,null,null,null,null,null,null,null,null,{"$f":"IF(H4898=Listas!$X$3,Acompanhamento!I4898,0)","v":0},{"$f":"IF(H4898=Listas!$X$4,Acompanhamento!I4898,0)","v":0},null,0,null,0,null,0,null,0]
[null,null,null,null,null,null,null,null,null,{"$f":"IF(H4901=Listas!$X$3,Acompanhamento!I4901,0)","v":0},{"$f":"IF(H4901=Listas!$X$4,Acompanhamento!I4901,0)","v":0},null,0,null,0,null,0,null,0]
[null,null,null,null,null,null,null,null,null,{"$f":"IF(H4904=Listas!$X$3,Acompanhamento!I4904,0)","v":0},{"$f":"IF(H4904=Listas!$X$4,Acompanhamento!I4904,0)","v":0},null,0,null,0,null,0,null,0]
[null,null,null,null,null,null,null,null,null,{"$f":"IF(H4906=Listas!$X$3,Acompanhamento!I4906,0)","v":0},{"$f":"IF(H4906=Listas!$X$4,Acompanhamento!I4906,0)","v":0},null,0,null,0,null,0,null,0]
[null,null,null,null,null,null,null,null,null,{"$f":"IF(H4909=Listas!$X$3,Acompanhamento!I4909,0)","v":0},{"$f":"IF(H4909=Listas!$X$4,Acompanhamento!I4909,0)","v":0},null,0,null,0,null,0,null,0]
[null,null,null,null,null,null,null,null,null,{"$f":"IF(H4913=Listas!$X$3,Acompanhamento!I4913,0)","v":0},{"$f":"IF(H4913=Listas!$X$4,Acompanhamento!I4913,0)","v":0},null,0,null,0,null,0,null,0]
[null,null,null,null,null,null,null,null,null,{"$f":"IF(H4917=Listas!$X$3,Acompanhamento!I4917,0)","v":0},{"$f":"IF(H4917=Listas!$X$4,Acompanhamento!I4917,0)","v":0},null,0,null,0,null,0,null,0]
[null,null,null,null,null,null,null,null,null,{"$f":"IF(H4921=Listas!$X$3,Acompanhamento!I4921,0)","v":0},{"$f":"IF(H4921=Listas!$X$4,Acompanhamento!I4921,0)","v":0},null,0,null,0,null,0,null,0]
[null,null,null,null,null,null,null,null,null,{"$f":"IF(H4924=Listas!$X$3,Acompanhamento!I4924,0)","v":0},{"$f":"IF(H4924=Listas!$X$4,Acompanhamento!I4924,0)","v":0},null,0,null,0,null,0,null,0]
[null,null,null,null,null,null,null,null,null,{"$f":"IF(H4927=Listas!$X$3,Acompanhamento!I4927,0)","v":0},{"$f":"IF(H4927=Listas!$X$4,Acompanhamento!I4927,0)","v":0},null,0,null,0,null,0,null,0]
[null,null,null,null,null,null,null,null,null,{"$f":"IF(H4930=Listas!$X$3,Acompanhamento!I4930,0)","v":0},{"$f":"IF(H4930=Listas!$X$4,Acompanhamento!I4930,0)","v":0},null,0,null,0,null,0,null,0]
[null,null,null,null,null,null,null,null,null,{"$f":"IF(H4932=Listas!$X$3,Acompanhamento!I4932,0)","v":0},{"$f":"IF(H4932=Listas!$X$4,Acompanhamento!I4932,0)","v":0},null,0,null,0,null,0,null,0]
[null,null,null,null,null,null,null,null,null,{"$f":"IF(H4935=Listas!$X$3,Acompanhamento!I4935,0)","v":0},{"$f":"IF(H4935=Listas!$X$4,Acompanhamento!I4935,0)","v":0},null,0,null,0,null,0,null,0]
[null,null,null,null,null,null,null,null,null,{"$f":"IF(H4939=Listas!$X$3,Acompanhamento!I4939,0)","v":0},{"$f":"IF(H4939=Listas!$X$4,Acompanhamento!I4939,0)","v":0},null,0,null,0,null,0,null,0]
[null,null,null,null,null,null,null,null,null,{"$f":"IF(H4943=Listas!$X$3,Acompanhamento!I4943,0)","v":0},{"$f":"IF(H4943=Listas!$X$4,Acompanhamento!I4943,0)","v":0},null,0,null,0,null,0,null,0]
[null,null,null,null,null,null,null,null,null,{"$f":"IF(H4947=Listas!$X$3,Acompanhamento!I4947,0)","v":0},{"$f":"IF(H4947=Listas!$X$4,Acompanhamento!I4947,0)","v":0},null,0,null,0,null,0,null,0]
[null,null,null,null,null,null,null,null,null,{"$f":"IF(H4950=Listas!$X$3,Acompanhamento!I4950,0)","v":0},{"$f":"IF(H4950=Listas!$X$4,Acompanhamento!I4950,0)","v":0},null,0,null,0,null,0,null,0]
[null,null,null,null,null,null,null,null,null,{"$f":"IF(H4953=Listas!$X$3,Acompanhamento!I4953,0)","v":0},{"$f":"IF(H4953=Listas!$X$4,Acompanhamento!I4953,0)","v":0},null,0,null,0,null,0,null,0]
[null,null,null,null,null,null,null,null,null,{"$f":"IF(H4956=Listas!$X$3,Acompanhamento!I4956,0)","v":0},{"$f":"IF(H4956=Listas!$X$4,Acompanhamento!I4956,0)","v":0},null,0,null,0,null,0,null,0]
[null,null,null,null,null,null,null,null,null,{"$f":"IF(H4958=Listas!$X$3,Acompanhamento!I4958,0)","v":0},{"$f":"IF(H4958=Listas!$X$4,Acompanhamento!I4958,0)","v":0},null,0,null,0,null,0,null,0]
[null,null,null,null,null,null,null,null,null,{"$f":"IF(H4961=Listas!$X$3,Acompanhamento!I4961,0)","v":0},{"$f":"IF(H4961=Listas!$X$4,Acompanhamento!I4961,0)","v":0},null,0,null,0,null,0,null,0]
[null,null,null,null,null,null,null,null,null,{"$f":"IF(H4965=Listas!$X$3,Acompanhamento!I4965,0)","v":0},{"$f":"IF(H4965=Listas!$X$4,Acompanhamento!I4965,0)","v":0},null,0,null,0,null,0,null,0]
[null,null,null,null,null,null,null,null,null,{"$f":"IF(H4969=Listas!$X$3,Acompanhamento!I4969,0)","v":0},{"$f":"IF(H4969=Listas!$X$4,Acompanhamento!I4969,0)","v":0},null,0,null,0,null,0,null,0]
[null,null,null,null,null,null,null,null,null,{"$f":"IF(H4973=Listas!$X$3,Acompanhamento!I4973,0)","v":0},{"$f":"IF(H4973=Listas!$X$4,Acompanhamento!I4973,0)","v":0},null,0,null,0,null,0,null,0]
[null,null,null,null,null,null,null,null,null,{"$f":"IF(H4976=Listas!$X$3,Acompanhamento!I4976,0)","v":0},{"$f":"IF(H4976=Listas!$X$4,Acompanhamento!I4976,0)","v":0},null,0,null,0,null,0,null,0]
[null,null,null,null,null,null,null,null,null,{"$f":"IF(H4979=Listas!$X$3,Acompanhamento!I4979,0)","v":0},{"$f":"IF(H4979=Listas!$X$4,Acompanhamento!I4979,0)","v":0},null,0,null,0,null,0,null,0]
[null,null,null,null,null,null,null,null,null,{"$f":"IF(H4982=Listas!$X$3,Acompanhamento!I4982,0)","v":0},{"$f":"IF(H4982=Listas!$X$4,Acompanhamento!I4982,0)","v":0},null,0,null,0,null,0,null,0]
[null,null,null,null,null,null,null,null,null,{"$f":"IF(H4984=Listas!$X$3,Acompanhamento!I4984,0)","v":0},{"$f":"IF(H4984=Listas!$X$4,Acompanhamento!I4984,0)","v":0},null,0,null,0,null,0,null,0]
[null,null,null,null,null,null,null,null,null,{"$f":"IF(H4988=Listas!$X$3,Acompanhamento!I4988,0)","v":0},{"$f":"IF(H4988=Listas!$X$4,Acompanhamento!I4988,0)","v":0},null,0,null,0,null,0,null,0]
[null,null,null,null,null,null,null,null,null,{"$f":"IF(H4991=Listas!$X$3,Acompanhamento!I4991,0)","v":0},{"$f":"IF(H4991=Listas!$X$4,Acompanhamento!I4991,0)","v":0},null,0,null,0,null,0,null,0]
[null,null,null,null,null,null,null,null,null,{"$f":"IF(H4995=Listas!$X$3,Acompanhamento!I4995,0)","v":0},{"$f":"IF(H4995=Listas!$X$4,Acompanhamento!I4995,0)","v":0},null,0,null,0,null,0,null,0]
[null,null,null,null,null,null,null,null,null,{"$f":"IF(H4999=Listas!$X$3,Acompanhamento!I4999,0)","v":0},{"$f":"IF(H4999=Listas!$X$4,Acompanhamento!I4999,0)","v":0},null,0,null,0,null,0,null,0]
[null,null,null,null,null,null,null,null,null,{"$f":"IF(H5002=Listas!$X$3,Acompanhamento!I5002,0)","v":0},{"$f":"IF(H5002=Listas!$X$4,Acompanhamento!I5002,0)","v":0},null,{"$f":"J5002-L5002","v":0},null,{"$f":"M5002-N5002","v":0},null,{"$f":"O5002-P5002","v":0},null,{"$f":"Q5002-R5002","v":0}]
[null,null,null,null,null,null,null,null,null,{"$f":"IF(H5005=Listas!$X$3,Acompanhamento!I5005,0)","v":0},{"$f":"IF(H5005=Listas!$X$4,Acompanhamento!I5005,0)","v":0},null,0,null,0,null,0,null,0]
[null,null,null,null,null,null,null,null,null,{"$f":"IF(H5008=Listas!$X$3,Acompanhamento!I5008,0)","v":0},{"$f":"IF(H5008=Listas!$X$4,Acompanhamento!I5008,0)","v":0},null,0,null,0,null,0,null,0]
[null,null,null,null,null,null,null,null,null,{"$f":"IF(H5010=Listas!$X$3,Acompanhamento!I5010,0)","v":0},{"$f":"IF(H5010=Listas!$X$4,Acompanhamento!I5010,0)","v":0},null,0,null,0,null,0,null,0]
[null,null,null,null,null,null,null,null,null,{"$f":"IF(H5014=Listas!$X$3,Acompanhamento!I5014,0)","v":0},{"$f":"IF(H5014=Listas!$X$4,Acompanhamento!I5014,0)","v":0},null,0,null,0,null,0,null,0]
[null,null,null,null,null,null,null,null,null,{"$f":"IF(H5017=Listas!$X$3,Acompanhamento!I5017,0)","v":0},{"$f":"IF(H5017=Listas!$X$4,Acompanhamento!I5017,0)","v":0},null,0,null,0,null,0,null,0]
[null,null,null,null,null,null,null,null,null,{"$f":"IF(H5021=Listas!$X$3,Acompanhamento!I5021,0)","v":0},{"$f":"IF(H5021=Listas!$X$4,Acompanhamento!I5021,0)","v":0},null,0,null,0,null,0,null,0]
[null,null,null,null,null,null,null,null,null,{"$f":"IF(H5025=Listas!$X$3,Acompanhamento!I5025,0)","v":0},{"$f":"IF(H5025=Listas!$X$4,Acompanhamento!I5025,0)","v":0},null,0,null,0,null,0,null,0]
[null,null,null,null,null,null,null,null,null,{"$f":"IF(H5028=Listas!$X$3,Acompanhamento!I5028,0)","v":0},{"$f":"IF(H5028=Listas!$X$4,Acompanhamento!I5028,0)","v":0},null,0,null,0,null,0,null,0]
[null,null,null,null,null,null,null,null,null,{"$f":"IF(H5031=Listas!$X$3,Acompanhamento!I5031,0)","v":0},{"$f":"IF(H5031=Listas!$X$4,Acompanhamento!I5031,0)","v":0},null,0,null,0,null,0,null,0]
[null,null,null,null,null,null,null,null,null,{"$f":"IF(H5034=Listas!$X$3,Acompanhamento!I5034,0)","v":0},{"$f":"IF(H5034=Listas!$X$4,Acompanhamento!I5034,0)","v":0},null,0,null,0,null,0,null,0]
[null,null,null,null,null,null,null,null,null,{"$f":"IF(H5036=Listas!$X$3,Acompanhamento!I5036,0)","v":0},{"$f":"IF(H5036=Listas!$X$4,Acompanhamento!I5036,0)","v":0},null,0,null,0,null,0,null,0]
[null,null,null,null,null,null,null,null,null,{"$f":"IF(H5040=Listas!$X$3,Acompanhamento!I5040,0)","v":0},{"$f":"IF(H5040=Listas!$X$4,Acompanhamento!I5040,0)","v":0},null,0,null,0,null,0,null,0]
[null,null,null,null,null,null,null,null,null,{"$f":"IF(H5043=Listas!$X$3,Acompanhamento!I5043,0)","v":0},{"$f":"IF(H5043=Listas!$X$4,Acompanhamento!I5043,0)","v":0},null,0,null,0,null,0,null,0]
[null,null,null,null,null,null,null,null,null,{"$f":"IF(H5047=Listas!$X$3,Acompanhamento!I5047,0)","v":0},{"$f":"IF(H5047=Listas!$X$4,Acompanhamento!I5047,0)","v":0},null,0,null,0,null,0,null,0]
[null,null,null,null,null,null,null,null,null,{"$f":"IF(H5051=Listas!$X$3,Acompanhamento!I5051,0)","v":0},{"$f":"IF(H5051=Listas!$X$4,Acompanhamento!I5051,0)","v":0},null,0,null,0,null,0,null,0]
[null,null,null,null,null,null,null,null,null,{"$f":"IF(H5054=Listas!$X$3,Acompanhamento!I5054,0)","v":0},{"$f":"IF(H5054=Listas!$X$4,Acompanhamento!I5054,0)","v":0},null,0,null,0,null,0,null,0]
[null,null,null,null,null,null,null,null,null,{"$f":"IF(H5055=Listas!$X$3,Acompanhamento!I5055,0)","v":0},{"$f":"IF(H5055=Listas!$X$4,Acompanhamento!I5055,0)","v":0},null,0,null,0,null,0,null,0]
[null,null,null,null,null,null,null,null,null,{"$f":"IF(H5060=Listas!$X$3,Acompanhamento!I5060,0)","v":0},{"$f":"IF(H5060=Listas!$X$4,Acompanhamento!I5060,0)","v":0},null,0,null,0,null,0,null,0]
[null,null,null,null,null,null,null,null,null,{"$f":"IF(H5062=Listas!$X$3,Acompanhamento!I5062,0)","v":0},{"$f":"IF(H5062=Listas!$X$4,Acompanhamento!I5062,0)","v":0},null,0,null,0,null,0,null,0]
[null,null,null,null,null,null,null,null,null,{"$f":"IF(H5066=Listas!$X$3,Acompanhamento!I5066,0)","v":0},{"$f":"IF(H5066=Listas!$X$4,Acompanhamento!I5066,0)","v":0},null,{"$f":"J5066-L5066","v":0},null,{"$f":"M5066-N5066","v":0},null,{"$f":"O5066-P5066","v":0},null,{"$f":"Q5066-R5066","v":0}]
[null,null,null,null,null,null,null,null,null,{"$f":"IF(H5069=Listas!$X$3,Acompanhamento!I5069,0)","v":0},{"$f":"IF(H5069=Listas!$X$4,Acompanhamento!I5069,0)","v":0},null,0,null,0,null,0,null,0]
[null,null,null,null,null,null,null,null,null,{"$f":"IF(H5073=Listas!$X$3,Acompanhamento!I5073,0)","v":0},{"$f":"IF(H5073=Listas!$X$4,Acompanhamento!I5073,0)","v":0},null,0,null,0,null,0,null,0]
[null,null,null,null,null,null,null,null,null,{"$f":"IF(H5077=Listas!$X$3,Acompanhamento!I5077,0)","v":0},{"$f":"IF(H5077=Listas!$X$4,Acompanhamento!I5077,0)","v":0},null,0,null,0,null,0,null,0]
[null,null,null,null,null,null,null,null,null,{"$f":"IF(H5080=Listas!$X$3,Acompanhamento!I5080,0)","v":0},{"$f":"IF(H5080=Listas!$X$4,Acompanhamento!I5080,0)","v":0},null,0,null,0,null,0,null,0]
[null,null,null,null,null,null,null,null,null,{"$f":"IF(H5081=Listas!$X$3,Acompanhamento!I5081,0)","v":0},{"$f":"IF(H5081=Listas!$X$4,Acompanhamento!I5081,0)","v":0},null,0,null,0,null,0,null,0]
[null,null,null,null,null,null,null,null,null,{"$f":"IF(H5086=Listas!$X$3,Acompanhamento!I5086,0)","v":0},{"$f":"IF(H5086=Listas!$X$4,Acompanhamento!I5086,0)","v":0},null,0,null,0,null,0,null,0]
[null,null,null,null,null,null,null,null,null,{"$f":"IF(H5088=Listas!$X$3,Acompanhamento!I5088,0)","v":0},{"$f":"IF(H5088=Listas!$X$4,Acompanhamento!I5088,0)","v":0},null,0,null,0,null,0,null,0]
[null,null,null,null,null,null,null,null,null,{"$f":"IF(H5092=Listas!$X$3,Acompanhamento!I5092,0)","v":0},{"$f":"IF(H5092=Listas!$X$4,Acompanhamento!I5092,0)","v":0},null,0,null,0,null,0,null,0]
[null,null,null,null,null,null,null,null,null,{"$f":"IF(H5095=Listas!$X$3,Acompanhamento!I5095,0)","v":0},{"$f":"IF(H5095=Listas!$X$4,Acompanhamento!I5095,0)","v":0},null,0,null,0,null,0,null,0]
[null,null,null,null,null,null,null,null,null,{"$f":"IF(H5099=Listas!$X$3,Acompanhamento!I5099,0)","v":0},{"$f":"IF(H5099=Listas!$X$4,Acompanhamento!I5099,0)","v":0},null,0,null,0,null,0,null,0]
[null,null,null,null,null,null,null,null,null,{"$f":"IF(H5103=Listas!$X$3,Acompanhamento!I5103,0)","v":0},{"$f":"IF(H5103=Listas!$X$4,Acompanhamento!I5103,0)","v":0},null,0,null,0,null,0,null,0]
[null,null,null,null,null,null,null,null,null,{"$f":"IF(H5106=Listas!$X$3,Acompanhamento!I5106,0)","v":0},{"$f":"IF(H5106=Listas!$X$4,Acompanhamento!I5106,0)","v":0},null,0,null,0,null,0,null,0]
[null,null,null,null,null,null,null,null,null,{"$f":"IF(H5107=Listas!$X$3,Acompanhamento!I5107,0)","v":0},{"$f":"IF(H5107=Listas!$X$4,Acompanhamento!I5107,0)","v":0},null,0,null,0,null,0,null,0]
[null,null,null,null,null,null,null,null,null,{"$f":"IF(H5112=Listas!$X$3,Acompanhamento!I5112,0)","v":0},{"$f":"IF(H5112=Listas!$X$4,Acompanhamento!I5112,0)","v":0},null,0,null,0,null,0,null,0]
[null,null,null,null,null,null,null,null,null,{"$f":"IF(H5114=Listas!$X$3,Acompanhamento!I5114,0)","v":0},{"$f":"IF(H5114=Listas!$X$4,Acompanhamento!I5114,0)","v":0},null,0,null,0,null,0,null,0]
[null,null,null,null,null,null,null,null,null,{"$f":"IF(H5118=Listas!$X$3,Acompanhamento!I5118,0)","v":0},{"$f":"IF(H5118=Listas!$X$4,Acompanhamento!I5118,0)","v":0},null,0,null,0,null,0,null,0]
[null,null,null,null,null,null,null,null,null,{"$f":"IF(H5121=Listas!$X$3,Acompanhamento!I5121,0)","v":0},{"$f":"IF(H5121=Listas!$X$4,Acompanhamento!I5121,0)","v":0},null,0,null,0,null,0,null,0]
[null,null,null,null,null,null,null,null,null,{"$f":"IF(H5125=Listas!$X$3,Acompanhamento!I5125,0)","v":0},{"$f":"IF(H5125=Listas!$X$4,Acompanhamento!I5125,0)","v":0},null,0,null,0,null,0,null,0]
[null,null,null,null,null,null,null,null,null,{"$f":"IF(H5129=Listas!$X$3,Acompanhamento!I5129,0)","v":0},{"$f":"IF(H5129=Listas!$X$4,Acompanhamento!I5129,0)","v":0},null,0,null,0,null,0,null,0]
[null,null,null,null,null,null,null,null,null,{"$f":"IF(H5132=Listas!$X$3,Acompanhamento!I5132,0)","v":0},{"$f":"IF(H5132=Listas!$X$4,Acompanhamento!I5132,0)","v":0},null,0,null,0,null,0,null,0]
[null,null,null,null,null,null,null,null,null,{"$f":"IF(H5133=Listas!$X$3,Acompanhamento!I5133,0)","v":0},{"$f":"IF(H5133=Listas!$X$4,Acompanhamento!I5133,0)","v":0},null,0,null,0,null,0,null,0]
[null,null,null,null,null,null,null,null,null,{"$f":"IF(H5138=Listas!$X$3,Acompanhamento!I5138,0)","v":0},{"$f":"IF(H5138=Listas!$X$4,Acompanhamento!I5138,0)","v":0},null,0,null,0,null,0,null,0]
[null,null,null,null,null,null,null,null,null,{"$f":"IF(H5140=Listas!$X$3,Acompanhamento!I5140,0)","v":0},{"$f":"IF(H5140=Listas!$X$4,Acompanhamento!I5140,0)","v":0},null,0,null,0,null,0,null,0]
[null,null,null,null,null,null,null,null,null,{"$f":"IF(H5144=Listas!$X$3,Acompanhamento!I5144,0)","v":0},{"$f":"IF(H5144=Listas!$X$4,Acompanhamento!I5144,0)","v":0},null,0,null,0,null,0,null,0]
[null,null,null,null,null,null,null,null,null,{"$f":"IF(H5147=Listas!$X$3,Acompanhamento!I5147,0)","v":0},{"$f":"IF(H5147=Listas!$X$4,Acompanhamento!I5147,0)","v":0},null,0,null,0,null,0,null,0]
[null,null,null,null,null,null,null,null,null,{"$f":"IF(H5151=Listas!$X$3,Acompanhamento!I5151,0)","v":0},{"$f":"IF(H5151=Listas!$X$4,Acompanhamento!I5151,0)","v":0},null,0,null,0,null,0,null,0]
[null,null,null,null,null,null,null,null,null,{"$f":"IF(H5155=Listas!$X$3,Acompanhamento!I5155,0)","v":0},{"$f":"IF(H5155=Listas!$X$4,Acompanhamento!I5155,0)","v":0},null,0,null,0,null,0,null,0]
[null,null,null,null,null,null,null,null,null,{"$f":"IF(H5158=Listas!$X$3,Acompanhamento!I5158,0)","v":0},{"$f":"IF(H5158=Listas!$X$4,Acompanhamento!I5158,0)","v":0},null,0,null,0,null,0,null,0]
[null,null,null,null,null,null,null,null,null,{"$f":"IF(H5159=Listas!$X$3,Acompanhamento!I5159,0)","v":0},{"$f":"IF(H5159=Listas!$X$4,Acompanhamento!I5159,0)","v":0},null,0,null,0,null,0,null,0]
[null,null,null,null,null,null,null,null,null,{"$f":"IF(H5164=Listas!$X$3,Acompanhamento!I5164,0)","v":0},{"$f":"IF(H5164=Listas!$X$4,Acompanhamento!I5164,0)","v":0},null,0,null,0,null,0,null,0]
[null,null,null,null,null,null,null,null,null,{"$f":"IF(H5167=Listas!$X$3,Acompanhamento!I5167,0)","v":0},{"$f":"IF(H5167=Listas!$X$4,Acompanhamento!I5167,0)","v":0},null,0,null,0,null,0,null,0]
[null,null,null,null,null,null,null,null,null,{"$f":"IF(H5170=Listas!$X$3,Acompanhamento!I5170,0)","v":0},{"$f":"IF(H5170=Listas!$X$4,Acompanhamento!I5170,0)","v":0},null,0,null,0,null,0,null,0]
[null,null,null,null,null,null,null,null,null,{"$f":"IF(H5173=Listas!$X$3,Acompanhamento!I5173,0)","v":0},{"$f":"IF(H5173=Listas!$X$4,Acompanhamento!I5173,0)","v":0},null,0,null,0,null,0,null,0]
[null,null,null,null,null,null,null,null,null,{"$f":"IF(H5177=Listas!$X$3,Acompanhamento!I5177,0)","v":0},{"$f":"IF(H5177=Listas!$X$4,Acompanhamento!I5177,0)","v":0},null,0,null,0,null,0,null,0]
[null,null,null,null,null,null,null,null,null,{"$f":"IF(H5181=Listas!$X$3,Acompanhamento!I5181,0)","v":0},{"$f":"IF(H5181=Listas!$X$4,Acompanhamento!I5181,0)","v":0},null,0,null,0,null,0,null,0]
[null,null,null,null,null,null,null,null,null,{"$f":"IF(H5184=Listas!$X$3,Acompanhamento!I5184,0)","v":0},{"$f":"IF(H5184=Listas!$X$4,Acompanhamento!I5184,0)","v":0},null,0,null,0,null,0,null,0]
[null,null,null,null,null,null,null,null,null,{"$f":"IF(H5185=Listas!$X$3,Acompanhamento!I5185,0)","v":0},{"$f":"IF(H5185=Listas!$X$4,Acompanhamento!I5185,0)","v":0},null,0,null,0,null,0,null,0]
[null,null,null,null,null,null,null,null,null,{"$f":"IF(H5190=Listas!$X$3,Acompanhamento!I5190,0)","v":0},{"$f":"IF(H5190=Listas!$X$4,Acompanhamento!I5190,0)","v":0},null,0,null,0,null,0,null,0]
[null,null,null,null,null,null,null,null,null,{"$f":"IF(H5193=Listas!$X$3,Acompanhamento!I5193,0)","v":0},{"$f":"IF(H5193=Listas!$X$4,Acompanhamento!I5193,0)","v":0},null,0,null,0,null,0,null,0]
[null,null,null,null,null,null,null,null,null,{"$f":"IF(H5196=Listas!$X$3,Acompanhamento!I5196,0)","v":0},{"$f":"IF(H5196=Listas!$X$4,Acompanhamento!I5196,0)","v":0},null,0,null,0,null,0,null,0]
[null,null,null,null,null,null,null,null,null,{"$f":"IF(H5199=Listas!$X$3,Acompanhamento!I5199,0)","v":0},{"$f":"IF(H5199=Listas!$X$4,Acompanhamento!I5199,0)","v":0},null,0,null,0,null,0,null,0]
[null,null,null,null,null,null,null,null,null,{"$f":"IF(H5203=Listas!$X$3,Acompanhamento!I5203,0)","v":0},{"$f":"IF(H5203=Listas!$X$4,Acompanhamento!I5203,0)","v":0},null,0,null,0,null,0,null,0]
[null,null,null,null,null,null,null,null,null,{"$f":"IF(H5207=Listas!$X$3,Acompanhamento!I5207,0)","v":0},{"$f":"IF(H5207=Listas!$X$4,Acompanhamento!I5207,0)","v":0},null,0,null,0,null,0,null,0]
[null,null,null,null,null,null,null,null,null,{"$f":"IF(H5208=Listas!$X$3,Acompanhamento!I5208,0)","v":0},{"$f":"IF(H5208=Listas!$X$4,Acompanhamento!I5208,0)","v":0},null,0,null,0,null,0,null,0]
[null,null,null,null,null,null,null,null,null,{"$f":"IF(H5211=Listas!$X$3,Acompanhamento!I5211,0)","v":0},{"$f":"IF(H5211=Listas!$X$4,Acompanhamento!I5211,0)","v":0},null,0,null,0,null,0,null,0]
[null,null,null,null,null,null,null,null,null,{"$f":"IF(H5216=Listas!$X$3,Acompanhamento!I5216,0)","v":0},{"$f":"IF(H5216=Listas!$X$4,Acompanhamento!I5216,0)","v":0},null,0,null,0,null,0,null,0]
[null,null,null,null,null,null,null,null,null,{"$f":"IF(H5219=Listas!$X$3,Acompanhamento!I5219,0)","v":0},{"$f":"IF(H5219=Listas!$X$4,Acompanhamento!I5219,0)","v":0},null,0,null,0,null,0,null,0]
[null,null,null,null,null,null,null,null,null,{"$f":"IF(H5222=Listas!$X$3,Acompanhamento!I5222,0)","v":0},{"$f":"IF(H5222=Listas!$X$4,Acompanhamento!I5222,0)","v":0},null,0,null,0,null,0,null,0]
[null,null,null,null,null,null,null,null,null,{"$f":"IF(H5225=Listas!$X$3,Acompanhamento!I5225,0)","v":0},{"$f":"IF(H5225=Listas!$X$4,Acompanhamento!I5225,0)","v":0},null,0,null,0,null,0,null,0]
[null,null,null,null,null,null,null,null,null,{"$f":"IF(H5229=Listas!$X$3,Acompanhamento!I5229,0)","v":0},{"$f":"IF(H5229=Listas!$X$4,Acompanhamento!I5229,0)","v":0},null,0,null,0,null,0,null,0]
[null,null,null,null,null,null,null,null,null,{"$f":"IF(H5233=Listas!$X$3,Acompanhamento!I5233,0)","v":0},{"$f":"IF(H5233=Listas!$X$4,Acompanhamento!I5233,0)","v":0},null,0,null,0,null,0,null,0]
[null,null,null,null,null,null,null,null,null,{"$f":"IF(H5234=Listas!$X$3,Acompanhamento!I5234,0)","v":0},{"$f":"IF(H5234=Listas!$X$4,Acompanhamento!I5234,0)","v":0},null,0,null,0,null,0,null,0]
[null,null,null,null,null,null,null,null,null,{"$f":"IF(H5237=Listas!$X$3,Acompanhamento!I5237,0)","v":0},{"$f":"IF(H5237=Listas!$X$4,Acompanhamento!I5237,0)","v":0},null,0,null,0,null,0,null,0]
[null,null,null,null,null,null,null,null,null,{"$f":"IF(H5242=Listas!$X$3,Acompanhamento!I5242,0)","v":0},{"$f":"IF(H5242=Listas!$X$4,Acompanhamento!I5242,0)","v":0},null,0,null,0,null,0,null,0]
[null,null,null,null,null,null,null,null,null,{"$f":"IF(H5245=Listas!$X$3,Acompanhamento!I5245,0)","v":0},{"$f":"IF(H5245=Listas!$X$4,Acompanhamento!I5245,0)","v":0},null,0,null,0,null,0,null,0]
[null,null,null,null,null,null,null,null,null,{"$f":"IF(H5248=Listas!$X$3,Acompanhamento!I5248,0)","v":0},{"$f":"IF(H5248=Listas!$X$4,Acompanhamento!I5248,0)","v":0},null,0,null,0,null,0,null,0]
[null,null,null,null,null,null,null,null,null,{"$f":"IF(H5251=Listas!$X$3,Acompanhamento!I5251,0)","v":0},{"$f":"IF(H5251=Listas!$X$4,Acompanhamento!I5251,0)","v":0},null,0,null,0,null,0,null,0]
[null,null,null,null,null,null,null,null,null,{"$f":"IF(H5255=Listas!$X$3,Acompanhamento!I5255,0)","v":0},{"$f":"IF(H5255=Listas!$X$4,Acompanhamento!I5255,0)","v":0},null,0,null,0,null,0,null,0]
[null,null,null,null,null,null,null,null,null,{"$f":"IF(H5259=Listas!$X$3,Acompanhamento!I5259,0)","v":0},{"$f":"IF(H5259=Listas!$X$4,Acompanhamento!I5259,0)","v":0},null,0,null,0,null,0,null,0]
[null,null,null,null,null,null,null,null,null,{"$f":"IF(H5260=Listas!$X$3,Acompanhamento!I5260,0)","v":0},{"$f":"IF(H5260=Listas!$X$4,Acompanhamento!I5260,0)","v":0},null,0,null,0,null,0,null,0]
[null,null,null,null,null,null,null,null,null,{"$f":"IF(H5263=Listas!$X$3,Acompanhamento!I5263,0)","v":0},{"$f":"IF(H5263=Listas!$X$4,Acompanhamento!I5263,0)","v":0},null,0,null,0,null,0,null,0]
[null,null,null,null,null,null,null,null,null,{"$f":"IF(H5266=Listas!$X$3,Acompanhamento!I5266,0)","v":0},{"$f":"IF(H5266=Listas!$X$4,Acompanhamento!I5266,0)","v":0},null,0,null,0,null,0,null,0]
[null,null,null,null,null,null,null,null,null,{"$f":"IF(H5272=Listas!$X$3,Acompanhamento!I5272,0)","v":0},{"$f":"IF(H5272=Listas!$X$4,Acompanhamento!I5272,0)","v":0},null,0,null,0,null,0,null,0]
[null,null,null,null,null,null,null,null,null,{"$f":"IF(H5274=Listas!$X$3,Acompanhamento!I5274,0)","v":0},{"$f":"IF(H5274=Listas!$X$4,Acompanhamento!I5274,0)","v":0},null,0,null,0,null,0,null,0]
[null,null,null,null,null,null,null,null,null,{"$f":"IF(H5278=Listas!$X$3,Acompanhamento!I5278,0)","v":0},{"$f":"IF(H5278=Listas!$X$4,Acompanhamento!I5278,0)","v":0},null,0,null,0,null,0,null,0]
[null,null,null,null,null,null,null,null,null,{"$f":"IF(H5281=Listas!$X$3,Acompanhamento!I5281,0)","v":0},{"$f":"IF(H5281=Listas!$X$4,Acompanhamento!I5281,0)","v":0},null,0,null,0,null,0,null,0]
[null,null,null,null,null,null,null,null,null,{"$f":"IF(H5285=Listas!$X$3,Acompanhamento!I5285,0)","v":0},{"$f":"IF(H5285=Listas!$X$4,Acompanhamento!I5285,0)","v":0},null,0,null,0,null,0,null,0]
[null,null,null,null,null,null,null,null,null,{"$f":"IF(H5286=Listas!$X$3,Acompanhamento!I5286,0)","v":0},{"$f":"IF(H5286=Listas!$X$4,Acompanhamento!I5286,0)","v":0},null,0,null,0,null,0,null,0]
[null,null,null,null,null,null,null,null,null,{"$f":"IF(H5289=Listas!$X$3,Acompanhamento!I5289,0)","v":0},{"$f":"IF(H5289=Listas!$X$4,Acompanhamento!I5289,0)","v":0},null,0,null,0,null,0,null,0]
[null,null,null,null,null,null,null,null,null,{"$f":"IF(H5292=Listas!$X$3,Acompanhamento!I5292,0)","v":0},{"$f":"IF(H5292=Listas!$X$4,Acompanhamento!I5292,0)","v":0},null,0,null,0,null,0,null,0]
[null,null,null,null,null,null,null,null,null,{"$f":"IF(H5298=Listas!$X$3,Acompanhamento!I5298,0)","v":0},{"$f":"IF(H5298=Listas!$X$4,Acompanhamento!I5298,0)","v":0},null,0,null,0,null,0,null,0]
[null,null,null,null,null,null,null,null,null,{"$f":"IF(H5300=Listas!$X$3,Acompanhamento!I5300,0)","v":0},{"$f":"IF(H5300=Listas!$X$4,Acompanhamento!I5300,0)","v":0},null,0,null,0,null,0,null,0]
[null,null,null,null,null,null,null,null,null,{"$f":"IF(H5304=Listas!$X$3,Acompanhamento!I5304,0)","v":0},{"$f":"IF(H5304=Listas!$X$4,Acompanhamento!I5304,0)","v":0},null,0,null,0,null,0,null,0]
[null,null,null,null,null,null,null,null,null,{"$f":"IF(H5307=Listas!$X$3,Acompanhamento!I5307,0)","v":0},{"$f":"IF(H5307=Listas!$X$4,Acompanhamento!I5307,0)","v":0},null,0,null,0,null,0,null,0]
[null,null,null,null,null,null,null,null,null,{"$f":"IF(H5311=Listas!$X$3,Acompanhamento!I5311,0)","v":0},{"$f":"IF(H5311=Listas!$X$4,Acompanhamento!I5311,0)","v":0},null,0,null,0,null,0,null,0]
[null,null,null,null,null,null,null,null,null,{"$f":"IF(H5312=Listas!$X$3,Acompanhamento!I5312,0)","v":0},{"$f":"IF(H5312=Listas!$X$4,Acompanhamento!I5312,0)","v":0},null,0,null,0,null,0,null,0]
[null,null,null,null,null,null,null,null,null,{"$f":"IF(H5315=Listas!$X$3,Acompanhamento!I5315,0)","v":0},{"$f":"IF(H5315=Listas!$X$4,Acompanhamento!I5315,0)","v":0},null,0,null,0,null,0,null,0]
[null,null,null,null,null,null,null,null,null,{"$f":"IF(H5318=Listas!$X$3,Acompanhamento!I5318,0)","v":0},{"$f":"IF(H5318=Listas!$X$4,Acompanhamento!I5318,0)","v":0},null,0,null,0,null,0,null,0]
[null,null,null,null,null,null,null,null,null,{"$f":"IF(H5324=Listas!$X$3,Acompanhamento!I5324,0)","v":0},{"$f":"IF(H5324=Listas!$X$4,Acompanhamento!I5324,0)","v":0},null,0,null,0,null,0,null,0]
[null,null,null,null,null,null,null,null,null,{"$f":"IF(H5326=Listas!$X$3,Acompanhamento!I5326,0)","v":0},{"$f":"IF(H5326=Listas!$X$4,Acompanhamento!I5326,0)","v":0},null,0,null,0,null,0,null,0]
[null,null,null,null,null,null,null,null,null,{"$f":"IF(H5330=Listas!$X$3,Acompanhamento!I5330,0)","v":0},{"$f":"IF(H5330=Listas!$X$4,Acompanhamento!I5330,0)","v":0},null,0,null,0,null,0,null,0]
[null,null,null,null,null,null,null,null,null,{"$f":"IF(H5333=Listas!$X$3,Acompanhamento!I5333,0)","v":0},{"$f":"IF(H5333=Listas!$X$4,Acompanhamento!I5333,0)","v":0},null,0,null,0,null,0,null,0]
[null,null,null,null,null,null,null,null,null,{"$f":"IF(H5337=Listas!$X$3,Acompanhamento!I5337,0)","v":0},{"$f":"IF(H5337=Listas!$X$4,Acompanhamento!I5337,0)","v":0},null,0,null,0,null,0,null,0]
[null,null,null,null,null,null,null,null,null,{"$f":"IF(H5338=Listas!$X$3,Acompanhamento!I5338,0)","v":0},{"$f":"IF(H5338=Listas!$X$4,Acompanhamento!I5338,0)","v":0},null,0,null,0,null,0,null,0]
[null,null,null,null,null,null,null,null,null,{"$f":"IF(H5341=Listas!$X$3,Acompanhamento!I5341,0)","v":0},{"$f":"IF(H5341=Listas!$X$4,Acompanhamento!I5341,0)","v":0},null,0,null,0,null,0,null,0]
[null,null,null,null,null,null,null,null,null,{"$f":"IF(H5345=Listas!$X$3,Acompanhamento!I5345,0)","v":0},{"$f":"IF(H5345=Listas!$X$4,Acompanhamento!I5345,0)","v":0},null,0,null,0,null,0,null,0]
[null,null,null,null,null,null,null,null,null,{"$f":"IF(H5350=Listas!$X$3,Acompanhamento!I5350,0)","v":0},{"$f":"IF(H5350=Listas!$X$4,Acompanhamento!I5350,0)","v":0},null,0,null,0,null,0,null,0]
[null,null,null,null,null,null,null,null,null,{"$f":"IF(H5352=Listas!$X$3,Acompanhamento!I5352,0)","v":0},{"$f":"IF(H5352=Listas!$X$4,Acompanhamento!I5352,0)","v":0},null,0,null,0,null,0,null,0]
[null,null,null,null,null,null,null,null,null,{"$f":"IF(H5356=Listas!$X$3,Acompanhamento!I5356,0)","v":0},{"$f":"IF(H5356=Listas!$X$4,Acompanhamento!I5356,0)","v":0},null,0,null,0,null,0,null,0]
[null,null,null,null,null,null,null,null,null,{"$f":"IF(H5359=Listas!$X$3,Acompanhamento!I5359,0)","v":0},{"$f":"IF(H5359=Listas!$X$4,Acompanhamento!I5359,0)","v":0},null,0,null,0,null,0,null,0]
[null,null,null,null,null,null,null,null,null,{"$f":"IF(H5363=Listas!$X$3,Acompanhamento!I5363,0)","v":0},{"$f":"IF(H5363=Listas!$X$4,Acompanhamento!I5363,0)","v":0},null,0,null,0,null,0,null,0]
[null,null,null,null,null,null,null,null,null,{"$f":"IF(H5364=Listas!$X$3,Acompanhamento!I5364,0)","v":0},{"$f":"IF(H5364=Listas!$X$4,Acompanhamento!I5364,0)","v":0},null,0,null,0,null,0,null,0]
[null,null,null,null,null,null,null,null,null,{"$f":"IF(H5367=Listas!$X$3,Acompanhamento!I5367,0)","v":0},{"$f":"IF(H5367=Listas!$X$4,Acompanhamento!I5367,0)","v":0},null,0,null,0,null,0,null,0]
[null,null,null,null,null,null,null,null,null,{"$f":"IF(H5371=Listas!$X$3,Acompanhamento!I5371,0)","v":0},{"$f":"IF(H5371=Listas!$X$4,Acompanhamento!I5371,0)","v":0},null,0,null,0,null,0,null,0]
[null,null,null,null,null,null,null,null,null,{"$f":"IF(H5376=Listas!$X$3,Acompanhamento!I5376,0)","v":0},{"$f":"IF(H5376=Listas!$X$4,Acompanhamento!I5376,0)","v":0},null,0,null,0,null,0,null,0]
[null,null,null,null,null,null,null,null,null,{"$f":"IF(H5378=Listas!$X$3,Acompanhamento!I5378,0)","v":0},{"$f":"IF(H5378=Listas!$X$4,Acompanhamento!I5378,0)","v":0},null,0,null,0,null,0,null,0]
[null,null,null,null,null,null,null,null,null,{"$f":"IF(H5382=Listas!$X$3,Acompanhamento!I5382,0)","v":0},{"$f":"IF(H5382=Listas!$X$4,Acompanhamento!I5382,0)","v":0},null,0,null,0,null,0,null,0]
[null,null,null,null,null,null,null,null,null,{"$f":"IF(H5385=Listas!$X$3,Acompanhamento!I5385,0)","v":0},{"$f":"IF(H5385=Listas!$X$4,Acompanhamento!I5385,0)","v":0},null,0,null,0,null,0,null,0]
[null,null,null,null,null,null,null,null,null,{"$f":"IF(H5389=Listas!$X$3,Acompanhamento!I5389,0)","v":0},{"$f":"IF(H5389=Listas!$X$4,Acompanhamento!I5389,0)","v":0},null,0,null,0,null,0,null,0]
[null,null,null,null,null,null,null,null,null,{"$f":"IF(H5390=Listas!$X$3,Acompanhamento!I5390,0)","v":0},{"$f":"IF(H5390=Listas!$X$4,Acompanhamento!I5390,0)","v":0},null,0,null,0,null,0,null,0]
[null,null,null,null,null,null,null,null,null,{"$f":"IF(H5393=Listas!$X$3,Acompanhamento!I5393,0)","v":0},{"$f":"IF(H5393=Listas!$X$4,Acompanhamento!I5393,0)","v":0},null,0,null,0,null,0,null,0]
[null,null,null,null,null,null,null,null,null,{"$f":"IF(H5397=Listas!$X$3,Acompanhamento!I5397,0)","v":0},{"$f":"IF(H5397=Listas!$X$4,Acompanhamento!I5397,0)","v":0},null,0,null,0,null,0,null,0]
[null,null,null,null,null,null,null,null,null,{"$f":"IF(H5402=Listas!$X$3,Acompanhamento!I5402,0)","v":0},{"$f":"IF(H5402=Listas!$X$4,Acompanhamento!I5402,0)","v":0},null,0,null,0,null,0,null,0]
[null,null,null,null,null,null,null,null,null,{"$f":"IF(H5404=Listas!$X$3,Acompanhamento!I5404,0)","v":0},{"$f":"IF(H5404=Listas!$X$4,Acompanhamento!I5404,0)","v":0},null,0,null,0,null,0,null,0]
[null,null,null,null,null,null,null,null,null,{"$f":"IF(H5408=Listas!$X$3,Acompanhamento!I5408,0)","v":0},{"$f":"IF(H5408=Listas!$X$4,Acompanhamento!I5408,0)","v":0},null,0,null,0,null,0,null,0]
[null,null,null,null,null,null,null,null,null,{"$f":"IF(H5411=Listas!$X$3,Acompanhamento!I5411,0)","v":0},{"$f":"IF(H5411=Listas!$X$4,Acompanhamento!I5411,0)","v":0},null,0,null,0,null,0,null,0]
[null,null,null,null,null,null,null,null,null,{"$f":"IF(H5415=Listas!$X$3,Acompanhamento!I5415,0)","v":0},{"$f":"IF(H5415=Listas!$X$4,Acompanhamento!I5415,0)","v":0},null,0,null,0,null,0,null,0]
[null,null,null,null,null,null,null,null,null,{"$f":"IF(H5416=Listas!$X$3,Acompanhamento!I5416,0)","v":0},{"$f":"IF(H5416=Listas!$X$4,Acompanhamento!I5416,0)","v":0},null,0,null,0,null,0,null,0]
[null,null,null,null,null,null,null,null,null,{"$f":"IF(H5419=Listas!$X$3,Acompanhamento!I5419,0)","v":0},{"$f":"IF(H5419=Listas!$X$4,Acompanhamento!I5419,0)","v":0},null,0,null,0,null,0,null,0]
[null,null,null,null,null,null,null,null,null,{"$f":"IF(H5423=Listas!$X$3,Acompanhamento!I5423,0)","v":0},{"$f":"IF(H5423=Listas!$X$4,Acompanhamento!I5423,0)","v":0},null,0,null,0,null,0,null,0]
[null,null,null,null,null,null,null,null,null,{"$f":"IF(H5428=Listas!$X$3,Acompanhamento!I5428,0)","v":0},{"$f":"IF(H5428=Listas!$X$4,Acompanhamento!I5428,0)","v":0},null,0,null,0,null,0,null,0]
[null,null,null,null,null,null,null,null,null,{"$f":"IF(H5430=Listas!$X$3,Acompanhamento!I5430,0)","v":0},{"$f":"IF(H5430=Listas!$X$4,Acompanhamento!I5430,0)","v":0},null,0,null,0,null,0,null,0]
[null,null,null,null,null,null,null,null,null,{"$f":"IF(H5434=Listas!$X$3,Acompanhamento!I5434,0)","v":0},{"$f":"IF(H5434=Listas!$X$4,Acompanhamento!I5434,0)","v":0},null,0,null,0,null,0,null,0]
[null,null,null,null,null,null,null,null,null,{"$f":"IF(H5437=Listas!$X$3,Acompanhamento!I5437,0)","v":0},{"$f":"IF(H5437=Listas!$X$4,Acompanhamento!I5437,0)","v":0},null,0,null,0,null,0,null,0]
[null,null,null,null,null,null,null,null,null,{"$f":"IF(H5441=Listas!$X$3,Acompanhamento!I5441,0)","v":0},{"$f":"IF(H5441=Listas!$X$4,Acompanhamento!I5441,0)","v":0},null,0,null,0,null,0,null,0]
[null,null,null,null,null,null,null,null,null,{"$f":"IF(H5442=Listas!$X$3,Acompanhamento!I5442,0)","v":0},{"$f":"IF(H5442=Listas!$X$4,Acompanhamento!I5442,0)","v":0},null,0,null,0,null,0,null,0]
[null,null,null,null,null,null,null,null,null,{"$f":"IF(H5445=Listas!$X$3,Acompanhamento!I5445,0)","v":0},{"$f":"IF(H5445=Listas!$X$4,Acompanhamento!I5445,0)","v":0},null,0,null,0,null,0,null,0]
[null,null,null,null,null,null,null,null,null,{"$f":"IF(H5449=Listas!$X$3,Acompanhamento!I5449,0)","v":0},{"$f":"IF(H5449=Listas!$X$4,Acompanhamento!I5449,0)","v":0},null,0,null,0,null,0,null,0]
[null,null,null,null,null,null,null,null,null,{"$f":"IF(H5454=Listas!$X$3,Acompanhamento!I5454,0)","v":0},{"$f":"IF(H5454=Listas!$X$4,Acompanhamento!I5454,0)","v":0},null,0,null,0,null,0,null,0]
[null,null,null,null,null,null,null,null,null,{"$f":"IF(H5457=Listas!$X$3,Acompanhamento!I5457,0)","v":0},{"$f":"IF(H5457=Listas!$X$4,Acompanhamento!I5457,0)","v":0},null,0,null,0,null,0,null,0]
[null,null,null,null,null,null,null,null,null,{"$f":"IF(H5460=Listas!$X$3,Acompanhamento!I5460,0)","v":0},{"$f":"IF(H5460=Listas!$X$4,Acompanhamento!I5460,0)","v":0},null,0,null,0,null,0,null,0]
[null,null,null,null,null,null,null,null,null,{"$f":"IF(H5463=Listas!$X$3,Acompanhamento!I5463,0)","v":0},{"$f":"IF(H5463=Listas!$X$4,Acompanhamento!I5463,0)","v":0},null,0,null,0,null,0,null,0]
[null,null,null,null,null,null,null,null,null,{"$f":"IF(H5467=Listas!$X$3,Acompanhamento!I5467,0)","v":0},{"$f":"IF(H5467=Listas!$X$4,Acompanhamento!I5467,0)","v":0},null,0,null,0,null,0,null,0]
[null,null,null,null,null,null,null,null,null,{"$f":"IF(H5468=Listas!$X$3,Acompanhamento!I5468,0)","v":0},{"$f":"IF(H5468=Listas!$X$4,Acompanhamento!I5468,0)","v":0},null,0,null,0,null,0,null,0]
[null,null,null,null,null,null,null,null,null,{"$f":"IF(H5471=Listas!$X$3,Acompanhamento!I5471,0)","v":0},{"$f":"IF(H5471=Listas!$X$4,Acompanhamento!I5471,0)","v":0},null,0,null,0,null,0,null,0]
[null,null,null,null,null,null,null,null,null,{"$f":"IF(H5475=Listas!$X$3,Acompanhamento!I5475,0)","v":0},{"$f":"IF(H5475=Listas!$X$4,Acompanhamento!I5475,0)","v":0},null,0,null,0,null,0,null,0]
[null,null,null,null,null,null,null,null,null,{"$f":"IF(H5480=Listas!$X$3,Acompanhamento!I5480,0)","v":0},{"$f":"IF(H5480=Listas!$X$4,Acompanhamento!I5480,0)","v":0},null,0,null,0,null,0,null,0]
[null,null,null,null,null,null,null,null,null,{"$f":"IF(H5483=Listas!$X$3,Acompanhamento!I5483,0)","v":0},{"$f":"IF(H5483=Listas!$X$4,Acompanhamento!I5483,0)","v":0},null,0,null,0,null,0,null,0]
[null,null,null,null,null,null,null,null,null,{"$f":"IF(H5486=Listas!$X$3,Acompanhamento!I5486,0)","v":0},{"$f":"IF(H5486=Listas!$X$4,Acompanhamento!I5486,0)","v":0},null,0,null,0,null,0,null,0]
[null,null,null,null,null,null,null,null,null,{"$f":"IF(H5489=Listas!$X$3,Acompanhamento!I5489,0)","v":0},{"$f":"IF(H5489=Listas!$X$4,Acompanhamento!I5489,0)","v":0},null,0,null,0,null,0,null,0]
[null,null,null,null,null,null,null,null,null,{"$f":"IF(H5493=Listas!$X$3,Acompanhamento!I5493,0)","v":0},{"$f":"IF(H5493=Listas!$X$4,Acompanhamento!I5493,0)","v":0},null,0,null,0,null,0,null,0]
[null,null,null,null,null,null,null,null,null,{"$f":"IF(H5494=Listas!$X$3,Acompanhamento!I5494,0)","v":0},{"$f":"IF(H5494=Listas!$X$4,Acompanhamento!I5494,0)","v":0},null,0,null,0,null,0,null,0]
[null,null,null,null,null,null,null,null,null,{"$f":"IF(H5497=Listas!$X$3,Acompanhamento!I5497,0)","v":0},{"$f":"IF(H5497=Listas!$X$4,Acompanhamento!I5497,0)","v":0},null,0,null,0,null,0,null,0]
[null,null,null,null,null,null,null,null,null,{"$f":"IF(H5501=Listas!$X$3,Acompanhamento!I5501,0)","v":0},{"$f":"IF(H5501=Listas!$X$4,Acompanhamento!I5501,0)","v":0},null,0,null,0,null,0,null,0]
[null,null,null,null,null,null,null,null,null,{"$f":"IF(H5506=Listas!$X$3,Acompanhamento!I5506,0)","v":0},{"$f":"IF(H5506=Listas!$X$4,Acompanhamento!I5506,0)","v":0},null,0,null,0,null,0,null,0]
[null,null,null,null,null,null,null,null,null,{"$f":"IF(H5509=Listas!$X$3,Acompanhamento!I5509,0)","v":0},{"$f":"IF(H5509=Listas!$X$4,Acompanhamento!I5509,0)","v":0},null,0,null,0,null,0,null,0]
[null,null,null,null,null,null,null,null,null,{"$f":"IF(H5512=Listas!$X$3,Acompanhamento!I5512,0)","v":0},{"$f":"IF(H5512=Listas!$X$4,Acompanhamento!I5512,0)","v":0},null,0,null,0,null,0,null,0]
[null,null,null,null,null,null,null,null,null,{"$f":"IF(H5515=Listas!$X$3,Acompanhamento!I5515,0)","v":0},{"$f":"IF(H5515=Listas!$X$4,Acompanhamento!I5515,0)","v":0},null,0,null,0,null,0,null,0]
[null,null,null,null,null,null,null,null,null,{"$f":"IF(H5519=Listas!$X$3,Acompanhamento!I5519,0)","v":0},{"$f":"IF(H5519=Listas!$X$4,Acompanhamento!I5519,0)","v":0},null,0,null,0,null,0,null,0]
[null,null,null,null,null,null,null,null,null,{"$f":"IF(H5520=Listas!$X$3,Acompanhamento!I5520,0)","v":0},{"$f":"IF(H5520=Listas!$X$4,Acompanhamento!I5520,0)","v":0},null,0,null,0,null,0,null,0]
[null,null,null,null,null,null,null,null,null,{"$f":"IF(H5524=Listas!$X$3,Acompanhamento!I5524,0)","v":0},{"$f":"IF(H5524=Listas!$X$4,Acompanhamento!I5524,0)","v":0},null,0,null,0,null,0,null,0]
[null,null,null,null,null,null,null,null,null,{"$f":"IF(H5527=Listas!$X$3,Acompanhamento!I5527,0)","v":0},{"$f":"IF(H5527=Listas!$X$4,Acompanhamento!I5527,0)","v":0},null,0,null,0,null,0,null,0]
[null,null,null,null,null,null,null,null,null,{"$f":"IF(H5532=Listas!$X$3,Acompanhamento!I5532,0)","v":0},{"$f":"IF(H5532=Listas!$X$4,Acompanhamento!I5532,0)","v":0},null,0,null,0,null,0,null,0]
[null,null,null,null,null,null,null,null,null,{"$f":"IF(H5535=Listas!$X$3,Acompanhamento!I5535,0)","v":0},{"$f":"IF(H5535=Listas!$X$4,Acompanhamento!I5535,0)","v":0},null,0,null,0,null,0,null,0]
[null,null,null,null,null,null,null,null,null,{"$f":"IF(H5538=Listas!$X$3,Acompanhamento!I5538,0)","v":0},{"$f":"IF(H5538=Listas!$X$4,Acompanhamento!I5538,0)","v":0},null,0,null,0,null,0,null,0]
[null,null,null,null,null,null,null,null,null,{"$f":"IF(H5541=Listas!$X$3,Acompanhamento!I5541,0)","v":0},{"$f":"IF(H5541=Listas!$X$4,Acompanhamento!I5541,0)","v":0},null,0,null,0,null,0,null,0]
[null,null,null,null,null,null,null,null,null,{"$f":"IF(H5545=Listas!$X$3,Acompanhamento!I5545,0)","v":0},{"$f":"IF(H5545=Listas!$X$4,Acompanhamento!I5545,0)","v":0},null,0,null,0,null,0,null,0]
[null,null,null,null,null,null,null,null,null,{"$f":"IF(H5546=Listas!$X$3,Acompanhamento!I5546,0)","v":0},{"$f":"IF(H5546=Listas!$X$4,Acompanhamento!I5546,0)","v":0},null,0,null,0,null,0,null,0]
[null,null,null,null,null,null,null,null,null,{"$f":"IF(H5550=Listas!$X$3,Acompanhamento!I5550,0)","v":0},{"$f":"IF(H5550=Listas!$X$4,Acompanhamento!I5550,0)","v":0},null,0,null,0,null,0,null,0]
[null,null,null,null,null,null,null,null,null,{"$f":"IF(H5553=Listas!$X$3,Acompanhamento!I5553,0)","v":0},{"$f":"IF(H5553=Listas!$X$4,Acompanhamento!I5553,0)","v":0},null,0,null,0,null,0,null,0]
[null,null,null,null,null,null,null,null,null,{"$f":"IF(H5558=Listas!$X$3,Acompanhamento!I5558,0)","v":0},{"$f":"IF(H5558=Listas!$X$4,Acompanhamento!I5558,0)","v":0},null,0,null,0,null,0,null,0]
[null,null,null,null,null,null,null,null,null,{"$f":"IF(H5561=Listas!$X$3,Acompanhamento!I5561,0)","v":0},{"$f":"IF(H5561=Listas!$X$4,Acompanhamento!I5561,0)","v":0},null,0,null,0,null,0,null,0]
[null,null,null,null,null,null,null,null,null,{"$f":"IF(H5564=Listas!$X$3,Acompanhamento!I5564,0)","v":0},{"$f":"IF(H5564=Listas!$X$4,Acompanhamento!I5564,0)","v":0},null,0,null,0,null,0,null,0]
[null,null,null,null,null,null,null,null,null,{"$f":"IF(H5565=Listas!$X$3,Acompanhamento!I5565,0)","v":0},{"$f":"IF(H5565=Listas!$X$4,Acompanhamento!I5565,0)","v":0},null,0,null,0,null,0,null,0]
[null,null,null,null,null,null,null,null,null,{"$f":"IF(H5571=Listas!$X$3,Acompanhamento!I5571,0)","v":0},{"$f":"IF(H5571=Listas!$X$4,Acompanhamento!I5571,0)","v":0},null,0,null,0,null,0,null,0]
[null,null,null,null,null,null,null,null,null,{"$f":"IF(H5572=Listas!$X$3,Acompanhamento!I5572,0)","v":0},{"$f":"IF(H5572=Listas!$X$4,Acompanhamento!I5572,0)","v":0},null,0,null,0,null,0,null,0]
[null,null,null,null,null,null,null,null,null,{"$f":"IF(H5576=Listas!$X$3,Acompanhamento!I5576,0)","v":0},{"$f":"IF(H5576=Listas!$X$4,Acompanhamento!I5576,0)","v":0},null,0,null,0,null,0,null,0]
[null,null,null,null,null,null,null,null,null,{"$f":"IF(H5579=Listas!$X$3,Acompanhamento!I5579,0)","v":0},{"$f":"IF(H5579=Listas!$X$4,Acompanhamento!I5579,0)","v":0},null,0,null,0,null,0,null,0]
[null,null,null,null,null,null,null,null,null,{"$f":"IF(H5584=Listas!$X$3,Acompanhamento!I5584,0)","v":0},{"$f":"IF(H5584=Listas!$X$4,Acompanhamento!I5584,0)","v":0},null,0,null,0,null,0,null,0]
[null,null,null,null,null,null,null,null,null,{"$f":"IF(H5587=Listas!$X$3,Acompanhamento!I5587,0)","v":0},{"$f":"IF(H5587=Listas!$X$4,Acompanhamento!I5587,0)","v":0},null,0,null,0,null,0,null,0]
[null,null,null,null,null,null,null,null,null,{"$f":"IF(H5590=Listas!$X$3,Acompanhamento!I5590,0)","v":0},{"$f":"IF(H5590=Listas!$X$4,Acompanhamento!I5590,0)","v":0},null,0,null,0,null,0,null,0]
[null,null,null,null,null,null,null,null,null,{"$f":"IF(H5591=Listas!$X$3,Acompanhamento!I5591,0)","v":0},{"$f":"IF(H5591=Listas!$X$4,Acompanhamento!I5591,0)","v":0},null,0,null,0,null,0,null,0]
[null,null,null,null,null,null,null,null,null,{"$f":"IF(H5597=Listas!$X$3,Acompanhamento!I5597,0)","v":0},{"$f":"IF(H5597=Listas!$X$4,Acompanhamento!I5597,0)","v":0},null,0,null,0,null,0,null,0]
[null,null,null,null,null,null,null,null,null,{"$f":"IF(H5598=Listas!$X$3,Acompanhamento!I5598,0)","v":0},{"$f":"IF(H5598=Listas!$X$4,Acompanhamento!I5598,0)","v":0},null,0,null,0,null,0,null,0]
[null,null,null,null,null,null,null,null,null,{"$f":"IF(H5602=Listas!$X$3,Acompanhamento!I5602,0)","v":0},{"$f":"IF(H5602=Listas!$X$4,Acompanhamento!I5602,0)","v":0},null,0,null,0,null,0,null,0]
[null,null,null,null,null,null,null,null,null,{"$f":"IF(H5605=Listas!$X$3,Acompanhamento!I5605,0)","v":0},{"$f":"IF(H5605=Listas!$X$4,Acompanhamento!I5605,0)","v":0},null,0,null,0,null,0,null,0]
[null,null,null,null,null,null,null,null,null,{"$f":"IF(H5610=Listas!$X$3,Acompanhamento!I5610,0)","v":0},{"$f":"IF(H5610=Listas!$X$4,Acompanhamento!I5610,0)","v":0},null,0,null,0,null,0,null,0]
[null,null,null,null,null,null,null,null,null,{"$f":"IF(H5613=Listas!$X$3,Acompanhamento!I5613,0)","v":0},{"$f":"IF(H5613=Listas!$X$4,Acompanhamento!I5613,0)","v":0},null,0,null,0,null,0,null,0]
[null,null,null,null,null,null,null,null,null,{"$f":"IF(H5616=Listas!$X$3,Acompanhamento!I5616,0)","v":0},{"$f":"IF(H5616=Listas!$X$4,Acompanhamento!I5616,0)","v":0},null,0,null,0,null,0,null,0]
[null,null,null,null,null,null,null,null,null,{"$f":"IF(H5617=Listas!$X$3,Acompanhamento!I5617,0)","v":0},{"$f":"IF(H5617=Listas!$X$4,Acompanhamento!I5617,0)","v":0},null,0,null,0,null,0,null,0]
[null,null,null,null,null,null,null,null,null,{"$f":"IF(H5623=Listas!$X$3,Acompanhamento!I5623,0)","v":0},{"$f":"IF(H5623=Listas!$X$4,Acompanhamento!I5623,0)","v":0},null,0,null,0,null,0,null,0]
[null,null,null,null,null,null,null,null,null,{"$f":"IF(H5624=Listas!$X$3,Acompanhamento!I5624,0)","v":0},{"$f":"IF(H5624=Listas!$X$4,Acompanhamento!I5624,0)","v":0},null,0,null,0,null,0,null,0]
[null,null,null,null,null,null,null,null,null,{"$f":"IF(H5628=Listas!$X$3,Acompanhamento!I5628,0)","v":0},{"$f":"IF(H5628=Listas!$X$4,Acompanhamento!I5628,0)","v":0},null,0,null,0,null,0,null,0]
[null,null,null,null,null,null,null,null,null,{"$f":"IF(H5631=Listas!$X$3,Acompanhamento!I5631,0)","v":0},{"$f":"IF(H5631=Listas!$X$4,Acompanhamento!I5631,0)","v":0},null,0,null,0,null,0,null,0]
[null,null,null,null,null,null,null,null,null,{"$f":"IF(H5636=Listas!$X$3,Acompanhamento!I5636,0)","v":0},{"$f":"IF(H5636=Listas!$X$4,Acompanhamento!I5636,0)","v":0},null,0,null,0,null,0,null,0]
[null,null,null,null,null,null,null,null,null,{"$f":"IF(H5639=Listas!$X$3,Acompanhamento!I5639,0)","v":0},{"$f":"IF(H5639=Listas!$X$4,Acompanhamento!I5639,0)","v":0},null,0,null,0,null,0,null,0]
[null,null,null,null,null,null,null,null,null,{"$f":"IF(H5642=Listas!$X$3,Acompanhamento!I5642,0)","v":0},{"$f":"IF(H5642=Listas!$X$4,Acompanhamento!I5642,0)","v":0},null,{"$f":"J5642-L5642","v":0},null,{"$f":"M5642-N5642","v":0},null,{"$f":"O5642-P5642","v":0},null,{"$f":"Q5642-R5642","v":0}]
[null,null,null,null,null,null,null,null,null,{"$f":"IF(H5643=Listas!$X$3,Acompanhamento!I5643,0)","v":0},{"$f":"IF(H5643=Listas!$X$4,Acompanhamento!I5643,0)","v":0},null,0,null,0,null,0,null,0]
[null,null,null,null,null,null,null,null,null,{"$f":"IF(H5649=Listas!$X$3,Acompanhamento!I5649,0)","v":0},{"$f":"IF(H5649=Listas!$X$4,Acompanhamento!I5649,0)","v":0},null,0,null,0,null,0,null,0]
[null,null,null,null,null,null,null,null,null,{"$f":"IF(H5650=Listas!$X$3,Acompanhamento!I5650,0)","v":0},{"$f":"IF(H5650=Listas!$X$4,Acompanhamento!I5650,0)","v":0},null,0,null,0,null,0,null,0]
[null,null,null,null,null,null,null,null,null,{"$f":"IF(H5654=Listas!$X$3,Acompanhamento!I5654,0)","v":0},{"$f":"IF(H5654=Listas!$X$4,Acompanhamento!I5654,0)","v":0},null,0,null,0,null,0,null,0]
[null,null,null,null,null,null,null,null,null,{"$f":"IF(H5657=Listas!$X$3,Acompanhamento!I5657,0)","v":0},{"$f":"IF(H5657=Listas!$X$4,Acompanhamento!I5657,0)","v":0},null,0,null,0,null,0,null,0]
[null,null,null,null,null,null,null,null,null,{"$f":"IF(H5662=Listas!$X$3,Acompanhamento!I5662,0)","v":0},{"$f":"IF(H5662=Listas!$X$4,Acompanhamento!I5662,0)","v":0},null,0,null,0,null,0,null,0]
[null,null,null,null,null,null,null,null,null,{"$f":"IF(H5665=Listas!$X$3,Acompanhamento!I5665,0)","v":0},{"$f":"IF(H5665=Listas!$X$4,Acompanhamento!I5665,0)","v":0},null,0,null,0,null,0,null,0]
[null,null,null,null,null,null,null,null,null,{"$f":"IF(H5668=Listas!$X$3,Acompanhamento!I5668,0)","v":0},{"$f":"IF(H5668=Listas!$X$4,Acompanhamento!I5668,0)","v":0},null,0,null,0,null,0,null,0]
[null,null,null,null,null,null,null,null,null,{"$f":"IF(H5669=Listas!$X$3,Acompanhamento!I5669,0)","v":0},{"$f":"IF(H5669=Listas!$X$4,Acompanhamento!I5669,0)","v":0},null,0,null,0,null,0,null,0]
[null,null,null,null,null,null,null,null,null,{"$f":"IF(H5675=Listas!$X$3,Acompanhamento!I5675,0)","v":0},{"$f":"IF(H5675=Listas!$X$4,Acompanhamento!I5675,0)","v":0},null,0,null,0,null,0,null,0]
[null,null,null,null,null,null,null,null,null,{"$f":"IF(H5677=Listas!$X$3,Acompanhamento!I5677,0)","v":0},{"$f":"IF(H5677=Listas!$X$4,Acompanhamento!I5677,0)","v":0},null,0,null,0,null,0,null,0]
[null,null,null,null,null,null,null,null,null,{"$f":"IF(H5680=Listas!$X$3,Acompanhamento!I5680,0)","v":0},{"$f":"IF(H5680=Listas!$X$4,Acompanhamento!I5680,0)","v":0},null,0,null,0,null,0,null,0]
[null,null,null,null,null,null,null,null,null,{"$f":"IF(H5683=Listas!$X$3,Acompanhamento!I5683,0)","v":0},{"$f":"IF(H5683=Listas!$X$4,Acompanhamento!I5683,0)","v":0},null,0,null,0,null,0,null,0]
[null,null,null,null,null,null,null,null,null,{"$f":"IF(H5688=Listas!$X$3,Acompanhamento!I5688,0)","v":0},{"$f":"IF(H5688=Listas!$X$4,Acompanhamento!I5688,0)","v":0},null,0,null,0,null,0,null,0]
[null,null,null,null,null,null,null,null,null,{"$f":"IF(H5691=Listas!$X$3,Acompanhamento!I5691,0)","v":0},{"$f":"IF(H5691=Listas!$X$4,Acompanhamento!I5691,0)","v":0},null,0,null,0,null,0,null,0]
[null,null,null,null,null,null,null,null,null,{"$f":"IF(H5694=Listas!$X$3,Acompanhamento!I5694,0)","v":0},{"$f":"IF(H5694=Listas!$X$4,Acompanhamento!I5694,0)","v":0},null,0,null,0,null,0,null,0]
[null,null,null,null,null,null,null,null,null,{"$f":"IF(H5695=Listas!$X$3,Acompanhamento!I5695,0)","v":0},{"$f":"IF(H5695=Listas!$X$4,Acompanhamento!I5695,0)","v":0},null,0,null,0,null,0,null,0]
[null,null,null,null,null,null,null,null,null,{"$f":"IF(H5701=Listas!$X$3,Acompanhamento!I5701,0)","v":0},{"$f":"IF(H5701=Listas!$X$4,Acompanhamento!I5701,0)","v":0},null,0,null,0,null,0,null,0]
[null,null,null,null,null,null,null,null,null,{"$f":"IF(H5703=Listas!$X$3,Acompanhamento!I5703,0)","v":0},{"$f":"IF(H5703=Listas!$X$4,Acompanhamento!I5703,0)","v":0},null,0,null,0,null,0,null,0]
[null,null,null,null,null,null,null,null,null,{"$f":"IF(H5706=Listas!$X$3,Acompanhamento!I5706,0)","v":0},{"$f":"IF(H5706=Listas!$X$4,Acompanhamento!I5706,0)","v":0},null,{"$f":"J5706-L5706","v":0},null,{"$f":"M5706-N5706","v":0},null,{"$f":"O5706-P5706","v":0},null,{"$f":"Q5706-R5706","v":0}]
[null,null,null,null,null,null,null,null,null,{"$f":"IF(H5709=Listas!$X$3,Acompanhamento!I5709,0)","v":0},{"$f":"IF(H5709=Listas!$X$4,Acompanhamento!I5709,0)","v":0},null,0,null,0,null,0,null,0]
[null,null,null,null,null,null,null,null,null,{"$f":"IF(H5714=Listas!$X$3,Acompanhamento!I5714,0)","v":0},{"$f":"IF(H5714=Listas!$X$4,Acompanhamento!I5714,0)","v":0},null,0,null,0,null,0,null,0]
[null,null,null,null,null,null,null,null,null,{"$f":"IF(H5717=Listas!$X$3,Acompanhamento!I5717,0)","v":0},{"$f":"IF(H5717=Listas!$X$4,Acompanhamento!I5717,0)","v":0},null,0,null,0,null,0,null,0]
[null,null,null,null,null,null,null,null,null,{"$f":"IF(H5720=Listas!$X$3,Acompanhamento!I5720,0)","v":0},{"$f":"IF(H5720=Listas!$X$4,Acompanhamento!I5720,0)","v":0},null,0,null,0,null,0,null,0]
[null,null,null,null,null,null,null,null,null,{"$f":"IF(H5721=Listas!$X$3,Acompanhamento!I5721,0)","v":0},{"$f":"IF(H5721=Listas!$X$4,Acompanhamento!I5721,0)","v":0},null,0,null,0,null,0,null,0]
[null,null,null,null,null,null,null,null,null,{"$f":"IF(H5727=Listas!$X$3,Acompanhamento!I5727,0)","v":0},{"$f":"IF(H5727=Listas!$X$4,Acompanhamento!I5727,0)","v":0},null,0,null,0,null,0,null,0]
[null,null,null,null,null,null,null,null,null,{"$f":"IF(H5729=Listas!$X$3,Acompanhamento!I5729,0)","v":0},{"$f":"IF(H5729=Listas!$X$4,Acompanhamento!I5729,0)","v":0},null,0,null,0,null,0,null,0]
[null,null,null,null,null,null,null,null,null,{"$f":"IF(H5732=Listas!$X$3,Acompanhamento!I5732,0)","v":0},{"$f":"IF(H5732=Listas!$X$4,Acompanhamento!I5732,0)","v":0},null,0,null,0,null,0,null,0]
[null,null,null,null,null,null,null,null,null,{"$f":"IF(H5735=Listas!$X$3,Acompanhamento!I5735,0)","v":0},{"$f":"IF(H5735=Listas!$X$4,Acompanhamento!I5735,0)","v":0},null,0,null,0,null,0,null,0]
[null,null,null,null,null,null,null,null,null,{"$f":"IF(H5740=Listas!$X$3,Acompanhamento!I5740,0)","v":0},{"$f":"IF(H5740=Listas!$X$4,Acompanhamento!I5740,0)","v":0},null,0,null,0,null,0,null,0]
[null,null,null,null,null,null,null,null,null,{"$f":"IF(H5743=Listas!$X$3,Acompanhamento!I5743,0)","v":0},{"$f":"IF(H5743=Listas!$X$4,Acompanhamento!I5743,0)","v":0},null,0,null,0,null,0,null,0]
[null,null,null,null,null,null,null,null,null,{"$f":"IF(H5744=Listas!$X$3,Acompanhamento!I5744,0)","v":0},{"$f":"IF(H5744=Listas!$X$4,Acompanhamento!I5744,0)","v":0},null,0,null,0,null,0,null,0]
[null,null,null,null,null,null,null,null,null,{"$f":"IF(H5747=Listas!$X$3,Acompanhamento!I5747,0)","v":0},{"$f":"IF(H5747=Listas!$X$4,Acompanhamento!I5747,0)","v":0},null,0,null,0,null,0,null,0]
[null,null,null,null,null,null,null,null,null,{"$f":"IF(H5753=Listas!$X$3,Acompanhamento!I5753,0)","v":0},{"$f":"IF(H5753=Listas!$X$4,Acompanhamento!I5753,0)","v":0},null,0,null,0,null,0,null,0]
[null,null,null,null,null,null,null,null,null,{"$f":"IF(H5755=Listas!$X$3,Acompanhamento!I5755,0)","v":0},{"$f":"IF(H5755=Listas!$X$4,Acompanhamento!I5755,0)","v":0},null,0,null,0,null,0,null,0]
[null,null,null,null,null,null,null,null,null,{"$f":"IF(H5758=Listas!$X$3,Acompanhamento!I5758,0)","v":0},{"$f":"IF(H5758=Listas!$X$4,Acompanhamento!I5758,0)","v":0},null,0,null,0,null,0,null,0]
[null,null,null,null,null,null,null,null,null,{"$f":"IF(H5761=Listas!$X$3,Acompanhamento!I5761,0)","v":0},{"$f":"IF(H5761=Listas!$X$4,Acompanhamento!I5761,0)","v":0},null,0,null,0,null,0,null,0]
[null,null,null,null,null,null,null,null,null,{"$f":"IF(H5766=Listas!$X$3,Acompanhamento!I5766,0)","v":0},{"$f":"IF(H5766=Listas!$X$4,Acompanhamento!I5766,0)","v":0},null,0,null,0,null,0,null,0]
[null,null,null,null,null,null,null,null,null,{"$f":"IF(H5769=Listas!$X$3,Acompanhamento!I5769,0)","v":0},{"$f":"IF(H5769=Listas!$X$4,Acompanhamento!I5769,0)","v":0},null,0,null,0,null,0,null,0]
[null,null,null,null,null,null,null,null,null,{"$f":"IF(H5770=Listas!$X$3,Acompanhamento!I5770,0)","v":0},{"$f":"IF(H5770=Listas!$X$4,Acompanhamento!I5770,0)","v":0},null,{"$f":"J5770-L5770","v":0},null,{"$f":"M5770-N5770","v":0},null,{"$f":"O5770-P5770","v":0},null,{"$f":"Q5770-R5770","v":0}]
[null,null,null,null,null,null,null,null,null,{"$f":"IF(H5773=Listas!$X$3,Acompanhamento!I5773,0)","v":0},{"$f":"IF(H5773=Listas!$X$4,Acompanhamento!I5773,0)","v":0},null,0,null,0,null,0,null,0]
[null,null,null,null,null,null,null,null,null,{"$f":"IF(H5779=Listas!$X$3,Acompanhamento!I5779,0)","v":0},{"$f":"IF(H5779=Listas!$X$4,Acompanhamento!I5779,0)","v":0},null,0,null,0,null,0,null,0]
[null,null,null,null,null,null,null,null,null,{"$f":"IF(H5781=Listas!$X$3,Acompanhamento!I5781,0)","v":0},{"$f":"IF(H5781=Listas!$X$4,Acompanhamento!I5781,0)","v":0},null,0,null,0,null,0,null,0]
[null,null,null,null,null,null,null,null,null,{"$f":"IF(H5784=Listas!$X$3,Acompanhamento!I5784,0)","v":0},{"$f":"IF(H5784=Listas!$X$4,Acompanhamento!I5784,0)","v":0},null,0,null,0,null,0,null,0]
[null,null,null,null,null,null,null,null,null,{"$f":"IF(H5787=Listas!$X$3,Acompanhamento!I5787,0)","v":0},{"$f":"IF(H5787=Listas!$X$4,Acompanhamento!I5787,0)","v":0},null,0,null,0,null,0,null,0]
[null,null,null,null,null,null,null,null,null,{"$f":"IF(H5792=Listas!$X$3,Acompanhamento!I5792,0)","v":0},{"$f":"IF(H5792=Listas!$X$4,Acompanhamento!I5792,0)","v":0},null,0,null,0,null,0,null,0]
[null,null,null,null,null,null,null,null,null,{"$f":"IF(H5795=Listas!$X$3,Acompanhamento!I5795,0)","v":0},{"$f":"IF(H5795=Listas!$X$4,Acompanhamento!I5795,0)","v":0},null,0,null,0,null,0,null,0]
[null,null,null,null,null,null,null,null,null,{"$f":"IF(H5796=Listas!$X$3,Acompanhamento!I5796,0)","v":0},{"$f":"IF(H5796=Listas!$X$4,Acompanhamento!I5796,0)","v":0},null,0,null,0,null,0,null,0]
[null,null,null,null,null,null,null,null,null,{"$f":"IF(H5799=Listas!$X$3,Acompanhamento!I5799,0)","v":0},{"$f":"IF(H5799=Listas!$X$4,Acompanhamento!I5799,0)","v":0},null,0,null,0,null,0,null,0]
[null,null,null,null,null,null,null,null,null,{"$f":"IF(H5805=Listas!$X$3,Acompanhamento!I5805,0)","v":0},{"$f":"IF(H5805=Listas!$X$4,Acompanhamento!I5805,0)","v":0},null,0,null,0,null,0,null,0]
[null,null,null,null,null,null,null,null,null,{"$f":"IF(H5807=Listas!$X$3,Acompanhamento!I5807,0)","v":0},{"$f":"IF(H5807=Listas!$X$4,Acompanhamento!I5807,0)","v":0},null,0,null,0,null,0,null,0]
[null,null,null,null,null,null,null,null,null,{"$f":"IF(H5810=Listas!$X$3,Acompanhamento!I5810,0)","v":0},{"$f":"IF(H5810=Listas!$X$4,Acompanhamento!I5810,0)","v":0},null,0,null,0,null,0,null,0]
[null,null,null,null,null,null,null,null,null,{"$f":"IF(H5814=Listas!$X$3,Acompanhamento!I5814,0)","v":0},{"$f":"IF(H5814=Listas!$X$4,Acompanhamento!I5814,0)","v":0},null,0,null,0,null,0,null,0]
[null,null,null,null,null,null,null,null,null,{"$f":"IF(H5818=Listas!$X$3,Acompanhamento!I5818,0)","v":0},{"$f":"IF(H5818=Listas!$X$4,Acompanhamento!I5818,0)","v":0},null,0,null,0,null,0,null,0]
[null,null,null,null,null,null,null,null,null,{"$f":"IF(H5821=Listas!$X$3,Acompanhamento!I5821,0)","v":0},{"$f":"IF(H5821=Listas!$X$4,Acompanhamento!I5821,0)","v":0},null,0,null,0,null,0,null,0]
[null,null,null,null,null,null,null,null,null,{"$f":"IF(H5822=Listas!$X$3,Acompanhamento!I5822,0)","v":0},{"$f":"IF(H5822=Listas!$X$4,Acompanhamento!I5822,0)","v":0},null,0,null,0,null,0,null,0]
[null,null,null,null,null,null,null,null,null,{"$f":"IF(H5825=Listas!$X$3,Acompanhamento!I5825,0)","v":0},{"$f":"IF(H5825=Listas!$X$4,Acompanhamento!I5825,0)","v":0},null,0,null,0,null,0,null,0]
[null,null,null,null,null,null,null,null,null,{"$f":"IF(H5831=Listas!$X$3,Acompanhamento!I5831,0)","v":0},{"$f":"IF(H5831=Listas!$X$4,Acompanhamento!I5831,0)","v":0},null,0,null,0,null,0,null,0]
[null,null,null,null,null,null,null,null,null,{"$f":"IF(H5833=Listas!$X$3,Acompanhamento!I5833,0)","v":0},{"$f":"IF(H5833=Listas!$X$4,Acompanhamento!I5833,0)","v":0},null,0,null,0,null,0,null,0]
[null,null,null,null,null,null,null,null,null,{"$f":"IF(H5836=Listas!$X$3,Acompanhamento!I5836,0)","v":0},{"$f":"IF(H5836=Listas!$X$4,Acompanhamento!I5836,0)","v":0},null,0,null,0,null,0,null,0]
[null,null,null,null,null,null,null,null,null,{"$f":"IF(H5840=Listas!$X$3,Acompanhamento!I5840,0)","v":0},{"$f":"IF(H5840=Listas!$X$4,Acompanhamento!I5840,0)","v":0},null,0,null,0,null,0,null,0]
[null,null,null,null,null,null,null,null,null,{"$f":"IF(H5844=Listas!$X$3,Acompanhamento!I5844,0)","v":0},{"$f":"IF(H5844=Listas!$X$4,Acompanhamento!I5844,0)","v":0},null,0,null,0,null,0,null,0]
[null,null,null,null,null,null,null,null,null,{"$f":"IF(H5847=Listas!$X$3,Acompanhamento!I5847,0)","v":0},{"$f":"IF(H5847=Listas!$X$4,Acompanhamento!I5847,0)","v":0},null,0,null,0,null,0,null,0]
[null,null,null,null,null,null,null,null,null,{"$f":"IF(H5848=Listas!$X$3,Acompanhamento!I5848,0)","v":0},{"$f":"IF(H5848=Listas!$X$4,Acompanhamento!I5848,0)","v":0},null,0,null,0,null,0,null,0]
[null,null,null,null,null,null,null,null,null,{"$f":"IF(H5851=Listas!$X$3,Acompanhamento!I5851,0)","v":0},{"$f":"IF(H5851=Listas!$X$4,Acompanhamento!I5851,0)","v":0},null,0,null,0,null,0,null,0]
[null,null,null,null,null,null,null,null,null,{"$f":"IF(H5857=Listas!$X$3,Acompanhamento!I5857,0)","v":0},{"$f":"IF(H5857=Listas!$X$4,Acompanhamento!I5857,0)","v":0},null,0,null,0,null,0,null,0]
[null,null,null,null,null,null,null,null,null,{"$f":"IF(H5859=Listas!$X$3,Acompanhamento!I5859,0)","v":0},{"$f":"IF(H5859=Listas!$X$4,Acompanhamento!I5859,0)","v":0},null,0,null,0,null,0,null,0]
[null,null,null,null,null,null,null,null,null,{"$f":"IF(H5862=Listas!$X$3,Acompanhamento!I5862,0)","v":0},{"$f":"IF(H5862=Listas!$X$4,Acompanhamento!I5862,0)","v":0},null,0,null,0,null,0,null,0]
[null,null,null,null,null,null,null,null,null,{"$f":"IF(H5866=Listas!$X$3,Acompanhamento!I5866,0)","v":0},{"$f":"IF(H5866=Listas!$X$4,Acompanhamento!I5866,0)","v":0},null,0,null,0,null,0,null,0]
[null,null,null,null,null,null,null,null,null,{"$f":"IF(H5870=Listas!$X$3,Acompanhamento!I5870,0)","v":0},{"$f":"IF(H5870=Listas!$X$4,Acompanhamento!I5870,0)","v":0},null,0,null,0,null,0,null,0]
[null,null,null,null,null,null,null,null,null,{"$f":"IF(H5873=Listas!$X$3,Acompanhamento!I5873,0)","v":0},{"$f":"IF(H5873=Listas!$X$4,Acompanhamento!I5873,0)","v":0},null,0,null,0,null,0,null,0]
[null,null,null,null,null,null,null,null,null,{"$f":"IF(H5874=Listas!$X$3,Acompanhamento!I5874,0)","v":0},{"$f":"IF(H5874=Listas!$X$4,Acompanhamento!I5874,0)","v":0},null,0,null,0,null,0,null,0]
[null,null,null,null,null,null,null,null,null,{"$f":"IF(H5877=Listas!$X$3,Acompanhamento!I5877,0)","v":0},{"$f":"IF(H5877=Listas!$X$4,Acompanhamento!I5877,0)","v":0},null,0,null,0,null,0,null,0]
[null,null,null,null,null,null,null,null,null,{"$f":"IF(H5883=Listas!$X$3,Acompanhamento!I5883,0)","v":0},{"$f":"IF(H5883=Listas!$X$4,Acompanhamento!I5883,0)","v":0},null,0,null,0,null,0,null,0]
[null,null,null,null,null,null,null,null,null,{"$f":"IF(H5885=Listas!$X$3,Acompanhamento!I5885,0)","v":0},{"$f":"IF(H5885=Listas!$X$4,Acompanhamento!I5885,0)","v":0},null,0,null,0,null,0,null,0]
[null,null,null,null,null,null,null,null,null,{"$f":"IF(H5888=Listas!$X$3,Acompanhamento!I5888,0)","v":0},{"$f":"IF(H5888=Listas!$X$4,Acompanhamento!I5888,0)","v":0},null,0,null,0,null,0,null,0]
[null,null,null,null,null,null,null,null,null,{"$f":"IF(H5892=Listas!$X$3,Acompanhamento!I5892,0)","v":0},{"$f":"IF(H5892=Listas!$X$4,Acompanhamento!I5892,0)","v":0},null,0,null,0,null,0,null,0]
[null,null,null,null,null,null,null,null,null,{"$f":"IF(H5896=Listas!$X$3,Acompanhamento!I5896,0)","v":0},{"$f":"IF(H5896=Listas!$X$4,Acompanhamento!I5896,0)","v":0},null,0,null,0,null,0,null,0]
[null,null,null,null,null,null,null,null,null,{"$f":"IF(H5899=Listas!$X$3,Acompanhamento!I5899,0)","v":0},{"$f":"IF(H5899=Listas!$X$4,Acompanhamento!I5899,0)","v":0},null,0,null,0,null,0,null,0]
[null,null,null,null,null,null,null,null,null,{"$f":"IF(H5900=Listas!$X$3,Acompanhamento!I5900,0)","v":0},{"$f":"IF(H5900=Listas!$X$4,Acompanhamento!I5900,0)","v":0},null,0,null,0,null,0,null,0]
[null,null,null,null,null,null,null,null,null,{"$f":"IF(H5903=Listas!$X$3,Acompanhamento!I5903,0)","v":0},{"$f":"IF(H5903=Listas!$X$4,Acompanhamento!I5903,0)","v":0},null,0,null,0,null,0,null,0]
[null,null,null,null,null,null,null,null,null,{"$f":"IF(H5909=Listas!$X$3,Acompanhamento!I5909,0)","v":0},{"$f":"IF(H5909=Listas!$X$4,Acompanhamento!I5909,0)","v":0},null,0,null,0,null,0,null,0]
[null,null,null,null,null,null,null,null,null,{"$f":"IF(H5911=Listas!$X$3,Acompanhamento!I5911,0)","v":0},{"$f":"IF(H5911=Listas!$X$4,Acompanhamento!I5911,0)","v":0},null,0,null,0,null,0,null,0]
[null,null,null,null,null,null,null,null,null,{"$f":"IF(H5914=Listas!$X$3,Acompanhamento!I5914,0)","v":0},{"$f":"IF(H5914=Listas!$X$4,Acompanhamento!I5914,0)","v":0},null,0,null,0,null,0,null,0]
[null,null,null,null,null,null,null,null,null,{"$f":"IF(H5918=Listas!$X$3,Acompanhamento!I5918,0)","v":0},{"$f":"IF(H5918=Listas!$X$4,Acompanhamento!I5918,0)","v":0},null,0,null,0,null,0,null,0]
[null,null,null,null,null,null,null,null,null,{"$f":"IF(H5922=Listas!$X$3,Acompanhamento!I5922,0)","v":0},{"$f":"IF(H5922=Listas!$X$4,Acompanhamento!I5922,0)","v":0},null,0,null,0,null,0,null,0]
[null,null,null,null,null,null,null,null,null,{"$f":"IF(H5923=Listas!$X$3,Acompanhamento!I5923,0)","v":0},{"$f":"IF(H5923=Listas!$X$4,Acompanhamento!I5923,0)","v":0},null,0,null,0,null,0,null,0]
[null,null,null,null,null,null,null,null,null,{"$f":"IF(H5926=Listas!$X$3,Acompanhamento!I5926,0)","v":0},{"$f":"IF(H5926=Listas!$X$4,Acompanhamento!I5926,0)","v":0},null,0,null,0,null,0,null,0]
[null,null,null,null,null,null,null,null,null,{"$f":"IF(H5929=Listas!$X$3,Acompanhamento!I5929,0)","v":0},{"$f":"IF(H5929=Listas!$X$4,Acompanhamento!I5929,0)","v":0},null,0,null,0,null,0,null,0]
[null,null,null,null,null,null,null,null,null,{"$f":"IF(H5935=Listas!$X$3,Acompanhamento!I5935,0)","v":0},{"$f":"IF(H5935=Listas!$X$4,Acompanhamento!I5935,0)","v":0},null,0,null,0,null,0,null,0]
[null,null,null,null,null,null,null,null,null,{"$f":"IF(H5937=Listas!$X$3,Acompanhamento!I5937,0)","v":0},{"$f":"IF(H5937=Listas!$X$4,Acompanhamento!I5937,0)","v":0},null,0,null,0,null,0,null,0]
[null,null,null,null,null,null,null,null,null,{"$f":"IF(H5940=Listas!$X$3,Acompanhamento!I5940,0)","v":0},{"$f":"IF(H5940=Listas!$X$4,Acompanhamento!I5940,0)","v":0},null,0,null,0,null,0,null,0]
[null,null,null,null,null,null,null,null,null,{"$f":"IF(H5944=Listas!$X$3,Acompanhamento!I5944,0)","v":0},{"$f":"IF(H5944=Listas!$X$4,Acompanhamento!I5944,0)","v":0},null,0,null,0,null,0,null,0]
[null,null,null,null,null,null,null,null,null,{"$f":"IF(H5948=Listas!$X$3,Acompanhamento!I5948,0)","v":0},{"$f":"IF(H5948=Listas!$X$4,Acompanhamento!I5948,0)","v":0},null,0,null,0,null,0,null,0]
[null,null,null,null,null,null,null,null,null,{"$f":"IF(H5949=Listas!$X$3,Acompanhamento!I5949,0)","v":0},{"$f":"IF(H5949=Listas!$X$4,Acompanhamento!I5949,0)","v":0},null,0,null,0,null,0,null,0]
[null,null,null,null,null,null,null,null,null,{"$f":"IF(H5952=Listas!$X$3,Acompanhamento!I5952,0)","v":0},{"$f":"IF(H5952=Listas!$X$4,Acompanhamento!I5952,0)","v":0},null,0,null,0,null,0,null,0]
[null,null,null,null,null,null,null,null,null,{"$f":"IF(H5955=Listas!$X$3,Acompanhamento!I5955,0)","v":0},{"$f":"IF(H5955=Listas!$X$4,Acompanhamento!I5955,0)","v":0},null,0,null,0,null,0,null,0]
[null,null,null,null,null,null,null,null,null,{"$f":"IF(H5961=Listas!$X$3,Acompanhamento!I5961,0)","v":0},{"$f":"IF(H5961=Listas!$X$4,Acompanhamento!I5961,0)","v":0},null,0,null,0,null,0,null,0]
[null,null,null,null,null,null,null,null,null,{"$f":"IF(H5963=Listas!$X$3,Acompanhamento!I5963,0)","v":0},{"$f":"IF(H5963=Listas!$X$4,Acompanhamento!I5963,0)","v":0},null,0,null,0,null,0,null,0]
[null,null,null,null,null,null,null,null,null,{"$f":"IF(H5966=Listas!$X$3,Acompanhamento!I5966,0)","v":0},{"$f":"IF(H5966=Listas!$X$4,Acompanhamento!I5966,0)","v":0},null,0,null,0,null,0,null,0]
[null,null,null,null,null,null,null,null,null,{"$f":"IF(H5970=Listas!$X$3,Acompanhamento!I5970,0)","v":0},{"$f":"IF(H5970=Listas!$X$4,Acompanhamento!I5970,0)","v":0},null,0,null,0,null,0,null,0]
[null,null,null,null,null,null,null,null,null,{"$f":"IF(H5974=Listas!$X$3,Acompanhamento!I5974,0)","v":0},{"$f":"IF(H5974=Listas!$X$4,Acompanhamento!I5974,0)","v":0},null,0,null,0,null,0,null,0]
[null,null,null,null,null,null,null,null,null,{"$f":"IF(H5975=Listas!$X$3,Acompanhamento!I5975,0)","v":0},{"$f":"IF(H5975=Listas!$X$4,Acompanhamento!I5975,0)","v":0},null,0,null,0,null,0,null,0]
[null,null,null,null,null,null,null,null,null,{"$f":"IF(H5978=Listas!$X$3,Acompanhamento!I5978,0)","v":0},{"$f":"IF(H5978=Listas!$X$4,Acompanhamento!I5978,0)","v":0},null,0,null,0,null,0,null,0]
[null,null,null,null,null,null,null,null,null,{"$f":"IF(H5981=Listas!$X$3,Acompanhamento!I5981,0)","v":0},{"$f":"IF(H5981=Listas!$X$4,Acompanhamento!I5981,0)","v":0},null,0,null,0,null,0,null,0]
[null,null,null,null,null,null,null,null,null,{"$f":"IF(H5987=Listas!$X$3,Acompanhamento!I5987,0)","v":0},{"$f":"IF(H5987=Listas!$X$4,Acompanhamento!I5987,0)","v":0},null,0,null,0,null,0,null,0]
[null,null,null,null,null,null,null,null,null,{"$f":"IF(H5989=Listas!$X$3,Acompanhamento!I5989,0)","v":0},{"$f":"IF(H5989=Listas!$X$4,Acompanhamento!I5989,0)","v":0},null,0,null,0,null,0,null,0]
[null,null,null,null,null,null,null,null,null,{"$f":"IF(H5993=Listas!$X$3,Acompanhamento!I5993,0)","v":0},{"$f":"IF(H5993=Listas!$X$4,Acompanhamento!I5993,0)","v":0},null,0,null,0,null,0,null,0]
[null,null,null,null,null,null,null,null,null,{"$f":"IF(H5996=Listas!$X$3,Acompanhamento!I5996,0)","v":0},{"$f":"IF(H5996=Listas!$X$4,Acompanhamento!I5996,0)","v":0},null,0,null,0,null,0,null,0]
[null,null,null,null,null,null,null,null,null,{"$f":"IF(H6000=Listas!$X$3,Acompanhamento!I6000,0)","v":0},{"$f":"IF(H6000=Listas!$X$4,Acompanhamento!I6000,0)","v":0},null,0,null,0,null,0,null,0]
[null,null,null,null,null,null,null,null,null,{"$f":"IF(H6001=Listas!$X$3,Acompanhamento!I6001,0)","v":0},{"$f":"IF(H6001=Listas!$X$4,Acompanhamento!I6001,0)","v":0},null,0,null,0,null,0,null,0]
[null,null,null,null,null,null,null,null,null,{"$f":"IF(H6004=Listas!$X$3,Acompanhamento!I6004,0)","v":0},{"$f":"IF(H6004=Listas!$X$4,Acompanhamento!I6004,0)","v":0},null,0,null,0,null,0,null,0]
[null,null,null,null,null,null,null,null,null,{"$f":"IF(H6007=Listas!$X$3,Acompanhamento!I6007,0)","v":0},{"$f":"IF(H6007=Listas!$X$4,Acompanhamento!I6007,0)","v":0},null,0,null,0,null,0,null,0]
[null,null,null,null,null,null,null,null,null,{"$f":"IF(H6013=Listas!$X$3,Acompanhamento!I6013,0)","v":0},{"$f":"IF(H6013=Listas!$X$4,Acompanhamento!I6013,0)","v":0},null,0,null,0,null,0,null,0]
[null,null,null,null,null,null,null,null,null,{"$f":"IF(H6015=Listas!$X$3,Acompanhamento!I6015,0)","v":0},{"$f":"IF(H6015=Listas!$X$4,Acompanhamento!I6015,0)","v":0},null,0,null,0,null,0,null,0]
[null,null,null,null,null,null,null,null,null,{"$f":"IF(H6019=Listas!$X$3,Acompanhamento!I6019,0)","v":0},{"$f":"IF(H6019=Listas!$X$4,Acompanhamento!I6019,0)","v":0},null,0,null,0,null,0,null,0]
[null,null,null,null,null,null,null,null,null,{"$f":"IF(H6022=Listas!$X$3,Acompanhamento!I6022,0)","v":0},{"$f":"IF(H6022=Listas!$X$4,Acompanhamento!I6022,0)","v":0},null,0,null,0,null,0,null,0]
[null,null,null,null,null,null,null,null,null,{"$f":"IF(H6026=Listas!$X$3,Acompanhamento!I6026,0)","v":0},{"$f":"IF(H6026=Listas!$X$4,Acompanhamento!I6026,0)","v":0},null,{"$f":"J6026-L6026","v":0},null,{"$f":"M6026-N6026","v":0},null,{"$f":"O6026-P6026","v":0},null,{"$f":"Q6026-R6026","v":0}]
[null,null,null,null,null,null,null,null,null,{"$f":"IF(H6027=Listas!$X$3,Acompanhamento!I6027,0)","v":0},{"$f":"IF(H6027=Listas!$X$4,Acompanhamento!I6027,0)","v":0},null,0,null,0,null,0,null,0]
[null,null,null,null,null,null,null,null,null,{"$f":"IF(H6030=Listas!$X$3,Acompanhamento!I6030,0)","v":0},{"$f":"IF(H6030=Listas!$X$4,Acompanhamento!I6030,0)","v":0},null,0,null,0,null,0,null,0]
[null,null,null,null,null,null,null,null,null,{"$f":"IF(H6034=Listas!$X$3,Acompanhamento!I6034,0)","v":0},{"$f":"IF(H6034=Listas!$X$4,Acompanhamento!I6034,0)","v":0},null,0,null,0,null,0,null,0]
[null,null,null,null,null,null,null,null,null,{"$f":"IF(H6039=Listas!$X$3,Acompanhamento!I6039,0)","v":0},{"$f":"IF(H6039=Listas!$X$4,Acompanhamento!I6039,0)","v":0},null,0,null,0,null,0,null,0]
[null,null,null,null,null,null,null,null,null,{"$f":"IF(H6041=Listas!$X$3,Acompanhamento!I6041,0)","v":0},{"$f":"IF(H6041=Listas!$X$4,Acompanhamento!I6041,0)","v":0},null,0,null,0,null,0,null,0]
[null,null,null,null,null,null,null,null,null,{"$f":"IF(H6045=Listas!$X$3,Acompanhamento!I6045,0)","v":0},{"$f":"IF(H6045=Listas!$X$4,Acompanhamento!I6045,0)","v":0},null,0,null,0,null,0,null,0]
[null,null,null,null,null,null,null,null,null,{"$f":"IF(H6048=Listas!$X$3,Acompanhamento!I6048,0)","v":0},{"$f":"IF(H6048=Listas!$X$4,Acompanhamento!I6048,0)","v":0},null,0,null,0,null,0,null,0]
[null,null,null,null,null,null,null,null,null,{"$f":"IF(H6052=Listas!$X$3,Acompanhamento!I6052,0)","v":0},{"$f":"IF(H6052=Listas!$X$4,Acompanhamento!I6052,0)","v":0},null,0,null,0,null,0,null,0]
[null,null,null,null,null,null,null,null,null,{"$f":"IF(H6053=Listas!$X$3,Acompanhamento!I6053,0)","v":0},{"$f":"IF(H6053=Listas!$X$4,Acompanhamento!I6053,0)","v":0},null,0,null,0,null,0,null,0]
[null,null,null,null,null,null,null,null,null,{"$f":"IF(H6056=Listas!$X$3,Acompanhamento!I6056,0)","v":0},{"$f":"IF(H6056=Listas!$X$4,Acompanhamento!I6056,0)","v":0},null,0,null,0,null,0,null,0]
[null,null,null,null,null,null,null,null,null,{"$f":"IF(H6060=Listas!$X$3,Acompanhamento!I6060,0)","v":0},{"$f":"IF(H6060=Listas!$X$4,Acompanhamento!I6060,0)","v":0},null,0,null,0,null,0,null,0]
[null,null,null,null,null,null,null,null,null,{"$f":"IF(H6065=Listas!$X$3,Acompanhamento!I6065,0)","v":0},{"$f":"IF(H6065=Listas!$X$4,Acompanhamento!I6065,0)","v":0},null,0,null,0,null,0,null,0]
[null,null,null,null,null,null,null,null,null,{"$f":"IF(H6067=Listas!$X$3,Acompanhamento!I6067,0)","v":0},{"$f":"IF(H6067=Listas!$X$4,Acompanhamento!I6067,0)","v":0},null,0,null,0,null,0,null,0]
[null,null,null,null,null,null,null,null,null,{"$f":"IF(H6071=Listas!$X$3,Acompanhamento!I6071,0)","v":0},{"$f":"IF(H6071=Listas!$X$4,Acompanhamento!I6071,0)","v":0},null,0,null,0,null,0,null,0]
[null,null,null,null,null,null,null,null,null,{"$f":"IF(H6074=Listas!$X$3,Acompanhamento!I6074,0)","v":0},{"$f":"IF(H6074=Listas!$X$4,Acompanhamento!I6074,0)","v":0},null,0,null,0,null,0,null,0]
[null,null,null,null,null,null,null,null,null,{"$f":"IF(H6078=Listas!$X$3,Acompanhamento!I6078,0)","v":0},{"$f":"IF(H6078=Listas!$X$4,Acompanhamento!I6078,0)","v":0},null,0,null,0,null,0,null,0]
[null,null,null,null,null,null,null,null,null,{"$f":"IF(H6079=Listas!$X$3,Acompanhamento!I6079,0)","v":0},{"$f":"IF(H6079=Listas!$X$4,Acompanhamento!I6079,0)","v":0},null,0,null,0,null,0,null,0]
[null,null,null,null,null,null,null,null,null,{"$f":"IF(H6082=Listas!$X$3,Acompanhamento!I6082,0)","v":0},{"$f":"IF(H6082=Listas!$X$4,Acompanhamento!I6082,0)","v":0},null,0,null,0,null,0,null,0]
[null,null,null,null,null,null,null,null,null,{"$f":"IF(H6086=Listas!$X$3,Acompanhamento!I6086,0)","v":0},{"$f":"IF(H6086=Listas!$X$4,Acompanhamento!I6086,0)","v":0},null,0,null,0,null,0,null,0]
[null,null,null,null,null,null,null,null,null,{"$f":"IF(H6091=Listas!$X$3,Acompanhamento!I6091,0)","v":0},{"$f":"IF(H6091=Listas!$X$4,Acompanhamento!I6091,0)","v":0},null,0,null,0,null,0,null,0]
[null,null,null,null,null,null,null,null,null,{"$f":"IF(H6093=Listas!$X$3,Acompanhamento!I6093,0)","v":0},{"$f":"IF(H6093=Listas!$X$4,Acompanhamento!I6093,0)","v":0},null,0,null,0,null,0,null,0]
[null,null,null,null,null,null,null,null,null,{"$f":"IF(H6097=Listas!$X$3,Acompanhamento!I6097,0)","v":0},{"$f":"IF(H6097=Listas!$X$4,Acompanhamento!I6097,0)","v":0},null,0,null,0,null,0,null,0]
[null,null,null,null,null,null,null,null,null,{"$f":"IF(H6100=Listas!$X$3,Acompanhamento!I6100,0)","v":0},{"$f":"IF(H6100=Listas!$X$4,Acompanhamento!I6100,0)","v":0},null,0,null,0,null,0,null,0]
[null,null,null,null,null,null,null,null,null,{"$f":"IF(H6104=Listas!$X$3,Acompanhamento!I6104,0)","v":0},{"$f":"IF(H6104=Listas!$X$4,Acompanhamento!I6104,0)","v":0},null,0,null,0,null,0,null,0]
[null,null,null,null,null,null,null,null,null,{"$f":"IF(H6105=Listas!$X$3,Acompanhamento!I6105,0)","v":0},{"$f":"IF(H6105=Listas!$X$4,Acompanhamento!I6105,0)","v":0},null,0,null,0,null,0,null,0]
[null,null,null,null,null,null,null,null,null,{"$f":"IF(H6108=Listas!$X$3,Acompanhamento!I6108,0)","v":0},{"$f":"IF(H6108=Listas!$X$4,Acompanhamento!I6108,0)","v":0},null,0,null,0,null,0,null,0]
[null,null,null,null,null,null,null,null,null,{"$f":"IF(H6112=Listas!$X$3,Acompanhamento!I6112,0)","v":0},{"$f":"IF(H6112=Listas!$X$4,Acompanhamento!I6112,0)","v":0},null,0,null,0,null,0,null,0]
[null,null,null,null,null,null,null,null,null,{"$f":"IF(H6117=Listas!$X$3,Acompanhamento!I6117,0)","v":0},{"$f":"IF(H6117=Listas!$X$4,Acompanhamento!I6117,0)","v":0},null,0,null,0,null,0,null,0]
[null,null,null,null,null,null,null,null,null,{"$f":"IF(H6119=Listas!$X$3,Acompanhamento!I6119,0)","v":0},{"$f":"IF(H6119=Listas!$X$4,Acompanhamento!I6119,0)","v":0},null,0,null,0,null,0,null,0]
[null,null,null,null,null,null,null,null,null,{"$f":"IF(H6123=Listas!$X$3,Acompanhamento!I6123,0)","v":0},{"$f":"IF(H6123=Listas!$X$4,Acompanhamento!I6123,0)","v":0},null,0,null,0,null,0,null,0]
[null,null,null,null,null,null,null,null,null,{"$f":"IF(H6126=Listas!$X$3,Acompanhamento!I6126,0)","v":0},{"$f":"IF(H6126=Listas!$X$4,Acompanhamento!I6126,0)","v":0},null,0,null,0,null,0,null,0]
[null,null,null,null,null,null,null,null,null,{"$f":"IF(H6130=Listas!$X$3,Acompanhamento!I6130,0)","v":0},{"$f":"IF(H6130=Listas!$X$4,Acompanhamento!I6130,0)","v":0},null,0,null,0,null,0,null,0]
[null,null,null,null,null,null,null,null,null,{"$f":"IF(H6131=Listas!$X$3,Acompanhamento!I6131,0)","v":0},{"$f":"IF(H6131=Listas!$X$4,Acompanhamento!I6131,0)","v":0},null,0,null,0,null,0,null,0]
[null,null,null,null,null,null,null,null,null,{"$f":"IF(H6134=Listas!$X$3,Acompanhamento!I6134,0)","v":0},{"$f":"IF(H6134=Listas!$X$4,Acompanhamento!I6134,0)","v":0},null,0,null,0,null,0,null,0]
[null,null,null,null,null,null,null,null,null,{"$f":"IF(H6138=Listas!$X$3,Acompanhamento!I6138,0)","v":0},{"$f":"IF(H6138=Listas!$X$4,Acompanhamento!I6138,0)","v":0},null,0,null,0,null,0,null,0]
[null,null,null,null,null,null,null,null,null,{"$f":"IF(H6143=Listas!$X$3,Acompanhamento!I6143,0)","v":0},{"$f":"IF(H6143=Listas!$X$4,Acompanhamento!I6143,0)","v":0},null,0,null,0,null,0,null,0]
[null,null,null,null,null,null,null,null,null,{"$f":"IF(H6146=Listas!$X$3,Acompanhamento!I6146,0)","v":0},{"$f":"IF(H6146=Listas!$X$4,Acompanhamento!I6146,0)","v":0},null,0,null,0,null,0,null,0]
[null,null,null,null,null,null,null,null,null,{"$f":"IF(H6149=Listas!$X$3,Acompanhamento!I6149,0)","v":0},{"$f":"IF(H6149=Listas!$X$4,Acompanhamento!I6149,0)","v":0},null,0,null,0,null,0,null,0]
[null,null,null,null,null,null,null,null,null,{"$f":"IF(H6152=Listas!$X$3,Acompanhamento!I6152,0)","v":0},{"$f":"IF(H6152=Listas!$X$4,Acompanhamento!I6152,0)","v":0},null,0,null,0,null,0,null,0]
[null,null,null,null,null,null,null,null,null,{"$f":"IF(H6156=Listas!$X$3,Acompanhamento!I6156,0)","v":0},{"$f":"IF(H6156=Listas!$X$4,Acompanhamento!I6156,0)","v":0},null,0,null,0,null,0,null,0]
[null,null,null,null,null,null,null,null,null,{"$f":"IF(H6157=Listas!$X$3,Acompanhamento!I6157,0)","v":0},{"$f":"IF(H6157=Listas!$X$4,Acompanhamento!I6157,0)","v":0},null,0,null,0,null,0,null,0]
[null,null,null,null,null,null,null,null,null,{"$f":"IF(H6160=Listas!$X$3,Acompanhamento!I6160,0)","v":0},{"$f":"IF(H6160=Listas!$X$4,Acompanhamento!I6160,0)","v":0},null,0,null,0,null,0,null,0]
[null,null,null,null,null,null,null,null,null,{"$f":"IF(H6164=Listas!$X$3,Acompanhamento!I6164,0)","v":0},{"$f":"IF(H6164=Listas!$X$4,Acompanhamento!I6164,0)","v":0},null,0,null,0,null,0,null,0]
[null,null,null,null,null,null,null,null,null,{"$f":"IF(H6169=Listas!$X$3,Acompanhamento!I6169,0)","v":0},{"$f":"IF(H6169=Listas!$X$4,Acompanhamento!I6169,0)","v":0},null,0,null,0,null,0,null,0]
[null,null,null,null,null,null,null,null,null,{"$f":"IF(H6172=Listas!$X$3,Acompanhamento!I6172,0)","v":0},{"$f":"IF(H6172=Listas!$X$4,Acompanhamento!I6172,0)","v":0},null,0,null,0,null,0,null,0]
[null,null,null,null,null,null,null,null,null,{"$f":"IF(H6175=Listas!$X$3,Acompanhamento!I6175,0)","v":0},{"$f":"IF(H6175=Listas!$X$4,Acompanhamento!I6175,0)","v":0},null,0,null,0,null,0,null,0]
[null,null,null,null,null,null,null,null,null,{"$f":"IF(H6178=Listas!$X$3,Acompanhamento!I6178,0)","v":0},{"$f":"IF(H6178=Listas!$X$4,Acompanhamento!I6178,0)","v":0},null,0,null,0,null,0,null,0]
[null,null,null,null,null,null,null,null,null,{"$f":"IF(H6182=Listas!$X$3,Acompanhamento!I6182,0)","v":0},{"$f":"IF(H6182=Listas!$X$4,Acompanhamento!I6182,0)","v":0},null,0,null,0,null,0,null,0]
[null,null,null,null,null,null,null,null,null,{"$f":"IF(H6183=Listas!$X$3,Acompanhamento!I6183,0)","v":0},{"$f":"IF(H6183=Listas!$X$4,Acompanhamento!I6183,0)","v":0},null,0,null,0,null,0,null,0]
[null,null,null,null,null,null,null,null,null,{"$f":"IF(H6186=Listas!$X$3,Acompanhamento!I6186,0)","v":0},{"$f":"IF(H6186=Listas!$X$4,Acompanhamento!I6186,0)","v":0},null,0,null,0,null,0,null,0]
[null,null,null,null,null,null,null,null,null,{"$f":"IF(H6190=Listas!$X$3,Acompanhamento!I6190,0)","v":0},{"$f":"IF(H6190=Listas!$X$4,Acompanhamento!I6190,0)","v":0},null,0,null,0,null,0,null,0]
[null,null,null,null,null,null,null,null,null,{"$f":"IF(H6195=Listas!$X$3,Acompanhamento!I6195,0)","v":0},{"$f":"IF(H6195=Listas!$X$4,Acompanhamento!I6195,0)","v":0},null,0,null,0,null,0,null,0]
[null,null,null,null,null,null,null,null,null,{"$f":"IF(H6198=Listas!$X$3,Acompanhamento!I6198,0)","v":0},{"$f":"IF(H6198=Listas!$X$4,Acompanhamento!I6198,0)","v":0},null,0,null,0,null,0,null,0]
[null,null,null,null,null,null,null,null,null,{"$f":"IF(H6201=Listas!$X$3,Acompanhamento!I6201,0)","v":0},{"$f":"IF(H6201=Listas!$X$4,Acompanhamento!I6201,0)","v":0},null,0,null,0,null,0,null,0]
[null,null,null,null,null,null,null,null,null,{"$f":"IF(H6204=Listas!$X$3,Acompanhamento!I6204,0)","v":0},{"$f":"IF(H6204=Listas!$X$4,Acompanhamento!I6204,0)","v":0},null,0,null,0,null,0,null,0]
[null,null,null,null,null,null,null,null,null,{"$f":"IF(H6208=Listas!$X$3,Acompanhamento!I6208,0)","v":0},{"$f":"IF(H6208=Listas!$X$4,Acompanhamento!I6208,0)","v":0},null,0,null,0,null,0,null,0]
[null,null,null,null,null,null,null,null,null,{"$f":"IF(H6209=Listas!$X$3,Acompanhamento!I6209,0)","v":0},{"$f":"IF(H6209=Listas!$X$4,Acompanhamento!I6209,0)","v":0},null,0,null,0,null,0,null,0]
[null,null,null,null,null,null,null,null,null,{"$f":"IF(H6213=Listas!$X$3,Acompanhamento!I6213,0)","v":0},{"$f":"IF(H6213=Listas!$X$4,Acompanhamento!I6213,0)","v":0},null,0,null,0,null,0,null,0]
[null,null,null,null,null,null,null,null,null,{"$f":"IF(H6216=Listas!$X$3,Acompanhamento!I6216,0)","v":0},{"$f":"IF(H6216=Listas!$X$4,Acompanhamento!I6216,0)","v":0},null,0,null,0,null,0,null,0]
[null,null,null,null,null,null,null,null,null,{"$f":"IF(H6221=Listas!$X$3,Acompanhamento!I6221,0)","v":0},{"$f":"IF(H6221=Listas!$X$4,Acompanhamento!I6221,0)","v":0},null,0,null,0,null,0,null,0]
[null,null,null,null,null,null,null,null,null,{"$f":"IF(H6224=Listas!$X$3,Acompanhamento!I6224,0)","v":0},{"$f":"IF(H6224=Listas!$X$4,Acompanhamento!I6224,0)","v":0},null,0,null,0,null,0,null,0]
[null,null,null,null,null,null,null,null,null,{"$f":"IF(H6227=Listas!$X$3,Acompanhamento!I6227,0)","v":0},{"$f":"IF(H6227=Listas!$X$4,Acompanhamento!I6227,0)","v":0},null,0,null,0,null,0,null,0]
[null,null,null,null,null,null,null,null,null,{"$f":"IF(H6230=Listas!$X$3,Acompanhamento!I6230,0)","v":0},{"$f":"IF(H6230=Listas!$X$4,Acompanhamento!I6230,0)","v":0},null,0,null,0,null,0,null,0]
[null,null,null,null,null,null,null,null,null,{"$f":"IF(H6234=Listas!$X$3,Acompanhamento!I6234,0)","v":0},{"$f":"IF(H6234=Listas!$X$4,Acompanhamento!I6234,0)","v":0},null,0,null,0,null,0,null,0]
[null,null,null,null,null,null,null,null,null,{"$f":"IF(H6235=Listas!$X$3,Acompanhamento!I6235,0)","v":0},{"$f":"IF(H6235=Listas!$X$4,Acompanhamento!I6235,0)","v":0},null,0,null,0,null,0,null,0]
[null,null,null,null,null,null,null,null,null,{"$f":"IF(H6239=Listas!$X$3,Acompanhamento!I6239,0)","v":0},{"$f":"IF(H6239=Listas!$X$4,Acompanhamento!I6239,0)","v":0},null,0,null,0,null,0,null,0]
[null,null,null,null,null,null,null,null,null,{"$f":"IF(H6242=Listas!$X$3,Acompanhamento!I6242,0)","v":0},{"$f":"IF(H6242=Listas!$X$4,Acompanhamento!I6242,0)","v":0},null,0,null,0,null,0,null,0]
[null,null,null,null,null,null,null,null,null,{"$f":"IF(H6247=Listas!$X$3,Acompanhamento!I6247,0)","v":0},{"$f":"IF(H6247=Listas!$X$4,Acompanhamento!I6247,0)","v":0},null,0,null,0,null,0,null,0]
[null,null,null,null,null,null,null,null,null,{"$f":"IF(H6250=Listas!$X$3,Acompanhamento!I6250,0)","v":0},{"$f":"IF(H6250=Listas!$X$4,Acompanhamento!I6250,0)","v":0},null,0,null,0,null,0,null,0]
[null,null,null,null,null,null,null,null,null,{"$f":"IF(H6253=Listas!$X$3,Acompanhamento!I6253,0)","v":0},{"$f":"IF(H6253=Listas!$X$4,Acompanhamento!I6253,0)","v":0},null,0,null,0,null,0,null,0]
[null,null,null,null,null,null,null,null,null,{"$f":"IF(H6256=Listas!$X$3,Acompanhamento!I6256,0)","v":0},{"$f":"IF(H6256=Listas!$X$4,Acompanhamento!I6256,0)","v":0},null,0,null,0,null,0,null,0]
[null,null,null,null,null,null,null,null,null,{"$f":"IF(H6260=Listas!$X$3,Acompanhamento!I6260,0)","v":0},{"$f":"IF(H6260=Listas!$X$4,Acompanhamento!I6260,0)","v":0},null,0,null,0,null,0,null,0]
[null,null,null,null,null,null,null,null,null,{"$f":"IF(H6261=Listas!$X$3,Acompanhamento!I6261,0)","v":0},{"$f":"IF(H6261=Listas!$X$4,Acompanhamento!I6261,0)","v":0},null,0,null,0,null,0,null,0]
[null,null,null,null,null,null,null,null,null,{"$f":"IF(H6265=Listas!$X$3,Acompanhamento!I6265,0)","v":0},{"$f":"IF(H6265=Listas!$X$4,Acompanhamento!I6265,0)","v":0},null,0,null,0,null,0,null,0]
[null,null,null,null,null,null,null,null,null,{"$f":"IF(H6268=Listas!$X$3,Acompanhamento!I6268,0)","v":0},{"$f":"IF(H6268=Listas!$X$4,Acompanhamento!I6268,0)","v":0},null,0,null,0,null,0,null,0]
[null,null,null,null,null,null,null,null,null,{"$f":"IF(H6273=Listas!$X$3,Acompanhamento!I6273,0)","v":0},{"$f":"IF(H6273=Listas!$X$4,Acompanhamento!I6273,0)","v":0},null,0,null,0,null,0,null,0]
[null,null,null,null,null,null,null,null,null,{"$f":"IF(H6276=Listas!$X$3,Acompanhamento!I6276,0)","v":0},{"$f":"IF(H6276=Listas!$X$4,Acompanhamento!I6276,0)","v":0},null,0,null,0,null,0,null,0]
[null,null,null,null,null,null,null,null,null,{"$f":"IF(H6279=Listas!$X$3,Acompanhamento!I6279,0)","v":0},{"$f":"IF(H6279=Listas!$X$4,Acompanhamento!I6279,0)","v":0},null,0,null,0,null,0,null,0]
[null,null,null,null,null,null,null,null,null,{"$f":"IF(H6280=Listas!$X$3,Acompanhamento!I6280,0)","v":0},{"$f":"IF(H6280=Listas!$X$4,Acompanhamento!I6280,0)","v":0},null,0,null,0,null,0,null,0]
[null,null,null,null,null,null,null,null,null,{"$f":"IF(H6286=Listas!$X$3,Acompanhamento!I6286,0)","v":0},{"$f":"IF(H6286=Listas!$X$4,Acompanhamento!I6286,0)","v":0},null,0,null,0,null,0,null,0]
[null,null,null,null,null,null,null,null,null,{"$f":"IF(H6287=Listas!$X$3,Acompanhamento!I6287,0)","v":0},{"$f":"IF(H6287=Listas!$X$4,Acompanhamento!I6287,0)","v":0},null,0,null,0,null,0,null,0]
[null,null,null,null,null,null,null,null,null,{"$f":"IF(H6291=Listas!$X$3,Acompanhamento!I6291,0)","v":0},{"$f":"IF(H6291=Listas!$X$4,Acompanhamento!I6291,0)","v":0},null,0,null,0,null,0,null,0]
[null,null,null,null,null,null,null,null,null,{"$f":"IF(H6294=Listas!$X$3,Acompanhamento!I6294,0)","v":0},{"$f":"IF(H6294=Listas!$X$4,Acompanhamento!I6294,0)","v":0},null,0,null,0,null,0,null,0]
[null,null,null,null,null,null,null,null,null,{"$f":"IF(H6299=Listas!$X$3,Acompanhamento!I6299,0)","v":0},{"$f":"IF(H6299=Listas!$X$4,Acompanhamento!I6299,0)","v":0},null,0,null,0,null,0,null,0]
[null,null,null,null,null,null,null,null,null,{"$f":"IF(H6302=Listas!$X$3,Acompanhamento!I6302,0)","v":0},{"$f":"IF(H6302=Listas!$X$4,Acompanhamento!I6302,0)","v":0},null,0,null,0,null,0,null,0]
[null,null,null,null,null,null,null,null,null,{"$f":"IF(H6305=Listas!$X$3,Acompanhamento!I6305,0)","v":0},{"$f":"IF(H6305=Listas!$X$4,Acompanhamento!I6305,0)","v":0},null,0,null,0,null,0,null,0]
[null,null,null,null,null,null,null,null,null,{"$f":"IF(H6306=Listas!$X$3,Acompanhamento!I6306,0)","v":0},{"$f":"IF(H6306=Listas!$X$4,Acompanhamento!I6306,0)","v":0},null,0,null,0,null,0,null,0]
[null,null,null,null,null,null,null,null,null,{"$f":"IF(H6312=Listas!$X$3,Acompanhamento!I6312,0)","v":0},{"$f":"IF(H6312=Listas!$X$4,Acompanhamento!I6312,0)","v":0},null,0,null,0,null,0,null,0]
[null,null,null,null,null,null,null,null,null,{"$f":"IF(H6313=Listas!$X$3,Acompanhamento!I6313,0)","v":0},{"$f":"IF(H6313=Listas!$X$4,Acompanhamento!I6313,0)","v":0},null,0,null,0,null,0,null,0]
[null,null,null,null,null,null,null,null,null,{"$f":"IF(H6317=Listas!$X$3,Acompanhamento!I6317,0)","v":0},{"$f":"IF(H6317=Listas!$X$4,Acompanhamento!I6317,0)","v":0},null,0,null,0,null,0,null,0]
[null,null,null,null,null,null,null,null,null,{"$f":"IF(H6320=Listas!$X$3,Acompanhamento!I6320,0)","v":0},{"$f":"IF(H6320=Listas!$X$4,Acompanhamento!I6320,0)","v":0},null,0,null,0,null,0,null,0]
[null,null,null,null,null,null,null,null,null,{"$f":"IF(H6325=Listas!$X$3,Acompanhamento!I6325,0)","v":0},{"$f":"IF(H6325=Listas!$X$4,Acompanhamento!I6325,0)","v":0},null,0,null,0,null,0,null,0]
[null,null,null,null,null,null,null,null,null,{"$f":"IF(H6328=Listas!$X$3,Acompanhamento!I6328,0)","v":0},{"$f":"IF(H6328=Listas!$X$4,Acompanhamento!I6328,0)","v":0},null,0,null,0,null,0,null,0]
[null,null,null,null,null,null,null,null,null,{"$f":"IF(H6331=Listas!$X$3,Acompanhamento!I6331,0)","v":0},{"$f":"IF(H6331=Listas!$X$4,Acompanhamento!I6331,0)","v":0},null,0,null,0,null,0,null,0]
[null,null,null,null,null,null,null,null,null,{"$f":"IF(H6332=Listas!$X$3,Acompanhamento!I6332,0)","v":0},{"$f":"IF(H6332=Listas!$X$4,Acompanhamento!I6332,0)","v":0},null,0,null,0,null,0,null,0]
[null,null,null,null,null,null,null,null,null,{"$f":"IF(H6338=Listas!$X$3,Acompanhamento!I6338,0)","v":0},{"$f":"IF(H6338=Listas!$X$4,Acompanhamento!I6338,0)","v":0},null,0,null,0,null,0,null,0]
[null,null,null,null,null,null,null,null,null,{"$f":"IF(H6339=Listas!$X$3,Acompanhamento!I6339,0)","v":0},{"$f":"IF(H6339=Listas!$X$4,Acompanhamento!I6339,0)","v":0},null,0,null,0,null,0,null,0]
[null,null,null,null,null,null,null,null,null,{"$f":"IF(H6343=Listas!$X$3,Acompanhamento!I6343,0)","v":0},{"$f":"IF(H6343=Listas!$X$4,Acompanhamento!I6343,0)","v":0},null,0,null,0,null,0,null,0]
[null,null,null,null,null,null,null,null,null,{"$f":"IF(H6346=Listas!$X$3,Acompanhamento!I6346,0)","v":0},{"$f":"IF(H6346=Listas!$X$4,Acompanhamento!I6346,0)","v":0},null,{"$f":"J6346-L6346","v":0},null,{"$f":"M6346-N6346","v":0},null,{"$f":"O6346-P6346","v":0},null,{"$f":"Q6346-R6346","v":0}]
[null,null,null,null,null,null,null,null,null,{"$f":"IF(H6351=Listas!$X$3,Acompanhamento!I6351,0)","v":0},{"$f":"IF(H6351=Listas!$X$4,Acompanhamento!I6351,0)","v":0},null,0,null,0,null,0,null,0]
[null,null,null,null,null,null,null,null,null,{"$f":"IF(H6354=Listas!$X$3,Acompanhamento!I6354,0)","v":0},{"$f":"IF(H6354=Listas!$X$4,Acompanhamento!I6354,0)","v":0},null,0,null,0,null,0,null,0]
[null,null,null,null,null,null,null,null,null,{"$f":"IF(H6357=Listas!$X$3,Acompanhamento!I6357,0)","v":0},{"$f":"IF(H6357=Listas!$X$4,Acompanhamento!I6357,0)","v":0},null,0,null,0,null,0,null,0]
[null,null,null,null,null,null,null,null,null,{"$f":"IF(H6358=Listas!$X$3,Acompanhamento!I6358,0)","v":0},{"$f":"IF(H6358=Listas!$X$4,Acompanhamento!I6358,0)","v":0},null,0,null,0,null,0,null,0]
[null,null,null,null,null,null,null,null,null,{"$f":"IF(H6364=Listas!$X$3,Acompanhamento!I6364,0)","v":0},{"$f":"IF(H6364=Listas!$X$4,Acompanhamento!I6364,0)","v":0},null,0,null,0,null,0,null,0]
[null,null,null,null,null,null,null,null,null,{"$f":"IF(H6365=Listas!$X$3,Acompanhamento!I6365,0)","v":0},{"$f":"IF(H6365=Listas!$X$4,Acompanhamento!I6365,0)","v":0},null,0,null,0,null,0,null,0]
[null,null,null,null,null,null,null,null,null,{"$f":"IF(H6369=Listas!$X$3,Acompanhamento!I6369,0)","v":0},{"$f":"IF(H6369=Listas!$X$4,Acompanhamento!I6369,0)","v":0},null,0,null,0,null,0,null,0]
[null,null,null,null,null,null,null,null,null,{"$f":"IF(H6372=Listas!$X$3,Acompanhamento!I6372,0)","v":0},{"$f":"IF(H6372=Listas!$X$4,Acompanhamento!I6372,0)","v":0},null,0,null,0,null,0,null,0]
[null,null,null,null,null,null,null,null,null,{"$f":"IF(H6377=Listas!$X$3,Acompanhamento!I6377,0)","v":0},{"$f":"IF(H6377=Listas!$X$4,Acompanhamento!I6377,0)","v":0},null,0,null,0,null,0,null,0]
[null,null,null,null,null,null,null,null,null,{"$f":"IF(H6380=Listas!$X$3,Acompanhamento!I6380,0)","v":0},{"$f":"IF(H6380=Listas!$X$4,Acompanhamento!I6380,0)","v":0},null,0,null,0,null,0,null,0]
[null,null,null,null,null,null,null,null,null,{"$f":"IF(H6383=Listas!$X$3,Acompanhamento!I6383,0)","v":0},{"$f":"IF(H6383=Listas!$X$4,Acompanhamento!I6383,0)","v":0},null,0,null,0,null,0,null,0]
[null,null,null,null,null,null,null,null,null,{"$f":"IF(H6384=Listas!$X$3,Acompanhamento!I6384,0)","v":0},{"$f":"IF(H6384=Listas!$X$4,Acompanhamento!I6384,0)","v":0},null,0,null,0,null,0,null,0]
[null,null,null,null,null,null,null,null,null,{"$f":"IF(H6390=Listas!$X$3,Acompanhamento!I6390,0)","v":0},{"$f":"IF(H6390=Listas!$X$4,Acompanhamento!I6390,0)","v":0},null,0,null,0,null,0,null,0]
[null,null,null,null,null,null,null,null,null,{"$f":"IF(H6392=Listas!$X$3,Acompanhamento!I6392,0)","v":0},{"$f":"IF(H6392=Listas!$X$4,Acompanhamento!I6392,0)","v":0},null,0,null,0,null,0,null,0]
[null,null,null,null,null,null,null,null,null,{"$f":"IF(H6395=Listas!$X$3,Acompanhamento!I6395,0)","v":0},{"$f":"IF(H6395=Listas!$X$4,Acompanhamento!I6395,0)","v":0},null,0,null,0,null,0,null,0]
[null,null,null,null,null,null,null,null,null,{"$f":"IF(H6398=Listas!$X$3,Acompanhamento!I6398,0)","v":0},{"$f":"IF(H6398=Listas!$X$4,Acompanhamento!I6398,0)","v":0},null,0,null,0,null,0,null,0]
[null,null,null,null,null,null,null,null,null,{"$f":"IF(H6403=Listas!$X$3,Acompanhamento!I6403,0)","v":0},{"$f":"IF(H6403=Listas!$X$4,Acompanhamento!I6403,0)","v":0},null,0,null,0,null,0,null,0]
[null,null,null,null,null,null,null,null,null,{"$f":"IF(H6406=Listas!$X$3,Acompanhamento!I6406,0)","v":0},{"$f":"IF(H6406=Listas!$X$4,Acompanhamento!I6406,0)","v":0},null,0,null,0,null,0,null,0]
[null,null,null,null,null,null,null,null,null,{"$f":"IF(H6409=Listas!$X$3,Acompanhamento!I6409,0)","v":0},{"$f":"IF(H6409=Listas!$X$4,Acompanhamento!I6409,0)","v":0},null,0,null,0,null,0,null,0]
[null,null,null,null,null,null,null,null,null,{"$f":"IF(H6410=Listas!$X$3,Acompanhamento!I6410,0)","v":0},{"$f":"IF(H6410=Listas!$X$4,Acompanhamento!I6410,0)","v":0},null,{"$f":"J6410-L6410","v":0},null,{"$f":"M6410-N6410","v":0},null,{"$f":"O6410-P6410","v":0},null,{"$f":"Q6410-R6410","v":0}]
[null,null,null,null,null,null,null,null,null,{"$f":"IF(H6416=Listas!$X$3,Acompanhamento!I6416,0)","v":0},{"$f":"IF(H6416=Listas!$X$4,Acompanhamento!I6416,0)","v":0},null,0,null,0,null,0,null,0]
[null,null,null,null,null,null,null,null,null,{"$f":"IF(H6418=Listas!$X$3,Acompanhamento!I6418,0)","v":0},{"$f":"IF(H6418=Listas!$X$4,Acompanhamento!I6418,0)","v":0},null,0,null,0,null,0,null,0]
[null,null,null,null,null,null,null,null,null,{"$f":"IF(H6421=Listas!$X$3,Acompanhamento!I6421,0)","v":0},{"$f":"IF(H6421=Listas!$X$4,Acompanhamento!I6421,0)","v":0},null,0,null,0,null,0,null,0]
[null,null,null,null,null,null,null,null,null,{"$f":"IF(H6424=Listas!$X$3,Acompanhamento!I6424,0)","v":0},{"$f":"IF(H6424=Listas!$X$4,Acompanhamento!I6424,0)","v":0},null,0,null,0,null,0,null,0]
[null,null,null,null,null,null,null,null,null,{"$f":"IF(H6429=Listas!$X$3,Acompanhamento!I6429,0)","v":0},{"$f":"IF(H6429=Listas!$X$4,Acompanhamento!I6429,0)","v":0},null,0,null,0,null,0,null,0]
[null,null,null,null,null,null,null,null,null,{"$f":"IF(H6432=Listas!$X$3,Acompanhamento!I6432,0)","v":0},{"$f":"IF(H6432=Listas!$X$4,Acompanhamento!I6432,0)","v":0},null,0,null,0,null,0,null,0]
[null,null,null,null,null,null,null,null,null,{"$f":"IF(H6433=Listas!$X$3,Acompanhamento!I6433,0)","v":0},{"$f":"IF(H6433=Listas!$X$4,Acompanhamento!I6433,0)","v":0},null,0,null,0,null,0,null,0]
[null,null,null,null,null,null,null,null,null,{"$f":"IF(H6436=Listas!$X$3,Acompanhamento!I6436,0)","v":0},{"$f":"IF(H6436=Listas!$X$4,Acompanhamento!I6436,0)","v":0},null,0,null,0,null,0,null,0]
[null,null,null,null,null,null,null,null,null,{"$f":"IF(H6442=Listas!$X$3,Acompanhamento!I6442,0)","v":0},{"$f":"IF(H6442=Listas!$X$4,Acompanhamento!I6442,0)","v":0},null,0,null,0,null,0,null,0]
[null,null,null,null,null,null,null,null,null,{"$f":"IF(H6444=Listas!$X$3,Acompanhamento!I6444,0)","v":0},{"$f":"IF(H6444=Listas!$X$4,Acompanhamento!I6444,0)","v":0},null,0,null,0,null,0,null,0]
[null,null,null,null,null,null,null,null,null,{"$f":"IF(H6447=Listas!$X$3,Acompanhamento!I6447,0)","v":0},{"$f":"IF(H6447=Listas!$X$4,Acompanhamento!I6447,0)","v":0},null,0,null,0,null,0,null,0]
[null,null,null,null,null,null,null,null,null,{"$f":"IF(H6450=Listas!$X$3,Acompanhamento!I6450,0)","v":0},{"$f":"IF(H6450=Listas!$X$4,Acompanhamento!I6450,0)","v":0},null,0,null,0,null,0,null,0]
[null,null,null,null,null,null,null,null,null,{"$f":"IF(H6455=Listas!$X$3,Acompanhamento!I6455,0)","v":0},{"$f":"IF(H6455=Listas!$X$4,Acompanhamento!I6455,0)","v":0},null,0,null,0,null,0,null,0]
[null,null,null,null,null,null,null,null,null,{"$f":"IF(H6458=Listas!$X$3,Acompanhamento!I6458,0)","v":0},{"$f":"IF(H6458=Listas!$X$4,Acompanhamento!I6458,0)","v":0},null,0,null,0,null,0,null,0]
[null,null,null,null,null,null,null,null,null,{"$f":"IF(H6459=Listas!$X$3,Acompanhamento!I6459,0)","v":0},{"$f":"IF(H6459=Listas!$X$4,Acompanhamento!I6459,0)","v":0},null,0,null,0,null,0,null,0]
[null,null,null,null,null,null,null,null,null,{"$f":"IF(H6462=Listas!$X$3,Acompanhamento!I6462,0)","v":0},{"$f":"IF(H6462=Listas!$X$4,Acompanhamento!I6462,0)","v":0},null,0,null,0,null,0,null,0]
[null,null,null,null,null,null,null,null,null,{"$f":"IF(H6468=Listas!$X$3,Acompanhamento!I6468,0)","v":0},{"$f":"IF(H6468=Listas!$X$4,Acompanhamento!I6468,0)","v":0},null,0,null,0,null,0,null,0]
[null,null,null,null,null,null,null,null,null,{"$f":"IF(H6470=Listas!$X$3,Acompanhamento!I6470,0)","v":0},{"$f":"IF(H6470=Listas!$X$4,Acompanhamento!I6470,0)","v":0},null,0,null,0,null,0,null,0]
[null,null,null,null,null,null,null,null,null,{"$f":"IF(H6473=Listas!$X$3,Acompanhamento!I6473,0)","v":0},{"$f":"IF(H6473=Listas!$X$4,Acompanhamento!I6473,0)","v":0},null,0,null,0,null,0,null,0]
[null,null,null,null,null,null,null,null,null,{"$f":"IF(H6476=Listas!$X$3,Acompanhamento!I6476,0)","v":0},{"$f":"IF(H6476=Listas!$X$4,Acompanhamento!I6476,0)","v":0},null,0,null,0,null,0,null,0]
[null,null,null,null,null,null,null,null,null,{"$f":"IF(H6481=Listas!$X$3,Acompanhamento!I6481,0)","v":0},{"$f":"IF(H6481=Listas!$X$4,Acompanhamento!I6481,0)","v":0},null,0,null,0,null,0,null,0]
[null,null,null,null,null,null,null,null,null,{"$f":"IF(H6484=Listas!$X$3,Acompanhamento!I6484,0)","v":0},{"$f":"IF(H6484=Listas!$X$4,Acompanhamento!I6484,0)","v":0},null,0,null,0,null,0,null,0]
[null,null,null,null,null,null,null,null,null,{"$f":"IF(H6485=Listas!$X$3,Acompanhamento!I6485,0)","v":0},{"$f":"IF(H6485=Listas!$X$4,Acompanhamento!I6485,0)","v":0},null,0,null,0,null,0,null,0]
[null,null,null,null,null,null,null,null,null,{"$f":"IF(H6488=Listas!$X$3,Acompanhamento!I6488,0)","v":0},{"$f":"IF(H6488=Listas!$X$4,Acompanhamento!I6488,0)","v":0},null,0,null,0,null,0,null,0]
[null,null,null,null,null,null,null,null,null,{"$f":"IF(H6494=Listas!$X$3,Acompanhamento!I6494,0)","v":0},{"$f":"IF(H6494=Listas!$X$4,Acompanhamento!I6494,0)","v":0},null,0,null,0,null,0,null,0]
[null,null,null,null,null,null,null,null,null,{"$f":"IF(H6496=Listas!$X$3,Acompanhamento!I6496,0)","v":0},{"$f":"IF(H6496=Listas!$X$4,Acompanhamento!I6496,0)","v":0},null,0,null,0,null,0,null,0]
[null,null,null,null,null,null,null,null,null,{"$f":"IF(H6499=Listas!$X$3,Acompanhamento!I6499,0)","v":0},{"$f":"IF(H6499=Listas!$X$4,Acompanhamento!I6499,0)","v":0},null,0,null,0,null,0,null,0]
[null,null,null,null,null,null,null,null,null,{"$f":"IF(H6503=Listas!$X$3,Acompanhamento!I6503,0)","v":0},{"$f":"IF(H6503=Listas!$X$4,Acompanhamento!I6503,0)","v":0},null,0,null,0,null,0,null,0]
[null,null,null,null,null,null,null,null,null,{"$f":"IF(H6507=Listas!$X$3,Acompanhamento!I6507,0)","v":0},{"$f":"IF(H6507=Listas!$X$4,Acompanhamento!I6507,0)","v":0},null,0,null,0,null,0,null,0]
[null,null,null,null,null,null,null,null,null,{"$f":"IF(H6510=Listas!$X$3,Acompanhamento!I6510,0)","v":0},{"$f":"IF(H6510=Listas!$X$4,Acompanhamento!I6510,0)","v":0},null,0,null,0,null,0,null,0]
[null,null,null,null,null,null,null,null,null,{"$f":"IF(H6511=Listas!$X$3,Acompanhamento!I6511,0)","v":0},{"$f":"IF(H6511=Listas!$X$4,Acompanhamento!I6511,0)","v":0},null,0,null,0,null,0,null,0]
[null,null,null,null,null,null,null,null,null,{"$f":"IF(H6514=Listas!$X$3,Acompanhamento!I6514,0)","v":0},{"$f":"IF(H6514=Listas!$X$4,Acompanhamento!I6514,0)","v":0},null,0,null,0,null,0,null,0]
[null,null,null,null,null,null,null,null,null,{"$f":"IF(H6520=Listas!$X$3,Acompanhamento!I6520,0)","v":0},{"$f":"IF(H6520=Listas!$X$4,Acompanhamento!I6520,0)","v":0},null,0,null,0,null,0,null,0]
[null,null,null,null,null,null,null,null,null,{"$f":"IF(H6522=Listas!$X$3,Acompanhamento!I6522,0)","v":0},{"$f":"IF(H6522=Listas!$X$4,Acompanhamento!I6522,0)","v":0},null,0,null,0,null,0,null,0]
[null,null,null,null,null,null,null,null,null,{"$f":"IF(H6525=Listas!$X$3,Acompanhamento!I6525,0)","v":0},{"$f":"IF(H6525=Listas!$X$4,Acompanhamento!I6525,0)","v":0},null,0,null,0,null,0,null,0]
[null,null,null,null,null,null,null,null,null,{"$f":"IF(H6529=Listas!$X$3,Acompanhamento!I6529,0)","v":0},{"$f":"IF(H6529=Listas!$X$4,Acompanhamento!I6529,0)","v":0},null,0,null,0,null,0,null,0]
[null,null,null,null,null,null,null,null,null,{"$f":"IF(H6533=Listas!$X$3,Acompanhamento!I6533,0)","v":0},{"$f":"IF(H6533=Listas!$X$4,Acompanhamento!I6533,0)","v":0},null,0,null,0,null,0,null,0]
[null,null,null,null,null,null,null,null,null,{"$f":"IF(H6536=Listas!$X$3,Acompanhamento!I6536,0)","v":0},{"$f":"IF(H6536=Listas!$X$4,Acompanhamento!I6536,0)","v":0},null,0,null,0,null,0,null,0]
[null,null,null,null,null,null,null,null,null,{"$f":"IF(H6537=Listas!$X$3,Acompanhamento!I6537,0)","v":0},{"$f":"IF(H6537=Listas!$X$4,Acompanhamento!I6537,0)","v":0},null,0,null,0,null,0,null,0]
[null,null,null,null,null,null,null,null,null,{"$f":"IF(H6540=Listas!$X$3,Acompanhamento!I6540,0)","v":0},{"$f":"IF(H6540=Listas!$X$4,Acompanhamento!I6540,0)","v":0},null,0,null,0,null,0,null,0]
[null,null,null,null,null,null,null,null,null,{"$f":"IF(H6546=Listas!$X$3,Acompanhamento!I6546,0)","v":0},{"$f":"IF(H6546=Listas!$X$4,Acompanhamento!I6546,0)","v":0},null,0,null,0,null,0,null,0]
[null,null,null,null,null,null,null,null,null,{"$f":"IF(H6548=Listas!$X$3,Acompanhamento!I6548,0)","v":0},{"$f":"IF(H6548=Listas!$X$4,Acompanhamento!I6548,0)","v":0},null,0,null,0,null,0,null,0]
[null,null,null,null,null,null,null,null,null,{"$f":"IF(H6551=Listas!$X$3,Acompanhamento!I6551,0)","v":0},{"$f":"IF(H6551=Listas!$X$4,Acompanhamento!I6551,0)","v":0},null,0,null,0,null,0,null,0]
[null,null,null,null,null,null,null,null,null,{"$f":"IF(H6555=Listas!$X$3,Acompanhamento!I6555,0)","v":0},{"$f":"IF(H6555=Listas!$X$4,Acompanhamento!I6555,0)","v":0},null,0,null,0,null,0,null,0]
[null,null,null,null,null,null,null,null,null,{"$f":"IF(H6559=Listas!$X$3,Acompanhamento!I6559,0)","v":0},{"$f":"IF(H6559=Listas!$X$4,Acompanhamento!I6559,0)","v":0},null,0,null,0,null,0,null,0]
[null,null,null,null,null,null,null,null,null,{"$f":"IF(H6562=Listas!$X$3,Acompanhamento!I6562,0)","v":0},{"$f":"IF(H6562=Listas!$X$4,Acompanhamento!I6562,0)","v":0},null,0,null,0,null,0,null,0]
[null,null,null,null,null,null,null,null,null,{"$f":"IF(H6563=Listas!$X$3,Acompanhamento!I6563,0)","v":0},{"$f":"IF(H6563=Listas!$X$4,Acompanhamento!I6563,0)","v":0},null,0,null,0,null,0,null,0]
[null,null,null,null,null,null,null,null,null,{"$f":"IF(H6566=Listas!$X$3,Acompanhamento!I6566,0)","v":0},{"$f":"IF(H6566=Listas!$X$4,Acompanhamento!I6566,0)","v":0},null,0,null,0,null,0,null,0]
[null,null,null,null,null,null,null,null,null,{"$f":"IF(H6572=Listas!$X$3,Acompanhamento!I6572,0)","v":0},{"$f":"IF(H6572=Listas!$X$4,Acompanhamento!I6572,0)","v":0},null,0,null,0,null,0,null,0]
[null,null,null,null,null,null,null,null,null,{"$f":"IF(H6574=Listas!$X$3,Acompanhamento!I6574,0)","v":0},{"$f":"IF(H6574=Listas!$X$4,Acompanhamento!I6574,0)","v":0},null,0,null,0,null,0,null,0]
[null,null,null,null,null,null,null,null,null,{"$f":"IF(H6577=Listas!$X$3,Acompanhamento!I6577,0)","v":0},{"$f":"IF(H6577=Listas!$X$4,Acompanhamento!I6577,0)","v":0},null,0,null,0,null,0,null,0]
[null,null,null,null,null,null,null,null,null,{"$f":"IF(H6581=Listas!$X$3,Acompanhamento!I6581,0)","v":0},{"$f":"IF(H6581=Listas!$X$4,Acompanhamento!I6581,0)","v":0},null,0,null,0,null,0,null,0]
[null,null,null,null,null,null,null,null,null,{"$f":"IF(H6585=Listas!$X$3,Acompanhamento!I6585,0)","v":0},{"$f":"IF(H6585=Listas!$X$4,Acompanhamento!I6585,0)","v":0},null,0,null,0,null,0,null,0]
[null,null,null,null,null,null,null,null,null,{"$f":"IF(H6588=Listas!$X$3,Acompanhamento!I6588,0)","v":0},{"$f":"IF(H6588=Listas!$X$4,Acompanhamento!I6588,0)","v":0},null,0,null,0,null,0,null,0]
[null,null,null,null,null,null,null,null,null,{"$f":"IF(H6589=Listas!$X$3,Acompanhamento!I6589,0)","v":0},{"$f":"IF(H6589=Listas!$X$4,Acompanhamento!I6589,0)","v":0},null,0,null,0,null,0,null,0]
[null,null,null,null,null,null,null,null,null,{"$f":"IF(H6592=Listas!$X$3,Acompanhamento!I6592,0)","v":0},{"$f":"IF(H6592=Listas!$X$4,Acompanhamento!I6592,0)","v":0},null,0,null,0,null,0,null,0]
[null,null,null,null,null,null,null,null,null,{"$f":"IF(H6598=Listas!$X$3,Acompanhamento!I6598,0)","v":0},{"$f":"IF(H6598=Listas!$X$4,Acompanhamento!I6598,0)","v":0},null,0,null,0,null,0,null,0]
[null,null,null,null,null,null,null,null,null,{"$f":"IF(H6600=Listas!$X$3,Acompanhamento!I6600,0)","v":0},{"$f":"IF(H6600=Listas!$X$4,Acompanhamento!I6600,0)","v":0},null,0,null,0,null,0,null,0]
[null,null,null,null,null,null,null,null,null,{"$f":"IF(H6603=Listas!$X$3,Acompanhamento!I6603,0)","v":0},{"$f":"IF(H6603=Listas!$X$4,Acompanhamento!I6603,0)","v":0},null,0,null,0,null,0,null,0]
[null,null,null,null,null,null,null,null,null,{"$f":"IF(H6607=Listas!$X$3,Acompanhamento!I6607,0)","v":0},{"$f":"IF(H6607=Listas!$X$4,Acompanhamento!I6607,0)","v":0},null,0,null,0,null,0,null,0]
[null,null,null,null,null,null,null,null,null,{"$f":"IF(H6611=Listas!$X$3,Acompanhamento!I6611,0)","v":0},{"$f":"IF(H6611=Listas!$X$4,Acompanhamento!I6611,0)","v":0},null,0,null,0,null,0,null,0]
[null,null,null,null,null,null,null,null,null,{"$f":"IF(H6612=Listas!$X$3,Acompanhamento!I6612,0)","v":0},{"$f":"IF(H6612=Listas!$X$4,Acompanhamento!I6612,0)","v":0},null,0,null,0,null,0,null,0]
[null,null,null,null,null,null,null,null,null,{"$f":"IF(H6615=Listas!$X$3,Acompanhamento!I6615,0)","v":0},{"$f":"IF(H6615=Listas!$X$4,Acompanhamento!I6615,0)","v":0},null,0,null,0,null,0,null,0]
[null,null,null,null,null,null,null,null,null,{"$f":"IF(H6618=Listas!$X$3,Acompanhamento!I6618,0)","v":0},{"$f":"IF(H6618=Listas!$X$4,Acompanhamento!I6618,0)","v":0},null,0,null,0,null,0,null,0]
[null,null,null,null,null,null,null,null,null,{"$f":"IF(H6624=Listas!$X$3,Acompanhamento!I6624,0)","v":0},{"$f":"IF(H6624=Listas!$X$4,Acompanhamento!I6624,0)","v":0},null,0,null,0,null,0,null,0]
[null,null,null,null,null,null,null,null,null,{"$f":"IF(H6626=Listas!$X$3,Acompanhamento!I6626,0)","v":0},{"$f":"IF(H6626=Listas!$X$4,Acompanhamento!I6626,0)","v":0},null,0,null,0,null,0,null,0]
[null,null,null,null,null,null,null,null,null,{"$f":"IF(H6629=Listas!$X$3,Acompanhamento!I6629,0)","v":0},{"$f":"IF(H6629=Listas!$X$4,Acompanhamento!I6629,0)","v":0},null,0,null,0,null,0,null,0]
[null,null,null,null,null,null,null,null,null,{"$f":"IF(H6633=Listas!$X$3,Acompanhamento!I6633,0)","v":0},{"$f":"IF(H6633=Listas!$X$4,Acompanhamento!I6633,0)","v":0},null,0,null,0,null,0,null,0]
[null,null,null,null,null,null,null,null,null,{"$f":"IF(H6637=Listas!$X$3,Acompanhamento!I6637,0)","v":0},{"$f":"IF(H6637=Listas!$X$4,Acompanhamento!I6637,0)","v":0},null,0,null,0,null,0,null,0]
[null,null,null,null,null,null,null,null,null,{"$f":"IF(H6638=Listas!$X$3,Acompanhamento!I6638,0)","v":0},{"$f":"IF(H6638=Listas!$X$4,Acompanhamento!I6638,0)","v":0},null,0,null,0,null,0,null,0]
[null,null,null,null,null,null,null,null,null,{"$f":"IF(H6641=Listas!$X$3,Acompanhamento!I6641,0)","v":0},{"$f":"IF(H6641=Listas!$X$4,Acompanhamento!I6641,0)","v":0},null,0,null,0,null,0,null,0]
[null,null,null,null,null,null,null,null,null,{"$f":"IF(H6644=Listas!$X$3,Acompanhamento!I6644,0)","v":0},{"$f":"IF(H6644=Listas!$X$4,Acompanhamento!I6644,0)","v":0},null,0,null,0,null,0,null,0]
[null,null,null,null,null,null,null,null,null,{"$f":"IF(H6650=Listas!$X$3,Acompanhamento!I6650,0)","v":0},{"$f":"IF(H6650=Listas!$X$4,Acompanhamento!I6650,0)","v":0},null,0,null,0,null,0,null,0]
[null,null,null,null,null,null,null,null,null,{"$f":"IF(H6652=Listas!$X$3,Acompanhamento!I6652,0)","v":0},{"$f":"IF(H6652=Listas!$X$4,Acompanhamento!I6652,0)","v":0},null,0,null,0,null,0,null,0]
[null,null,null,null,null,null,null,null,null,{"$f":"IF(H6655=Listas!$X$3,Acompanhamento!I6655,0)","v":0},{"$f":"IF(H6655=Listas!$X$4,Acompanhamento!I6655,0)","v":0},null,0,null,0,null,0,null,0]
[null,null,null,null,null,null,null,null,null,{"$f":"IF(H6659=Listas!$X$3,Acompanhamento!I6659,0)","v":0},{"$f":"IF(H6659=Listas!$X$4,Acompanhamento!I6659,0)","v":0},null,0,null,0,null,0,null,0]
[null,null,null,null,null,null,null,null,null,{"$f":"IF(H6663=Listas!$X$3,Acompanhamento!I6663,0)","v":0},{"$f":"IF(H6663=Listas!$X$4,Acompanhamento!I6663,0)","v":0},null,0,null,0,null,0,null,0]
[null,null,null,null,null,null,null,null,null,{"$f":"IF(H6664=Listas!$X$3,Acompanhamento!I6664,0)","v":0},{"$f":"IF(H6664=Listas!$X$4,Acompanhamento!I6664,0)","v":0},null,0,null,0,null,0,null,0]
[null,null,null,null,null,null,null,null,null,{"$f":"IF(H6667=Listas!$X$3,Acompanhamento!I6667,0)","v":0},{"$f":"IF(H6667=Listas!$X$4,Acompanhamento!I6667,0)","v":0},null,0,null,0,null,0,null,0]
[null,null,null,null,null,null,null,null,null,{"$f":"IF(H6670=Listas!$X$3,Acompanhamento!I6670,0)","v":0},{"$f":"IF(H6670=Listas!$X$4,Acompanhamento!I6670,0)","v":0},null,0,null,0,null,0,null,0]
[null,null,null,null,null,null,null,null,null,{"$f":"IF(H6676=Listas!$X$3,Acompanhamento!I6676,0)","v":0},{"$f":"IF(H6676=Listas!$X$4,Acompanhamento!I6676,0)","v":0},null,0,null,0,null,0,null,0]
[null,null,null,null,null,null,null,null,null,{"$f":"IF(H6678=Listas!$X$3,Acompanhamento!I6678,0)","v":0},{"$f":"IF(H6678=Listas!$X$4,Acompanhamento!I6678,0)","v":0},null,0,null,0,null,0,null,0]
[null,null,null,null,null,null,null,null,null,{"$f":"IF(H6682=Listas!$X$3,Acompanhamento!I6682,0)","v":0},{"$f":"IF(H6682=Listas!$X$4,Acompanhamento!I6682,0)","v":0},null,0,null,0,null,0,null,0]
[null,null,null,null,null,null,null,null,null,{"$f":"IF(H6685=Listas!$X$3,Acompanhamento!I6685,0)","v":0},{"$f":"IF(H6685=Listas!$X$4,Acompanhamento!I6685,0)","v":0},null,0,null,0,null,0,null,0]
[null,null,null,null,null,null,null,null,null,{"$f":"IF(H6689=Listas!$X$3,Acompanhamento!I6689,0)","v":0},{"$f":"IF(H6689=Listas!$X$4,Acompanhamento!I6689,0)","v":0},null,0,null,0,null,0,null,0]
[null,null,null,null,null,null,null,null,null,{"$f":"IF(H6690=Listas!$X$3,Acompanhamento!I6690,0)","v":0},{"$f":"IF(H6690=Listas!$X$4,Acompanhamento!I6690,0)","v":0},null,0,null,0,null,0,null,0]
[null,null,null,null,null,null,null,null,null,{"$f":"IF(H6693=Listas!$X$3,Acompanhamento!I6693,0)","v":0},{"$f":"IF(H6693=Listas!$X$4,Acompanhamento!I6693,0)","v":0},null,0,null,0,null,0,null,0]
[null,null,null,null,null,null,null,null,null,{"$f":"IF(H6696=Listas!$X$3,Acompanhamento!I6696,0)","v":0},{"$f":"IF(H6696=Listas!$X$4,Acompanhamento!I6696,0)","v":0},null,0,null,0,null,0,null,0]
[null,null,null,null,null,null,null,null,null,{"$f":"IF(H6702=Listas!$X$3,Acompanhamento!I6702,0)","v":0},{"$f":"IF(H6702=Listas!$X$4,Acompanhamento!I6702,0)","v":0},null,0,null,0,null,0,null,0]
[null,null,null,null,null,null,null,null,null,{"$f":"IF(H6704=Listas!$X$3,Acompanhamento!I6704,0)","v":0},{"$f":"IF(H6704=Listas!$X$4,Acompanhamento!I6704,0)","v":0},null,0,null,0,null,0,null,0]
[null,null,null,null,null,null,null,null,null,{"$f":"IF(H6708=Listas!$X$3,Acompanhamento!I6708,0)","v":0},{"$f":"IF(H6708=Listas!$X$4,Acompanhamento!I6708,0)","v":0},null,0,null,0,null,0,null,0]
[null,null,null,null,null,null,null,null,null,{"$f":"IF(H6711=Listas!$X$3,Acompanhamento!I6711,0)","v":0},{"$f":"IF(H6711=Listas!$X$4,Acompanhamento!I6711,0)","v":0},null,0,null,0,null,0,null,0]
[null,null,null,null,null,null,null,null,null,{"$f":"IF(H6715=Listas!$X$3,Acompanhamento!I6715,0)","v":0},{"$f":"IF(H6715=Listas!$X$4,Acompanhamento!I6715,0)","v":0},null,0,null,0,null,0,null,0]
[null,null,null,null,null,null,null,null,null,{"$f":"IF(H6716=Listas!$X$3,Acompanhamento!I6716,0)","v":0},{"$f":"IF(H6716=Listas!$X$4,Acompanhamento!I6716,0)","v":0},null,0,null,0,null,0,null,0]
[null,null,null,null,null,null,null,null,null,{"$f":"IF(H6719=Listas!$X$3,Acompanhamento!I6719,0)","v":0},{"$f":"IF(H6719=Listas!$X$4,Acompanhamento!I6719,0)","v":0},null,0,null,0,null,0,null,0]
[null,null,null,null,null,null,null,null,null,{"$f":"IF(H6722=Listas!$X$3,Acompanhamento!I6722,0)","v":0},{"$f":"IF(H6722=Listas!$X$4,Acompanhamento!I6722,0)","v":0},null,0,null,0,null,0,null,0]
[null,null,null,null,null,null,null,null,null,{"$f":"IF(H6728=Listas!$X$3,Acompanhamento!I6728,0)","v":0},{"$f":"IF(H6728=Listas!$X$4,Acompanhamento!I6728,0)","v":0},null,0,null,0,null,0,null,0]
[null,null,null,null,null,null,null,null,null,{"$f":"IF(H6730=Listas!$X$3,Acompanhamento!I6730,0)","v":0},{"$f":"IF(H6730=Listas!$X$4,Acompanhamento!I6730,0)","v":0},null,{"$f":"J6730-L6730","v":0},null,{"$f":"M6730-N6730","v":0},null,{"$f":"O6730-P6730","v":0},null,{"$f":"Q6730-R6730","v":0}]
[null,null,null,null,null,null,null,null,null,{"$f":"IF(H6734=Listas!$X$3,Acompanhamento!I6734,0)","v":0},{"$f":"IF(H6734=Listas!$X$4,Acompanhamento!I6734,0)","v":0},null,0,null,0,null,0,null,0]
[null,null,null,null,null,null,null,null,null,{"$f":"IF(H6737=Listas!$X$3,Acompanhamento!I6737,0)","v":0},{"$f":"IF(H6737=Listas!$X$4,Acompanhamento!I6737,0)","v":0},null,0,null,0,null,0,null,0]
[null,null,null,null,null,null,null,null,null,{"$f":"IF(H6741=Listas!$X$3,Acompanhamento!I6741,0)","v":0},{"$f":"IF(H6741=Listas!$X$4,Acompanhamento!I6741,0)","v":0},null,0,null,0,null,0,null,0]
[null,null,null,null,null,null,null,null,null,{"$f":"IF(H6742=Listas!$X$3,Acompanhamento!I6742,0)","v":0},{"$f":"IF(H6742=Listas!$X$4,Acompanhamento!I6742,0)","v":0},null,0,null,0,null,0,null,0]
[null,null,null,null,null,null,null,null,null,{"$f":"IF(H6745=Listas!$X$3,Acompanhamento!I6745,0)","v":0},{"$f":"IF(H6745=Listas!$X$4,Acompanhamento!I6745,0)","v":0},null,0,null,0,null,0,null,0]
[null,null,null,null,null,null,null,null,null,{"$f":"IF(H6749=Listas!$X$3,Acompanhamento!I6749,0)","v":0},{"$f":"IF(H6749=Listas!$X$4,Acompanhamento!I6749,0)","v":0},null,0,null,0,null,0,null,0]
[null,null,null,null,null,null,null,null,null,{"$f":"IF(H6754=Listas!$X$3,Acompanhamento!I6754,0)","v":0},{"$f":"IF(H6754=Listas!$X$4,Acompanhamento!I6754,0)","v":0},null,0,null,0,null,0,null,0]
[null,null,null,null,null,null,null,null,null,{"$f":"IF(H6756=Listas!$X$3,Acompanhamento!I6756,0)","v":0},{"$f":"IF(H6756=Listas!$X$4,Acompanhamento!I6756,0)","v":0},null,0,null,0,null,0,null,0]
[null,null,null,null,null,null,null,null,null,{"$f":"IF(H6760=Listas!$X$3,Acompanhamento!I6760,0)","v":0},{"$f":"IF(H6760=Listas!$X$4,Acompanhamento!I6760,0)","v":0},null,0,null,0,null,0,null,0]
[null,null,null,null,null,null,null,null,null,{"$f":"IF(H6763=Listas!$X$3,Acompanhamento!I6763,0)","v":0},{"$f":"IF(H6763=Listas!$X$4,Acompanhamento!I6763,0)","v":0},null,0,null,0,null,0,null,0]
[null,null,null,null,null,null,null,null,null,{"$f":"IF(H6767=Listas!$X$3,Acompanhamento!I6767,0)","v":0},{"$f":"IF(H6767=Listas!$X$4,Acompanhamento!I6767,0)","v":0},null,0,null,0,null,0,null,0]
[null,null,null,null,null,null,null,null,null,{"$f":"IF(H6768=Listas!$X$3,Acompanhamento!I6768,0)","v":0},{"$f":"IF(H6768=Listas!$X$4,Acompanhamento!I6768,0)","v":0},null,0,null,0,null,0,null,0]
[null,null,null,null,null,null,null,null,null,{"$f":"IF(H6771=Listas!$X$3,Acompanhamento!I6771,0)","v":0},{"$f":"IF(H6771=Listas!$X$4,Acompanhamento!I6771,0)","v":0},null,0,null,0,null,0,null,0]
[null,null,null,null,null,null,null,null,null,{"$f":"IF(H6775=Listas!$X$3,Acompanhamento!I6775,0)","v":0},{"$f":"IF(H6775=Listas!$X$4,Acompanhamento!I6775,0)","v":0},null,0,null,0,null,0,null,0]
[null,null,null,null,null,null,null,null,null,{"$f":"IF(H6780=Listas!$X$3,Acompanhamento!I6780,0)","v":0},{"$f":"IF(H6780=Listas!$X$4,Acompanhamento!I6780,0)","v":0},null,0,null,0,null,0,null,0]
[null,null,null,null,null,null,null,null,null,{"$f":"IF(H6782=Listas!$X$3,Acompanhamento!I6782,0)","v":0},{"$f":"IF(H6782=Listas!$X$4,Acompanhamento!I6782,0)","v":0},null,0,null,0,null,0,null,0]
[null,null,null,null,null,null,null,null,null,{"$f":"IF(H6786=Listas!$X$3,Acompanhamento!I6786,0)","v":0},{"$f":"IF(H6786=Listas!$X$4,Acompanhamento!I6786,0)","v":0},null,0,null,0,null,0,null,0]
[null,null,null,null,null,null,null,null,null,{"$f":"IF(H6789=Listas!$X$3,Acompanhamento!I6789,0)","v":0},{"$f":"IF(H6789=Listas!$X$4,Acompanhamento!I6789,0)","v":0},null,0,null,0,null,0,null,0]
[null,null,null,null,null,null,null,null,null,{"$f":"IF(H6793=Listas!$X$3,Acompanhamento!I6793,0)","v":0},{"$f":"IF(H6793=Listas!$X$4,Acompanhamento!I6793,0)","v":0},null,0,null,0,null,0,null,0]
[null,null,null,null,null,null,null,null,null,{"$f":"IF(H6794=Listas!$X$3,Acompanhamento!I6794,0)","v":0},{"$f":"IF(H6794=Listas!$X$4,Acompanhamento!I6794,0)","v":0},null,{"$f":"J6794-L6794","v":0},null,{"$f":"M6794-N6794","v":0},null,{"$f":"O6794-P6794","v":0},null,{"$f":"Q6794-R6794","v":0}]
[null,null,null,null,null,null,null,null,null,{"$f":"IF(H6797=Listas!$X$3,Acompanhamento!I6797,0)","v":0},{"$f":"IF(H6797=Listas!$X$4,Acompanhamento!I6797,0)","v":0},null,0,null,0,null,0,null,0]
[null,null,null,null,null,null,null,null,null,{"$f":"IF(H6801=Listas!$X$3,Acompanhamento!I6801,0)","v":0},{"$f":"IF(H6801=Listas!$X$4,Acompanhamento!I6801,0)","v":0},null,0,null,0,null,0,null,0]
[null,null,null,null,null,null,null,null,null,{"$f":"IF(H6806=Listas!$X$3,Acompanhamento!I6806,0)","v":0},{"$f":"IF(H6806=Listas!$X$4,Acompanhamento!I6806,0)","v":0},null,0,null,0,null,0,null,0]
[null,null,null,null,null,null,null,null,null,{"$f":"IF(H6808=Listas!$X$3,Acompanhamento!I6808,0)","v":0},{"$f":"IF(H6808=Listas!$X$4,Acompanhamento!I6808,0)","v":0},null,0,null,0,null,0,null,0]
[null,null,null,null,null,null,null,null,null,{"$f":"IF(H6812=Listas!$X$3,Acompanhamento!I6812,0)","v":0},{"$f":"IF(H6812=Listas!$X$4,Acompanhamento!I6812,0)","v":0},null,0,null,0,null,0,null,0]
[null,null,null,null,null,null,null,null,null,{"$f":"IF(H6815=Listas!$X$3,Acompanhamento!I6815,0)","v":0},{"$f":"IF(H6815=Listas!$X$4,Acompanhamento!I6815,0)","v":0},null,0,null,0,null,0,null,0]
[null,null,null,null,null,null,null,null,null,{"$f":"IF(H6819=Listas!$X$3,Acompanhamento!I6819,0)","v":0},{"$f":"IF(H6819=Listas!$X$4,Acompanhamento!I6819,0)","v":0},null,0,null,0,null,0,null,0]
[null,null,null,null,null,null,null,null,null,{"$f":"IF(H6820=Listas!$X$3,Acompanhamento!I6820,0)","v":0},{"$f":"IF(H6820=Listas!$X$4,Acompanhamento!I6820,0)","v":0},null,0,null,0,null,0,null,0]
[null,null,null,null,null,null,null,null,null,{"$f":"IF(H6823=Listas!$X$3,Acompanhamento!I6823,0)","v":0},{"$f":"IF(H6823=Listas!$X$4,Acompanhamento!I6823,0)","v":0},null,0,null,0,null,0,null,0]
[null,null,null,null,null,null,null,null,null,{"$f":"IF(H6827=Listas!$X$3,Acompanhamento!I6827,0)","v":0},{"$f":"IF(H6827=Listas!$X$4,Acompanhamento!I6827,0)","v":0},null,0,null,0,null,0,null,0]
[null,null,null,null,null,null,null,null,null,{"$f":"IF(H6832=Listas!$X$3,Acompanhamento!I6832,0)","v":0},{"$f":"IF(H6832=Listas!$X$4,Acompanhamento!I6832,0)","v":0},null,0,null,0,null,0,null,0]
[null,null,null,null,null,null,null,null,null,{"$f":"IF(H6834=Listas!$X$3,Acompanhamento!I6834,0)","v":0},{"$f":"IF(H6834=Listas!$X$4,Acompanhamento!I6834,0)","v":0},null,0,null,0,null,0,null,0]
[null,null,null,null,null,null,null,null,null,{"$f":"IF(H6838=Listas!$X$3,Acompanhamento!I6838,0)","v":0},{"$f":"IF(H6838=Listas!$X$4,Acompanhamento!I6838,0)","v":0},null,0,null,0,null,0,null,0]
[null,null,null,null,null,null,null,null,null,{"$f":"IF(H6841=Listas!$X$3,Acompanhamento!I6841,0)","v":0},{"$f":"IF(H6841=Listas!$X$4,Acompanhamento!I6841,0)","v":0},null,0,null,0,null,0,null,0]
[null,null,null,null,null,null,null,null,null,{"$f":"IF(H6845=Listas!$X$3,Acompanhamento!I6845,0)","v":0},{"$f":"IF(H6845=Listas!$X$4,Acompanhamento!I6845,0)","v":0},null,0,null,0,null,0,null,0]
[null,null,null,null,null,null,null,null,null,{"$f":"IF(H6846=Listas!$X$3,Acompanhamento!I6846,0)","v":0},{"$f":"IF(H6846=Listas!$X$4,Acompanhamento!I6846,0)","v":0},null,0,null,0,null,0,null,0]
[null,null,null,null,null,null,null,null,null,{"$f":"IF(H6849=Listas!$X$3,Acompanhamento!I6849,0)","v":0},{"$f":"IF(H6849=Listas!$X$4,Acompanhamento!I6849,0)","v":0},null,0,null,0,null,0,null,0]
[null,null,null,null,null,null,null,null,null,{"$f":"IF(H6853=Listas!$X$3,Acompanhamento!I6853,0)","v":0},{"$f":"IF(H6853=Listas!$X$4,Acompanhamento!I6853,0)","v":0},null,0,null,0,null,0,null,0]
[null,null,null,null,null,null,null,null,null,{"$f":"IF(H6858=Listas!$X$3,Acompanhamento!I6858,0)","v":0},{"$f":"IF(H6858=Listas!$X$4,Acompanhamento!I6858,0)","v":0},null,{"$f":"J6858-L6858","v":0},null,{"$f":"M6858-N6858","v":0},null,{"$f":"O6858-P6858","v":0},null,{"$f":"Q6858-R6858","v":0}]
[null,null,null,null,null,null,null,null,null,{"$f":"IF(H6861=Listas!$X$3,Acompanhamento!I6861,0)","v":0},{"$f":"IF(H6861=Listas!$X$4,Acompanhamento!I6861,0)","v":0},null,0,null,0,null,0,null,0]
[null,null,null,null,null,null,null,null,null,{"$f":"IF(H6864=Listas!$X$3,Acompanhamento!I6864,0)","v":0},{"$f":"IF(H6864=Listas!$X$4,Acompanhamento!I6864,0)","v":0},null,0,null,0,null,0,null,0]
[null,null,null,null,null,null,null,null,null,{"$f":"IF(H6867=Listas!$X$3,Acompanhamento!I6867,0)","v":0},{"$f":"IF(H6867=Listas!$X$4,Acompanhamento!I6867,0)","v":0},null,0,null,0,null,0,null,0]
[null,null,null,null,null,null,null,null,null,{"$f":"IF(H6871=Listas!$X$3,Acompanhamento!I6871,0)","v":0},{"$f":"IF(H6871=Listas!$X$4,Acompanhamento!I6871,0)","v":0},null,0,null,0,null,0,null,0]
[null,null,null,null,null,null,null,null,null,{"$f":"IF(H6872=Listas!$X$3,Acompanhamento!I6872,0)","v":0},{"$f":"IF(H6872=Listas!$X$4,Acompanhamento!I6872,0)","v":0},null,0,null,0,null,0,null,0]
[null,null,null,null,null,null,null,null,null,{"$f":"IF(H6875=Listas!$X$3,Acompanhamento!I6875,0)","v":0},{"$f":"IF(H6875=Listas!$X$4,Acompanhamento!I6875,0)","v":0},null,0,null,0,null,0,null,0]
[null,null,null,null,null,null,null,null,null,{"$f":"IF(H6879=Listas!$X$3,Acompanhamento!I6879,0)","v":0},{"$f":"IF(H6879=Listas!$X$4,Acompanhamento!I6879,0)","v":0},null,0,null,0,null,0,null,0]
[null,null,null,null,null,null,null,null,null,{"$f":"IF(H6882=Listas!$X$3,Acompanhamento!I6882,0)","v":0},{"$f":"IF(H6882=Listas!$X$4,Acompanhamento!I6882,0)","v":0},null,0,null,0,null,0,null,0]
[null,null,null,null,null,null,null,null,null,{"$f":"IF(H6884=Listas!$X$3,Acompanhamento!I6884,0)","v":0},{"$f":"IF(H6884=Listas!$X$4,Acompanhamento!I6884,0)","v":0},null,0,null,0,null,0,null,0]
[null,null,null,null,null,null,null,null,null,{"$f":"IF(H6890=Listas!$X$3,Acompanhamento!I6890,0)","v":0},{"$f":"IF(H6890=Listas!$X$4,Acompanhamento!I6890,0)","v":0},null,0,null,0,null,0,null,0]
[null,null,null,null,null,null,null,null,null,{"$f":"IF(H6893=Listas!$X$3,Acompanhamento!I6893,0)","v":0},{"$f":"IF(H6893=Listas!$X$4,Acompanhamento!I6893,0)","v":0},null,0,null,0,null,0,null,0]
[null,null,null,null,null,null,null,null,null,{"$f":"IF(H6894=Listas!$X$3,Acompanhamento!I6894,0)","v":0},{"$f":"IF(H6894=Listas!$X$4,Acompanhamento!I6894,0)","v":0},null,0,null,0,null,0,null,0]
[null,null,null,null,null,null,null,null,null,{"$f":"IF(H6897=Listas!$X$3,Acompanhamento!I6897,0)","v":0},{"$f":"IF(H6897=Listas!$X$4,Acompanhamento!I6897,0)","v":0},null,0,null,0,null,0,null,0]
[null,null,null,null,null,null,null,null,null,{"$f":"IF(H6902=Listas!$X$3,Acompanhamento!I6902,0)","v":0},{"$f":"IF(H6902=Listas!$X$4,Acompanhamento!I6902,0)","v":0},null,0,null,0,null,0,null,0]
[null,null,null,null,null,null,null,null,null,{"$f":"IF(H6905=Listas!$X$3,Acompanhamento!I6905,0)","v":0},{"$f":"IF(H6905=Listas!$X$4,Acompanhamento!I6905,0)","v":0},null,0,null,0,null,0,null,0]
[null,null,null,null,null,null,null,null,null,{"$f":"IF(H6908=Listas!$X$3,Acompanhamento!I6908,0)","v":0},{"$f":"IF(H6908=Listas!$X$4,Acompanhamento!I6908,0)","v":0},null,0,null,0,null,0,null,0]
[null,null,null,null,null,null,null,null,null,{"$f":"IF(H6910=Listas!$X$3,Acompanhamento!I6910,0)","v":0},{"$f":"IF(H6910=Listas!$X$4,Acompanhamento!I6910,0)","v":0},null,0,null,0,null,0,null,0]
[null,null,null,null,null,null,null,null,null,{"$f":"IF(H6916=Listas!$X$3,Acompanhamento!I6916,0)","v":0},{"$f":"IF(H6916=Listas!$X$4,Acompanhamento!I6916,0)","v":0},null,0,null,0,null,0,null,0]
[null,null,null,null,null,null,null,null,null,{"$f":"IF(H6919=Listas!$X$3,Acompanhamento!I6919,0)","v":0},{"$f":"IF(H6919=Listas!$X$4,Acompanhamento!I6919,0)","v":0},null,0,null,0,null,0,null,0]
[null,null,null,null,null,null,null,null,null,{"$f":"IF(H6920=Listas!$X$3,Acompanhamento!I6920,0)","v":0},{"$f":"IF(H6920=Listas!$X$4,Acompanhamento!I6920,0)","v":0},null,0,null,0,null,0,null,0]
[null,null,null,null,null,null,null,null,null,{"$f":"IF(H6923=Listas!$X$3,Acompanhamento!I6923,0)","v":0},{"$f":"IF(H6923=Listas!$X$4,Acompanhamento!I6923,0)","v":0},null,0,null,0,null,0,null,0]
[null,null,null,null,null,null,null,null,null,{"$f":"IF(H6928=Listas!$X$3,Acompanhamento!I6928,0)","v":0},{"$f":"IF(H6928=Listas!$X$4,Acompanhamento!I6928,0)","v":0},null,0,null,0,null,0,null,0]
[null,null,null,null,null,null,null,null,null,{"$f":"IF(H6931=Listas!$X$3,Acompanhamento!I6931,0)","v":0},{"$f":"IF(H6931=Listas!$X$4,Acompanhamento!I6931,0)","v":0},null,0,null,0,null,0,null,0]
[null,null,null,null,null,null,null,null,null,{"$f":"IF(H6934=Listas!$X$3,Acompanhamento!I6934,0)","v":0},{"$f":"IF(H6934=Listas!$X$4,Acompanhamento!I6934,0)","v":0},null,0,null,0,null,0,null,0]
[null,null,null,null,null,null,null,null,null,{"$f":"IF(H6936=Listas!$X$3,Acompanhamento!I6936,0)","v":0},{"$f":"IF(H6936=Listas!$X$4,Acompanhamento!I6936,0)","v":0},null,0,null,0,null,0,null,0]
[null,null,null,null,null,null,null,null,null,{"$f":"IF(H6942=Listas!$X$3,Acompanhamento!I6942,0)","v":0},{"$f":"IF(H6942=Listas!$X$4,Acompanhamento!I6942,0)","v":0},null,0,null,0,null,0,null,0]
[null,null,null,null,null,null,null,null,null,{"$f":"IF(H6945=Listas!$X$3,Acompanhamento!I6945,0)","v":0},{"$f":"IF(H6945=Listas!$X$4,Acompanhamento!I6945,0)","v":0},null,0,null,0,null,0,null,0]
[null,null,null,null,null,null,null,null,null,{"$f":"IF(H6946=Listas!$X$3,Acompanhamento!I6946,0)","v":0},{"$f":"IF(H6946=Listas!$X$4,Acompanhamento!I6946,0)","v":0},null,0,null,0,null,0,null,0]
[null,null,null,null,null,null,null,null,null,{"$f":"IF(H6949=Listas!$X$3,Acompanhamento!I6949,0)","v":0},{"$f":"IF(H6949=Listas!$X$4,Acompanhamento!I6949,0)","v":0},null,0,null,0,null,0,null,0]
[null,null,null,null,null,null,null,null,null,{"$f":"IF(H6954=Listas!$X$3,Acompanhamento!I6954,0)","v":0},{"$f":"IF(H6954=Listas!$X$4,Acompanhamento!I6954,0)","v":0},null,0,null,0,null,0,null,0]
[null,null,null,null,null,null,null,null,null,{"$f":"IF(H6957=Listas!$X$3,Acompanhamento!I6957,0)","v":0},{"$f":"IF(H6957=Listas!$X$4,Acompanhamento!I6957,0)","v":0},null,0,null,0,null,0,null,0]
[null,null,null,null,null,null,null,null,null,{"$f":"IF(H6960=Listas!$X$3,Acompanhamento!I6960,0)","v":0},{"$f":"IF(H6960=Listas!$X$4,Acompanhamento!I6960,0)","v":0},null,0,null,0,null,0,null,0]
[null,null,null,null,null,null,null,null,null,{"$f":"IF(H6962=Listas!$X$3,Acompanhamento!I6962,0)","v":0},{"$f":"IF(H6962=Listas!$X$4,Acompanhamento!I6962,0)","v":0},null,0,null,0,null,0,null,0]
[null,null,null,null,null,null,null,null,null,{"$f":"IF(H6968=Listas!$X$3,Acompanhamento!I6968,0)","v":0},{"$f":"IF(H6968=Listas!$X$4,Acompanhamento!I6968,0)","v":0},null,0,null,0,null,0,null,0]
[null,null,null,null,null,null,null,null,null,{"$f":"IF(H6969=Listas!$X$3,Acompanhamento!I6969,0)","v":0},{"$f":"IF(H6969=Listas!$X$4,Acompanhamento!I6969,0)","v":0},null,0,null,0,null,0,null,0]
[null,null,null,null,null,null,null,null,null,{"$f":"IF(H6972=Listas!$X$3,Acompanhamento!I6972,0)","v":0},{"$f":"IF(H6972=Listas!$X$4,Acompanhamento!I6972,0)","v":0},null,0,null,0,null,0,null,0]
[null,null,null,null,null,null,null,null,null,{"$f":"IF(H6975=Listas!$X$3,Acompanhamento!I6975,0)","v":0},{"$f":"IF(H6975=Listas!$X$4,Acompanhamento!I6975,0)","v":0},null,0,null,0,null,0,null,0]
[null,null,null,null,null,null,null,null,null,{"$f":"IF(H6980=Listas!$X$3,Acompanhamento!I6980,0)","v":0},{"$f":"IF(H6980=Listas!$X$4,Acompanhamento!I6980,0)","v":0},null,0,null,0,null,0,null,0]
[null,null,null,null,null,null,null,null,null,{"$f":"IF(H6983=Listas!$X$3,Acompanhamento!I6983,0)","v":0},{"$f":"IF(H6983=Listas!$X$4,Acompanhamento!I6983,0)","v":0},null,0,null,0,null,0,null,0]
[null,null,null,null,null,null,null,null,null,{"$f":"IF(H6986=Listas!$X$3,Acompanhamento!I6986,0)","v":0},{"$f":"IF(H6986=Listas!$X$4,Acompanhamento!I6986,0)","v":0},null,{"$f":"J6986-L6986","v":0},null,{"$f":"M6986-N6986","v":0},null,{"$f":"O6986-P6986","v":0},null,{"$f":"Q6986-R6986","v":0}]
[null,null,null,null,null,null,null,null,null,{"$f":"IF(H6988=Listas!$X$3,Acompanhamento!I6988,0)","v":0},{"$f":"IF(H6988=Listas!$X$4,Acompanhamento!I6988,0)","v":0},null,0,null,0,null,0,null,0]
[null,null,null,null,null,null,null,null,null,{"$f":"IF(H6994=Listas!$X$3,Acompanhamento!I6994,0)","v":0},{"$f":"IF(H6994=Listas!$X$4,Acompanhamento!I6994,0)","v":0},null,0,null,0,null,0,null,0]
[null,null,null,null,null,null,null,null,null,{"$f":"IF(H6995=Listas!$X$3,Acompanhamento!I6995,0)","v":0},{"$f":"IF(H6995=Listas!$X$4,Acompanhamento!I6995,0)","v":0},null,0,null,0,null,0,null,0]
[null,null,null,null,null,null,null,null,null,{"$f":"IF(H6998=Listas!$X$3,Acompanhamento!I6998,0)","v":0},{"$f":"IF(H6998=Listas!$X$4,Acompanhamento!I6998,0)","v":0},null,0,null,0,null,0,null,0]
[null,null,null,null,null,null,null,null,null,{"$f":"IF(H7001=Listas!$X$3,Acompanhamento!I7001,0)","v":0},{"$f":"IF(H7001=Listas!$X$4,Acompanhamento!I7001,0)","v":0},null,0,null,0,null,0,null,0]
[null,null,null,null,null,null,null,null,null,{"$f":"IF(H7006=Listas!$X$3,Acompanhamento!I7006,0)","v":0},{"$f":"IF(H7006=Listas!$X$4,Acompanhamento!I7006,0)","v":0},null,0,null,0,null,0,null,0]
[null,null,null,null,null,null,null,null,null,{"$f":"IF(H7009=Listas!$X$3,Acompanhamento!I7009,0)","v":0},{"$f":"IF(H7009=Listas!$X$4,Acompanhamento!I7009,0)","v":0},null,0,null,0,null,0,null,0]
[null,null,null,null,null,null,null,null,null,{"$f":"IF(H7012=Listas!$X$3,Acompanhamento!I7012,0)","v":0},{"$f":"IF(H7012=Listas!$X$4,Acompanhamento!I7012,0)","v":0},null,0,null,0,null,0,null,0]
[null,null,null,null,null,null,null,null,null,{"$f":"IF(H7014=Listas!$X$3,Acompanhamento!I7014,0)","v":0},{"$f":"IF(H7014=Listas!$X$4,Acompanhamento!I7014,0)","v":0},null,0,null,0,null,0,null,0]
[null,null,null,null,null,null,null,null,null,{"$f":"IF(H7020=Listas!$X$3,Acompanhamento!I7020,0)","v":0},{"$f":"IF(H7020=Listas!$X$4,Acompanhamento!I7020,0)","v":0},null,0,null,0,null,0,null,0]
[null,null,null,null,null,null,null,null,null,{"$f":"IF(H7021=Listas!$X$3,Acompanhamento!I7021,0)","v":0},{"$f":"IF(H7021=Listas!$X$4,Acompanhamento!I7021,0)","v":0},null,0,null,0,null,0,null,0]
[null,null,null,null,null,null,null,null,null,{"$f":"IF(H7024=Listas!$X$3,Acompanhamento!I7024,0)","v":0},{"$f":"IF(H7024=Listas!$X$4,Acompanhamento!I7024,0)","v":0},null,0,null,0,null,0,null,0]
[null,null,null,null,null,null,null,null,null,{"$f":"IF(H7027=Listas!$X$3,Acompanhamento!I7027,0)","v":0},{"$f":"IF(H7027=Listas!$X$4,Acompanhamento!I7027,0)","v":0},null,0,null,0,null,0,null,0]
[null,null,null,null,null,null,null,null,null,{"$f":"IF(H7032=Listas!$X$3,Acompanhamento!I7032,0)","v":0},{"$f":"IF(H7032=Listas!$X$4,Acompanhamento!I7032,0)","v":0},null,0,null,0,null,0,null,0]
[null,null,null,null,null,null,null,null,null,{"$f":"IF(H7035=Listas!$X$3,Acompanhamento!I7035,0)","v":0},{"$f":"IF(H7035=Listas!$X$4,Acompanhamento!I7035,0)","v":0},null,0,null,0,null,0,null,0]
[null,null,null,null,null,null,null,null,null,{"$f":"IF(H7039=Listas!$X$3,Acompanhamento!I7039,0)","v":0},{"$f":"IF(H7039=Listas!$X$4,Acompanhamento!I7039,0)","v":0},null,0,null,0,null,0,null,0]
[null,null,null,null,null,null,null,null,null,{"$f":"IF(H7040=Listas!$X$3,Acompanhamento!I7040,0)","v":0},{"$f":"IF(H7040=Listas!$X$4,Acompanhamento!I7040,0)","v":0},null,0,null,0,null,0,null,0]
[null,null,null,null,null,null,null,null,null,{"$f":"IF(H7046=Listas!$X$3,Acompanhamento!I7046,0)","v":0},{"$f":"IF(H7046=Listas!$X$4,Acompanhamento!I7046,0)","v":0},null,0,null,0,null,0,null,0]
[null,null,null,null,null,null,null,null,null,{"$f":"IF(H7047=Listas!$X$3,Acompanhamento!I7047,0)","v":0},{"$f":"IF(H7047=Listas!$X$4,Acompanhamento!I7047,0)","v":0},null,0,null,0,null,0,null,0]
[null,null,null,null,null,null,null,null,null,{"$f":"IF(H7050=Listas!$X$3,Acompanhamento!I7050,0)","v":0},{"$f":"IF(H7050=Listas!$X$4,Acompanhamento!I7050,0)","v":0},null,{"$f":"J7050-L7050","v":0},null,{"$f":"M7050-N7050","v":0},null,{"$f":"O7050-P7050","v":0},null,{"$f":"Q7050-R7050","v":0}]
[null,null,null,null,null,null,null,null,null,{"$f":"IF(H7053=Listas!$X$3,Acompanhamento!I7053,0)","v":0},{"$f":"IF(H7053=Listas!$X$4,Acompanhamento!I7053,0)","v":0},null,0,null,0,null,0,null,0]
[null,null,null,null,null,null,null,null,null,{"$f":"IF(H7058=Listas!$X$3,Acompanhamento!I7058,0)","v":0},{"$f":"IF(H7058=Listas!$X$4,Acompanhamento!I7058,0)","v":0},null,0,null,0,null,0,null,0]
[null,null,null,null,null,null,null,null,null,{"$f":"IF(H7061=Listas!$X$3,Acompanhamento!I7061,0)","v":0},{"$f":"IF(H7061=Listas!$X$4,Acompanhamento!I7061,0)","v":0},null,0,null,0,null,0,null,0]
[null,null,null,null,null,null,null,null,null,{"$f":"IF(H7065=Listas!$X$3,Acompanhamento!I7065,0)","v":0},{"$f":"IF(H7065=Listas!$X$4,Acompanhamento!I7065,0)","v":0},null,0,null,0,null,0,null,0]
[null,null,null,null,null,null,null,null,null,{"$f":"IF(H7066=Listas!$X$3,Acompanhamento!I7066,0)","v":0},{"$f":"IF(H7066=Listas!$X$4,Acompanhamento!I7066,0)","v":0},null,0,null,0,null,0,null,0]
[null,null,null,null,null,null,null,null,null,{"$f":"IF(H7072=Listas!$X$3,Acompanhamento!I7072,0)","v":0},{"$f":"IF(H7072=Listas!$X$4,Acompanhamento!I7072,0)","v":0},null,0,null,0,null,0,null,0]
[null,null,null,null,null,null,null,null,null,{"$f":"IF(H7073=Listas!$X$3,Acompanhamento!I7073,0)","v":0},{"$f":"IF(H7073=Listas!$X$4,Acompanhamento!I7073,0)","v":0},null,0,null,0,null,0,null,0]
[null,null,null,null,null,null,null,null,null,{"$f":"IF(H7076=Listas!$X$3,Acompanhamento!I7076,0)","v":0},{"$f":"IF(H7076=Listas!$X$4,Acompanhamento!I7076,0)","v":0},null,0,null,0,null,0,null,0]
[null,null,null,null,null,null,null,null,null,{"$f":"IF(H7079=Listas!$X$3,Acompanhamento!I7079,0)","v":0},{"$f":"IF(H7079=Listas!$X$4,Acompanhamento!I7079,0)","v":0},null,0,null,0,null,0,null,0]
[null,null,null,null,null,null,null,null,null,{"$f":"IF(H7084=Listas!$X$3,Acompanhamento!I7084,0)","v":0},{"$f":"IF(H7084=Listas!$X$4,Acompanhamento!I7084,0)","v":0},null,0,null,0,null,0,null,0]
[null,null,null,null,null,null,null,null,null,{"$f":"IF(H7087=Listas!$X$3,Acompanhamento!I7087,0)","v":0},{"$f":"IF(H7087=Listas!$X$4,Acompanhamento!I7087,0)","v":0},null,0,null,0,null,0,null,0]
[null,null,null,null,null,null,null,null,null,{"$f":"IF(H7091=Listas!$X$3,Acompanhamento!I7091,0)","v":0},{"$f":"IF(H7091=Listas!$X$4,Acompanhamento!I7091,0)","v":0},null,0,null,0,null,0,null,0]
[null,null,null,null,null,null,null,null,null,{"$f":"IF(H7092=Listas!$X$3,Acompanhamento!I7092,0)","v":0},{"$f":"IF(H7092=Listas!$X$4,Acompanhamento!I7092,0)","v":0},null,0,null,0,null,0,null,0]
[null,null,null,null,null,null,null,null,null,{"$f":"IF(H7098=Listas!$X$3,Acompanhamento!I7098,0)","v":0},{"$f":"IF(H7098=Listas!$X$4,Acompanhamento!I7098,0)","v":0},null,0,null,0,null,0,null,0]
[null,null,null,null,null,null,null,null,null,{"$f":"IF(H7099=Listas!$X$3,Acompanhamento!I7099,0)","v":0},{"$f":"IF(H7099=Listas!$X$4,Acompanhamento!I7099,0)","v":0},null,0,null,0,null,0,null,0]
[null,null,null,null,null,null,null,null,null,{"$f":"IF(H7102=Listas!$X$3,Acompanhamento!I7102,0)","v":0},{"$f":"IF(H7102=Listas!$X$4,Acompanhamento!I7102,0)","v":0},null,0,null,0,null,0,null,0]
[null,null,null,null,null,null,null,null,null,{"$f":"IF(H7105=Listas!$X$3,Acompanhamento!I7105,0)","v":0},{"$f":"IF(H7105=Listas!$X$4,Acompanhamento!I7105,0)","v":0},null,0,null,0,null,0,null,0]
[null,null,null,null,null,null,null,null,null,{"$f":"IF(H7110=Listas!$X$3,Acompanhamento!I7110,0)","v":0},{"$f":"IF(H7110=Listas!$X$4,Acompanhamento!I7110,0)","v":0},null,0,null,0,null,0,null,0]
[null,null,null,null,null,null,null,null,null,{"$f":"IF(H7113=Listas!$X$3,Acompanhamento!I7113,0)","v":0},{"$f":"IF(H7113=Listas!$X$4,Acompanhamento!I7113,0)","v":0},null,0,null,0,null,0,null,0]
[null,null,null,null,null,null,null,null,null,{"$f":"IF(H7117=Listas!$X$3,Acompanhamento!I7117,0)","v":0},{"$f":"IF(H7117=Listas!$X$4,Acompanhamento!I7117,0)","v":0},null,0,null,0,null,0,null,0]
[null,null,null,null,null,null,null,null,null,{"$f":"IF(H7118=Listas!$X$3,Acompanhamento!I7118,0)","v":0},{"$f":"IF(H7118=Listas!$X$4,Acompanhamento!I7118,0)","v":0},null,0,null,0,null,0,null,0]
[null,null,null,null,null,null,null,null,null,{"$f":"IF(H7124=Listas!$X$3,Acompanhamento!I7124,0)","v":0},{"$f":"IF(H7124=Listas!$X$4,Acompanhamento!I7124,0)","v":0},null,0,null,0,null,0,null,0]
[null,null,null,null,null,null,null,null,null,{"$f":"IF(H7125=Listas!$X$3,Acompanhamento!I7125,0)","v":0},{"$f":"IF(H7125=Listas!$X$4,Acompanhamento!I7125,0)","v":0},null,0,null,0,null,0,null,0]
[null,null,null,null,null,null,null,null,null,{"$f":"IF(H7128=Listas!$X$3,Acompanhamento!I7128,0)","v":0},{"$f":"IF(H7128=Listas!$X$4,Acompanhamento!I7128,0)","v":0},null,0,null,0,null,0,null,0]
[null,null,null,null,null,null,null,null,null,{"$f":"IF(H7131=Listas!$X$3,Acompanhamento!I7131,0)","v":0},{"$f":"IF(H7131=Listas!$X$4,Acompanhamento!I7131,0)","v":0},null,0,null,0,null,0,null,0]
[null,null,null,null,null,null,null,null,null,{"$f":"IF(H7136=Listas!$X$3,Acompanhamento!I7136,0)","v":0},{"$f":"IF(H7136=Listas!$X$4,Acompanhamento!I7136,0)","v":0},null,0,null,0,null,0,null,0]
[null,null,null,null,null,null,null,null,null,{"$f":"IF(H7139=Listas!$X$3,Acompanhamento!I7139,0)","v":0},{"$f":"IF(H7139=Listas!$X$4,Acompanhamento!I7139,0)","v":0},null,0,null,0,null,0,null,0]
[null,null,null,null,null,null,null,null,null,{"$f":"IF(H7143=Listas!$X$3,Acompanhamento!I7143,0)","v":0},{"$f":"IF(H7143=Listas!$X$4,Acompanhamento!I7143,0)","v":0},null,0,null,0,null,0,null,0]
[null,null,null,null,null,null,null,null,null,{"$f":"IF(H7144=Listas!$X$3,Acompanhamento!I7144,0)","v":0},{"$f":"IF(H7144=Listas!$X$4,Acompanhamento!I7144,0)","v":0},null,0,null,0,null,0,null,0]
[null,null,null,null,null,null,null,null,null,{"$f":"IF(H7148=Listas!$X$3,Acompanhamento!I7148,0)","v":0},{"$f":"IF(H7148=Listas!$X$4,Acompanhamento!I7148,0)","v":0},null,0,null,0,null,0,null,0]
[null,null,null,null,null,null,null,null,null,{"$f":"IF(H7151=Listas!$X$3,Acompanhamento!I7151,0)","v":0},{"$f":"IF(H7151=Listas!$X$4,Acompanhamento!I7151,0)","v":0},null,0,null,0,null,0,null,0]
[null,null,null,null,null,null,null,null,null,{"$f":"IF(H7154=Listas!$X$3,Acompanhamento!I7154,0)","v":0},{"$f":"IF(H7154=Listas!$X$4,Acompanhamento!I7154,0)","v":0},null,0,null,0,null,0,null,0]
[null,null,null,null,null,null,null,null,null,{"$f":"IF(H7157=Listas!$X$3,Acompanhamento!I7157,0)","v":0},{"$f":"IF(H7157=Listas!$X$4,Acompanhamento!I7157,0)","v":0},null,0,null,0,null,0,null,0]
[null,null,null,null,null,null,null,null,null,{"$f":"IF(H7162=Listas!$X$3,Acompanhamento!I7162,0)","v":0},{"$f":"IF(H7162=Listas!$X$4,Acompanhamento!I7162,0)","v":0},null,0,null,0,null,0,null,0]
[null,null,null,null,null,null,null,null,null,{"$f":"IF(H7165=Listas!$X$3,Acompanhamento!I7165,0)","v":0},{"$f":"IF(H7165=Listas!$X$4,Acompanhamento!I7165,0)","v":0},null,0,null,0,null,0,null,0]
[null,null,null,null,null,null,null,null,null,{"$f":"IF(H7169=Listas!$X$3,Acompanhamento!I7169,0)","v":0},{"$f":"IF(H7169=Listas!$X$4,Acompanhamento!I7169,0)","v":0},null,0,null,0,null,0,null,0]
[null,null,null,null,null,null,null,null,null,{"$f":"IF(H7170=Listas!$X$3,Acompanhamento!I7170,0)","v":0},{"$f":"IF(H7170=Listas!$X$4,Acompanhamento!I7170,0)","v":0},null,0,null,0,null,0,null,0]
[null,null,null,null,null,null,null,null,null,{"$f":"IF(H7174=Listas!$X$3,Acompanhamento!I7174,0)","v":0},{"$f":"IF(H7174=Listas!$X$4,Acompanhamento!I7174,0)","v":0},null,0,null,0,null,0,null,0]
[null,null,null,null,null,null,null,null,null,{"$f":"IF(H7177=Listas!$X$3,Acompanhamento!I7177,0)","v":0},{"$f":"IF(H7177=Listas!$X$4,Acompanhamento!I7177,0)","v":0},null,0,null,0,null,0,null,0]
[null,null,null,null,null,null,null,null,null,{"$f":"IF(H7180=Listas!$X$3,Acompanhamento!I7180,0)","v":0},{"$f":"IF(H7180=Listas!$X$4,Acompanhamento!I7180,0)","v":0},null,0,null,0,null,0,null,0]
[null,null,null,null,null,null,null,null,null,{"$f":"IF(H7183=Listas!$X$3,Acompanhamento!I7183,0)","v":0},{"$f":"IF(H7183=Listas!$X$4,Acompanhamento!I7183,0)","v":0},null,0,null,0,null,0,null,0]
[null,null,null,null,null,null,null,null,null,{"$f":"IF(H7188=Listas!$X$3,Acompanhamento!I7188,0)","v":0},{"$f":"IF(H7188=Listas!$X$4,Acompanhamento!I7188,0)","v":0},null,0,null,0,null,0,null,0]
[null,null,null,null,null,null,null,null,null,{"$f":"IF(H7191=Listas!$X$3,Acompanhamento!I7191,0)","v":0},{"$f":"IF(H7191=Listas!$X$4,Acompanhamento!I7191,0)","v":0},null,0,null,0,null,0,null,0]
[null,null,null,null,null,null,null,null,null,{"$f":"IF(H7195=Listas!$X$3,Acompanhamento!I7195,0)","v":0},{"$f":"IF(H7195=Listas!$X$4,Acompanhamento!I7195,0)","v":0},null,0,null,0,null,0,null,0]
[null,null,null,null,null,null,null,null,null,{"$f":"IF(H7196=Listas!$X$3,Acompanhamento!I7196,0)","v":0},{"$f":"IF(H7196=Listas!$X$4,Acompanhamento!I7196,0)","v":0},null,0,null,0,null,0,null,0]
[null,null,null,null,null,null,null,null,null,{"$f":"IF(H7200=Listas!$X$3,Acompanhamento!I7200,0)","v":0},{"$f":"IF(H7200=Listas!$X$4,Acompanhamento!I7200,0)","v":0},null,0,null,0,null,0,null,0]
[null,null,null,null,null,null,null,null,null,{"$f":"IF(H7203=Listas!$X$3,Acompanhamento!I7203,0)","v":0},{"$f":"IF(H7203=Listas!$X$4,Acompanhamento!I7203,0)","v":0},null,0,null,0,null,0,null,0]
[null,null,null,null,null,null,null,null,null,{"$f":"IF(H7206=Listas!$X$3,Acompanhamento!I7206,0)","v":0},{"$f":"IF(H7206=Listas!$X$4,Acompanhamento!I7206,0)","v":0},null,0,null,0,null,0,null,0]
[null,null,null,null,null,null,null,null,null,{"$f":"IF(H7209=Listas!$X$3,Acompanhamento!I7209,0)","v":0},{"$f":"IF(H7209=Listas!$X$4,Acompanhamento!I7209,0)","v":0},null,0,null,0,null,0,null,0]
[null,null,null,null,null,null,null,null,null,{"$f":"IF(H7214=Listas!$X$3,Acompanhamento!I7214,0)","v":0},{"$f":"IF(H7214=Listas!$X$4,Acompanhamento!I7214,0)","v":0},null,0,null,0,null,0,null,0]
[null,null,null,null,null,null,null,null,null,{"$f":"IF(H7218=Listas!$X$3,Acompanhamento!I7218,0)","v":0},{"$f":"IF(H7218=Listas!$X$4,Acompanhamento!I7218,0)","v":0},null,0,null,0,null,0,null,0]
[null,null,null,null,null,null,null,null,null,{"$f":"IF(H7221=Listas!$X$3,Acompanhamento!I7221,0)","v":0},{"$f":"IF(H7221=Listas!$X$4,Acompanhamento!I7221,0)","v":0},null,0,null,0,null,0,null,0]
[null,null,null,null,null,null,null,null,null,{"$f":"IF(H7222=Listas!$X$3,Acompanhamento!I7222,0)","v":0},{"$f":"IF(H7222=Listas!$X$4,Acompanhamento!I7222,0)","v":0},null,0,null,0,null,0,null,0]
[null,null,null,null,null,null,null,null,null,{"$f":"IF(H7226=Listas!$X$3,Acompanhamento!I7226,0)","v":0},{"$f":"IF(H7226=Listas!$X$4,Acompanhamento!I7226,0)","v":0},null,0,null,0,null,0,null,0]
[null,null,null,null,null,null,null,null,null,{"$f":"IF(H7229=Listas!$X$3,Acompanhamento!I7229,0)","v":0},{"$f":"IF(H7229=Listas!$X$4,Acompanhamento!I7229,0)","v":0},null,0,null,0,null,0,null,0]
[null,null,null,null,null,null,null,null,null,{"$f":"IF(H7232=Listas!$X$3,Acompanhamento!I7232,0)","v":0},{"$f":"IF(H7232=Listas!$X$4,Acompanhamento!I7232,0)","v":0},null,0,null,0,null,0,null,0]
[null,null,null,null,null,null,null,null,null,{"$f":"IF(H7235=Listas!$X$3,Acompanhamento!I7235,0)","v":0},{"$f":"IF(H7235=Listas!$X$4,Acompanhamento!I7235,0)","v":0},null,0,null,0,null,0,null,0]
[null,null,null,null,null,null,null,null,null,{"$f":"IF(H7240=Listas!$X$3,Acompanhamento!I7240,0)","v":0},{"$f":"IF(H7240=Listas!$X$4,Acompanhamento!I7240,0)","v":0},null,0,null,0,null,0,null,0]
[null,null,null,null,null,null,null,null,null,{"$f":"IF(H7244=Listas!$X$3,Acompanhamento!I7244,0)","v":0},{"$f":"IF(H7244=Listas!$X$4,Acompanhamento!I7244,0)","v":0},null,0,null,0,null,0,null,0]
[null,null,null,null,null,null,null,null,null,{"$f":"IF(H7247=Listas!$X$3,Acompanhamento!I7247,0)","v":0},{"$f":"IF(H7247=Listas!$X$4,Acompanhamento!I7247,0)","v":0},null,0,null,0,null,0,null,0]
[null,null,null,null,null,null,null,null,null,{"$f":"IF(H7248=Listas!$X$3,Acompanhamento!I7248,0)","v":0},{"$f":"IF(H7248=Listas!$X$4,Acompanhamento!I7248,0)","v":0},null,0,null,0,null,0,null,0]
[null,null,null,null,null,null,null,null,null,{"$f":"IF(H7252=Listas!$X$3,Acompanhamento!I7252,0)","v":0},{"$f":"IF(H7252=Listas!$X$4,Acompanhamento!I7252,0)","v":0},null,0,null,0,null,0,null,0]
[null,null,null,null,null,null,null,null,null,{"$f":"IF(H7255=Listas!$X$3,Acompanhamento!I7255,0)","v":0},{"$f":"IF(H7255=Listas!$X$4,Acompanhamento!I7255,0)","v":0},null,0,null,0,null,0,null,0]
[null,null,null,null,null,null,null,null,null,{"$f":"IF(H7259=Listas!$X$3,Acompanhamento!I7259,0)","v":0},{"$f":"IF(H7259=Listas!$X$4,Acompanhamento!I7259,0)","v":0},null,0,null,0,null,0,null,0]
[null,null,null,null,null,null,null,null,null,{"$f":"IF(H7261=Listas!$X$3,Acompanhamento!I7261,0)","v":0},{"$f":"IF(H7261=Listas!$X$4,Acompanhamento!I7261,0)","v":0},null,0,null,0,null,0,null,0]
[null,null,null,null,null,null,null,null,null,{"$f":"IF(H7266=Listas!$X$3,Acompanhamento!I7266,0)","v":0},{"$f":"IF(H7266=Listas!$X$4,Acompanhamento!I7266,0)","v":0},null,0,null,0,null,0,null,0]
[null,null,null,null,null,null,null,null,null,{"$f":"IF(H7270=Listas!$X$3,Acompanhamento!I7270,0)","v":0},{"$f":"IF(H7270=Listas!$X$4,Acompanhamento!I7270,0)","v":0},null,0,null,0,null,0,null,0]
[null,null,null,null,null,null,null,null,null,{"$f":"IF(H7273=Listas!$X$3,Acompanhamento!I7273,0)","v":0},{"$f":"IF(H7273=Listas!$X$4,Acompanhamento!I7273,0)","v":0},null,0,null,0,null,0,null,0]
[null,null,null,null,null,null,null,null,null,{"$f":"IF(H7274=Listas!$X$3,Acompanhamento!I7274,0)","v":0},{"$f":"IF(H7274=Listas!$X$4,Acompanhamento!I7274,0)","v":0},null,0,null,0,null,0,null,0]
[null,null,null,null,null,null,null,null,null,{"$f":"IF(H7278=Listas!$X$3,Acompanhamento!I7278,0)","v":0},{"$f":"IF(H7278=Listas!$X$4,Acompanhamento!I7278,0)","v":0},null,0,null,0,null,0,null,0]
[null,null,null,null,null,null,null,null,null,{"$f":"IF(H7281=Listas!$X$3,Acompanhamento!I7281,0)","v":0},{"$f":"IF(H7281=Listas!$X$4,Acompanhamento!I7281,0)","v":0},null,0,null,0,null,0,null,0]
[null,null,null,null,null,null,null,null,null,{"$f":"IF(H7285=Listas!$X$3,Acompanhamento!I7285,0)","v":0},{"$f":"IF(H7285=Listas!$X$4,Acompanhamento!I7285,0)","v":0},null,0,null,0,null,0,null,0]
[null,null,null,null,null,null,null,null,null,{"$f":"IF(H7287=Listas!$X$3,Acompanhamento!I7287,0)","v":0},{"$f":"IF(H7287=Listas!$X$4,Acompanhamento!I7287,0)","v":0},null,0,null,0,null,0,null,0]
[null,null,null,null,null,null,null,null,null,{"$f":"IF(H7292=Listas!$X$3,Acompanhamento!I7292,0)","v":0},{"$f":"IF(H7292=Listas!$X$4,Acompanhamento!I7292,0)","v":0},null,0,null,0,null,0,null,0]
[null,null,null,null,null,null,null,null,null,{"$f":"IF(H7296=Listas!$X$3,Acompanhamento!I7296,0)","v":0},{"$f":"IF(H7296=Listas!$X$4,Acompanhamento!I7296,0)","v":0},null,0,null,0,null,0,null,0]
[null,null,null,null,null,null,null,null,null,{"$f":"IF(H7299=Listas!$X$3,Acompanhamento!I7299,0)","v":0},{"$f":"IF(H7299=Listas!$X$4,Acompanhamento!I7299,0)","v":0},null,0,null,0,null,0,null,0]
[null,null,null,null,null,null,null,null,null,{"$f":"IF(H7300=Listas!$X$3,Acompanhamento!I7300,0)","v":0},{"$f":"IF(H7300=Listas!$X$4,Acompanhamento!I7300,0)","v":0},null,0,null,0,null,0,null,0]
[null,null,null,null,null,null,null,null,null,{"$f":"IF(H7304=Listas!$X$3,Acompanhamento!I7304,0)","v":0},{"$f":"IF(H7304=Listas!$X$4,Acompanhamento!I7304,0)","v":0},null,0,null,0,null,0,null,0]
[null,null,null,null,null,null,null,null,null,{"$f":"IF(H7307=Listas!$X$3,Acompanhamento!I7307,0)","v":0},{"$f":"IF(H7307=Listas!$X$4,Acompanhamento!I7307,0)","v":0},null,0,null,0,null,0,null,0]
[null,null,null,null,null,null,null,null,null,{"$f":"IF(H7311=Listas!$X$3,Acompanhamento!I7311,0)","v":0},{"$f":"IF(H7311=Listas!$X$4,Acompanhamento!I7311,0)","v":0},null,0,null,0,null,0,null,0]
[null,null,null,null,null,null,null,null,null,{"$f":"IF(H7313=Listas!$X$3,Acompanhamento!I7313,0)","v":0},{"$f":"IF(H7313=Listas!$X$4,Acompanhamento!I7313,0)","v":0},null,0,null,0,null,0,null,0]
[null,null,null,null,null,null,null,null,null,{"$f":"IF(H7318=Listas!$X$3,Acompanhamento!I7318,0)","v":0},{"$f":"IF(H7318=Listas!$X$4,Acompanhamento!I7318,0)","v":0},null,0,null,0,null,0,null,0]
[null,null,null,null,null,null,null,null,null,{"$f":"IF(H7322=Listas!$X$3,Acompanhamento!I7322,0)","v":0},{"$f":"IF(H7322=Listas!$X$4,Acompanhamento!I7322,0)","v":0},null,0,null,0,null,0,null,0]
[null,null,null,null,null,null,null,null,null,{"$f":"IF(H7325=Listas!$X$3,Acompanhamento!I7325,0)","v":0},{"$f":"IF(H7325=Listas!$X$4,Acompanhamento!I7325,0)","v":0},null,0,null,0,null,0,null,0]
[null,null,null,null,null,null,null,null,null,{"$f":"IF(H7326=Listas!$X$3,Acompanhamento!I7326,0)","v":0},{"$f":"IF(H7326=Listas!$X$4,Acompanhamento!I7326,0)","v":0},null,0,null,0,null,0,null,0]
[null,null,null,null,null,null,null,null,null,{"$f":"IF(H7330=Listas!$X$3,Acompanhamento!I7330,0)","v":0},{"$f":"IF(H7330=Listas!$X$4,Acompanhamento!I7330,0)","v":0},null,0,null,0,null,0,null,0]
[null,null,null,null,null,null,null,null,null,{"$f":"IF(H7333=Listas!$X$3,Acompanhamento!I7333,0)","v":0},{"$f":"IF(H7333=Listas!$X$4,Acompanhamento!I7333,0)","v":0},null,0,null,0,null,0,null,0]
[null,null,null,null,null,null,null,null,null,{"$f":"IF(H7337=Listas!$X$3,Acompanhamento!I7337,0)","v":0},{"$f":"IF(H7337=Listas!$X$4,Acompanhamento!I7337,0)","v":0},null,0,null,0,null,0,null,0]
[null,null,null,null,null,null,null,null,null,{"$f":"IF(H7339=Listas!$X$3,Acompanhamento!I7339,0)","v":0},{"$f":"IF(H7339=Listas!$X$4,Acompanhamento!I7339,0)","v":0},null,0,null,0,null,0,null,0]
[null,null,null,null,null,null,null,null,null,{"$f":"IF(H7344=Listas!$X$3,Acompanhamento!I7344,0)","v":0},{"$f":"IF(H7344=Listas!$X$4,Acompanhamento!I7344,0)","v":0},null,0,null,0,null,0,null,0]
[null,null,null,null,null,null,null,null,null,{"$f":"IF(H7348=Listas!$X$3,Acompanhamento!I7348,0)","v":0},{"$f":"IF(H7348=Listas!$X$4,Acompanhamento!I7348,0)","v":0},null,0,null,0,null,0,null,0]
[null,null,null,null,null,null,null,null,null,{"$f":"IF(H7351=Listas!$X$3,Acompanhamento!I7351,0)","v":0},{"$f":"IF(H7351=Listas!$X$4,Acompanhamento!I7351,0)","v":0},null,0,null,0,null,0,null,0]
[null,null,null,null,null,null,null,null,null,{"$f":"IF(H7352=Listas!$X$3,Acompanhamento!I7352,0)","v":0},{"$f":"IF(H7352=Listas!$X$4,Acompanhamento!I7352,0)","v":0},null,0,null,0,null,0,null,0]
[null,null,null,null,null,null,null,null,null,{"$f":"IF(H7356=Listas!$X$3,Acompanhamento!I7356,0)","v":0},{"$f":"IF(H7356=Listas!$X$4,Acompanhamento!I7356,0)","v":0},null,0,null,0,null,0,null,0]
[null,null,null,null,null,null,null,null,null,{"$f":"IF(H7359=Listas!$X$3,Acompanhamento!I7359,0)","v":0},{"$f":"IF(H7359=Listas!$X$4,Acompanhamento!I7359,0)","v":0},null,0,null,0,null,0,null,0]
[null,null,null,null,null,null,null,null,null,{"$f":"IF(H7363=Listas!$X$3,Acompanhamento!I7363,0)","v":0},{"$f":"IF(H7363=Listas!$X$4,Acompanhamento!I7363,0)","v":0},null,0,null,0,null,0,null,0]
[null,null,null,null,null,null,null,null,null,{"$f":"IF(H7365=Listas!$X$3,Acompanhamento!I7365,0)","v":0},{"$f":"IF(H7365=Listas!$X$4,Acompanhamento!I7365,0)","v":0},null,0,null,0,null,0,null,0]
[null,null,null,null,null,null,null,null,null,{"$f":"IF(H7371=Listas!$X$3,Acompanhamento!I7371,0)","v":0},{"$f":"IF(H7371=Listas!$X$4,Acompanhamento!I7371,0)","v":0},null,0,null,0,null,0,null,0]
[null,null,null,null,null,null,null,null,null,{"$f":"IF(H7374=Listas!$X$3,Acompanhamento!I7374,0)","v":0},{"$f":"IF(H7374=Listas!$X$4,Acompanhamento!I7374,0)","v":0},null,0,null,0,null,0,null,0]
[null,null,null,null,null,null,null,null,null,{"$f":"IF(H7377=Listas!$X$3,Acompanhamento!I7377,0)","v":0},{"$f":"IF(H7377=Listas!$X$4,Acompanhamento!I7377,0)","v":0},null,0,null,0,null,0,null,0]
[null,null,null,null,null,null,null,null,null,{"$f":"IF(H7378=Listas!$X$3,Acompanhamento!I7378,0)","v":0},{"$f":"IF(H7378=Listas!$X$4,Acompanhamento!I7378,0)","v":0},null,0,null,0,null,0,null,0]
[null,null,null,null,null,null,null,null,null,{"$f":"IF(H7382=Listas!$X$3,Acompanhamento!I7382,0)","v":0},{"$f":"IF(H7382=Listas!$X$4,Acompanhamento!I7382,0)","v":0},null,0,null,0,null,0,null,0]
[null,null,null,null,null,null,null,null,null,{"$f":"IF(H7385=Listas!$X$3,Acompanhamento!I7385,0)","v":0},{"$f":"IF(H7385=Listas!$X$4,Acompanhamento!I7385,0)","v":0},null,0,null,0,null,0,null,0]
[null,null,null,null,null,null,null,null,null,{"$f":"IF(H7389=Listas!$X$3,Acompanhamento!I7389,0)","v":0},{"$f":"IF(H7389=Listas!$X$4,Acompanhamento!I7389,0)","v":0},null,0,null,0,null,0,null,0]
[null,null,null,null,null,null,null,null,null,{"$f":"IF(H7391=Listas!$X$3,Acompanhamento!I7391,0)","v":0},{"$f":"IF(H7391=Listas!$X$4,Acompanhamento!I7391,0)","v":0},null,0,null,0,null,0,null,0]
[null,null,null,null,null,null,null,null,null,{"$f":"IF(H7397=Listas!$X$3,Acompanhamento!I7397,0)","v":0},{"$f":"IF(H7397=Listas!$X$4,Acompanhamento!I7397,0)","v":0},null,0,null,0,null,0,null,0]
[null,null,null,null,null,null,null,null,null,{"$f":"IF(H7400=Listas!$X$3,Acompanhamento!I7400,0)","v":0},{"$f":"IF(H7400=Listas!$X$4,Acompanhamento!I7400,0)","v":0},null,0,null,0,null,0,null,0]
[null,null,null,null,null,null,null,null,null,{"$f":"IF(H7403=Listas!$X$3,Acompanhamento!I7403,0)","v":0},{"$f":"IF(H7403=Listas!$X$4,Acompanhamento!I7403,0)","v":0},null,0,null,0,null,0,null,0]
[null,null,null,null,null,null,null,null,null,{"$f":"IF(H7404=Listas!$X$3,Acompanhamento!I7404,0)","v":0},{"$f":"IF(H7404=Listas!$X$4,Acompanhamento!I7404,0)","v":0},null,0,null,0,null,0,null,0]
[null,null,null,null,null,null,null,null,null,{"$f":"IF(H7408=Listas!$X$3,Acompanhamento!I7408,0)","v":0},{"$f":"IF(H7408=Listas!$X$4,Acompanhamento!I7408,0)","v":0},null,0,null,0,null,0,null,0]
[null,null,null,null,null,null,null,null,null,{"$f":"IF(H7411=Listas!$X$3,Acompanhamento!I7411,0)","v":0},{"$f":"IF(H7411=Listas!$X$4,Acompanhamento!I7411,0)","v":0},null,0,null,0,null,0,null,0]
[null,null,null,null,null,null,null,null,null,{"$f":"IF(H7415=Listas!$X$3,Acompanhamento!I7415,0)","v":0},{"$f":"IF(H7415=Listas!$X$4,Acompanhamento!I7415,0)","v":0},null,0,null,0,null,0,null,0]
[null,null,null,null,null,null,null,null,null,{"$f":"IF(H7417=Listas!$X$3,Acompanhamento!I7417,0)","v":0},{"$f":"IF(H7417=Listas!$X$4,Acompanhamento!I7417,0)","v":0},null,0,null,0,null,0,null,0]
[null,null,null,null,null,null,null,null,null,{"$f":"IF(H7423=Listas!$X$3,Acompanhamento!I7423,0)","v":0},{"$f":"IF(H7423=Listas!$X$4,Acompanhamento!I7423,0)","v":0},null,0,null,0,null,0,null,0]
[null,null,null,null,null,null,null,null,null,{"$f":"IF(H7426=Listas!$X$3,Acompanhamento!I7426,0)","v":0},{"$f":"IF(H7426=Listas!$X$4,Acompanhamento!I7426,0)","v":0},null,0,null,0,null,0,null,0]
[null,null,null,null,null,null,null,null,null,{"$f":"IF(H7429=Listas!$X$3,Acompanhamento!I7429,0)","v":0},{"$f":"IF(H7429=Listas!$X$4,Acompanhamento!I7429,0)","v":0},null,0,null,0,null,0,null,0]
[null,null,null,null,null,null,null,null,null,{"$f":"IF(H7430=Listas!$X$3,Acompanhamento!I7430,0)","v":0},{"$f":"IF(H7430=Listas!$X$4,Acompanhamento!I7430,0)","v":0},null,0,null,0,null,0,null,0]
[null,null,null,null,null,null,null,null,null,{"$f":"IF(H7434=Listas!$X$3,Acompanhamento!I7434,0)","v":0},{"$f":"IF(H7434=Listas!$X$4,Acompanhamento!I7434,0)","v":0},null,{"$f":"J7434-L7434","v":0},null,{"$f":"M7434-N7434","v":0},null,{"$f":"O7434-P7434","v":0},null,{"$f":"Q7434-R7434","v":0}]
[null,null,null,null,null,null,null,null,null,{"$f":"IF(H7438=Listas!$X$3,Acompanhamento!I7438,0)","v":0},{"$f":"IF(H7438=Listas!$X$4,Acompanhamento!I7438,0)","v":0},null,0,null,0,null,0,null,0]
[null,null,null,null,null,null,null,null,null,{"$f":"IF(H7441=Listas!$X$3,Acompanhamento!I7441,0)","v":0},{"$f":"IF(H7441=Listas!$X$4,Acompanhamento!I7441,0)","v":0},null,0,null,0,null,0,null,0]
[null,null,null,null,null,null,null,null,null,{"$f":"IF(H7443=Listas!$X$3,Acompanhamento!I7443,0)","v":0},{"$f":"IF(H7443=Listas!$X$4,Acompanhamento!I7443,0)","v":0},null,0,null,0,null,0,null,0]
[null,null,null,null,null,null,null,null,null,{"$f":"IF(H7449=Listas!$X$3,Acompanhamento!I7449,0)","v":0},{"$f":"IF(H7449=Listas!$X$4,Acompanhamento!I7449,0)","v":0},null,0,null,0,null,0,null,0]
[null,null,null,null,null,null,null,null,null,{"$f":"IF(H7452=Listas!$X$3,Acompanhamento!I7452,0)","v":0},{"$f":"IF(H7452=Listas!$X$4,Acompanhamento!I7452,0)","v":0},null,0,null,0,null,0,null,0]
[null,null,null,null,null,null,null,null,null,{"$f":"IF(H7455=Listas!$X$3,Acompanhamento!I7455,0)","v":0},{"$f":"IF(H7455=Listas!$X$4,Acompanhamento!I7455,0)","v":0},null,0,null,0,null,0,null,0]
[null,null,null,null,null,null,null,null,null,{"$f":"IF(H7456=Listas!$X$3,Acompanhamento!I7456,0)","v":0},{"$f":"IF(H7456=Listas!$X$4,Acompanhamento!I7456,0)","v":0},null,0,null,0,null,0,null,0]
[null,null,null,null,null,null,null,null,null,{"$f":"IF(H7460=Listas!$X$3,Acompanhamento!I7460,0)","v":0},{"$f":"IF(H7460=Listas!$X$4,Acompanhamento!I7460,0)","v":0},null,0,null,0,null,0,null,0]
[null,null,null,null,null,null,null,null,null,{"$f":"IF(H7464=Listas!$X$3,Acompanhamento!I7464,0)","v":0},{"$f":"IF(H7464=Listas!$X$4,Acompanhamento!I7464,0)","v":0},null,0,null,0,null,0,null,0]
[null,null,null,null,null,null,null,null,null,{"$f":"IF(H7467=Listas!$X$3,Acompanhamento!I7467,0)","v":0},{"$f":"IF(H7467=Listas!$X$4,Acompanhamento!I7467,0)","v":0},null,0,null,0,null,0,null,0]
[null,null,null,null,null,null,null,null,null,{"$f":"IF(H7469=Listas!$X$3,Acompanhamento!I7469,0)","v":0},{"$f":"IF(H7469=Listas!$X$4,Acompanhamento!I7469,0)","v":0},null,0,null,0,null,0,null,0]
[null,null,null,null,null,null,null,null,null,{"$f":"IF(H7475=Listas!$X$3,Acompanhamento!I7475,0)","v":0},{"$f":"IF(H7475=Listas!$X$4,Acompanhamento!I7475,0)","v":0},null,0,null,0,null,0,null,0]
[null,null,null,null,null,null,null,null,null,{"$f":"IF(H7478=Listas!$X$3,Acompanhamento!I7478,0)","v":0},{"$f":"IF(H7478=Listas!$X$4,Acompanhamento!I7478,0)","v":0},null,0,null,0,null,0,null,0]
[null,null,null,null,null,null,null,null,null,{"$f":"IF(H7481=Listas!$X$3,Acompanhamento!I7481,0)","v":0},{"$f":"IF(H7481=Listas!$X$4,Acompanhamento!I7481,0)","v":0},null,0,null,0,null,0,null,0]
[null,null,null,null,null,null,null,null,null,{"$f":"IF(H7482=Listas!$X$3,Acompanhamento!I7482,0)","v":0},{"$f":"IF(H7482=Listas!$X$4,Acompanhamento!I7482,0)","v":0},null,0,null,0,null,0,null,0]
[null,null,null,null,null,null,null,null,null,{"$f":"IF(H7486=Listas!$X$3,Acompanhamento!I7486,0)","v":0},{"$f":"IF(H7486=Listas!$X$4,Acompanhamento!I7486,0)","v":0},null,0,null,0,null,0,null,0]
[null,null,null,null,null,null,null,null,null,{"$f":"IF(H7490=Listas!$X$3,Acompanhamento!I7490,0)","v":0},{"$f":"IF(H7490=Listas!$X$4,Acompanhamento!I7490,0)","v":0},null,0,null,0,null,0,null,0]
[null,null,null,null,null,null,null,null,null,{"$f":"IF(H7493=Listas!$X$3,Acompanhamento!I7493,0)","v":0},{"$f":"IF(H7493=Listas!$X$4,Acompanhamento!I7493,0)","v":0},null,0,null,0,null,0,null,0]
[null,null,null,null,null,null,null,null,null,{"$f":"IF(H7495=Listas!$X$3,Acompanhamento!I7495,0)","v":0},{"$f":"IF(H7495=Listas!$X$4,Acompanhamento!I7495,0)","v":0},null,0,null,0,null,0,null,0]
[null,null,null,null,null,null,null,null,null,{"$f":"IF(H7501=Listas!$X$3,Acompanhamento!I7501,0)","v":0},{"$f":"IF(H7501=Listas!$X$4,Acompanhamento!I7501,0)","v":0},null,0,null,0,null,0,null,0]
[null,null,null,null,null,null,null,null,null,{"$f":"IF(H7504=Listas!$X$3,Acompanhamento!I7504,0)","v":0},{"$f":"IF(H7504=Listas!$X$4,Acompanhamento!I7504,0)","v":0},null,0,null,0,null,0,null,0]
[null,null,null,null,null,null,null,null,null,{"$f":"IF(H7505=Listas!$X$3,Acompanhamento!I7505,0)","v":0},{"$f":"IF(H7505=Listas!$X$4,Acompanhamento!I7505,0)","v":0},null,0,null,0,null,0,null,0]
[null,null,null,null,null,null,null,null,null,{"$f":"IF(H7508=Listas!$X$3,Acompanhamento!I7508,0)","v":0},{"$f":"IF(H7508=Listas!$X$4,Acompanhamento!I7508,0)","v":0},null,0,null,0,null,0,null,0]
[null,null,null,null,null,null,null,null,null,{"$f":"IF(H7512=Listas!$X$3,Acompanhamento!I7512,0)","v":0},{"$f":"IF(H7512=Listas!$X$4,Acompanhamento!I7512,0)","v":0},null,0,null,0,null,0,null,0]
[null,null,null,null,null,null,null,null,null,{"$f":"IF(H7516=Listas!$X$3,Acompanhamento!I7516,0)","v":0},{"$f":"IF(H7516=Listas!$X$4,Acompanhamento!I7516,0)","v":0},null,0,null,0,null,0,null,0]
[null,null,null,null,null,null,null,null,null,{"$f":"IF(H7519=Listas!$X$3,Acompanhamento!I7519,0)","v":0},{"$f":"IF(H7519=Listas!$X$4,Acompanhamento!I7519,0)","v":0},null,0,null,0,null,0,null,0]
[null,null,null,null,null,null,null,null,null,{"$f":"IF(H7521=Listas!$X$3,Acompanhamento!I7521,0)","v":0},{"$f":"IF(H7521=Listas!$X$4,Acompanhamento!I7521,0)","v":0},null,0,null,0,null,0,null,0]
[null,null,null,null,null,null,null,null,null,{"$f":"IF(H7527=Listas!$X$3,Acompanhamento!I7527,0)","v":0},{"$f":"IF(H7527=Listas!$X$4,Acompanhamento!I7527,0)","v":0},null,0,null,0,null,0,null,0]
[null,null,null,null,null,null,null,null,null,{"$f":"IF(H7530=Listas!$X$3,Acompanhamento!I7530,0)","v":0},{"$f":"IF(H7530=Listas!$X$4,Acompanhamento!I7530,0)","v":0},null,0,null,0,null,0,null,0]
[null,null,null,null,null,null,null,null,null,{"$f":"IF(H7531=Listas!$X$3,Acompanhamento!I7531,0)","v":0},{"$f":"IF(H7531=Listas!$X$4,Acompanhamento!I7531,0)","v":0},null,0,null,0,null,0,null,0]
[null,null,null,null,null,null,null,null,null,{"$f":"IF(H7534=Listas!$X$3,Acompanhamento!I7534,0)","v":0},{"$f":"IF(H7534=Listas!$X$4,Acompanhamento!I7534,0)","v":0},null,0,null,0,null,0,null,0]
[null,null,null,null,null,null,null,null,null,{"$f":"IF(H7538=Listas!$X$3,Acompanhamento!I7538,0)","v":0},{"$f":"IF(H7538=Listas!$X$4,Acompanhamento!I7538,0)","v":0},null,0,null,0,null,0,null,0]
[null,null,null,null,null,null,null,null,null,{"$f":"IF(H7542=Listas!$X$3,Acompanhamento!I7542,0)","v":0},{"$f":"IF(H7542=Listas!$X$4,Acompanhamento!I7542,0)","v":0},null,0,null,0,null,0,null,0]
[null,null,null,null,null,null,null,null,null,{"$f":"IF(H7545=Listas!$X$3,Acompanhamento!I7545,0)","v":0},{"$f":"IF(H7545=Listas!$X$4,Acompanhamento!I7545,0)","v":0},null,0,null,0,null,0,null,0]
[null,null,null,null,null,null,null,null,null,{"$f":"IF(H7547=Listas!$X$3,Acompanhamento!I7547,0)","v":0},{"$f":"IF(H7547=Listas!$X$4,Acompanhamento!I7547,0)","v":0},null,0,null,0,null,0,null,0]
[null,null,null,null,null,null,null,null,null,{"$f":"IF(H7553=Listas!$X$3,Acompanhamento!I7553,0)","v":0},{"$f":"IF(H7553=Listas!$X$4,Acompanhamento!I7553,0)","v":0},null,0,null,0,null,0,null,0]
[null,null,null,null,null,null,null,null,null,{"$f":"IF(H7556=Listas!$X$3,Acompanhamento!I7556,0)","v":0},{"$f":"IF(H7556=Listas!$X$4,Acompanhamento!I7556,0)","v":0},null,0,null,0,null,0,null,0]
[null,null,null,null,null,null,null,null,null,{"$f":"IF(H7557=Listas!$X$3,Acompanhamento!I7557,0)","v":0},{"$f":"IF(H7557=Listas!$X$4,Acompanhamento!I7557,0)","v":0},null,0,null,0,null,0,null,0]
[null,null,null,null,null,null,null,null,null,{"$f":"IF(H7560=Listas!$X$3,Acompanhamento!I7560,0)","v":0},{"$f":"IF(H7560=Listas!$X$4,Acompanhamento!I7560,0)","v":0},null,0,null,0,null,0,null,0]
[null,null,null,null,null,null,null,null,null,{"$f":"IF(H7564=Listas!$X$3,Acompanhamento!I7564,0)","v":0},{"$f":"IF(H7564=Listas!$X$4,Acompanhamento!I7564,0)","v":0},null,0,null,0,null,0,null,0]
[null,null,null,null,null,null,null,null,null,{"$f":"IF(H7568=Listas!$X$3,Acompanhamento!I7568,0)","v":0},{"$f":"IF(H7568=Listas!$X$4,Acompanhamento!I7568,0)","v":0},null,0,null,0,null,0,null,0]
[null,null,null,null,null,null,null,null,null,{"$f":"IF(H7571=Listas!$X$3,Acompanhamento!I7571,0)","v":0},{"$f":"IF(H7571=Listas!$X$4,Acompanhamento!I7571,0)","v":0},null,0,null,0,null,0,null,0]
[null,null,null,null,null,null,null,null,null,{"$f":"IF(H7573=Listas!$X$3,Acompanhamento!I7573,0)","v":0},{"$f":"IF(H7573=Listas!$X$4,Acompanhamento!I7573,0)","v":0},null,0,null,0,null,0,null,0]
[null,null,null,null,null,null,null,null,null,{"$f":"IF(H7579=Listas!$X$3,Acompanhamento!I7579,0)","v":0},{"$f":"IF(H7579=Listas!$X$4,Acompanhamento!I7579,0)","v":0},null,0,null,0,null,0,null,0]
[null,null,null,null,null,null,null,null,null,{"$f":"IF(H7582=Listas!$X$3,Acompanhamento!I7582,0)","v":0},{"$f":"IF(H7582=Listas!$X$4,Acompanhamento!I7582,0)","v":0},null,0,null,0,null,0,null,0]
[null,null,null,null,null,null,null,null,null,{"$f":"IF(H7583=Listas!$X$3,Acompanhamento!I7583,0)","v":0},{"$f":"IF(H7583=Listas!$X$4,Acompanhamento!I7583,0)","v":0},null,0,null,0,null,0,null,0]
[null,null,null,null,null,null,null,null,null,{"$f":"IF(H7586=Listas!$X$3,Acompanhamento!I7586,0)","v":0},{"$f":"IF(H7586=Listas!$X$4,Acompanhamento!I7586,0)","v":0},null,0,null,0,null,0,null,0]
[null,null,null,null,null,null,null,null,null,{"$f":"IF(H7590=Listas!$X$3,Acompanhamento!I7590,0)","v":0},{"$f":"IF(H7590=Listas!$X$4,Acompanhamento!I7590,0)","v":0},null,0,null,0,null,0,null,0]
[null,null,null,null,null,null,null,null,null,{"$f":"IF(H7594=Listas!$X$3,Acompanhamento!I7594,0)","v":0},{"$f":"IF(H7594=Listas!$X$4,Acompanhamento!I7594,0)","v":0},null,0,null,0,null,0,null,0]
[null,null,null,null,null,null,null,null,null,{"$f":"IF(H7597=Listas!$X$3,Acompanhamento!I7597,0)","v":0},{"$f":"IF(H7597=Listas!$X$4,Acompanhamento!I7597,0)","v":0},null,0,null,0,null,0,null,0]
[null,null,null,null,null,null,null,null,null,{"$f":"IF(H7599=Listas!$X$3,Acompanhamento!I7599,0)","v":0},{"$f":"IF(H7599=Listas!$X$4,Acompanhamento!I7599,0)","v":0},null,0,null,0,null,0,null,0]
[null,null,null,null,null,null,null,null,null,{"$f":"IF(H7605=Listas!$X$3,Acompanhamento!I7605,0)","v":0},{"$f":"IF(H7605=Listas!$X$4,Acompanhamento!I7605,0)","v":0},null,0,null,0,null,0,null,0]
[null,null,null,null,null,null,null,null,null,{"$f":"IF(H7608=Listas!$X$3,Acompanhamento!I7608,0)","v":0},{"$f":"IF(H7608=Listas!$X$4,Acompanhamento!I7608,0)","v":0},null,0,null,0,null,0,null,0]
[null,null,null,null,null,null,null,null,null,{"$f":"IF(H7609=Listas!$X$3,Acompanhamento!I7609,0)","v":0},{"$f":"IF(H7609=Listas!$X$4,Acompanhamento!I7609,0)","v":0},null,0,null,0,null,0,null,0]
[null,null,null,null,null,null,null,null,null,{"$f":"IF(H7612=Listas!$X$3,Acompanhamento!I7612,0)","v":0},{"$f":"IF(H7612=Listas!$X$4,Acompanhamento!I7612,0)","v":0},null,0,null,0,null,0,null,0]
[null,null,null,null,null,null,null,null,null,{"$f":"IF(H7617=Listas!$X$3,Acompanhamento!I7617,0)","v":0},{"$f":"IF(H7617=Listas!$X$4,Acompanhamento!I7617,0)","v":0},null,0,null,0,null,0,null,0]
[null,null,null,null,null,null,null,null,null,{"$f":"IF(H7620=Listas!$X$3,Acompanhamento!I7620,0)","v":0},{"$f":"IF(H7620=Listas!$X$4,Acompanhamento!I7620,0)","v":0},null,0,null,0,null,0,null,0]
[null,null,null,null,null,null,null,null,null,{"$f":"IF(H7623=Listas!$X$3,Acompanhamento!I7623,0)","v":0},{"$f":"IF(H7623=Listas!$X$4,Acompanhamento!I7623,0)","v":0},null,0,null,0,null,0,null,0]
[null,null,null,null,null,null,null,null,null,{"$f":"IF(H7625=Listas!$X$3,Acompanhamento!I7625,0)","v":0},{"$f":"IF(H7625=Listas!$X$4,Acompanhamento!I7625,0)","v":0},null,0,null,0,null,0,null,0]
[null,null,null,null,null,null,null,null,null,{"$f":"IF(H7631=Listas!$X$3,Acompanhamento!I7631,0)","v":0},{"$f":"IF(H7631=Listas!$X$4,Acompanhamento!I7631,0)","v":0},null,0,null,0,null,0,null,0]
[null,null,null,null,null,null,null,null,null,{"$f":"IF(H7634=Listas!$X$3,Acompanhamento!I7634,0)","v":0},{"$f":"IF(H7634=Listas!$X$4,Acompanhamento!I7634,0)","v":0},null,0,null,0,null,0,null,0]
[null,null,null,null,null,null,null,null,null,{"$f":"IF(H7635=Listas!$X$3,Acompanhamento!I7635,0)","v":0},{"$f":"IF(H7635=Listas!$X$4,Acompanhamento!I7635,0)","v":0},null,0,null,0,null,0,null,0]
[null,null,null,null,null,null,null,null,null,{"$f":"IF(H7638=Listas!$X$3,Acompanhamento!I7638,0)","v":0},{"$f":"IF(H7638=Listas!$X$4,Acompanhamento!I7638,0)","v":0},null,0,null,0,null,0,null,0]
[null,null,null,null,null,null,null,null,null,{"$f":"IF(H7643=Listas!$X$3,Acompanhamento!I7643,0)","v":0},{"$f":"IF(H7643=Listas!$X$4,Acompanhamento!I7643,0)","v":0},null,0,null,0,null,0,null,0]
[null,null,null,null,null,null,null,null,null,{"$f":"IF(H7646=Listas!$X$3,Acompanhamento!I7646,0)","v":0},{"$f":"IF(H7646=Listas!$X$4,Acompanhamento!I7646,0)","v":0},null,0,null,0,null,0,null,0]
[null,null,null,null,null,null,null,null,null,{"$f":"IF(H7649=Listas!$X$3,Acompanhamento!I7649,0)","v":0},{"$f":"IF(H7649=Listas!$X$4,Acompanhamento!I7649,0)","v":0},null,0,null,0,null,0,null,0]
[null,null,null,null,null,null,null,null,null,{"$f":"IF(H7651=Listas!$X$3,Acompanhamento!I7651,0)","v":0},{"$f":"IF(H7651=Listas!$X$4,Acompanhamento!I7651,0)","v":0},null,0,null,0,null,0,null,0]
[null,null,null,null,null,null,null,null,null,{"$f":"IF(H7657=Listas!$X$3,Acompanhamento!I7657,0)","v":0},{"$f":"IF(H7657=Listas!$X$4,Acompanhamento!I7657,0)","v":0},null,0,null,0,null,0,null,0]
[null,null,null,null,null,null,null,null,null,{"$f":"IF(H7658=Listas!$X$3,Acompanhamento!I7658,0)","v":0},{"$f":"IF(H7658=Listas!$X$4,Acompanhamento!I7658,0)","v":0},null,0,null,0,null,0,null,0]
[null,null,null,null,null,null,null,null,null,{"$f":"IF(H7661=Listas!$X$3,Acompanhamento!I7661,0)","v":0},{"$f":"IF(H7661=Listas!$X$4,Acompanhamento!I7661,0)","v":0},null,0,null,0,null,0,null,0]
[null,null,null,null,null,null,null,null,null,{"$f":"IF(H7664=Listas!$X$3,Acompanhamento!I7664,0)","v":0},{"$f":"IF(H7664=Listas!$X$4,Acompanhamento!I7664,0)","v":0},null,0,null,0,null,0,null,0]
[null,null,null,null,null,null,null,null,null,{"$f":"IF(H7669=Listas!$X$3,Acompanhamento!I7669,0)","v":0},{"$f":"IF(H7669=Listas!$X$4,Acompanhamento!I7669,0)","v":0},null,0,null,0,null,0,null,0]
[null,null,null,null,null,null,null,null,null,{"$f":"IF(H7672=Listas!$X$3,Acompanhamento!I7672,0)","v":0},{"$f":"IF(H7672=Listas!$X$4,Acompanhamento!I7672,0)","v":0},null,0,null,0,null,0,null,0]
[null,null,null,null,null,null,null,null,null,{"$f":"IF(H7675=Listas!$X$3,Acompanhamento!I7675,0)","v":0},{"$f":"IF(H7675=Listas!$X$4,Acompanhamento!I7675,0)","v":0},null,0,null,0,null,0,null,0]
[null,null,null,null,null,null,null,null,null,{"$f":"IF(H7677=Listas!$X$3,Acompanhamento!I7677,0)","v":0},{"$f":"IF(H7677=Listas!$X$4,Acompanhamento!I7677,0)","v":0},null,0,null,0,null,0,null,0]
[null,null,null,null,null,null,null,null,null,{"$f":"IF(H7683=Listas!$X$3,Acompanhamento!I7683,0)","v":0},{"$f":"IF(H7683=Listas!$X$4,Acompanhamento!I7683,0)","v":0},null,0,null,0,null,0,null,0]
[null,null,null,null,null,null,null,null,null,{"$f":"IF(H7684=Listas!$X$3,Acompanhamento!I7684,0)","v":0},{"$f":"IF(H7684=Listas!$X$4,Acompanhamento!I7684,0)","v":0},null,0,null,0,null,0,null,0]
[null,null,null,null,null,null,null,null,null,{"$f":"IF(H7687=Listas!$X$3,Acompanhamento!I7687,0)","v":0},{"$f":"IF(H7687=Listas!$X$4,Acompanhamento!I7687,0)","v":0},null,0,null,0,null,0,null,0]
[null,null,null,null,null,null,null,null,null,{"$f":"IF(H7690=Listas!$X$3,Acompanhamento!I7690,0)","v":0},{"$f":"IF(H7690=Listas!$X$4,Acompanhamento!I7690,0)","v":0},null,{"$f":"J7690-L7690","v":0},null,{"$f":"M7690-N7690","v":0},null,{"$f":"O7690-P7690","v":0},null,{"$f":"Q7690-R7690","v":0}]
[null,null,null,null,null,null,null,null,null,{"$f":"IF(H7695=Listas!$X$3,Acompanhamento!I7695,0)","v":0},{"$f":"IF(H7695=Listas!$X$4,Acompanhamento!I7695,0)","v":0},null,0,null,0,null,0,null,0]
[null,null,null,null,null,null,null,null,null,{"$f":"IF(H7698=Listas!$X$3,Acompanhamento!I7698,0)","v":0},{"$f":"IF(H7698=Listas!$X$4,Acompanhamento!I7698,0)","v":0},null,0,null,0,null,0,null,0]
[null,null,null,null,null,null,null,null,null,{"$f":"IF(H7701=Listas!$X$3,Acompanhamento!I7701,0)","v":0},{"$f":"IF(H7701=Listas!$X$4,Acompanhamento!I7701,0)","v":0},null,0,null,0,null,0,null,0]
[null,null,null,null,null,null,null,null,null,{"$f":"IF(H7703=Listas!$X$3,Acompanhamento!I7703,0)","v":0},{"$f":"IF(H7703=Listas!$X$4,Acompanhamento!I7703,0)","v":0},null,0,null,0,null,0,null,0]
[null,null,null,null,null,null,null,null,null,{"$f":"IF(H7709=Listas!$X$3,Acompanhamento!I7709,0)","v":0},{"$f":"IF(H7709=Listas!$X$4,Acompanhamento!I7709,0)","v":0},null,0,null,0,null,0,null,0]
[null,null,null,null,null,null,null,null,null,{"$f":"IF(H7710=Listas!$X$3,Acompanhamento!I7710,0)","v":0},{"$f":"IF(H7710=Listas!$X$4,Acompanhamento!I7710,0)","v":0},null,0,null,0,null,0,null,0]
[null,null,null,null,null,null,null,null,null,{"$f":"IF(H7713=Listas!$X$3,Acompanhamento!I7713,0)","v":0},{"$f":"IF(H7713=Listas!$X$4,Acompanhamento!I7713,0)","v":0},null,0,null,0,null,0,null,0]
[null,null,null,null,null,null,null,null,null,{"$f":"IF(H7716=Listas!$X$3,Acompanhamento!I7716,0)","v":0},{"$f":"IF(H7716=Listas!$X$4,Acompanhamento!I7716,0)","v":0},null,0,null,0,null,0,null,0]
[null,null,null,null,null,null,null,null,null,{"$f":"IF(H7721=Listas!$X$3,Acompanhamento!I7721,0)","v":0},{"$f":"IF(H7721=Listas!$X$4,Acompanhamento!I7721,0)","v":0},null,0,null,0,null,0,null,0]
[null,null,null,null,null,null,null,null,null,{"$f":"IF(H7724=Listas!$X$3,Acompanhamento!I7724,0)","v":0},{"$f":"IF(H7724=Listas!$X$4,Acompanhamento!I7724,0)","v":0},null,0,null,0,null,0,null,0]
[null,null,null,null,null,null,null,null,null,{"$f":"IF(H7728=Listas!$X$3,Acompanhamento!I7728,0)","v":0},{"$f":"IF(H7728=Listas!$X$4,Acompanhamento!I7728,0)","v":0},null,0,null,0,null,0,null,0]
[null,null,null,null,null,null,null,null,null,{"$f":"IF(H7729=Listas!$X$3,Acompanhamento!I7729,0)","v":0},{"$f":"IF(H7729=Listas!$X$4,Acompanhamento!I7729,0)","v":0},null,0,null,0,null,0,null,0]
[null,null,null,null,null,null,null,null,null,{"$f":"IF(H7735=Listas!$X$3,Acompanhamento!I7735,0)","v":0},{"$f":"IF(H7735=Listas!$X$4,Acompanhamento!I7735,0)","v":0},null,0,null,0,null,0,null,0]
[null,null,null,null,null,null,null,null,null,{"$f":"IF(H7736=Listas!$X$3,Acompanhamento!I7736,0)","v":0},{"$f":"IF(H7736=Listas!$X$4,Acompanhamento!I7736,0)","v":0},null,0,null,0,null,0,null,0]
[null,null,null,null,null,null,null,null,null,{"$f":"IF(H7739=Listas!$X$3,Acompanhamento!I7739,0)","v":0},{"$f":"IF(H7739=Listas!$X$4,Acompanhamento!I7739,0)","v":0},null,0,null,0,null,0,null,0]
[null,null,null,null,null,null,null,null,null,{"$f":"IF(H7742=Listas!$X$3,Acompanhamento!I7742,0)","v":0},{"$f":"IF(H7742=Listas!$X$4,Acompanhamento!I7742,0)","v":0},null,0,null,0,null,0,null,0]
[null,null,null,null,null,null,null,null,null,{"$f":"IF(H7747=Listas!$X$3,Acompanhamento!I7747,0)","v":0},{"$f":"IF(H7747=Listas!$X$4,Acompanhamento!I7747,0)","v":0},null,0,null,0,null,0,null,0]
[null,null,null,null,null,null,null,null,null,{"$f":"IF(H7750=Listas!$X$3,Acompanhamento!I7750,0)","v":0},{"$f":"IF(H7750=Listas!$X$4,Acompanhamento!I7750,0)","v":0},null,0,null,0,null,0,null,0]
[null,null,null,null,null,null,null,null,null,{"$f":"IF(H7754=Listas!$X$3,Acompanhamento!I7754,0)","v":0},{"$f":"IF(H7754=Listas!$X$4,Acompanhamento!I7754,0)","v":0},null,{"$f":"J7754-L7754","v":0},null,{"$f":"M7754-N7754","v":0},null,{"$f":"O7754-P7754","v":0},null,{"$f":"Q7754-R7754","v":0}]
[null,null,null,null,null,null,null,null,null,{"$f":"IF(H7755=Listas!$X$3,Acompanhamento!I7755,0)","v":0},{"$f":"IF(H7755=Listas!$X$4,Acompanhamento!I7755,0)","v":0},null,0,null,0,null,0,null,0]
[null,null,null,null,null,null,null,null,null,{"$f":"IF(H7761=Listas!$X$3,Acompanhamento!I7761,0)","v":0},{"$f":"IF(H7761=Listas!$X$4,Acompanhamento!I7761,0)","v":0},null,0,null,0,null,0,null,0]
[null,null,null,null,null,null,null,null,null,{"$f":"IF(H7762=Listas!$X$3,Acompanhamento!I7762,0)","v":0},{"$f":"IF(H7762=Listas!$X$4,Acompanhamento!I7762,0)","v":0},null,0,null,0,null,0,null,0]
[null,null,null,null,null,null,null,null,null,{"$f":"IF(H7765=Listas!$X$3,Acompanhamento!I7765,0)","v":0},{"$f":"IF(H7765=Listas!$X$4,Acompanhamento!I7765,0)","v":0},null,0,null,0,null,0,null,0]
[null,null,null,null,null,null,null,null,null,{"$f":"IF(H7768=Listas!$X$3,Acompanhamento!I7768,0)","v":0},{"$f":"IF(H7768=Listas!$X$4,Acompanhamento!I7768,0)","v":0},null,0,null,0,null,0,null,0]
[null,null,null,null,null,null,null,null,null,{"$f":"IF(H7773=Listas!$X$3,Acompanhamento!I7773,0)","v":0},{"$f":"IF(H7773=Listas!$X$4,Acompanhamento!I7773,0)","v":0},null,0,null,0,null,0,null,0]
[null,null,null,null,null,null,null,null,null,{"$f":"IF(H7776=Listas!$X$3,Acompanhamento!I7776,0)","v":0},{"$f":"IF(H7776=Listas!$X$4,Acompanhamento!I7776,0)","v":0},null,0,null,0,null,0,null,0]
[null,null,null,null,null,null,null,null,null,{"$f":"IF(H7780=Listas!$X$3,Acompanhamento!I7780,0)","v":0},{"$f":"IF(H7780=Listas!$X$4,Acompanhamento!I7780,0)","v":0},null,0,null,0,null,0,null,0]
[null,null,null,null,null,null,null,null,null,{"$f":"IF(H7781=Listas!$X$3,Acompanhamento!I7781,0)","v":0},{"$f":"IF(H7781=Listas!$X$4,Acompanhamento!I7781,0)","v":0},null,0,null,0,null,0,null,0]
[null,null,null,null,null,null,null,null,null,{"$f":"IF(H7787=Listas!$X$3,Acompanhamento!I7787,0)","v":0},{"$f":"IF(H7787=Listas!$X$4,Acompanhamento!I7787,0)","v":0},null,0,null,0,null,0,null,0]
[null,null,null,null,null,null,null,null,null,{"$f":"IF(H7788=Listas!$X$3,Acompanhamento!I7788,0)","v":0},{"$f":"IF(H7788=Listas!$X$4,Acompanhamento!I7788,0)","v":0},null,0,null,0,null,0,null,0]
[null,null,null,null,null,null,null,null,null,{"$f":"IF(H7791=Listas!$X$3,Acompanhamento!I7791,0)","v":0},{"$f":"IF(H7791=Listas!$X$4,Acompanhamento!I7791,0)","v":0},null,0,null,0,null,0,null,0]
[null,null,null,null,null,null,null,null,null,{"$f":"IF(H7794=Listas!$X$3,Acompanhamento!I7794,0)","v":0},{"$f":"IF(H7794=Listas!$X$4,Acompanhamento!I7794,0)","v":0},null,0,null,0,null,0,null,0]
[null,null,null,null,null,null,null,null,null,{"$f":"IF(H7799=Listas!$X$3,Acompanhamento!I7799,0)","v":0},{"$f":"IF(H7799=Listas!$X$4,Acompanhamento!I7799,0)","v":0},null,0,null,0,null,0,null,0]
[null,null,null,null,null,null,null,null,null,{"$f":"IF(H7802=Listas!$X$3,Acompanhamento!I7802,0)","v":0},{"$f":"IF(H7802=Listas!$X$4,Acompanhamento!I7802,0)","v":0},null,0,null,0,null,0,null,0]
[null,null,null,null,null,null,null,null,null,{"$f":"IF(H7806=Listas!$X$3,Acompanhamento!I7806,0)","v":0},{"$f":"IF(H7806=Listas!$X$4,Acompanhamento!I7806,0)","v":0},null,0,null,0,null,0,null,0]
[null,null,null,null,null,null,null,null,null,{"$f":"IF(H7807=Listas!$X$3,Acompanhamento!I7807,0)","v":0},{"$f":"IF(H7807=Listas!$X$4,Acompanhamento!I7807,0)","v":0},null,0,null,0,null,0,null,0]
[null,null,null,null,null,null,null,null,null,{"$f":"IF(H7813=Listas!$X$3,Acompanhamento!I7813,0)","v":0},{"$f":"IF(H7813=Listas!$X$4,Acompanhamento!I7813,0)","v":0},null,0,null,0,null,0,null,0]
[null,null,null,null,null,null,null,null,null,{"$f":"IF(H7814=Listas!$X$3,Acompanhamento!I7814,0)","v":0},{"$f":"IF(H7814=Listas!$X$4,Acompanhamento!I7814,0)","v":0},null,0,null,0,null,0,null,0]
[null,null,null,null,null,null,null,null,null,{"$f":"IF(H7817=Listas!$X$3,Acompanhamento!I7817,0)","v":0},{"$f":"IF(H7817=Listas!$X$4,Acompanhamento!I7817,0)","v":0},null,0,null,0,null,0,null,0]
[null,null,null,null,null,null,null,null,null,{"$f":"IF(H7820=Listas!$X$3,Acompanhamento!I7820,0)","v":0},{"$f":"IF(H7820=Listas!$X$4,Acompanhamento!I7820,0)","v":0},null,0,null,0,null,0,null,0]
[null,null,null,null,null,null,null,null,null,{"$f":"IF(H7825=Listas!$X$3,Acompanhamento!I7825,0)","v":0},{"$f":"IF(H7825=Listas!$X$4,Acompanhamento!I7825,0)","v":0},null,0,null,0,null,0,null,0]
[null,null,null,null,null,null,null,null,null,{"$f":"IF(H7828=Listas!$X$3,Acompanhamento!I7828,0)","v":0},{"$f":"IF(H7828=Listas!$X$4,Acompanhamento!I7828,0)","v":0},null,0,null,0,null,0,null,0]
[null,null,null,null,null,null,null,null,null,{"$f":"IF(H7832=Listas!$X$3,Acompanhamento!I7832,0)","v":0},{"$f":"IF(H7832=Listas!$X$4,Acompanhamento!I7832,0)","v":0},null,0,null,0,null,0,null,0]
[null,null,null,null,null,null,null,null,null,{"$f":"IF(H7833=Listas!$X$3,Acompanhamento!I7833,0)","v":0},{"$f":"IF(H7833=Listas!$X$4,Acompanhamento!I7833,0)","v":0},null,0,null,0,null,0,null,0]
[null,null,null,null,null,null,null,null,null,{"$f":"IF(H7837=Listas!$X$3,Acompanhamento!I7837,0)","v":0},{"$f":"IF(H7837=Listas!$X$4,Acompanhamento!I7837,0)","v":0},null,0,null,0,null,0,null,0]
[null,null,null,null,null,null,null,null,null,{"$f":"IF(H7840=Listas!$X$3,Acompanhamento!I7840,0)","v":0},{"$f":"IF(H7840=Listas!$X$4,Acompanhamento!I7840,0)","v":0},null,0,null,0,null,0,null,0]
[null,null,null,null,null,null,null,null,null,{"$f":"IF(H7843=Listas!$X$3,Acompanhamento!I7843,0)","v":0},{"$f":"IF(H7843=Listas!$X$4,Acompanhamento!I7843,0)","v":0},null,0,null,0,null,0,null,0]
[null,null,null,null,null,null,null,null,null,{"$f":"IF(H7846=Listas!$X$3,Acompanhamento!I7846,0)","v":0},{"$f":"IF(H7846=Listas!$X$4,Acompanhamento!I7846,0)","v":0},null,0,null,0,null,0,null,0]
[null,null,null,null,null,null,null,null,null,{"$f":"IF(H7851=Listas!$X$3,Acompanhamento!I7851,0)","v":0},{"$f":"IF(H7851=Listas!$X$4,Acompanhamento!I7851,0)","v":0},null,0,null,0,null,0,null,0]
[null,null,null,null,null,null,null,null,null,{"$f":"IF(H7854=Listas!$X$3,Acompanhamento!I7854,0)","v":0},{"$f":"IF(H7854=Listas!$X$4,Acompanhamento!I7854,0)","v":0},null,0,null,0,null,0,null,0]
[null,null,null,null,null,null,null,null,null,{"$f":"IF(H7858=Listas!$X$3,Acompanhamento!I7858,0)","v":0},{"$f":"IF(H7858=Listas!$X$4,Acompanhamento!I7858,0)","v":0},null,0,null,0,null,0,null,0]
[null,null,null,null,null,null,null,null,null,{"$f":"IF(H7859=Listas!$X$3,Acompanhamento!I7859,0)","v":0},{"$f":"IF(H7859=Listas!$X$4,Acompanhamento!I7859,0)","v":0},null,0,null,0,null,0,null,0]
[null,null,null,null,null,null,null,null,null,{"$f":"IF(H7863=Listas!$X$3,Acompanhamento!I7863,0)","v":0},{"$f":"IF(H7863=Listas!$X$4,Acompanhamento!I7863,0)","v":0},null,0,null,0,null,0,null,0]
[null,null,null,null,null,null,null,null,null,{"$f":"IF(H7866=Listas!$X$3,Acompanhamento!I7866,0)","v":0},{"$f":"IF(H7866=Listas!$X$4,Acompanhamento!I7866,0)","v":0},null,0,null,0,null,0,null,0]
[null,null,null,null,null,null,null,null,null,{"$f":"IF(H7869=Listas!$X$3,Acompanhamento!I7869,0)","v":0},{"$f":"IF(H7869=Listas!$X$4,Acompanhamento!I7869,0)","v":0},null,0,null,0,null,0,null,0]
[null,null,null,null,null,null,null,null,null,{"$f":"IF(H7872=Listas!$X$3,Acompanhamento!I7872,0)","v":0},{"$f":"IF(H7872=Listas!$X$4,Acompanhamento!I7872,0)","v":0},null,0,null,0,null,0,null,0]
[null,null,null,null,null,null,null,null,null,{"$f":"IF(H7877=Listas!$X$3,Acompanhamento!I7877,0)","v":0},{"$f":"IF(H7877=Listas!$X$4,Acompanhamento!I7877,0)","v":0},null,0,null,0,null,0,null,0]
[null,null,null,null,null,null,null,null,null,{"$f":"IF(H7880=Listas!$X$3,Acompanhamento!I7880,0)","v":0},{"$f":"IF(H7880=Listas!$X$4,Acompanhamento!I7880,0)","v":0},null,0,null,0,null,0,null,0]
[null,null,null,null,null,null,null,null,null,{"$f":"IF(H7884=Listas!$X$3,Acompanhamento!I7884,0)","v":0},{"$f":"IF(H7884=Listas!$X$4,Acompanhamento!I7884,0)","v":0},null,0,null,0,null,0,null,0]
[null,null,null,null,null,null,null,null,null,{"$f":"IF(H7885=Listas!$X$3,Acompanhamento!I7885,0)","v":0},{"$f":"IF(H7885=Listas!$X$4,Acompanhamento!I7885,0)","v":0},null,0,null,0,null,0,null,0]
[null,null,null,null,null,null,null,null,null,{"$f":"IF(H7889=Listas!$X$3,Acompanhamento!I7889,0)","v":0},{"$f":"IF(H7889=Listas!$X$4,Acompanhamento!I7889,0)","v":0},null,0,null,0,null,0,null,0]
[null,null,null,null,null,null,null,null,null,{"$f":"IF(H7892=Listas!$X$3,Acompanhamento!I7892,0)","v":0},{"$f":"IF(H7892=Listas!$X$4,Acompanhamento!I7892,0)","v":0},null,0,null,0,null,0,null,0]
[null,null,null,null,null,null,null,null,null,{"$f":"IF(H7895=Listas!$X$3,Acompanhamento!I7895,0)","v":0},{"$f":"IF(H7895=Listas!$X$4,Acompanhamento!I7895,0)","v":0},null,0,null,0,null,0,null,0]
[null,null,null,null,null,null,null,null,null,{"$f":"IF(H7898=Listas!$X$3,Acompanhamento!I7898,0)","v":0},{"$f":"IF(H7898=Listas!$X$4,Acompanhamento!I7898,0)","v":0},null,0,null,0,null,0,null,0]
[null,null,null,null,null,null,null,null,null,{"$f":"IF(H7903=Listas!$X$3,Acompanhamento!I7903,0)","v":0},{"$f":"IF(H7903=Listas!$X$4,Acompanhamento!I7903,0)","v":0},null,0,null,0,null,0,null,0]
[null,null,null,null,null,null,null,null,null,{"$f":"IF(H7907=Listas!$X$3,Acompanhamento!I7907,0)","v":0},{"$f":"IF(H7907=Listas!$X$4,Acompanhamento!I7907,0)","v":0},null,0,null,0,null,0,null,0]
[null,null,null,null,null,null,null,null,null,{"$f":"IF(H7910=Listas!$X$3,Acompanhamento!I7910,0)","v":0},{"$f":"IF(H7910=Listas!$X$4,Acompanhamento!I7910,0)","v":0},null,0,null,0,null,0,null,0]
[null,null,null,null,null,null,null,null,null,{"$f":"IF(H7911=Listas!$X$3,Acompanhamento!I7911,0)","v":0},{"$f":"IF(H7911=Listas!$X$4,Acompanhamento!I7911,0)","v":0},null,0,null,0,null,0,null,0]
[null,null,null,null,null,null,null,null,null,{"$f":"IF(H7915=Listas!$X$3,Acompanhamento!I7915,0)","v":0},{"$f":"IF(H7915=Listas!$X$4,Acompanhamento!I7915,0)","v":0},null,0,null,0,null,0,null,0]
[null,null,null,null,null,null,null,null,null,{"$f":"IF(H7918=Listas!$X$3,Acompanhamento!I7918,0)","v":0},{"$f":"IF(H7918=Listas!$X$4,Acompanhamento!I7918,0)","v":0},null,0,null,0,null,0,null,0]
[null,null,null,null,null,null,null,null,null,{"$f":"IF(H7921=Listas!$X$3,Acompanhamento!I7921,0)","v":0},{"$f":"IF(H7921=Listas!$X$4,Acompanhamento!I7921,0)","v":0},null,0,null,0,null,0,null,0]
[null,null,null,null,null,null,null,null,null,{"$f":"IF(H7924=Listas!$X$3,Acompanhamento!I7924,0)","v":0},{"$f":"IF(H7924=Listas!$X$4,Acompanhamento!I7924,0)","v":0},null,0,null,0,null,0,null,0]
[null,null,null,null,null,null,null,null,null,{"$f":"IF(H7929=Listas!$X$3,Acompanhamento!I7929,0)","v":0},{"$f":"IF(H7929=Listas!$X$4,Acompanhamento!I7929,0)","v":0},null,0,null,0,null,0,null,0]
[null,null,null,null,null,null,null,null,null,{"$f":"IF(H7933=Listas!$X$3,Acompanhamento!I7933,0)","v":0},{"$f":"IF(H7933=Listas!$X$4,Acompanhamento!I7933,0)","v":0},null,0,null,0,null,0,null,0]
[null,null,null,null,null,null,null,null,null,{"$f":"IF(H7936=Listas!$X$3,Acompanhamento!I7936,0)","v":0},{"$f":"IF(H7936=Listas!$X$4,Acompanhamento!I7936,0)","v":0},null,0,null,0,null,0,null,0]
[null,null,null,null,null,null,null,null,null,{"$f":"IF(H7937=Listas!$X$3,Acompanhamento!I7937,0)","v":0},{"$f":"IF(H7937=Listas!$X$4,Acompanhamento!I7937,0)","v":0},null,0,null,0,null,0,null,0]
[null,null,null,null,null,null,null,null,null,{"$f":"IF(H7941=Listas!$X$3,Acompanhamento!I7941,0)","v":0},{"$f":"IF(H7941=Listas!$X$4,Acompanhamento!I7941,0)","v":0},null,0,null,0,null,0,null,0]
[null,null,null,null,null,null,null,null,null,{"$f":"IF(H7944=Listas!$X$3,Acompanhamento!I7944,0)","v":0},{"$f":"IF(H7944=Listas!$X$4,Acompanhamento!I7944,0)","v":0},null,0,null,0,null,0,null,0]
[null,null,null,null,null,null,null,null,null,{"$f":"IF(H7947=Listas!$X$3,Acompanhamento!I7947,0)","v":0},{"$f":"IF(H7947=Listas!$X$4,Acompanhamento!I7947,0)","v":0},null,0,null,0,null,0,null,0]
[null,null,null,null,null,null,null,null,null,{"$f":"IF(H7950=Listas!$X$3,Acompanhamento!I7950,0)","v":0},{"$f":"IF(H7950=Listas!$X$4,Acompanhamento!I7950,0)","v":0},null,0,null,0,null,0,null,0]
[null,null,null,null,null,null,null,null,null,{"$f":"IF(H7955=Listas!$X$3,Acompanhamento!I7955,0)","v":0},{"$f":"IF(H7955=Listas!$X$4,Acompanhamento!I7955,0)","v":0},null,0,null,0,null,0,null,0]
[null,null,null,null,null,null,null,null,null,{"$f":"IF(H7959=Listas!$X$3,Acompanhamento!I7959,0)","v":0},{"$f":"IF(H7959=Listas!$X$4,Acompanhamento!I7959,0)","v":0},null,0,null,0,null,0,null,0]
[null,null,null,null,null,null,null,null,null,{"$f":"IF(H7962=Listas!$X$3,Acompanhamento!I7962,0)","v":0},{"$f":"IF(H7962=Listas!$X$4,Acompanhamento!I7962,0)","v":0},null,0,null,0,null,0,null,0]
[null,null,null,null,null,null,null,null,null,{"$f":"IF(H7963=Listas!$X$3,Acompanhamento!I7963,0)","v":0},{"$f":"IF(H7963=Listas!$X$4,Acompanhamento!I7963,0)","v":0},null,0,null,0,null,0,null,0]
[null,null,null,null,null,null,null,null,null,{"$f":"IF(H7967=Listas!$X$3,Acompanhamento!I7967,0)","v":0},{"$f":"IF(H7967=Listas!$X$4,Acompanhamento!I7967,0)","v":0},null,0,null,0,null,0,null,0]
[null,null,null,null,null,null,null,null,null,{"$f":"IF(H7970=Listas!$X$3,Acompanhamento!I7970,0)","v":0},{"$f":"IF(H7970=Listas!$X$4,Acompanhamento!I7970,0)","v":0},null,0,null,0,null,0,null,0]
[null,null,null,null,null,null,null,null,null,{"$f":"IF(H7974=Listas!$X$3,Acompanhamento!I7974,0)","v":0},{"$f":"IF(H7974=Listas!$X$4,Acompanhamento!I7974,0)","v":0},null,0,null,0,null,0,null,0]
[null,null,null,null,null,null,null,null,null,{"$f":"IF(H7976=Listas!$X$3,Acompanhamento!I7976,0)","v":0},{"$f":"IF(H7976=Listas!$X$4,Acompanhamento!I7976,0)","v":0},null,0,null,0,null,0,null,0]
[null,null,null,null,null,null,null,null,null,{"$f":"IF(H7981=Listas!$X$3,Acompanhamento!I7981,0)","v":0},{"$f":"IF(H7981=Listas!$X$4,Acompanhamento!I7981,0)","v":0},null,0,null,0,null,0,null,0]
[null,null,null,null,null,null,null,null,null,{"$f":"IF(H7985=Listas!$X$3,Acompanhamento!I7985,0)","v":0},{"$f":"IF(H7985=Listas!$X$4,Acompanhamento!I7985,0)","v":0},null,0,null,0,null,0,null,0]
[null,null,null,null,null,null,null,null,null,{"$f":"IF(H7988=Listas!$X$3,Acompanhamento!I7988,0)","v":0},{"$f":"IF(H7988=Listas!$X$4,Acompanhamento!I7988,0)","v":0},null,0,null,0,null,0,null,0]
[null,null,null,null,null,null,null,null,null,{"$f":"IF(H7989=Listas!$X$3,Acompanhamento!I7989,0)","v":0},{"$f":"IF(H7989=Listas!$X$4,Acompanhamento!I7989,0)","v":0},null,0,null,0,null,0,null,0]
[null,null,null,null,null,null,null,null,null,{"$f":"IF(H7993=Listas!$X$3,Acompanhamento!I7993,0)","v":0},{"$f":"IF(H7993=Listas!$X$4,Acompanhamento!I7993,0)","v":0},null,0,null,0,null,0,null,0]
[null,null,null,null,null,null,null,null,null,{"$f":"IF(H7996=Listas!$X$3,Acompanhamento!I7996,0)","v":0},{"$f":"IF(H7996=Listas!$X$4,Acompanhamento!I7996,0)","v":0},null,0,null,0,null,0,null,0]
[null,null,null,null,null,null,null,null,null,{"$f":"IF(H8000=Listas!$X$3,Acompanhamento!I8000,0)","v":0},{"$f":"IF(H8000=Listas!$X$4,Acompanhamento!I8000,0)","v":0},null,0,null,0,null,0,null,0]
[null,null,null,null,null,null,null,null,null,{"$f":"IF(H8002=Listas!$X$3,Acompanhamento!I8002,0)","v":0},{"$f":"IF(H8002=Listas!$X$4,Acompanhamento!I8002,0)","v":0},null,0,null,0,null,0,null,0]
[null,null,null,null,null,null,null,null,null,{"$f":"IF(H8007=Listas!$X$3,Acompanhamento!I8007,0)","v":0},{"$f":"IF(H8007=Listas!$X$4,Acompanhamento!I8007,0)","v":0},null,0,null,0,null,0,null,0]
[null,null,null,null,null,null,null,null,null,{"$f":"IF(H8011=Listas!$X$3,Acompanhamento!I8011,0)","v":0},{"$f":"IF(H8011=Listas!$X$4,Acompanhamento!I8011,0)","v":0},null,0,null,0,null,0,null,0]
[null,null,null,null,null,null,null,null,null,{"$f":"IF(H8014=Listas!$X$3,Acompanhamento!I8014,0)","v":0},{"$f":"IF(H8014=Listas!$X$4,Acompanhamento!I8014,0)","v":0},null,0,null,0,null,0,null,0]
[null,null,null,null,null,null,null,null,null,{"$f":"IF(H8015=Listas!$X$3,Acompanhamento!I8015,0)","v":0},{"$f":"IF(H8015=Listas!$X$4,Acompanhamento!I8015,0)","v":0},null,0,null,0,null,0,null,0]
[null,null,null,null,null,null,null,null,null,{"$f":"IF(H8019=Listas!$X$3,Acompanhamento!I8019,0)","v":0},{"$f":"IF(H8019=Listas!$X$4,Acompanhamento!I8019,0)","v":0},null,0,null,0,null,0,null,0]
[null,null,null,null,null,null,null,null,null,{"$f":"IF(H8022=Listas!$X$3,Acompanhamento!I8022,0)","v":0},{"$f":"IF(H8022=Listas!$X$4,Acompanhamento!I8022,0)","v":0},null,0,null,0,null,0,null,0]
[null,null,null,null,null,null,null,null,null,{"$f":"IF(H8026=Listas!$X$3,Acompanhamento!I8026,0)","v":0},{"$f":"IF(H8026=Listas!$X$4,Acompanhamento!I8026,0)","v":0},null,0,null,0,null,0,null,0]
[null,null,null,null,null,null,null,null,null,{"$f":"IF(H8028=Listas!$X$3,Acompanhamento!I8028,0)","v":0},{"$f":"IF(H8028=Listas!$X$4,Acompanhamento!I8028,0)","v":0},null,0,null,0,null,0,null,0]
[null,null,null,null,null,null,null,null,null,{"$f":"IF(H8033=Listas!$X$3,Acompanhamento!I8033,0)","v":0},{"$f":"IF(H8033=Listas!$X$4,Acompanhamento!I8033,0)","v":0},null,0,null,0,null,0,null,0]
[null,null,null,null,null,null,null,null,null,{"$f":"IF(H8037=Listas!$X$3,Acompanhamento!I8037,0)","v":0},{"$f":"IF(H8037=Listas!$X$4,Acompanhamento!I8037,0)","v":0},null,0,null,0,null,0,null,0]
[null,null,null,null,null,null,null,null,null,{"$f":"IF(H8040=Listas!$X$3,Acompanhamento!I8040,0)","v":0},{"$f":"IF(H8040=Listas!$X$4,Acompanhamento!I8040,0)","v":0},null,0,null,0,null,0,null,0]
[null,null,null,null,null,null,null,null,null,{"$f":"IF(H8041=Listas!$X$3,Acompanhamento!I8041,0)","v":0},{"$f":"IF(H8041=Listas!$X$4,Acompanhamento!I8041,0)","v":0},null,0,null,0,null,0,null,0]
[null,null,null,null,null,null,null,null,null,{"$f":"IF(H8045=Listas!$X$3,Acompanhamento!I8045,0)","v":0},{"$f":"IF(H8045=Listas!$X$4,Acompanhamento!I8045,0)","v":0},null,0,null,0,null,0,null,0]
[null,null,null,null,null,null,null,null,null,{"$f":"IF(H8048=Listas!$X$3,Acompanhamento!I8048,0)","v":0},{"$f":"IF(H8048=Listas!$X$4,Acompanhamento!I8048,0)","v":0},null,0,null,0,null,0,null,0]
[null,null,null,null,null,null,null,null,null,{"$f":"IF(H8052=Listas!$X$3,Acompanhamento!I8052,0)","v":0},{"$f":"IF(H8052=Listas!$X$4,Acompanhamento!I8052,0)","v":0},null,0,null,0,null,0,null,0]
[null,null,null,null,null,null,null,null,null,{"$f":"IF(H8054=Listas!$X$3,Acompanhamento!I8054,0)","v":0},{"$f":"IF(H8054=Listas!$X$4,Acompanhamento!I8054,0)","v":0},null,0,null,0,null,0,null,0]
[null,null,null,null,null,null,null,null,null,{"$f":"IF(H8059=Listas!$X$3,Acompanhamento!I8059,0)","v":0},{"$f":"IF(H8059=Listas!$X$4,Acompanhamento!I8059,0)","v":0},null,0,null,0,null,0,null,0]
[null,null,null,null,null,null,null,null,null,{"$f":"IF(H8063=Listas!$X$3,Acompanhamento!I8063,0)","v":0},{"$f":"IF(H8063=Listas!$X$4,Acompanhamento!I8063,0)","v":0},null,0,null,0,null,0,null,0]
[null,null,null,null,null,null,null,null,null,{"$f":"IF(H8066=Listas!$X$3,Acompanhamento!I8066,0)","v":0},{"$f":"IF(H8066=Listas!$X$4,Acompanhamento!I8066,0)","v":0},null,0,null,0,null,0,null,0]
[null,null,null,null,null,null,null,null,null,{"$f":"IF(H8067=Listas!$X$3,Acompanhamento!I8067,0)","v":0},{"$f":"IF(H8067=Listas!$X$4,Acompanhamento!I8067,0)","v":0},null,0,null,0,null,0,null,0]
[null,null,null,null,null,null,null,null,null,{"$f":"IF(H8071=Listas!$X$3,Acompanhamento!I8071,0)","v":0},{"$f":"IF(H8071=Listas!$X$4,Acompanhamento!I8071,0)","v":0},null,0,null,0,null,0,null,0]
[null,null,null,null,null,null,null,null,null,{"$f":"IF(H8074=Listas!$X$3,Acompanhamento!I8074,0)","v":0},{"$f":"IF(H8074=Listas!$X$4,Acompanhamento!I8074,0)","v":0},null,{"$f":"J8074-L8074","v":0},null,{"$f":"M8074-N8074","v":0},null,{"$f":"O8074-P8074","v":0},null,{"$f":"Q8074-R8074","v":0}]
[null,null,null,null,null,null,null,null,null,{"$f":"IF(H8078=Listas!$X$3,Acompanhamento!I8078,0)","v":0},{"$f":"IF(H8078=Listas!$X$4,Acompanhamento!I8078,0)","v":0},null,0,null,0,null,0,null,0]
[null,null,null,null,null,null,null,null,null,{"$f":"IF(H8080=Listas!$X$3,Acompanhamento!I8080,0)","v":0},{"$f":"IF(H8080=Listas!$X$4,Acompanhamento!I8080,0)","v":0},null,0,null,0,null,0,null,0]
[null,null,null,null,null,null,null,null,null,{"$f":"IF(H8086=Listas!$X$3,Acompanhamento!I8086,0)","v":0},{"$f":"IF(H8086=Listas!$X$4,Acompanhamento!I8086,0)","v":0},null,0,null,0,null,0,null,0]
[null,null,null,null,null,null,null,null,null,{"$f":"IF(H8089=Listas!$X$3,Acompanhamento!I8089,0)","v":0},{"$f":"IF(H8089=Listas!$X$4,Acompanhamento!I8089,0)","v":0},null,0,null,0,null,0,null,0]
[null,null,null,null,null,null,null,null,null,{"$f":"IF(H8092=Listas!$X$3,Acompanhamento!I8092,0)","v":0},{"$f":"IF(H8092=Listas!$X$4,Acompanhamento!I8092,0)","v":0},null,0,null,0,null,0,null,0]
[null,null,null,null,null,null,null,null,null,{"$f":"IF(H8093=Listas!$X$3,Acompanhamento!I8093,0)","v":0},{"$f":"IF(H8093=Listas!$X$4,Acompanhamento!I8093,0)","v":0},null,0,null,0,null,0,null,0]
[null,null,null,null,null,null,null,null,null,{"$f":"IF(H8097=Listas!$X$3,Acompanhamento!I8097,0)","v":0},{"$f":"IF(H8097=Listas!$X$4,Acompanhamento!I8097,0)","v":0},null,0,null,0,null,0,null,0]
[null,null,null,null,null,null,null,null,null,{"$f":"IF(H8100=Listas!$X$3,Acompanhamento!I8100,0)","v":0},{"$f":"IF(H8100=Listas!$X$4,Acompanhamento!I8100,0)","v":0},null,0,null,0,null,0,null,0]
[null,null,null,null,null,null,null,null,null,{"$f":"IF(H8104=Listas!$X$3,Acompanhamento!I8104,0)","v":0},{"$f":"IF(H8104=Listas!$X$4,Acompanhamento!I8104,0)","v":0},null,0,null,0,null,0,null,0]
[null,null,null,null,null,null,null,null,null,{"$f":"IF(H8106=Listas!$X$3,Acompanhamento!I8106,0)","v":0},{"$f":"IF(H8106=Listas!$X$4,Acompanhamento!I8106,0)","v":0},null,0,null,0,null,0,null,0]
[null,null,null,null,null,null,null,null,null,{"$f":"IF(H8112=Listas!$X$3,Acompanhamento!I8112,0)","v":0},{"$f":"IF(H8112=Listas!$X$4,Acompanhamento!I8112,0)","v":0},null,0,null,0,null,0,null,0]
[null,null,null,null,null,null,null,null,null,{"$f":"IF(H8115=Listas!$X$3,Acompanhamento!I8115,0)","v":0},{"$f":"IF(H8115=Listas!$X$4,Acompanhamento!I8115,0)","v":0},null,0,null,0,null,0,null,0]
[null,null,null,null,null,null,null,null,null,{"$f":"IF(H8118=Listas!$X$3,Acompanhamento!I8118,0)","v":0},{"$f":"IF(H8118=Listas!$X$4,Acompanhamento!I8118,0)","v":0},null,0,null,0,null,0,null,0]
[null,null,null,null,null,null,null,null,null,{"$f":"IF(H8119=Listas!$X$3,Acompanhamento!I8119,0)","v":0},{"$f":"IF(H8119=Listas!$X$4,Acompanhamento!I8119,0)","v":0},null,0,null,0,null,0,null,0]
[null,null,null,null,null,null,null,null,null,{"$f":"IF(H8123=Listas!$X$3,Acompanhamento!I8123,0)","v":0},{"$f":"IF(H8123=Listas!$X$4,Acompanhamento!I8123,0)","v":0},null,0,null,0,null,0,null,0]
[null,null,null,null,null,null,null,null,null,{"$f":"IF(H8127=Listas!$X$3,Acompanhamento!I8127,0)","v":0},{"$f":"IF(H8127=Listas!$X$4,Acompanhamento!I8127,0)","v":0},null,0,null,0,null,0,null,0]
[null,null,null,null,null,null,null,null,null,{"$f":"IF(H8130=Listas!$X$3,Acompanhamento!I8130,0)","v":0},{"$f":"IF(H8130=Listas!$X$4,Acompanhamento!I8130,0)","v":0},null,0,null,0,null,0,null,0]
[null,null,null,null,null,null,null,null,null,{"$f":"IF(H8132=Listas!$X$3,Acompanhamento!I8132,0)","v":0},{"$f":"IF(H8132=Listas!$X$4,Acompanhamento!I8132,0)","v":0},null,0,null,0,null,0,null,0]
[null,null,null,null,null,null,null,null,null,{"$f":"IF(H8138=Listas!$X$3,Acompanhamento!I8138,0)","v":0},{"$f":"IF(H8138=Listas!$X$4,Acompanhamento!I8138,0)","v":0},null,{"$f":"J8138-L8138","v":0},null,{"$f":"M8138-N8138","v":0},null,{"$f":"O8138-P8138","v":0},null,{"$f":"Q8138-R8138","v":0}]
[null,null,null,null,null,null,null,null,null,{"$f":"IF(H8141=Listas!$X$3,Acompanhamento!I8141,0)","v":0},{"$f":"IF(H8141=Listas!$X$4,Acompanhamento!I8141,0)","v":0},null,0,null,0,null,0,null,0]
[null,null,null,null,null,null,null,null,null,{"$f":"IF(H8144=Listas!$X$3,Acompanhamento!I8144,0)","v":0},{"$f":"IF(H8144=Listas!$X$4,Acompanhamento!I8144,0)","v":0},null,0,null,0,null,0,null,0]
[null,null,null,null,null,null,null,null,null,{"$f":"IF(H8145=Listas!$X$3,Acompanhamento!I8145,0)","v":0},{"$f":"IF(H8145=Listas!$X$4,Acompanhamento!I8145,0)","v":0},null,0,null,0,null,0,null,0]
[null,null,null,null,null,null,null,null,null,{"$f":"IF(H8149=Listas!$X$3,Acompanhamento!I8149,0)","v":0},{"$f":"IF(H8149=Listas!$X$4,Acompanhamento!I8149,0)","v":0},null,0,null,0,null,0,null,0]
[null,null,null,null,null,null,null,null,null,{"$f":"IF(H8153=Listas!$X$3,Acompanhamento!I8153,0)","v":0},{"$f":"IF(H8153=Listas!$X$4,Acompanhamento!I8153,0)","v":0},null,0,null,0,null,0,null,0]
[null,null,null,null,null,null,null,null,null,{"$f":"IF(H8156=Listas!$X$3,Acompanhamento!I8156,0)","v":0},{"$f":"IF(H8156=Listas!$X$4,Acompanhamento!I8156,0)","v":0},null,0,null,0,null,0,null,0]
[null,null,null,null,null,null,null,null,null,{"$f":"IF(H8158=Listas!$X$3,Acompanhamento!I8158,0)","v":0},{"$f":"IF(H8158=Listas!$X$4,Acompanhamento!I8158,0)","v":0},null,0,null,0,null,0,null,0]
[null,null,null,null,null,null,null,null,null,{"$f":"IF(H8164=Listas!$X$3,Acompanhamento!I8164,0)","v":0},{"$f":"IF(H8164=Listas!$X$4,Acompanhamento!I8164,0)","v":0},null,0,null,0,null,0,null,0]
[null,null,null,null,null,null,null,null,null,{"$f":"IF(H8167=Listas!$X$3,Acompanhamento!I8167,0)","v":0},{"$f":"IF(H8167=Listas!$X$4,Acompanhamento!I8167,0)","v":0},null,0,null,0,null,0,null,0]
[null,null,null,null,null,null,null,null,null,{"$f":"IF(H8170=Listas!$X$3,Acompanhamento!I8170,0)","v":0},{"$f":"IF(H8170=Listas!$X$4,Acompanhamento!I8170,0)","v":0},null,0,null,0,null,0,null,0]
[null,null,null,null,null,null,null,null,null,{"$f":"IF(H8171=Listas!$X$3,Acompanhamento!I8171,0)","v":0},{"$f":"IF(H8171=Listas!$X$4,Acompanhamento!I8171,0)","v":0},null,0,null,0,null,0,null,0]
[null,null,null,null,null,null,null,null,null,{"$f":"IF(H8175=Listas!$X$3,Acompanhamento!I8175,0)","v":0},{"$f":"IF(H8175=Listas!$X$4,Acompanhamento!I8175,0)","v":0},null,0,null,0,null,0,null,0]
[null,null,null,null,null,null,null,null,null,{"$f":"IF(H8179=Listas!$X$3,Acompanhamento!I8179,0)","v":0},{"$f":"IF(H8179=Listas!$X$4,Acompanhamento!I8179,0)","v":0},null,0,null,0,null,0,null,0]
[null,null,null,null,null,null,null,null,null,{"$f":"IF(H8182=Listas!$X$3,Acompanhamento!I8182,0)","v":0},{"$f":"IF(H8182=Listas!$X$4,Acompanhamento!I8182,0)","v":0},null,0,null,0,null,0,null,0]
[null,null,null,null,null,null,null,null,null,{"$f":"IF(H8184=Listas!$X$3,Acompanhamento!I8184,0)","v":0},{"$f":"IF(H8184=Listas!$X$4,Acompanhamento!I8184,0)","v":0},null,0,null,0,null,0,null,0]
[null,null,null,null,null,null,null,null,null,{"$f":"IF(H8190=Listas!$X$3,Acompanhamento!I8190,0)","v":0},{"$f":"IF(H8190=Listas!$X$4,Acompanhamento!I8190,0)","v":0},null,0,null,0,null,0,null,0]
[null,null,null,null,null,null,null,null,null,{"$f":"IF(H8193=Listas!$X$3,Acompanhamento!I8193,0)","v":0},{"$f":"IF(H8193=Listas!$X$4,Acompanhamento!I8193,0)","v":0},null,0,null,0,null,0,null,0]
[null,null,null,null,null,null,null,null,null,{"$f":"IF(H8194=Listas!$X$3,Acompanhamento!I8194,0)","v":0},{"$f":"IF(H8194=Listas!$X$4,Acompanhamento!I8194,0)","v":0},null,0,null,0,null,0,null,0]
[null,null,null,null,null,null,null,null,null,{"$f":"IF(H8197=Listas!$X$3,Acompanhamento!I8197,0)","v":0},{"$f":"IF(H8197=Listas!$X$4,Acompanhamento!I8197,0)","v":0},null,0,null,0,null,0,null,0]
[null,null,null,null,null,null,null,null,null,{"$f":"IF(H8201=Listas!$X$3,Acompanhamento!I8201,0)","v":0},{"$f":"IF(H8201=Listas!$X$4,Acompanhamento!I8201,0)","v":0},null,0,null,0,null,0,null,0]
[null,null,null,null,null,null,null,null,null,{"$f":"IF(H8205=Listas!$X$3,Acompanhamento!I8205,0)","v":0},{"$f":"IF(H8205=Listas!$X$4,Acompanhamento!I8205,0)","v":0},null,0,null,0,null,0,null,0]
[null,null,null,null,null,null,null,null,null,{"$f":"IF(H8208=Listas!$X$3,Acompanhamento!I8208,0)","v":0},{"$f":"IF(H8208=Listas!$X$4,Acompanhamento!I8208,0)","v":0},null,0,null,0,null,0,null,0]
[null,null,null,null,null,null,null,null,null,{"$f":"IF(H8210=Listas!$X$3,Acompanhamento!I8210,0)","v":0},{"$f":"IF(H8210=Listas!$X$4,Acompanhamento!I8210,0)","v":0},null,0,null,0,null,0,null,0]
[null,null,null,null,null,null,null,null,null,{"$f":"IF(H8216=Listas!$X$3,Acompanhamento!I8216,0)","v":0},{"$f":"IF(H8216=Listas!$X$4,Acompanhamento!I8216,0)","v":0},null,0,null,0,null,0,null,0]
[null,null,null,null,null,null,null,null,null,{"$f":"IF(H8219=Listas!$X$3,Acompanhamento!I8219,0)","v":0},{"$f":"IF(H8219=Listas!$X$4,Acompanhamento!I8219,0)","v":0},null,0,null,0,null,0,null,0]
[null,null,null,null,null,null,null,null,null,{"$f":"IF(H8220=Listas!$X$3,Acompanhamento!I8220,0)","v":0},{"$f":"IF(H8220=Listas!$X$4,Acompanhamento!I8220,0)","v":0},null,0,null,0,null,0,null,0]
[null,null,null,null,null,null,null,null,null,{"$f":"IF(H8223=Listas!$X$3,Acompanhamento!I8223,0)","v":0},{"$f":"IF(H8223=Listas!$X$4,Acompanhamento!I8223,0)","v":0},null,0,null,0,null,0,null,0]
[null,null,null,null,null,null,null,null,null,{"$f":"IF(H8227=Listas!$X$3,Acompanhamento!I8227,0)","v":0},{"$f":"IF(H8227=Listas!$X$4,Acompanhamento!I8227,0)","v":0},null,0,null,0,null,0,null,0]
[null,null,null,null,null,null,null,null,null,{"$f":"IF(H8231=Listas!$X$3,Acompanhamento!I8231,0)","v":0},{"$f":"IF(H8231=Listas!$X$4,Acompanhamento!I8231,0)","v":0},null,0,null,0,null,0,null,0]
[null,null,null,null,null,null,null,null,null,{"$f":"IF(H8234=Listas!$X$3,Acompanhamento!I8234,0)","v":0},{"$f":"IF(H8234=Listas!$X$4,Acompanhamento!I8234,0)","v":0},null,0,null,0,null,0,null,0]
[null,null,null,null,null,null,null,null,null,{"$f":"IF(H8236=Listas!$X$3,Acompanhamento!I8236,0)","v":0},{"$f":"IF(H8236=Listas!$X$4,Acompanhamento!I8236,0)","v":0},null,0,null,0,null,0,null,0]
[null,null,null,null,null,null,null,null,null,{"$f":"IF(H8242=Listas!$X$3,Acompanhamento!I8242,0)","v":0},{"$f":"IF(H8242=Listas!$X$4,Acompanhamento!I8242,0)","v":0},null,0,null,0,null,0,null,0]
[null,null,null,null,null,null,null,null,null,{"$f":"IF(H8245=Listas!$X$3,Acompanhamento!I8245,0)","v":0},{"$f":"IF(H8245=Listas!$X$4,Acompanhamento!I8245,0)","v":0},null,0,null,0,null,0,null,0]
[null,null,null,null,null,null,null,null,null,{"$f":"IF(H8246=Listas!$X$3,Acompanhamento!I8246,0)","v":0},{"$f":"IF(H8246=Listas!$X$4,Acompanhamento!I8246,0)","v":0},null,0,null,0,null,0,null,0]
[null,null,null,null,null,null,null,null,null,{"$f":"IF(H8249=Listas!$X$3,Acompanhamento!I8249,0)","v":0},{"$f":"IF(H8249=Listas!$X$4,Acompanhamento!I8249,0)","v":0},null,0,null,0,null,0,null,0]
[null,null,null,null,null,null,null,null,null,{"$f":"IF(H8253=Listas!$X$3,Acompanhamento!I8253,0)","v":0},{"$f":"IF(H8253=Listas!$X$4,Acompanhamento!I8253,0)","v":0},null,0,null,0,null,0,null,0]
[null,null,null,null,null,null,null,null,null,{"$f":"IF(H8257=Listas!$X$3,Acompanhamento!I8257,0)","v":0},{"$f":"IF(H8257=Listas!$X$4,Acompanhamento!I8257,0)","v":0},null,0,null,0,null,0,null,0]
[null,null,null,null,null,null,null,null,null,{"$f":"IF(H8260=Listas!$X$3,Acompanhamento!I8260,0)","v":0},{"$f":"IF(H8260=Listas!$X$4,Acompanhamento!I8260,0)","v":0},null,0,null,0,null,0,null,0]
[null,null,null,null,null,null,null,null,null,{"$f":"IF(H8262=Listas!$X$3,Acompanhamento!I8262,0)","v":0},{"$f":"IF(H8262=Listas!$X$4,Acompanhamento!I8262,0)","v":0},null,0,null,0,null,0,null,0]
[null,null,null,null,null,null,null,null,null,{"$f":"IF(H8268=Listas!$X$3,Acompanhamento!I8268,0)","v":0},{"$f":"IF(H8268=Listas!$X$4,Acompanhamento!I8268,0)","v":0},null,0,null,0,null,0,null,0]
[null,null,null,null,null,null,null,null,null,{"$f":"IF(H8271=Listas!$X$3,Acompanhamento!I8271,0)","v":0},{"$f":"IF(H8271=Listas!$X$4,Acompanhamento!I8271,0)","v":0},null,0,null,0,null,0,null,0]
[null,null,null,null,null,null,null,null,null,{"$f":"IF(H8272=Listas!$X$3,Acompanhamento!I8272,0)","v":0},{"$f":"IF(H8272=Listas!$X$4,Acompanhamento!I8272,0)","v":0},null,0,null,0,null,0,null,0]
[null,null,null,null,null,null,null,null,null,{"$f":"IF(H8275=Listas!$X$3,Acompanhamento!I8275,0)","v":0},{"$f":"IF(H8275=Listas!$X$4,Acompanhamento!I8275,0)","v":0},null,0,null,0,null,0,null,0]
[null,null,null,null,null,null,null,null,null,{"$f":"IF(H8279=Listas!$X$3,Acompanhamento!I8279,0)","v":0},{"$f":"IF(H8279=Listas!$X$4,Acompanhamento!I8279,0)","v":0},null,0,null,0,null,0,null,0]
[null,null,null,null,null,null,null,null,null,{"$f":"IF(H8283=Listas!$X$3,Acompanhamento!I8283,0)","v":0},{"$f":"IF(H8283=Listas!$X$4,Acompanhamento!I8283,0)","v":0},null,0,null,0,null,0,null,0]
[null,null,null,null,null,null,null,null,null,{"$f":"IF(H8286=Listas!$X$3,Acompanhamento!I8286,0)","v":0},{"$f":"IF(H8286=Listas!$X$4,Acompanhamento!I8286,0)","v":0},null,0,null,0,null,0,null,0]
[null,null,null,null,null,null,null,null,null,{"$f":"IF(H8288=Listas!$X$3,Acompanhamento!I8288,0)","v":0},{"$f":"IF(H8288=Listas!$X$4,Acompanhamento!I8288,0)","v":0},null,0,null,0,null,0,null,0]
[null,null,null,null,null,null,null,null,null,{"$f":"IF(H8294=Listas!$X$3,Acompanhamento!I8294,0)","v":0},{"$f":"IF(H8294=Listas!$X$4,Acompanhamento!I8294,0)","v":0},null,0,null,0,null,0,null,0]
[null,null,null,null,null,null,null,null,null,{"$f":"IF(H8297=Listas!$X$3,Acompanhamento!I8297,0)","v":0},{"$f":"IF(H8297=Listas!$X$4,Acompanhamento!I8297,0)","v":0},null,0,null,0,null,0,null,0]
[null,null,null,null,null,null,null,null,null,{"$f":"IF(H8298=Listas!$X$3,Acompanhamento!I8298,0)","v":0},{"$f":"IF(H8298=Listas!$X$4,Acompanhamento!I8298,0)","v":0},null,0,null,0,null,0,null,0]
[null,null,null,null,null,null,null,null,null,{"$f":"IF(H8301=Listas!$X$3,Acompanhamento!I8301,0)","v":0},{"$f":"IF(H8301=Listas!$X$4,Acompanhamento!I8301,0)","v":0},null,0,null,0,null,0,null,0]
[null,null,null,null,null,null,null,null,null,{"$f":"IF(H8306=Listas!$X$3,Acompanhamento!I8306,0)","v":0},{"$f":"IF(H8306=Listas!$X$4,Acompanhamento!I8306,0)","v":0},null,0,null,0,null,0,null,0]
[null,null,null,null,null,null,null,null,null,{"$f":"IF(H8309=Listas!$X$3,Acompanhamento!I8309,0)","v":0},{"$f":"IF(H8309=Listas!$X$4,Acompanhamento!I8309,0)","v":0},null,0,null,0,null,0,null,0]
[null,null,null,null,null,null,null,null,null,{"$f":"IF(H8312=Listas!$X$3,Acompanhamento!I8312,0)","v":0},{"$f":"IF(H8312=Listas!$X$4,Acompanhamento!I8312,0)","v":0},null,0,null,0,null,0,null,0]
[null,null,null,null,null,null,null,null,null,{"$f":"IF(H8314=Listas!$X$3,Acompanhamento!I8314,0)","v":0},{"$f":"IF(H8314=Listas!$X$4,Acompanhamento!I8314,0)","v":0},null,0,null,0,null,0,null,0]
[null,null,null,null,null,null,null,null,null,{"$f":"IF(H8320=Listas!$X$3,Acompanhamento!I8320,0)","v":0},{"$f":"IF(H8320=Listas!$X$4,Acompanhamento!I8320,0)","v":0},null,0,null,0,null,0,null,0]
[null,null,null,null,null,null,null,null,null,{"$f":"IF(H8323=Listas!$X$3,Acompanhamento!I8323,0)","v":0},{"$f":"IF(H8323=Listas!$X$4,Acompanhamento!I8323,0)","v":0},null,0,null,0,null,0,null,0]
[null,null,null,null,null,null,null,null,null,{"$f":"IF(H8324=Listas!$X$3,Acompanhamento!I8324,0)","v":0},{"$f":"IF(H8324=Listas!$X$4,Acompanhamento!I8324,0)","v":0},null,0,null,0,null,0,null,0]
[null,null,null,null,null,null,null,null,null,{"$f":"IF(H8327=Listas!$X$3,Acompanhamento!I8327,0)","v":0},{"$f":"IF(H8327=Listas!$X$4,Acompanhamento!I8327,0)","v":0},null,0,null,0,null,0,null,0]
[null,null,null,null,null,null,null,null,null,{"$f":"IF(H8332=Listas!$X$3,Acompanhamento!I8332,0)","v":0},{"$f":"IF(H8332=Listas!$X$4,Acompanhamento!I8332,0)","v":0},null,0,null,0,null,0,null,0]
[null,null,null,null,null,null,null,null,null,{"$f":"IF(H8335=Listas!$X$3,Acompanhamento!I8335,0)","v":0},{"$f":"IF(H8335=Listas!$X$4,Acompanhamento!I8335,0)","v":0},null,0,null,0,null,0,null,0]
[null,null,null,null,null,null,null,null,null,{"$f":"IF(H8338=Listas!$X$3,Acompanhamento!I8338,0)","v":0},{"$f":"IF(H8338=Listas!$X$4,Acompanhamento!I8338,0)","v":0},null,0,null,0,null,0,null,0]
[null,null,null,null,null,null,null,null,null,{"$f":"IF(H8340=Listas!$X$3,Acompanhamento!I8340,0)","v":0},{"$f":"IF(H8340=Listas!$X$4,Acompanhamento!I8340,0)","v":0},null,0,null,0,null,0,null,0]
[null,null,null,null,null,null,null,null,null,{"$f":"IF(H8346=Listas!$X$3,Acompanhamento!I8346,0)","v":0},{"$f":"IF(H8346=Listas!$X$4,Acompanhamento!I8346,0)","v":0},null,0,null,0,null,0,null,0]
[null,null,null,null,null,null,null,null,null,{"$f":"IF(H8349=Listas!$X$3,Acompanhamento!I8349,0)","v":0},{"$f":"IF(H8349=Listas!$X$4,Acompanhamento!I8349,0)","v":0},null,0,null,0,null,0,null,0]
[null,null,null,null,null,null,null,null,null,{"$f":"IF(H8350=Listas!$X$3,Acompanhamento!I8350,0)","v":0},{"$f":"IF(H8350=Listas!$X$4,Acompanhamento!I8350,0)","v":0},null,0,null,0,null,0,null,0]
[null,null,null,null,null,null,null,null,null,{"$f":"IF(H8353=Listas!$X$3,Acompanhamento!I8353,0)","v":0},{"$f":"IF(H8353=Listas!$X$4,Acompanhamento!I8353,0)","v":0},null,0,null,0,null,0,null,0]
[null,null,null,null,null,null,null,null,null,{"$f":"IF(H8358=Listas!$X$3,Acompanhamento!I8358,0)","v":0},{"$f":"IF(H8358=Listas!$X$4,Acompanhamento!I8358,0)","v":0},null,0,null,0,null,0,null,0]
[null,null,null,null,null,null,null,null,null,{"$f":"IF(H8361=Listas!$X$3,Acompanhamento!I8361,0)","v":0},{"$f":"IF(H8361=Listas!$X$4,Acompanhamento!I8361,0)","v":0},null,0,null,0,null,0,null,0]
[null,null,null,null,null,null,null,null,null,{"$f":"IF(H8364=Listas!$X$3,Acompanhamento!I8364,0)","v":0},{"$f":"IF(H8364=Listas!$X$4,Acompanhamento!I8364,0)","v":0},null,0,null,0,null,0,null,0]
[null,null,null,null,null,null,null,null,null,{"$f":"IF(H8366=Listas!$X$3,Acompanhamento!I8366,0)","v":0},{"$f":"IF(H8366=Listas!$X$4,Acompanhamento!I8366,0)","v":0},null,0,null,0,null,0,null,0]
[null,null,null,null,null,null,null,null,null,{"$f":"IF(H8372=Listas!$X$3,Acompanhamento!I8372,0)","v":0},{"$f":"IF(H8372=Listas!$X$4,Acompanhamento!I8372,0)","v":0},null,0,null,0,null,0,null,0]
[null,null,null,null,null,null,null,null,null,{"$f":"IF(H8373=Listas!$X$3,Acompanhamento!I8373,0)","v":0},{"$f":"IF(H8373=Listas!$X$4,Acompanhamento!I8373,0)","v":0},null,0,null,0,null,0,null,0]
[null,null,null,null,null,null,null,null,null,{"$f":"IF(H8376=Listas!$X$3,Acompanhamento!I8376,0)","v":0},{"$f":"IF(H8376=Listas!$X$4,Acompanhamento!I8376,0)","v":0},null,0,null,0,null,0,null,0]
[null,null,null,null,null,null,null,null,null,{"$f":"IF(H8379=Listas!$X$3,Acompanhamento!I8379,0)","v":0},{"$f":"IF(H8379=Listas!$X$4,Acompanhamento!I8379,0)","v":0},null,0,null,0,null,0,null,0]
[null,null,null,null,null,null,null,null,null,{"$f":"IF(H8384=Listas!$X$3,Acompanhamento!I8384,0)","v":0},{"$f":"IF(H8384=Listas!$X$4,Acompanhamento!I8384,0)","v":0},null,0,null,0,null,0,null,0]
[null,null,null,null,null,null,null,null,null,{"$f":"IF(H8387=Listas!$X$3,Acompanhamento!I8387,0)","v":0},{"$f":"IF(H8387=Listas!$X$4,Acompanhamento!I8387,0)","v":0},null,0,null,0,null,0,null,0]
[null,null,null,null,null,null,null,null,null,{"$f":"IF(H8390=Listas!$X$3,Acompanhamento!I8390,0)","v":0},{"$f":"IF(H8390=Listas!$X$4,Acompanhamento!I8390,0)","v":0},null,0,null,0,null,0,null,0]
[null,null,null,null,null,null,null,null,null,{"$f":"IF(H8392=Listas!$X$3,Acompanhamento!I8392,0)","v":0},{"$f":"IF(H8392=Listas!$X$4,Acompanhamento!I8392,0)","v":0},null,0,null,0,null,0,null,0]
[null,null,null,null,null,null,null,null,null,{"$f":"IF(H8398=Listas!$X$3,Acompanhamento!I8398,0)","v":0},{"$f":"IF(H8398=Listas!$X$4,Acompanhamento!I8398,0)","v":0},null,0,null,0,null,0,null,0]
[null,null,null,null,null,null,null,null,null,{"$f":"IF(H8399=Listas!$X$3,Acompanhamento!I8399,0)","v":0},{"$f":"IF(H8399=Listas!$X$4,Acompanhamento!I8399,0)","v":0},null,0,null,0,null,0,null,0]
[null,null,null,null,null,null,null,null,null,{"$f":"IF(H8402=Listas!$X$3,Acompanhamento!I8402,0)","v":0},{"$f":"IF(H8402=Listas!$X$4,Acompanhamento!I8402,0)","v":0},null,0,null,0,null,0,null,0]
[null,null,null,null,null,null,null,null,null,{"$f":"IF(H8405=Listas!$X$3,Acompanhamento!I8405,0)","v":0},{"$f":"IF(H8405=Listas!$X$4,Acompanhamento!I8405,0)","v":0},null,0,null,0,null,0,null,0]
[null,null,null,null,null,null,null,null,null,{"$f":"IF(H8410=Listas!$X$3,Acompanhamento!I8410,0)","v":0},{"$f":"IF(H8410=Listas!$X$4,Acompanhamento!I8410,0)","v":0},null,0,null,0,null,0,null,0]
[null,null,null,null,null,null,null,null,null,{"$f":"IF(H8413=Listas!$X$3,Acompanhamento!I8413,0)","v":0},{"$f":"IF(H8413=Listas!$X$4,Acompanhamento!I8413,0)","v":0},null,0,null,0,null,0,null,0]
[null,null,null,null,null,null,null,null,null,{"$f":"IF(H8417=Listas!$X$3,Acompanhamento!I8417,0)","v":0},{"$f":"IF(H8417=Listas!$X$4,Acompanhamento!I8417,0)","v":0},null,0,null,0,null,0,null,0]
[null,null,null,null,null,null,null,null,null,{"$f":"IF(H8418=Listas!$X$3,Acompanhamento!I8418,0)","v":0},{"$f":"IF(H8418=Listas!$X$4,Acompanhamento!I8418,0)","v":0},null,0,null,0,null,0,null,0]
[null,null,null,null,null,null,null,null,null,{"$f":"IF(H8424=Listas!$X$3,Acompanhamento!I8424,0)","v":0},{"$f":"IF(H8424=Listas!$X$4,Acompanhamento!I8424,0)","v":0},null,0,null,0,null,0,null,0]
[null,null,null,null,null,null,null,null,null,{"$f":"IF(H8425=Listas!$X$3,Acompanhamento!I8425,0)","v":0},{"$f":"IF(H8425=Listas!$X$4,Acompanhamento!I8425,0)","v":0},null,0,null,0,null,0,null,0]
[null,null,null,null,null,null,null,null,null,{"$f":"IF(H8428=Listas!$X$3,Acompanhamento!I8428,0)","v":0},{"$f":"IF(H8428=Listas!$X$4,Acompanhamento!I8428,0)","v":0},null,0,null,0,null,0,null,0]
[null,null,null,null,null,null,null,null,null,{"$f":"IF(H8431=Listas!$X$3,Acompanhamento!I8431,0)","v":0},{"$f":"IF(H8431=Listas!$X$4,Acompanhamento!I8431,0)","v":0},null,0,null,0,null,0,null,0]
[null,null,null,null,null,null,null,null,null,{"$f":"IF(H8436=Listas!$X$3,Acompanhamento!I8436,0)","v":0},{"$f":"IF(H8436=Listas!$X$4,Acompanhamento!I8436,0)","v":0},null,0,null,0,null,0,null,0]
[null,null,null,null,null,null,null,null,null,{"$f":"IF(H8439=Listas!$X$3,Acompanhamento!I8439,0)","v":0},{"$f":"IF(H8439=Listas!$X$4,Acompanhamento!I8439,0)","v":0},null,0,null,0,null,0,null,0]
[null,null,null,null,null,null,null,null,null,{"$f":"IF(H8443=Listas!$X$3,Acompanhamento!I8443,0)","v":0},{"$f":"IF(H8443=Listas!$X$4,Acompanhamento!I8443,0)","v":0},null,0,null,0,null,0,null,0]
[null,null,null,null,null,null,null,null,null,{"$f":"IF(H8444=Listas!$X$3,Acompanhamento!I8444,0)","v":0},{"$f":"IF(H8444=Listas!$X$4,Acompanhamento!I8444,0)","v":0},null,0,null,0,null,0,null,0]
[null,null,null,null,null,null,null,null,null,{"$f":"IF(H8450=Listas!$X$3,Acompanhamento!I8450,0)","v":0},{"$f":"IF(H8450=Listas!$X$4,Acompanhamento!I8450,0)","v":0},null,0,null,0,null,0,null,0]
[null,null,null,null,null,null,null,null,null,{"$f":"IF(H8451=Listas!$X$3,Acompanhamento!I8451,0)","v":0},{"$f":"IF(H8451=Listas!$X$4,Acompanhamento!I8451,0)","v":0},null,0,null,0,null,0,null,0]
[null,null,null,null,null,null,null,null,null,{"$f":"IF(H8454=Listas!$X$3,Acompanhamento!I8454,0)","v":0},{"$f":"IF(H8454=Listas!$X$4,Acompanhamento!I8454,0)","v":0},null,0,null,0,null,0,null,0]
[null,null,null,null,null,null,null,null,null,{"$f":"IF(H8457=Listas!$X$3,Acompanhamento!I8457,0)","v":0},{"$f":"IF(H8457=Listas!$X$4,Acompanhamento!I8457,0)","v":0},null,0,null,0,null,0,null,0]
[null,null,null,null,null,null,null,null,null,{"$f":"IF(H8462=Listas!$X$3,Acompanhamento!I8462,0)","v":0},{"$f":"IF(H8462=Listas!$X$4,Acompanhamento!I8462,0)","v":0},null,0,null,0,null,0,null,0]
[null,null,null,null,null,null,null,null,null,{"$f":"IF(H8465=Listas!$X$3,Acompanhamento!I8465,0)","v":0},{"$f":"IF(H8465=Listas!$X$4,Acompanhamento!I8465,0)","v":0},null,0,null,0,null,0,null,0]
[null,null,null,null,null,null,null,null,null,{"$f":"IF(H8469=Listas!$X$3,Acompanhamento!I8469,0)","v":0},{"$f":"IF(H8469=Listas!$X$4,Acompanhamento!I8469,0)","v":0},null,0,null,0,null,0,null,0]
[null,null,null,null,null,null,null,null,null,{"$f":"IF(H8470=Listas!$X$3,Acompanhamento!I8470,0)","v":0},{"$f":"IF(H8470=Listas!$X$4,Acompanhamento!I8470,0)","v":0},null,0,null,0,null,0,null,0]
[null,null,null,null,null,null,null,null,null,{"$f":"IF(H8476=Listas!$X$3,Acompanhamento!I8476,0)","v":0},{"$f":"IF(H8476=Listas!$X$4,Acompanhamento!I8476,0)","v":0},null,0,null,0,null,0,null,0]
[null,null,null,null,null,null,null,null,null,{"$f":"IF(H8477=Listas!$X$3,Acompanhamento!I8477,0)","v":0},{"$f":"IF(H8477=Listas!$X$4,Acompanhamento!I8477,0)","v":0},null,0,null,0,null,0,null,0]
[null,null,null,null,null,null,null,null,null,{"$f":"IF(H8480=Listas!$X$3,Acompanhamento!I8480,0)","v":0},{"$f":"IF(H8480=Listas!$X$4,Acompanhamento!I8480,0)","v":0},null,0,null,0,null,0,null,0]
[null,null,null,null,null,null,null,null,null,{"$f":"IF(H8483=Listas!$X$3,Acompanhamento!I8483,0)","v":0},{"$f":"IF(H8483=Listas!$X$4,Acompanhamento!I8483,0)","v":0},null,0,null,0,null,0,null,0]
[null,null,null,null,null,null,null,null,null,{"$f":"IF(H8488=Listas!$X$3,Acompanhamento!I8488,0)","v":0},{"$f":"IF(H8488=Listas!$X$4,Acompanhamento!I8488,0)","v":0},null,0,null,0,null,0,null,0]
[null,null,null,null,null,null,null,null,null,{"$f":"IF(H8491=Listas!$X$3,Acompanhamento!I8491,0)","v":0},{"$f":"IF(H8491=Listas!$X$4,Acompanhamento!I8491,0)","v":0},null,0,null,0,null,0,null,0]
[null,null,null,null,null,null,null,null,null,{"$f":"IF(H8495=Listas!$X$3,Acompanhamento!I8495,0)","v":0},{"$f":"IF(H8495=Listas!$X$4,Acompanhamento!I8495,0)","v":0},null,0,null,0,null,0,null,0]
[null,null,null,null,null,null,null,null,null,{"$f":"IF(H8496=Listas!$X$3,Acompanhamento!I8496,0)","v":0},{"$f":"IF(H8496=Listas!$X$4,Acompanhamento!I8496,0)","v":0},null,0,null,0,null,0,null,0]
[null,null,null,null,null,null,null,null,null,{"$f":"IF(H8500=Listas!$X$3,Acompanhamento!I8500,0)","v":0},{"$f":"IF(H8500=Listas!$X$4,Acompanhamento!I8500,0)","v":0},null,0,null,0,null,0,null,0]
[null,null,null,null,null,null,null,null,null,{"$f":"IF(H8501=Listas!$X$3,Acompanhamento!I8501,0)","v":0},{"$f":"IF(H8501=Listas!$X$4,Acompanhamento!I8501,0)","v":0},null,0,null,0,null,0,null,0]
[null,null,null,null,null,null,null,null,null,{"$f":"IF(H8502=Listas!$X$3,Acompanhamento!I8502,0)","v":0},{"$f":"IF(H8502=Listas!$X$4,Acompanhamento!I8502,0)","v":0},null,0,null,0,null,0,null,0]
[null,null,null,null,null,null,null,null,null,{"$f":"IF(H8503=Listas!$X$3,Acompanhamento!I8503,0)","v":0},{"$f":"IF(H8503=Listas!$X$4,Acompanhamento!I8503,0)","v":0},null,0,null,0,null,0,null,0]
[null,null,null,null,null,null,null,null,null,{"$f":"IF(H8504=Listas!$X$3,Acompanhamento!I8504,0)","v":0},{"$f":"IF(H8504=Listas!$X$4,Acompanhamento!I8504,0)","v":0},null,0,null,0,null,0,null,0]
[null,null,null,null,null,null,null,null,null,{"$f":"IF(H8505=Listas!$X$3,Acompanhamento!I8505,0)","v":0},{"$f":"IF(H8505=Listas!$X$4,Acompanhamento!I8505,0)","v":0},null,0,null,0,null,0,null,0]
[null,null,null,null,null,null,null,null,null,{"$f":"IF(H8506=Listas!$X$3,Acompanhamento!I8506,0)","v":0},{"$f":"IF(H8506=Listas!$X$4,Acompanhamento!I8506,0)","v":0},null,0,null,0,null,0,null,0]
[null,null,null,null,null,null,null,null,null,{"$f":"IF(H8507=Listas!$X$3,Acompanhamento!I8507,0)","v":0},{"$f":"IF(H8507=Listas!$X$4,Acompanhamento!I8507,0)","v":0},null,0,null,0,null,0,null,0]
[null,null,null,null,null,null,null,null,null,{"$f":"IF(H8508=Listas!$X$3,Acompanhamento!I8508,0)","v":0},{"$f":"IF(H8508=Listas!$X$4,Acompanhamento!I8508,0)","v":0},null,0,null,0,null,0,null,0]
[null,null,null,null,null,null,null,null,null,{"$f":"IF(H8509=Listas!$X$3,Acompanhamento!I8509,0)","v":0},{"$f":"IF(H8509=Listas!$X$4,Acompanhamento!I8509,0)","v":0},null,0,null,0,null,0,null,0]
[null,null,null,null,null,null,null,null,null,{"$f":"IF(H8510=Listas!$X$3,Acompanhamento!I8510,0)","v":0},{"$f":"IF(H8510=Listas!$X$4,Acompanhamento!I8510,0)","v":0},null,0,null,0,null,0,null,0]
[null,null,null,null,null,null,null,null,null,{"$f":"IF(H8511=Listas!$X$3,Acompanhamento!I8511,0)","v":0},{"$f":"IF(H8511=Listas!$X$4,Acompanhamento!I8511,0)","v":0},null,0,null,0,null,0,null,0]
[null,null,null,null,null,null,null,null,null,{"$f":"IF(H8512=Listas!$X$3,Acompanhamento!I8512,0)","v":0},{"$f":"IF(H8512=Listas!$X$4,Acompanhamento!I8512,0)","v":0},null,0,null,0,null,0,null,0]
[null,null,null,null,null,null,null,null,null,{"$f":"IF(H8513=Listas!$X$3,Acompanhamento!I8513,0)","v":0},{"$f":"IF(H8513=Listas!$X$4,Acompanhamento!I8513,0)","v":0},null,0,null,0,null,0,null,0]
[null,null,null,null,null,null,null,null,null,{"$f":"IF(H8514=Listas!$X$3,Acompanhamento!I8514,0)","v":0},{"$f":"IF(H8514=Listas!$X$4,Acompanhamento!I8514,0)","v":0},null,0,null,0,null,0,null,0]
[null,null,null,null,null,null,null,null,null,{"$f":"IF(H8515=Listas!$X$3,Acompanhamento!I8515,0)","v":0},{"$f":"IF(H8515=Listas!$X$4,Acompanhamento!I8515,0)","v":0},null,0,null,0,null,0,null,0]
[null,null,null,null,null,null,null,null,null,{"$f":"IF(H8516=Listas!$X$3,Acompanhamento!I8516,0)","v":0},{"$f":"IF(H8516=Listas!$X$4,Acompanhamento!I8516,0)","v":0},null,0,null,0,null,0,null,0]
[null,null,null,null,null,null,null,null,null,{"$f":"IF(H8517=Listas!$X$3,Acompanhamento!I8517,0)","v":0},{"$f":"IF(H8517=Listas!$X$4,Acompanhamento!I8517,0)","v":0},null,0,null,0,null,0,null,0]
[null,null,null,null,null,null,null,null,null,{"$f":"IF(H8518=Listas!$X$3,Acompanhamento!I8518,0)","v":0},{"$f":"IF(H8518=Listas!$X$4,Acompanhamento!I8518,0)","v":0},null,0,null,0,null,0,null,0]
[null,null,null,null,null,null,null,null,null,{"$f":"IF(H8519=Listas!$X$3,Acompanhamento!I8519,0)","v":0},{"$f":"IF(H8519=Listas!$X$4,Acompanhamento!I8519,0)","v":0},null,0,null,0,null,0,null,0]
[null,null,null,null,null,null,null,null,null,{"$f":"IF(H8520=Listas!$X$3,Acompanhamento!I8520,0)","v":0},{"$f":"IF(H8520=Listas!$X$4,Acompanhamento!I8520,0)","v":0},null,0,null,0,null,0,null,0]
[null,null,null,null,null,null,null,null,null,{"$f":"IF(H8521=Listas!$X$3,Acompanhamento!I8521,0)","v":0},{"$f":"IF(H8521=Listas!$X$4,Acompanhamento!I8521,0)","v":0},null,0,null,0,null,0,null,0]
[null,null,null,null,null,null,null,null,null,{"$f":"IF(H8522=Listas!$X$3,Acompanhamento!I8522,0)","v":0},{"$f":"IF(H8522=Listas!$X$4,Acompanhamento!I8522,0)","v":0},null,{"$f":"J8522-L8522","v":0},null,{"$f":"M8522-N8522","v":0},null,{"$f":"O8522-P8522","v":0},null,{"$f":"Q8522-R8522","v":0}]
[null,null,null,null,null,null,null,null,null,{"$f":"IF(H8523=Listas!$X$3,Acompanhamento!I8523,0)","v":0},{"$f":"IF(H8523=Listas!$X$4,Acompanhamento!I8523,0)","v":0},null,0,null,0,null,0,null,0]
[null,null,null,null,null,null,null,null,null,{"$f":"IF(H8524=Listas!$X$3,Acompanhamento!I8524,0)","v":0},{"$f":"IF(H8524=Listas!$X$4,Acompanhamento!I8524,0)","v":0},null,0,null,0,null,0,null,0]
[null,null,null,null,null,null,null,null,null,{"$f":"IF(H8525=Listas!$X$3,Acompanhamento!I8525,0)","v":0},{"$f":"IF(H8525=Listas!$X$4,Acompanhamento!I8525,0)","v":0},null,0,null,0,null,0,null,0]
[null,null,null,null,null,null,null,null,null,{"$f":"IF(H8526=Listas!$X$3,Acompanhamento!I8526,0)","v":0},{"$f":"IF(H8526=Listas!$X$4,Acompanhamento!I8526,0)","v":0},null,0,null,0,null,0,null,0]
[null,null,null,null,null,null,null,null,null,{"$f":"IF(H8527=Listas!$X$3,Acompanhamento!I8527,0)","v":0},{"$f":"IF(H8527=Listas!$X$4,Acompanhamento!I8527,0)","v":0},null,0,null,0,null,0,null,0]
[null,null,null,null,null,null,null,null,null,{"$f":"IF(H8528=Listas!$X$3,Acompanhamento!I8528,0)","v":0},{"$f":"IF(H8528=Listas!$X$4,Acompanhamento!I8528,0)","v":0},null,0,null,0,null,0,null,0]
[null,null,null,null,null,null,null,null,null,{"$f":"IF(H8529=Listas!$X$3,Acompanhamento!I8529,0)","v":0},{"$f":"IF(H8529=Listas!$X$4,Acompanhamento!I8529,0)","v":0},null,0,null,0,null,0,null,0]
[null,null,null,null,null,null,null,null,null,{"$f":"IF(H8530=Listas!$X$3,Acompanhamento!I8530,0)","v":0},{"$f":"IF(H8530=Listas!$X$4,Acompanhamento!I8530,0)","v":0},null,0,null,0,null,0,null,0]
[null,null,null,null,null,null,null,null,null,{"$f":"IF(H8531=Listas!$X$3,Acompanhamento!I8531,0)","v":0},{"$f":"IF(H8531=Listas!$X$4,Acompanhamento!I8531,0)","v":0},null,0,null,0,null,0,null,0]
[null,null,null,null,null,null,null,null,null,{"$f":"IF(H8532=Listas!$X$3,Acompanhamento!I8532,0)","v":0},{"$f":"IF(H8532=Listas!$X$4,Acompanhamento!I8532,0)","v":0},null,0,null,0,null,0,null,0]
[null,null,null,null,null,null,null,null,null,{"$f":"IF(H8533=Listas!$X$3,Acompanhamento!I8533,0)","v":0},{"$f":"IF(H8533=Listas!$X$4,Acompanhamento!I8533,0)","v":0},null,0,null,0,null,0,null,0]
[null,null,null,null,null,null,null,null,null,{"$f":"IF(H8534=Listas!$X$3,Acompanhamento!I8534,0)","v":0},{"$f":"IF(H8534=Listas!$X$4,Acompanhamento!I8534,0)","v":0},null,0,null,0,null,0,null,0]
[null,null,null,null,null,null,null,null,null,{"$f":"IF(H8535=Listas!$X$3,Acompanhamento!I8535,0)","v":0},{"$f":"IF(H8535=Listas!$X$4,Acompanhamento!I8535,0)","v":0},null,0,null,0,null,0,null,0]
[null,null,null,null,null,null,null,null,null,{"$f":"IF(H8536=Listas!$X$3,Acompanhamento!I8536,0)","v":0},{"$f":"IF(H8536=Listas!$X$4,Acompanhamento!I8536,0)","v":0},null,0,null,0,null,0,null,0]
[null,null,null,null,null,null,null,null,null,{"$f":"IF(H8537=Listas!$X$3,Acompanhamento!I8537,0)","v":0},{"$f":"IF(H8537=Listas!$X$4,Acompanhamento!I8537,0)","v":0},null,0,null,0,null,0,null,0]
[null,null,null,null,null,null,null,null,null,{"$f":"IF(H8538=Listas!$X$3,Acompanhamento!I8538,0)","v":0},{"$f":"IF(H8538=Listas!$X$4,Acompanhamento!I8538,0)","v":0},null,0,null,0,null,0,null,0]
[null,null,null,null,null,null,null,null,null,{"$f":"IF(H8539=Listas!$X$3,Acompanhamento!I8539,0)","v":0},{"$f":"IF(H8539=Listas!$X$4,Acompanhamento!I8539,0)","v":0},null,0,null,0,null,0,null,0]
[null,null,null,null,null,null,null,null,null,{"$f":"IF(H8540=Listas!$X$3,Acompanhamento!I8540,0)","v":0},{"$f":"IF(H8540=Listas!$X$4,Acompanhamento!I8540,0)","v":0},null,0,null,0,null,0,null,0]
[null,null,null,null,null,null,null,null,null,{"$f":"IF(H8541=Listas!$X$3,Acompanhamento!I8541,0)","v":0},{"$f":"IF(H8541=Listas!$X$4,Acompanhamento!I8541,0)","v":0},null,0,null,0,null,0,null,0]
[null,null,null,null,null,null,null,null,null,{"$f":"IF(H8542=Listas!$X$3,Acompanhamento!I8542,0)","v":0},{"$f":"IF(H8542=Listas!$X$4,Acompanhamento!I8542,0)","v":0},null,0,null,0,null,0,null,0]
[null,null,null,null,null,null,null,null,null,{"$f":"IF(H8543=Listas!$X$3,Acompanhamento!I8543,0)","v":0},{"$f":"IF(H8543=Listas!$X$4,Acompanhamento!I8543,0)","v":0},null,0,null,0,null,0,null,0]
[null,null,null,null,null,null,null,null,null,{"$f":"IF(H8544=Listas!$X$3,Acompanhamento!I8544,0)","v":0},{"$f":"IF(H8544=Listas!$X$4,Acompanhamento!I8544,0)","v":0},null,0,null,0,null,0,null,0]
[null,null,null,null,null,null,null,null,null,{"$f":"IF(H8545=Listas!$X$3,Acompanhamento!I8545,0)","v":0},{"$f":"IF(H8545=Listas!$X$4,Acompanhamento!I8545,0)","v":0},null,0,null,0,null,0,null,0]
[null,null,null,null,null,null,null,null,null,{"$f":"IF(H8546=Listas!$X$3,Acompanhamento!I8546,0)","v":0},{"$f":"IF(H8546=Listas!$X$4,Acompanhamento!I8546,0)","v":0},null,0,null,0,null,0,null,0]
[null,null,null,null,null,null,null,null,null,{"$f":"IF(H8547=Listas!$X$3,Acompanhamento!I8547,0)","v":0},{"$f":"IF(H8547=Listas!$X$4,Acompanhamento!I8547,0)","v":0},null,0,null,0,null,0,null,0]
[null,null,null,null,null,null,null,null,null,{"$f":"IF(H8548=Listas!$X$3,Acompanhamento!I8548,0)","v":0},{"$f":"IF(H8548=Listas!$X$4,Acompanhamento!I8548,0)","v":0},null,0,null,0,null,0,null,0]
[null,null,null,null,null,null,null,null,null,{"$f":"IF(H8549=Listas!$X$3,Acompanhamento!I8549,0)","v":0},{"$f":"IF(H8549=Listas!$X$4,Acompanhamento!I8549,0)","v":0},null,0,null,0,null,0,null,0]
[null,null,null,null,null,null,null,null,null,{"$f":"IF(H8550=Listas!$X$3,Acompanhamento!I8550,0)","v":0},{"$f":"IF(H8550=Listas!$X$4,Acompanhamento!I8550,0)","v":0},null,0,null,0,null,0,null,0]
[null,null,null,null,null,null,null,null,null,{"$f":"IF(H8551=Listas!$X$3,Acompanhamento!I8551,0)","v":0},{"$f":"IF(H8551=Listas!$X$4,Acompanhamento!I8551,0)","v":0},null,0,null,0,null,0,null,0]
[null,null,null,null,null,null,null,null,null,{"$f":"IF(H8552=Listas!$X$3,Acompanhamento!I8552,0)","v":0},{"$f":"IF(H8552=Listas!$X$4,Acompanhamento!I8552,0)","v":0},null,0,null,0,null,0,null,0]
[null,null,null,null,null,null,null,null,null,{"$f":"IF(H8553=Listas!$X$3,Acompanhamento!I8553,0)","v":0},{"$f":"IF(H8553=Listas!$X$4,Acompanhamento!I8553,0)","v":0},null,0,null,0,null,0,null,0]
[null,null,null,null,null,null,null,null,null,{"$f":"IF(H8554=Listas!$X$3,Acompanhamento!I8554,0)","v":0},{"$f":"IF(H8554=Listas!$X$4,Acompanhamento!I8554,0)","v":0},null,0,null,0,null,0,null,0]
[null,null,null,null,null,null,null,null,null,{"$f":"IF(H8555=Listas!$X$3,Acompanhamento!I8555,0)","v":0},{"$f":"IF(H8555=Listas!$X$4,Acompanhamento!I8555,0)","v":0},null,0,null,0,null,0,null,0]
[null,null,null,null,null,null,null,null,null,{"$f":"IF(H8556=Listas!$X$3,Acompanhamento!I8556,0)","v":0},{"$f":"IF(H8556=Listas!$X$4,Acompanhamento!I8556,0)","v":0},null,0,null,0,null,0,null,0]
[null,null,null,null,null,null,null,null,null,{"$f":"IF(H8557=Listas!$X$3,Acompanhamento!I8557,0)","v":0},{"$f":"IF(H8557=Listas!$X$4,Acompanhamento!I8557,0)","v":0},null,0,null,0,null,0,null,0]
[null,null,null,null,null,null,null,null,null,{"$f":"IF(H8558=Listas!$X$3,Acompanhamento!I8558,0)","v":0},{"$f":"IF(H8558=Listas!$X$4,Acompanhamento!I8558,0)","v":0},null,0,null,0,null,0,null,0]
[null,null,null,null,null,null,null,null,null,{"$f":"IF(H8559=Listas!$X$3,Acompanhamento!I8559,0)","v":0},{"$f":"IF(H8559=Listas!$X$4,Acompanhamento!I8559,0)","v":0},null,0,null,0,null,0,null,0]
[null,null,null,null,null,null,null,null,null,{"$f":"IF(H8560=Listas!$X$3,Acompanhamento!I8560,0)","v":0},{"$f":"IF(H8560=Listas!$X$4,Acompanhamento!I8560,0)","v":0},null,0,null,0,null,0,null,0]
[null,null,null,null,null,null,null,null,null,{"$f":"IF(H8561=Listas!$X$3,Acompanhamento!I8561,0)","v":0},{"$f":"IF(H8561=Listas!$X$4,Acompanhamento!I8561,0)","v":0},null,0,null,0,null,0,null,0]
[null,null,null,null,null,null,null,null,null,{"$f":"IF(H8562=Listas!$X$3,Acompanhamento!I8562,0)","v":0},{"$f":"IF(H8562=Listas!$X$4,Acompanhamento!I8562,0)","v":0},null,0,null,0,null,0,null,0]
[null,null,null,null,null,null,null,null,null,{"$f":"IF(H8563=Listas!$X$3,Acompanhamento!I8563,0)","v":0},{"$f":"IF(H8563=Listas!$X$4,Acompanhamento!I8563,0)","v":0},null,0,null,0,null,0,null,0]
[null,null,null,null,null,null,null,null,null,{"$f":"IF(H8564=Listas!$X$3,Acompanhamento!I8564,0)","v":0},{"$f":"IF(H8564=Listas!$X$4,Acompanhamento!I8564,0)","v":0},null,0,null,0,null,0,null,0]
[null,null,null,null,null,null,null,null,null,{"$f":"IF(H8565=Listas!$X$3,Acompanhamento!I8565,0)","v":0},{"$f":"IF(H8565=Listas!$X$4,Acompanhamento!I8565,0)","v":0},null,0,null,0,null,0,null,0]
[null,null,null,null,null,null,null,null,null,{"$f":"IF(H8566=Listas!$X$3,Acompanhamento!I8566,0)","v":0},{"$f":"IF(H8566=Listas!$X$4,Acompanhamento!I8566,0)","v":0},null,0,null,0,null,0,null,0]
[null,null,null,null,null,null,null,null,null,{"$f":"IF(H8567=Listas!$X$3,Acompanhamento!I8567,0)","v":0},{"$f":"IF(H8567=Listas!$X$4,Acompanhamento!I8567,0)","v":0},null,0,null,0,null,0,null,0]
[null,null,null,null,null,null,null,null,null,{"$f":"IF(H8568=Listas!$X$3,Acompanhamento!I8568,0)","v":0},{"$f":"IF(H8568=Listas!$X$4,Acompanhamento!I8568,0)","v":0},null,0,null,0,null,0,null,0]
[null,null,null,null,null,null,null,null,null,{"$f":"IF(H8569=Listas!$X$3,Acompanhamento!I8569,0)","v":0},{"$f":"IF(H8569=Listas!$X$4,Acompanhamento!I8569,0)","v":0},null,0,null,0,null,0,null,0]
[null,null,null,null,null,null,null,null,null,{"$f":"IF(H8570=Listas!$X$3,Acompanhamento!I8570,0)","v":0},{"$f":"IF(H8570=Listas!$X$4,Acompanhamento!I8570,0)","v":0},null,0,null,0,null,0,null,0]
[null,null,null,null,null,null,null,null,null,{"$f":"IF(H8571=Listas!$X$3,Acompanhamento!I8571,0)","v":0},{"$f":"IF(H8571=Listas!$X$4,Acompanhamento!I8571,0)","v":0},null,0,null,0,null,0,null,0]
[null,null,null,null,null,null,null,null,null,{"$f":"IF(H8572=Listas!$X$3,Acompanhamento!I8572,0)","v":0},{"$f":"IF(H8572=Listas!$X$4,Acompanhamento!I8572,0)","v":0},null,0,null,0,null,0,null,0]
[null,null,null,null,null,null,null,null,null,{"$f":"IF(H8573=Listas!$X$3,Acompanhamento!I8573,0)","v":0},{"$f":"IF(H8573=Listas!$X$4,Acompanhamento!I8573,0)","v":0},null,0,null,0,null,0,null,0]
[null,null,null,null,null,null,null,null,null,{"$f":"IF(H8574=Listas!$X$3,Acompanhamento!I8574,0)","v":0},{"$f":"IF(H8574=Listas!$X$4,Acompanhamento!I8574,0)","v":0},null,0,null,0,null,0,null,0]
[null,null,null,null,null,null,null,null,null,{"$f":"IF(H8575=Listas!$X$3,Acompanhamento!I8575,0)","v":0},{"$f":"IF(H8575=Listas!$X$4,Acompanhamento!I8575,0)","v":0},null,0,null,0,null,0,null,0]
[null,null,null,null,null,null,null,null,null,{"$f":"IF(H8576=Listas!$X$3,Acompanhamento!I8576,0)","v":0},{"$f":"IF(H8576=Listas!$X$4,Acompanhamento!I8576,0)","v":0},null,0,null,0,null,0,null,0]
[null,null,null,null,null,null,null,null,null,{"$f":"IF(H8577=Listas!$X$3,Acompanhamento!I8577,0)","v":0},{"$f":"IF(H8577=Listas!$X$4,Acompanhamento!I8577,0)","v":0},null,0,null,0,null,0,null,0]
[null,null,null,null,null,null,null,null,null,{"$f":"IF(H8578=Listas!$X$3,Acompanhamento!I8578,0)","v":0},{"$f":"IF(H8578=Listas!$X$4,Acompanhamento!I8578,0)","v":0},null,0,null,0,null,0,null,0]
[null,null,null,null,null,null,null,null,null,{"$f":"IF(H8579=Listas!$X$3,Acompanhamento!I8579,0)","v":0},{"$f":"IF(H8579=Listas!$X$4,Acompanhamento!I8579,0)","v":0},null,0,null,0,null,0,null,0]
[null,null,null,null,null,null,null,null,null,{"$f":"IF(H8580=Listas!$X$3,Acompanhamento!I8580,0)","v":0},{"$f":"IF(H8580=Listas!$X$4,Acompanhamento!I8580,0)","v":0},null,0,null,0,null,0,null,0]
[null,null,null,null,null,null,null,null,null,{"$f":"IF(H8581=Listas!$X$3,Acompanhamento!I8581,0)","v":0},{"$f":"IF(H8581=Listas!$X$4,Acompanhamento!I8581,0)","v":0},null,0,null,0,null,0,null,0]
[null,null,null,null,null,null,null,null,null,{"$f":"IF(H8582=Listas!$X$3,Acompanhamento!I8582,0)","v":0},{"$f":"IF(H8582=Listas!$X$4,Acompanhamento!I8582,0)","v":0},null,0,null,0,null,0,null,0]
[null,null,null,null,null,null,null,null,null,{"$f":"IF(H8583=Listas!$X$3,Acompanhamento!I8583,0)","v":0},{"$f":"IF(H8583=Listas!$X$4,Acompanhamento!I8583,0)","v":0},null,0,null,0,null,0,null,0]
[null,null,null,null,null,null,null,null,null,{"$f":"IF(H8584=Listas!$X$3,Acompanhamento!I8584,0)","v":0},{"$f":"IF(H8584=Listas!$X$4,Acompanhamento!I8584,0)","v":0},null,0,null,0,null,0,null,0]
[null,null,null,null,null,null,null,null,null,{"$f":"IF(H8585=Listas!$X$3,Acompanhamento!I8585,0)","v":0},{"$f":"IF(H8585=Listas!$X$4,Acompanhamento!I8585,0)","v":0},null,0,null,0,null,0,null,0]
[null,null,null,null,null,null,null,null,null,{"$f":"IF(H8586=Listas!$X$3,Acompanhamento!I8586,0)","v":0},{"$f":"IF(H8586=Listas!$X$4,Acompanhamento!I8586,0)","v":0},null,{"$f":"J8586-L8586","v":0},null,{"$f":"M8586-N8586","v":0},null,{"$f":"O8586-P8586","v":0},null,{"$f":"Q8586-R8586","v":0}]
[null,null,null,null,null,null,null,null,null,{"$f":"IF(H8587=Listas!$X$3,Acompanhamento!I8587,0)","v":0},{"$f":"IF(H8587=Listas!$X$4,Acompanhamento!I8587,0)","v":0},null,0,null,0,null,0,null,0]
[null,null,null,null,null,null,null,null,null,{"$f":"IF(H8588=Listas!$X$3,Acompanhamento!I8588,0)","v":0},{"$f":"IF(H8588=Listas!$X$4,Acompanhamento!I8588,0)","v":0},null,0,null,0,null,0,null,0]
[null,null,null,null,null,null,null,null,null,{"$f":"IF(H8589=Listas!$X$3,Acompanhamento!I8589,0)","v":0},{"$f":"IF(H8589=Listas!$X$4,Acompanhamento!I8589,0)","v":0},null,0,null,0,null,0,null,0]
[null,null,null,null,null,null,null,null,null,{"$f":"IF(H8590=Listas!$X$3,Acompanhamento!I8590,0)","v":0},{"$f":"IF(H8590=Listas!$X$4,Acompanhamento!I8590,0)","v":0},null,0,null,0,null,0,null,0]
[null,null,null,null,null,null,null,null,null,{"$f":"IF(H8591=Listas!$X$3,Acompanhamento!I8591,0)","v":0},{"$f":"IF(H8591=Listas!$X$4,Acompanhamento!I8591,0)","v":0},null,0,null,0,null,0,null,0]
[null,null,null,null,null,null,null,null,null,{"$f":"IF(H8592=Listas!$X$3,Acompanhamento!I8592,0)","v":0},{"$f":"IF(H8592=Listas!$X$4,Acompanhamento!I8592,0)","v":0},null,0,null,0,null,0,null,0]
[null,null,null,null,null,null,null,null,null,{"$f":"IF(H8593=Listas!$X$3,Acompanhamento!I8593,0)","v":0},{"$f":"IF(H8593=Listas!$X$4,Acompanhamento!I8593,0)","v":0},null,0,null,0,null,0,null,0]
[null,null,null,null,null,null,null,null,null,{"$f":"IF(H8594=Listas!$X$3,Acompanhamento!I8594,0)","v":0},{"$f":"IF(H8594=Listas!$X$4,Acompanhamento!I8594,0)","v":0},null,0,null,0,null,0,null,0]
[null,null,null,null,null,null,null,null,null,{"$f":"IF(H8595=Listas!$X$3,Acompanhamento!I8595,0)","v":0},{"$f":"IF(H8595=Listas!$X$4,Acompanhamento!I8595,0)","v":0},null,0,null,0,null,0,null,0]
[null,null,null,null,null,null,null,null,null,{"$f":"IF(H8596=Listas!$X$3,Acompanhamento!I8596,0)","v":0},{"$f":"IF(H8596=Listas!$X$4,Acompanhamento!I8596,0)","v":0},null,0,null,0,null,0,null,0]
[null,null,null,null,null,null,null,null,null,{"$f":"IF(H8597=Listas!$X$3,Acompanhamento!I8597,0)","v":0},{"$f":"IF(H8597=Listas!$X$4,Acompanhamento!I8597,0)","v":0},null,0,null,0,null,0,null,0]
[null,null,null,null,null,null,null,null,null,{"$f":"IF(H8598=Listas!$X$3,Acompanhamento!I8598,0)","v":0},{"$f":"IF(H8598=Listas!$X$4,Acompanhamento!I8598,0)","v":0},null,0,null,0,null,0,null,0]
[null,null,null,null,null,null,null,null,null,{"$f":"IF(H8599=Listas!$X$3,Acompanhamento!I8599,0)","v":0},{"$f":"IF(H8599=Listas!$X$4,Acompanhamento!I8599,0)","v":0},null,0,null,0,null,0,null,0]
[null,null,null,null,null,null,null,null,null,{"$f":"IF(H8600=Listas!$X$3,Acompanhamento!I8600,0)","v":0},{"$f":"IF(H8600=Listas!$X$4,Acompanhamento!I8600,0)","v":0},null,0,null,0,null,0,null,0]
[null,null,null,null,null,null,null,null,null,{"$f":"IF(H8601=Listas!$X$3,Acompanhamento!I8601,0)","v":0},{"$f":"IF(H8601=Listas!$X$4,Acompanhamento!I8601,0)","v":0},null,0,null,0,null,0,null,0]
[null,null,null,null,null,null,null,null,null,{"$f":"IF(H8602=Listas!$X$3,Acompanhamento!I8602,0)","v":0},{"$f":"IF(H8602=Listas!$X$4,Acompanhamento!I8602,0)","v":0},null,0,null,0,null,0,null,0]
[null,null,null,null,null,null,null,null,null,{"$f":"IF(H8603=Listas!$X$3,Acompanhamento!I8603,0)","v":0},{"$f":"IF(H8603=Listas!$X$4,Acompanhamento!I8603,0)","v":0},null,0,null,0,null,0,null,0]
[null,null,null,null,null,null,null,null,null,{"$f":"IF(H8604=Listas!$X$3,Acompanhamento!I8604,0)","v":0},{"$f":"IF(H8604=Listas!$X$4,Acompanhamento!I8604,0)","v":0},null,0,null,0,null,0,null,0]
[null,null,null,null,null,null,null,null,null,{"$f":"IF(H8605=Listas!$X$3,Acompanhamento!I8605,0)","v":0},{"$f":"IF(H8605=Listas!$X$4,Acompanhamento!I8605,0)","v":0},null,0,null,0,null,0,null,0]
[null,null,null,null,null,null,null,null,null,{"$f":"IF(H8606=Listas!$X$3,Acompanhamento!I8606,0)","v":0},{"$f":"IF(H8606=Listas!$X$4,Acompanhamento!I8606,0)","v":0},null,0,null,0,null,0,null,0]
[null,null,null,null,null,null,null,null,null,{"$f":"IF(H8607=Listas!$X$3,Acompanhamento!I8607,0)","v":0},{"$f":"IF(H8607=Listas!$X$4,Acompanhamento!I8607,0)","v":0},null,0,null,0,null,0,null,0]
[null,null,null,null,null,null,null,null,null,{"$f":"IF(H8608=Listas!$X$3,Acompanhamento!I8608,0)","v":0},{"$f":"IF(H8608=Listas!$X$4,Acompanhamento!I8608,0)","v":0},null,0,null,0,null,0,null,0]
[null,null,null,null,null,null,null,null,null,{"$f":"IF(H8609=Listas!$X$3,Acompanhamento!I8609,0)","v":0},{"$f":"IF(H8609=Listas!$X$4,Acompanhamento!I8609,0)","v":0},null,0,null,0,null,0,null,0]
[null,null,null,null,null,null,null,null,null,{"$f":"IF(H8610=Listas!$X$3,Acompanhamento!I8610,0)","v":0},{"$f":"IF(H8610=Listas!$X$4,Acompanhamento!I8610,0)","v":0},null,0,null,0,null,0,null,0]
[null,null,null,null,null,null,null,null,null,{"$f":"IF(H8611=Listas!$X$3,Acompanhamento!I8611,0)","v":0},{"$f":"IF(H8611=Listas!$X$4,Acompanhamento!I8611,0)","v":0},null,0,null,0,null,0,null,0]
[null,null,null,null,null,null,null,null,null,{"$f":"IF(H8612=Listas!$X$3,Acompanhamento!I8612,0)","v":0},{"$f":"IF(H8612=Listas!$X$4,Acompanhamento!I8612,0)","v":0},null,0,null,0,null,0,null,0]
[null,null,null,null,null,null,null,null,null,{"$f":"IF(H8613=Listas!$X$3,Acompanhamento!I8613,0)","v":0},{"$f":"IF(H8613=Listas!$X$4,Acompanhamento!I8613,0)","v":0},null,0,null,0,null,0,null,0]
[null,null,null,null,null,null,null,null,null,{"$f":"IF(H8614=Listas!$X$3,Acompanhamento!I8614,0)","v":0},{"$f":"IF(H8614=Listas!$X$4,Acompanhamento!I8614,0)","v":0},null,0,null,0,null,0,null,0]
[null,null,null,null,null,null,null,null,null,{"$f":"IF(H8615=Listas!$X$3,Acompanhamento!I8615,0)","v":0},{"$f":"IF(H8615=Listas!$X$4,Acompanhamento!I8615,0)","v":0},null,0,null,0,null,0,null,0]
[null,null,null,null,null,null,null,null,null,{"$f":"IF(H8616=Listas!$X$3,Acompanhamento!I8616,0)","v":0},{"$f":"IF(H8616=Listas!$X$4,Acompanhamento!I8616,0)","v":0},null,0,null,0,null,0,null,0]
[null,null,null,null,null,null,null,null,null,{"$f":"IF(H8617=Listas!$X$3,Acompanhamento!I8617,0)","v":0},{"$f":"IF(H8617=Listas!$X$4,Acompanhamento!I8617,0)","v":0},null,0,null,0,null,0,null,0]
[null,null,null,null,null,null,null,null,null,{"$f":"IF(H8618=Listas!$X$3,Acompanhamento!I8618,0)","v":0},{"$f":"IF(H8618=Listas!$X$4,Acompanhamento!I8618,0)","v":0},null,0,null,0,null,0,null,0]
[null,null,null,null,null,null,null,null,null,{"$f":"IF(H8619=Listas!$X$3,Acompanhamento!I8619,0)","v":0},{"$f":"IF(H8619=Listas!$X$4,Acompanhamento!I8619,0)","v":0},null,0,null,0,null,0,null,0]
[null,null,null,null,null,null,null,null,null,{"$f":"IF(H8620=Listas!$X$3,Acompanhamento!I8620,0)","v":0},{"$f":"IF(H8620=Listas!$X$4,Acompanhamento!I8620,0)","v":0},null,0,null,0,null,0,null,0]
[null,null,null,null,null,null,null,null,null,{"$f":"IF(H8621=Listas!$X$3,Acompanhamento!I8621,0)","v":0},{"$f":"IF(H8621=Listas!$X$4,Acompanhamento!I8621,0)","v":0},null,0,null,0,null,0,null,0]
[null,null,null,null,null,null,null,null,null,{"$f":"IF(H8622=Listas!$X$3,Acompanhamento!I8622,0)","v":0},{"$f":"IF(H8622=Listas!$X$4,Acompanhamento!I8622,0)","v":0},null,0,null,0,null,0,null,0]
[null,null,null,null,null,null,null,null,null,{"$f":"IF(H8623=Listas!$X$3,Acompanhamento!I8623,0)","v":0},{"$f":"IF(H8623=Listas!$X$4,Acompanhamento!I8623,0)","v":0},null,0,null,0,null,0,null,0]
[null,null,null,null,null,null,null,null,null,{"$f":"IF(H8624=Listas!$X$3,Acompanhamento!I8624,0)","v":0},{"$f":"IF(H8624=Listas!$X$4,Acompanhamento!I8624,0)","v":0},null,0,null,0,null,0,null,0]
[null,null,null,null,null,null,null,null,null,{"$f":"IF(H8625=Listas!$X$3,Acompanhamento!I8625,0)","v":0},{"$f":"IF(H8625=Listas!$X$4,Acompanhamento!I8625,0)","v":0},null,0,null,0,null,0,null,0]
[null,null,null,null,null,null,null,null,null,{"$f":"IF(H8626=Listas!$X$3,Acompanhamento!I8626,0)","v":0},{"$f":"IF(H8626=Listas!$X$4,Acompanhamento!I8626,0)","v":0},null,0,null,0,null,0,null,0]
[null,null,null,null,null,null,null,null,null,{"$f":"IF(H8627=Listas!$X$3,Acompanhamento!I8627,0)","v":0},{"$f":"IF(H8627=Listas!$X$4,Acompanhamento!I8627,0)","v":0},null,0,null,0,null,0,null,0]
[null,null,null,null,null,null,null,null,null,{"$f":"IF(H8628=Listas!$X$3,Acompanhamento!I8628,0)","v":0},{"$f":"IF(H8628=Listas!$X$4,Acompanhamento!I8628,0)","v":0},null,0,null,0,null,0,null,0]
[null,null,null,null,null,null,null,null,null,{"$f":"IF(H8629=Listas!$X$3,Acompanhamento!I8629,0)","v":0},{"$f":"IF(H8629=Listas!$X$4,Acompanhamento!I8629,0)","v":0},null,0,null,0,null,0,null,0]
[null,null,null,null,null,null,null,null,null,{"$f":"IF(H8630=Listas!$X$3,Acompanhamento!I8630,0)","v":0},{"$f":"IF(H8630=Listas!$X$4,Acompanhamento!I8630,0)","v":0},null,0,null,0,null,0,null,0]
[null,null,null,null,null,null,null,null,null,{"$f":"IF(H8631=Listas!$X$3,Acompanhamento!I8631,0)","v":0},{"$f":"IF(H8631=Listas!$X$4,Acompanhamento!I8631,0)","v":0},null,0,null,0,null,0,null,0]
[null,null,null,null,null,null,null,null,null,{"$f":"IF(H8632=Listas!$X$3,Acompanhamento!I8632,0)","v":0},{"$f":"IF(H8632=Listas!$X$4,Acompanhamento!I8632,0)","v":0},null,0,null,0,null,0,null,0]
[null,null,null,null,null,null,null,null,null,{"$f":"IF(H8633=Listas!$X$3,Acompanhamento!I8633,0)","v":0},{"$f":"IF(H8633=Listas!$X$4,Acompanhamento!I8633,0)","v":0},null,0,null,0,null,0,null,0]
[null,null,null,null,null,null,null,null,null,{"$f":"IF(H8634=Listas!$X$3,Acompanhamento!I8634,0)","v":0},{"$f":"IF(H8634=Listas!$X$4,Acompanhamento!I8634,0)","v":0},null,0,null,0,null,0,null,0]
[null,null,null,null,null,null,null,null,null,{"$f":"IF(H8635=Listas!$X$3,Acompanhamento!I8635,0)","v":0},{"$f":"IF(H8635=Listas!$X$4,Acompanhamento!I8635,0)","v":0},null,0,null,0,null,0,null,0]
[null,null,null,null,null,null,null,null,null,{"$f":"IF(H8636=Listas!$X$3,Acompanhamento!I8636,0)","v":0},{"$f":"IF(H8636=Listas!$X$4,Acompanhamento!I8636,0)","v":0},null,0,null,0,null,0,null,0]
[null,null,null,null,null,null,null,null,null,{"$f":"IF(H8637=Listas!$X$3,Acompanhamento!I8637,0)","v":0},{"$f":"IF(H8637=Listas!$X$4,Acompanhamento!I8637,0)","v":0},null,0,null,0,null,0,null,0]
[null,null,null,null,null,null,null,null,null,{"$f":"IF(H8638=Listas!$X$3,Acompanhamento!I8638,0)","v":0},{"$f":"IF(H8638=Listas!$X$4,Acompanhamento!I8638,0)","v":0},null,0,null,0,null,0,null,0]
[null,null,null,null,null,null,null,null,null,{"$f":"IF(H8639=Listas!$X$3,Acompanhamento!I8639,0)","v":0},{"$f":"IF(H8639=Listas!$X$4,Acompanhamento!I8639,0)","v":0},null,0,null,0,null,0,null,0]
[null,null,null,null,null,null,null,null,null,{"$f":"IF(H8640=Listas!$X$3,Acompanhamento!I8640,0)","v":0},{"$f":"IF(H8640=Listas!$X$4,Acompanhamento!I8640,0)","v":0},null,0,null,0,null,0,null,0]
[null,null,null,null,null,null,null,null,null,{"$f":"IF(H8641=Listas!$X$3,Acompanhamento!I8641,0)","v":0},{"$f":"IF(H8641=Listas!$X$4,Acompanhamento!I8641,0)","v":0},null,0,null,0,null,0,null,0]
[null,null,null,null,null,null,null,null,null,{"$f":"IF(H8642=Listas!$X$3,Acompanhamento!I8642,0)","v":0},{"$f":"IF(H8642=Listas!$X$4,Acompanhamento!I8642,0)","v":0},null,0,null,0,null,0,null,0]
[null,null,null,null,null,null,null,null,null,{"$f":"IF(H8643=Listas!$X$3,Acompanhamento!I8643,0)","v":0},{"$f":"IF(H8643=Listas!$X$4,Acompanhamento!I8643,0)","v":0},null,0,null,0,null,0,null,0]
[null,null,null,null,null,null,null,null,null,{"$f":"IF(H8644=Listas!$X$3,Acompanhamento!I8644,0)","v":0},{"$f":"IF(H8644=Listas!$X$4,Acompanhamento!I8644,0)","v":0},null,0,null,0,null,0,null,0]
[null,null,null,null,null,null,null,null,null,{"$f":"IF(H8645=Listas!$X$3,Acompanhamento!I8645,0)","v":0},{"$f":"IF(H8645=Listas!$X$4,Acompanhamento!I8645,0)","v":0},null,0,null,0,null,0,null,0]
[null,null,null,null,null,null,null,null,null,{"$f":"IF(H8646=Listas!$X$3,Acompanhamento!I8646,0)","v":0},{"$f":"IF(H8646=Listas!$X$4,Acompanhamento!I8646,0)","v":0},null,0,null,0,null,0,null,0]
[null,null,null,null,null,null,null,null,null,{"$f":"IF(H8647=Listas!$X$3,Acompanhamento!I8647,0)","v":0},{"$f":"IF(H8647=Listas!$X$4,Acompanhamento!I8647,0)","v":0},null,0,null,0,null,0,null,0]
[null,null,null,null,null,null,null,null,null,{"$f":"IF(H8648=Listas!$X$3,Acompanhamento!I8648,0)","v":0},{"$f":"IF(H8648=Listas!$X$4,Acompanhamento!I8648,0)","v":0},null,0,null,0,null,0,null,0]
[null,null,null,null,null,null,null,null,null,{"$f":"IF(H8649=Listas!$X$3,Acompanhamento!I8649,0)","v":0},{"$f":"IF(H8649=Listas!$X$4,Acompanhamento!I8649,0)","v":0},null,0,null,0,null,0,null,0]
[null,null,null,null,null,null,null,null,null,{"$f":"IF(H8650=Listas!$X$3,Acompanhamento!I8650,0)","v":0},{"$f":"IF(H8650=Listas!$X$4,Acompanhamento!I8650,0)","v":0},null,{"$f":"J8650-L8650","v":0},null,{"$f":"M8650-N8650","v":0},null,{"$f":"O8650-P8650","v":0},null,{"$f":"Q8650-R8650","v":0}]
[null,null,null,null,null,null,null,null,null,{"$f":"IF(H8651=Listas!$X$3,Acompanhamento!I8651,0)","v":0},{"$f":"IF(H8651=Listas!$X$4,Acompanhamento!I8651,0)","v":0},null,0,null,0,null,0,null,0]
[null,null,null,null,null,null,null,null,null,{"$f":"IF(H8652=Listas!$X$3,Acompanhamento!I8652,0)","v":0},{"$f":"IF(H8652=Listas!$X$4,Acompanhamento!I8652,0)","v":0},null,0,null,0,null,0,null,0]
[null,null,null,null,null,null,null,null,null,{"$f":"IF(H8653=Listas!$X$3,Acompanhamento!I8653,0)","v":0},{"$f":"IF(H8653=Listas!$X$4,Acompanhamento!I8653,0)","v":0},null,0,null,0,null,0,null,0]
[null,null,null,null,null,null,null,null,null,{"$f":"IF(H8654=Listas!$X$3,Acompanhamento!I8654,0)","v":0},{"$f":"IF(H8654=Listas!$X$4,Acompanhamento!I8654,0)","v":0},null,0,null,0,null,0,null,0]
[null,null,null,null,null,null,null,null,null,{"$f":"IF(H8655=Listas!$X$3,Acompanhamento!I8655,0)","v":0},{"$f":"IF(H8655=Listas!$X$4,Acompanhamento!I8655,0)","v":0},null,0,null,0,null,0,null,0]
[null,null,null,null,null,null,null,null,null,{"$f":"IF(H8656=Listas!$X$3,Acompanhamento!I8656,0)","v":0},{"$f":"IF(H8656=Listas!$X$4,Acompanhamento!I8656,0)","v":0},null,0,null,0,null,0,null,0]
[null,null,null,null,null,null,null,null,null,{"$f":"IF(H8657=Listas!$X$3,Acompanhamento!I8657,0)","v":0},{"$f":"IF(H8657=Listas!$X$4,Acompanhamento!I8657,0)","v":0},null,0,null,0,null,0,null,0]
[null,null,null,null,null,null,null,null,null,{"$f":"IF(H8658=Listas!$X$3,Acompanhamento!I8658,0)","v":0},{"$f":"IF(H8658=Listas!$X$4,Acompanhamento!I8658,0)","v":0},null,0,null,0,null,0,null,0]
[null,null,null,null,null,null,null,null,null,{"$f":"IF(H8659=Listas!$X$3,Acompanhamento!I8659,0)","v":0},{"$f":"IF(H8659=Listas!$X$4,Acompanhamento!I8659,0)","v":0},null,0,null,0,null,0,null,0]
[null,null,null,null,null,null,null,null,null,{"$f":"IF(H8660=Listas!$X$3,Acompanhamento!I8660,0)","v":0},{"$f":"IF(H8660=Listas!$X$4,Acompanhamento!I8660,0)","v":0},null,0,null,0,null,0,null,0]
[null,null,null,null,null,null,null,null,null,{"$f":"IF(H8661=Listas!$X$3,Acompanhamento!I8661,0)","v":0},{"$f":"IF(H8661=Listas!$X$4,Acompanhamento!I8661,0)","v":0},null,0,null,0,null,0,null,0]
[null,null,null,null,null,null,null,null,null,{"$f":"IF(H8662=Listas!$X$3,Acompanhamento!I8662,0)","v":0},{"$f":"IF(H8662=Listas!$X$4,Acompanhamento!I8662,0)","v":0},null,0,null,0,null,0,null,0]
[null,null,null,null,null,null,null,null,null,{"$f":"IF(H8663=Listas!$X$3,Acompanhamento!I8663,0)","v":0},{"$f":"IF(H8663=Listas!$X$4,Acompanhamento!I8663,0)","v":0},null,0,null,0,null,0,null,0]
[null,null,null,null,null,null,null,null,null,{"$f":"IF(H8664=Listas!$X$3,Acompanhamento!I8664,0)","v":0},{"$f":"IF(H8664=Listas!$X$4,Acompanhamento!I8664,0)","v":0},null,0,null,0,null,0,null,0]
[null,null,null,null,null,null,null,null,null,{"$f":"IF(H8665=Listas!$X$3,Acompanhamento!I8665,0)","v":0},{"$f":"IF(H8665=Listas!$X$4,Acompanhamento!I8665,0)","v":0},null,0,null,0,null,0,null,0]
[null,null,null,null,null,null,null,null,null,{"$f":"IF(H8666=Listas!$X$3,Acompanhamento!I8666,0)","v":0},{"$f":"IF(H8666=Listas!$X$4,Acompanhamento!I8666,0)","v":0},null,0,null,0,null,0,null,0]
[null,null,null,null,null,null,null,null,null,{"$f":"IF(H8667=Listas!$X$3,Acompanhamento!I8667,0)","v":0},{"$f":"IF(H8667=Listas!$X$4,Acompanhamento!I8667,0)","v":0},null,0,null,0,null,0,null,0]
[null,null,null,null,null,null,null,null,null,{"$f":"IF(H8668=Listas!$X$3,Acompanhamento!I8668,0)","v":0},{"$f":"IF(H8668=Listas!$X$4,Acompanhamento!I8668,0)","v":0},null,0,null,0,null,0,null,0]
[null,null,null,null,null,null,null,null,null,{"$f":"IF(H8669=Listas!$X$3,Acompanhamento!I8669,0)","v":0},{"$f":"IF(H8669=Listas!$X$4,Acompanhamento!I8669,0)","v":0},null,0,null,0,null,0,null,0]
[null,null,null,null,null,null,null,null,null,{"$f":"IF(H8670=Listas!$X$3,Acompanhamento!I8670,0)","v":0},{"$f":"IF(H8670=Listas!$X$4,Acompanhamento!I8670,0)","v":0},null,0,null,0,null,0,null,0]
[null,null,null,null,null,null,null,null,null,{"$f":"IF(H8671=Listas!$X$3,Acompanhamento!I8671,0)","v":0},{"$f":"IF(H8671=Listas!$X$4,Acompanhamento!I8671,0)","v":0},null,0,null,0,null,0,null,0]
[null,null,null,null,null,null,null,null,null,{"$f":"IF(H8672=Listas!$X$3,Acompanhamento!I8672,0)","v":0},{"$f":"IF(H8672=Listas!$X$4,Acompanhamento!I8672,0)","v":0},null,0,null,0,null,0,null,0]
[null,null,null,null,null,null,null,null,null,{"$f":"IF(H8673=Listas!$X$3,Acompanhamento!I8673,0)","v":0},{"$f":"IF(H8673=Listas!$X$4,Acompanhamento!I8673,0)","v":0},null,0,null,0,null,0,null,0]
[null,null,null,null,null,null,null,null,null,{"$f":"IF(H8674=Listas!$X$3,Acompanhamento!I8674,0)","v":0},{"$f":"IF(H8674=Listas!$X$4,Acompanhamento!I8674,0)","v":0},null,0,null,0,null,0,null,0]
[null,null,null,null,null,null,null,null,null,{"$f":"IF(H8675=Listas!$X$3,Acompanhamento!I8675,0)","v":0},{"$f":"IF(H8675=Listas!$X$4,Acompanhamento!I8675,0)","v":0},null,0,null,0,null,0,null,0]
[null,null,null,null,null,null,null,null,null,{"$f":"IF(H8676=Listas!$X$3,Acompanhamento!I8676,0)","v":0},{"$f":"IF(H8676=Listas!$X$4,Acompanhamento!I8676,0)","v":0},null,0,null,0,null,0,null,0]
[null,null,null,null,null,null,null,null,null,{"$f":"IF(H8677=Listas!$X$3,Acompanhamento!I8677,0)","v":0},{"$f":"IF(H8677=Listas!$X$4,Acompanhamento!I8677,0)","v":0},null,0,null,0,null,0,null,0]
[null,null,null,null,null,null,null,null,null,{"$f":"IF(H8678=Listas!$X$3,Acompanhamento!I8678,0)","v":0},{"$f":"IF(H8678=Listas!$X$4,Acompanhamento!I8678,0)","v":0},null,0,null,0,null,0,null,0]
[null,null,null,null,null,null,null,null,null,{"$f":"IF(H8679=Listas!$X$3,Acompanhamento!I8679,0)","v":0},{"$f":"IF(H8679=Listas!$X$4,Acompanhamento!I8679,0)","v":0},null,0,null,0,null,0,null,0]
[null,null,null,null,null,null,null,null,null,{"$f":"IF(H8680=Listas!$X$3,Acompanhamento!I8680,0)","v":0},{"$f":"IF(H8680=Listas!$X$4,Acompanhamento!I8680,0)","v":0},null,0,null,0,null,0,null,0]
[null,null,null,null,null,null,null,null,null,{"$f":"IF(H8681=Listas!$X$3,Acompanhamento!I8681,0)","v":0},{"$f":"IF(H8681=Listas!$X$4,Acompanhamento!I8681,0)","v":0},null,0,null,0,null,0,null,0]
[null,null,null,null,null,null,null,null,null,{"$f":"IF(H8682=Listas!$X$3,Acompanhamento!I8682,0)","v":0},{"$f":"IF(H8682=Listas!$X$4,Acompanhamento!I8682,0)","v":0},null,0,null,0,null,0,null,0]
[null,null,null,null,null,null,null,null,null,{"$f":"IF(H8683=Listas!$X$3,Acompanhamento!I8683,0)","v":0},{"$f":"IF(H8683=Listas!$X$4,Acompanhamento!I8683,0)","v":0},null,0,null,0,null,0,null,0]
[null,null,null,null,null,null,null,null,null,{"$f":"IF(H8684=Listas!$X$3,Acompanhamento!I8684,0)","v":0},{"$f":"IF(H8684=Listas!$X$4,Acompanhamento!I8684,0)","v":0},null,0,null,0,null,0,null,0]
[null,null,null,null,null,null,null,null,null,{"$f":"IF(H8685=Listas!$X$3,Acompanhamento!I8685,0)","v":0},{"$f":"IF(H8685=Listas!$X$4,Acompanhamento!I8685,0)","v":0},null,0,null,0,null,0,null,0]
[null,null,null,null,null,null,null,null,null,{"$f":"IF(H8686=Listas!$X$3,Acompanhamento!I8686,0)","v":0},{"$f":"IF(H8686=Listas!$X$4,Acompanhamento!I8686,0)","v":0},null,0,null,0,null,0,null,0]
[null,null,null,null,null,null,null,null,null,{"$f":"IF(H8687=Listas!$X$3,Acompanhamento!I8687,0)","v":0},{"$f":"IF(H8687=Listas!$X$4,Acompanhamento!I8687,0)","v":0},null,0,null,0,null,0,null,0]
[null,null,null,null,null,null,null,null,null,{"$f":"IF(H8688=Listas!$X$3,Acompanhamento!I8688,0)","v":0},{"$f":"IF(H8688=Listas!$X$4,Acompanhamento!I8688,0)","v":0},null,0,null,0,null,0,null,0]
[null,null,null,null,null,null,null,null,null,{"$f":"IF(H8689=Listas!$X$3,Acompanhamento!I8689,0)","v":0},{"$f":"IF(H8689=Listas!$X$4,Acompanhamento!I8689,0)","v":0},null,0,null,0,null,0,null,0]
[null,null,null,null,null,null,null,null,null,{"$f":"IF(H8690=Listas!$X$3,Acompanhamento!I8690,0)","v":0},{"$f":"IF(H8690=Listas!$X$4,Acompanhamento!I8690,0)","v":0},null,0,null,0,null,0,null,0]
[null,null,null,null,null,null,null,null,null,{"$f":"IF(H8691=Listas!$X$3,Acompanhamento!I8691,0)","v":0},{"$f":"IF(H8691=Listas!$X$4,Acompanhamento!I8691,0)","v":0},null,0,null,0,null,0,null,0]
[null,null,null,null,null,null,null,null,null,{"$f":"IF(H8692=Listas!$X$3,Acompanhamento!I8692,0)","v":0},{"$f":"IF(H8692=Listas!$X$4,Acompanhamento!I8692,0)","v":0},null,0,null,0,null,0,null,0]
[null,null,null,null,null,null,null,null,null,{"$f":"IF(H8693=Listas!$X$3,Acompanhamento!I8693,0)","v":0},{"$f":"IF(H8693=Listas!$X$4,Acompanhamento!I8693,0)","v":0},null,0,null,0,null,0,null,0]
[null,null,null,null,null,null,null,null,null,{"$f":"IF(H8694=Listas!$X$3,Acompanhamento!I8694,0)","v":0},{"$f":"IF(H8694=Listas!$X$4,Acompanhamento!I8694,0)","v":0},null,0,null,0,null,0,null,0]
[null,null,null,null,null,null,null,null,null,{"$f":"IF(H8695=Listas!$X$3,Acompanhamento!I8695,0)","v":0},{"$f":"IF(H8695=Listas!$X$4,Acompanhamento!I8695,0)","v":0},null,0,null,0,null,0,null,0]
[null,null,null,null,null,null,null,null,null,{"$f":"IF(H8696=Listas!$X$3,Acompanhamento!I8696,0)","v":0},{"$f":"IF(H8696=Listas!$X$4,Acompanhamento!I8696,0)","v":0},null,0,null,0,null,0,null,0]
[null,null,null,null,null,null,null,null,null,{"$f":"IF(H8697=Listas!$X$3,Acompanhamento!I8697,0)","v":0},{"$f":"IF(H8697=Listas!$X$4,Acompanhamento!I8697,0)","v":0},null,0,null,0,null,0,null,0]
[null,null,null,null,null,null,null,null,null,{"$f":"IF(H8698=Listas!$X$3,Acompanhamento!I8698,0)","v":0},{"$f":"IF(H8698=Listas!$X$4,Acompanhamento!I8698,0)","v":0},null,0,null,0,null,0,null,0]
[null,null,null,null,null,null,null,null,null,{"$f":"IF(H8699=Listas!$X$3,Acompanhamento!I8699,0)","v":0},{"$f":"IF(H8699=Listas!$X$4,Acompanhamento!I8699,0)","v":0},null,0,null,0,null,0,null,0]
[null,null,null,null,null,null,null,null,null,{"$f":"IF(H8700=Listas!$X$3,Acompanhamento!I8700,0)","v":0},{"$f":"IF(H8700=Listas!$X$4,Acompanhamento!I8700,0)","v":0},null,0,null,0,null,0,null,0]
[null,null,null,null,null,null,null,null,null,{"$f":"IF(H8701=Listas!$X$3,Acompanhamento!I8701,0)","v":0},{"$f":"IF(H8701=Listas!$X$4,Acompanhamento!I8701,0)","v":0},null,0,null,0,null,0,null,0]
[null,null,null,null,null,null,null,null,null,{"$f":"IF(H8702=Listas!$X$3,Acompanhamento!I8702,0)","v":0},{"$f":"IF(H8702=Listas!$X$4,Acompanhamento!I8702,0)","v":0},null,0,null,0,null,0,null,0]
[null,null,null,null,null,null,null,null,null,{"$f":"IF(H8703=Listas!$X$3,Acompanhamento!I8703,0)","v":0},{"$f":"IF(H8703=Listas!$X$4,Acompanhamento!I8703,0)","v":0},null,0,null,0,null,0,null,0]
[null,null,null,null,null,null,null,null,null,{"$f":"IF(H8704=Listas!$X$3,Acompanhamento!I8704,0)","v":0},{"$f":"IF(H8704=Listas!$X$4,Acompanhamento!I8704,0)","v":0},null,0,null,0,null,0,null,0]
[null,null,null,null,null,null,null,null,null,{"$f":"IF(H8705=Listas!$X$3,Acompanhamento!I8705,0)","v":0},{"$f":"IF(H8705=Listas!$X$4,Acompanhamento!I8705,0)","v":0},null,0,null,0,null,0,null,0]
[null,null,null,null,null,null,null,null,null,{"$f":"IF(H8706=Listas!$X$3,Acompanhamento!I8706,0)","v":0},{"$f":"IF(H8706=Listas!$X$4,Acompanhamento!I8706,0)","v":0},null,0,null,0,null,0,null,0]
[null,null,null,null,null,null,null,null,null,{"$f":"IF(H8707=Listas!$X$3,Acompanhamento!I8707,0)","v":0},{"$f":"IF(H8707=Listas!$X$4,Acompanhamento!I8707,0)","v":0},null,0,null,0,null,0,null,0]
[null,null,null,null,null,null,null,null,null,{"$f":"IF(H8708=Listas!$X$3,Acompanhamento!I8708,0)","v":0},{"$f":"IF(H8708=Listas!$X$4,Acompanhamento!I8708,0)","v":0},null,0,null,0,null,0,null,0]
[null,null,null,null,null,null,null,null,null,{"$f":"IF(H8709=Listas!$X$3,Acompanhamento!I8709,0)","v":0},{"$f":"IF(H8709=Listas!$X$4,Acompanhamento!I8709,0)","v":0},null,0,null,0,null,0,null,0]
[null,null,null,null,null,null,null,null,null,{"$f":"IF(H8710=Listas!$X$3,Acompanhamento!I8710,0)","v":0},{"$f":"IF(H8710=Listas!$X$4,Acompanhamento!I8710,0)","v":0},null,0,null,0,null,0,null,0]
[null,null,null,null,null,null,null,null,null,{"$f":"IF(H8711=Listas!$X$3,Acompanhamento!I8711,0)","v":0},{"$f":"IF(H8711=Listas!$X$4,Acompanhamento!I8711,0)","v":0},null,0,null,0,null,0,null,0]
[null,null,null,null,null,null,null,null,null,{"$f":"IF(H8712=Listas!$X$3,Acompanhamento!I8712,0)","v":0},{"$f":"IF(H8712=Listas!$X$4,Acompanhamento!I8712,0)","v":0},null,0,null,0,null,0,null,0]
[null,null,null,null,null,null,null,null,null,{"$f":"IF(H8713=Listas!$X$3,Acompanhamento!I8713,0)","v":0},{"$f":"IF(H8713=Listas!$X$4,Acompanhamento!I8713,0)","v":0},null,0,null,0,null,0,null,0]
[null,null,null,null,null,null,null,null,null,{"$f":"IF(H8714=Listas!$X$3,Acompanhamento!I8714,0)","v":0},{"$f":"IF(H8714=Listas!$X$4,Acompanhamento!I8714,0)","v":0},null,{"$f":"J8714-L8714","v":0},null,{"$f":"M8714-N8714","v":0},null,{"$f":"O8714-P8714","v":0},null,{"$f":"Q8714-R8714","v":0}]
[null,null,null,null,null,null,null,null,null,{"$f":"IF(H8715=Listas!$X$3,Acompanhamento!I8715,0)","v":0},{"$f":"IF(H8715=Listas!$X$4,Acompanhamento!I8715,0)","v":0},null,0,null,0,null,0,null,0]
[null,null,null,null,null,null,null,null,null,{"$f":"IF(H8716=Listas!$X$3,Acompanhamento!I8716,0)","v":0},{"$f":"IF(H8716=Listas!$X$4,Acompanhamento!I8716,0)","v":0},null,0,null,0,null,0,null,0]
[null,null,null,null,null,null,null,null,null,{"$f":"IF(H8717=Listas!$X$3,Acompanhamento!I8717,0)","v":0},{"$f":"IF(H8717=Listas!$X$4,Acompanhamento!I8717,0)","v":0},null,0,null,0,null,0,null,0]
[null,null,null,null,null,null,null,null,null,{"$f":"IF(H8718=Listas!$X$3,Acompanhamento!I8718,0)","v":0},{"$f":"IF(H8718=Listas!$X$4,Acompanhamento!I8718,0)","v":0},null,0,null,0,null,0,null,0]
[null,null,null,null,null,null,null,null,null,{"$f":"IF(H8719=Listas!$X$3,Acompanhamento!I8719,0)","v":0},{"$f":"IF(H8719=Listas!$X$4,Acompanhamento!I8719,0)","v":0},null,0,null,0,null,0,null,0]
[null,null,null,null,null,null,null,null,null,{"$f":"IF(H8720=Listas!$X$3,Acompanhamento!I8720,0)","v":0},{"$f":"IF(H8720=Listas!$X$4,Acompanhamento!I8720,0)","v":0},null,0,null,0,null,0,null,0]
[null,null,null,null,null,null,null,null,null,{"$f":"IF(H8721=Listas!$X$3,Acompanhamento!I8721,0)","v":0},{"$f":"IF(H8721=Listas!$X$4,Acompanhamento!I8721,0)","v":0},null,0,null,0,null,0,null,0]
[null,null,null,null,null,null,null,null,null,{"$f":"IF(H8722=Listas!$X$3,Acompanhamento!I8722,0)","v":0},{"$f":"IF(H8722=Listas!$X$4,Acompanhamento!I8722,0)","v":0},null,0,null,0,null,0,null,0]
[null,null,null,null,null,null,null,null,null,{"$f":"IF(H8723=Listas!$X$3,Acompanhamento!I8723,0)","v":0},{"$f":"IF(H8723=Listas!$X$4,Acompanhamento!I8723,0)","v":0},null,0,null,0,null,0,null,0]
[null,null,null,null,null,null,null,null,null,{"$f":"IF(H8724=Listas!$X$3,Acompanhamento!I8724,0)","v":0},{"$f":"IF(H8724=Listas!$X$4,Acompanhamento!I8724,0)","v":0},null,0,null,0,null,0,null,0]
[null,null,null,null,null,null,null,null,null,{"$f":"IF(H8725=Listas!$X$3,Acompanhamento!I8725,0)","v":0},{"$f":"IF(H8725=Listas!$X$4,Acompanhamento!I8725,0)","v":0},null,0,null,0,null,0,null,0]
[null,null,null,null,null,null,null,null,null,{"$f":"IF(H8726=Listas!$X$3,Acompanhamento!I8726,0)","v":0},{"$f":"IF(H8726=Listas!$X$4,Acompanhamento!I8726,0)","v":0},null,0,null,0,null,0,null,0]
[null,null,null,null,null,null,null,null,null,{"$f":"IF(H8727=Listas!$X$3,Acompanhamento!I8727,0)","v":0},{"$f":"IF(H8727=Listas!$X$4,Acompanhamento!I8727,0)","v":0},null,0,null,0,null,0,null,0]
[null,null,null,null,null,null,null,null,null,{"$f":"IF(H8728=Listas!$X$3,Acompanhamento!I8728,0)","v":0},{"$f":"IF(H8728=Listas!$X$4,Acompanhamento!I8728,0)","v":0},null,0,null,0,null,0,null,0]
[null,null,null,null,null,null,null,null,null,{"$f":"IF(H8729=Listas!$X$3,Acompanhamento!I8729,0)","v":0},{"$f":"IF(H8729=Listas!$X$4,Acompanhamento!I8729,0)","v":0},null,0,null,0,null,0,null,0]
[null,null,null,null,null,null,null,null,null,{"$f":"IF(H8730=Listas!$X$3,Acompanhamento!I8730,0)","v":0},{"$f":"IF(H8730=Listas!$X$4,Acompanhamento!I8730,0)","v":0},null,0,null,0,null,0,null,0]
[null,null,null,null,null,null,null,null,null,{"$f":"IF(H8731=Listas!$X$3,Acompanhamento!I8731,0)","v":0},{"$f":"IF(H8731=Listas!$X$4,Acompanhamento!I8731,0)","v":0},null,0,null,0,null,0,null,0]
[null,null,null,null,null,null,null,null,null,{"$f":"IF(H8732=Listas!$X$3,Acompanhamento!I8732,0)","v":0},{"$f":"IF(H8732=Listas!$X$4,Acompanhamento!I8732,0)","v":0},null,0,null,0,null,0,null,0]
[null,null,null,null,null,null,null,null,null,{"$f":"IF(H8733=Listas!$X$3,Acompanhamento!I8733,0)","v":0},{"$f":"IF(H8733=Listas!$X$4,Acompanhamento!I8733,0)","v":0},null,0,null,0,null,0,null,0]
[null,null,null,null,null,null,null,null,null,{"$f":"IF(H8734=Listas!$X$3,Acompanhamento!I8734,0)","v":0},{"$f":"IF(H8734=Listas!$X$4,Acompanhamento!I8734,0)","v":0},null,0,null,0,null,0,null,0]
[null,null,null,null,null,null,null,null,null,{"$f":"IF(H8735=Listas!$X$3,Acompanhamento!I8735,0)","v":0},{"$f":"IF(H8735=Listas!$X$4,Acompanhamento!I8735,0)","v":0},null,0,null,0,null,0,null,0]
[null,null,null,null,null,null,null,null,null,{"$f":"IF(H8736=Listas!$X$3,Acompanhamento!I8736,0)","v":0},{"$f":"IF(H8736=Listas!$X$4,Acompanhamento!I8736,0)","v":0},null,0,null,0,null,0,null,0]
[null,null,null,null,null,null,null,null,null,{"$f":"IF(H8737=Listas!$X$3,Acompanhamento!I8737,0)","v":0},{"$f":"IF(H8737=Listas!$X$4,Acompanhamento!I8737,0)","v":0},null,0,null,0,null,0,null,0]
[null,null,null,null,null,null,null,null,null,{"$f":"IF(H8738=Listas!$X$3,Acompanhamento!I8738,0)","v":0},{"$f":"IF(H8738=Listas!$X$4,Acompanhamento!I8738,0)","v":0},null,0,null,0,null,0,null,0]
[null,null,null,null,null,null,null,null,null,{"$f":"IF(H8739=Listas!$X$3,Acompanhamento!I8739,0)","v":0},{"$f":"IF(H8739=Listas!$X$4,Acompanhamento!I8739,0)","v":0},null,0,null,0,null,0,null,0]
[null,null,null,null,null,null,null,null,null,{"$f":"IF(H8740=Listas!$X$3,Acompanhamento!I8740,0)","v":0},{"$f":"IF(H8740=Listas!$X$4,Acompanhamento!I8740,0)","v":0},null,0,null,0,null,0,null,0]
[null,null,null,null,null,null,null,null,null,{"$f":"IF(H8741=Listas!$X$3,Acompanhamento!I8741,0)","v":0},{"$f":"IF(H8741=Listas!$X$4,Acompanhamento!I8741,0)","v":0},null,0,null,0,null,0,null,0]
[null,null,null,null,null,null,null,null,null,{"$f":"IF(H8742=Listas!$X$3,Acompanhamento!I8742,0)","v":0},{"$f":"IF(H8742=Listas!$X$4,Acompanhamento!I8742,0)","v":0},null,0,null,0,null,0,null,0]
[null,null,null,null,null,null,null,null,null,{"$f":"IF(H8743=Listas!$X$3,Acompanhamento!I8743,0)","v":0},{"$f":"IF(H8743=Listas!$X$4,Acompanhamento!I8743,0)","v":0},null,0,null,0,null,0,null,0]
[null,null,null,null,null,null,null,null,null,{"$f":"IF(H8744=Listas!$X$3,Acompanhamento!I8744,0)","v":0},{"$f":"IF(H8744=Listas!$X$4,Acompanhamento!I8744,0)","v":0},null,0,null,0,null,0,null,0]
[null,null,null,null,null,null,null,null,null,{"$f":"IF(H8745=Listas!$X$3,Acompanhamento!I8745,0)","v":0},{"$f":"IF(H8745=Listas!$X$4,Acompanhamento!I8745,0)","v":0},null,0,null,0,null,0,null,0]
[null,null,null,null,null,null,null,null,null,{"$f":"IF(H8746=Listas!$X$3,Acompanhamento!I8746,0)","v":0},{"$f":"IF(H8746=Listas!$X$4,Acompanhamento!I8746,0)","v":0},null,0,null,0,null,0,null,0]
[null,null,null,null,null,null,null,null,null,{"$f":"IF(H8747=Listas!$X$3,Acompanhamento!I8747,0)","v":0},{"$f":"IF(H8747=Listas!$X$4,Acompanhamento!I8747,0)","v":0},null,0,null,0,null,0,null,0]
[null,null,null,null,null,null,null,null,null,{"$f":"IF(H8748=Listas!$X$3,Acompanhamento!I8748,0)","v":0},{"$f":"IF(H8748=Listas!$X$4,Acompanhamento!I8748,0)","v":0},null,0,null,0,null,0,null,0]
[null,null,null,null,null,null,null,null,null,{"$f":"IF(H8749=Listas!$X$3,Acompanhamento!I8749,0)","v":0},{"$f":"IF(H8749=Listas!$X$4,Acompanhamento!I8749,0)","v":0},null,0,null,0,null,0,null,0]
[null,null,null,null,null,null,null,null,null,{"$f":"IF(H8750=Listas!$X$3,Acompanhamento!I8750,0)","v":0},{"$f":"IF(H8750=Listas!$X$4,Acompanhamento!I8750,0)","v":0},null,0,null,0,null,0,null,0]
[null,null,null,null,null,null,null,null,null,{"$f":"IF(H8751=Listas!$X$3,Acompanhamento!I8751,0)","v":0},{"$f":"IF(H8751=Listas!$X$4,Acompanhamento!I8751,0)","v":0},null,0,null,0,null,0,null,0]
[null,null,null,null,null,null,null,null,null,{"$f":"IF(H8752=Listas!$X$3,Acompanhamento!I8752,0)","v":0},{"$f":"IF(H8752=Listas!$X$4,Acompanhamento!I8752,0)","v":0},null,0,null,0,null,0,null,0]
[null,null,null,null,null,null,null,null,null,{"$f":"IF(H8753=Listas!$X$3,Acompanhamento!I8753,0)","v":0},{"$f":"IF(H8753=Listas!$X$4,Acompanhamento!I8753,0)","v":0},null,0,null,0,null,0,null,0]
[null,null,null,null,null,null,null,null,null,{"$f":"IF(H8754=Listas!$X$3,Acompanhamento!I8754,0)","v":0},{"$f":"IF(H8754=Listas!$X$4,Acompanhamento!I8754,0)","v":0},null,0,null,0,null,0,null,0]
[null,null,null,null,null,null,null,null,null,{"$f":"IF(H8755=Listas!$X$3,Acompanhamento!I8755,0)","v":0},{"$f":"IF(H8755=Listas!$X$4,Acompanhamento!I8755,0)","v":0},null,0,null,0,null,0,null,0]
[null,null,null,null,null,null,null,null,null,{"$f":"IF(H8756=Listas!$X$3,Acompanhamento!I8756,0)","v":0},{"$f":"IF(H8756=Listas!$X$4,Acompanhamento!I8756,0)","v":0},null,0,null,0,null,0,null,0]
[null,null,null,null,null,null,null,null,null,{"$f":"IF(H8757=Listas!$X$3,Acompanhamento!I8757,0)","v":0},{"$f":"IF(H8757=Listas!$X$4,Acompanhamento!I8757,0)","v":0},null,0,null,0,null,0,null,0]
[null,null,null,null,null,null,null,null,null,{"$f":"IF(H8758=Listas!$X$3,Acompanhamento!I8758,0)","v":0},{"$f":"IF(H8758=Listas!$X$4,Acompanhamento!I8758,0)","v":0},null,0,null,0,null,0,null,0]
[null,null,null,null,null,null,null,null,null,{"$f":"IF(H8759=Listas!$X$3,Acompanhamento!I8759,0)","v":0},{"$f":"IF(H8759=Listas!$X$4,Acompanhamento!I8759,0)","v":0},null,0,null,0,null,0,null,0]
[null,null,null,null,null,null,null,null,null,{"$f":"IF(H8760=Listas!$X$3,Acompanhamento!I8760,0)","v":0},{"$f":"IF(H8760=Listas!$X$4,Acompanhamento!I8760,0)","v":0},null,0,null,0,null,0,null,0]
[null,null,null,null,null,null,null,null,null,{"$f":"IF(H8761=Listas!$X$3,Acompanhamento!I8761,0)","v":0},{"$f":"IF(H8761=Listas!$X$4,Acompanhamento!I8761,0)","v":0},null,0,null,0,null,0,null,0]
[null,null,null,null,null,null,null,null,null,{"$f":"IF(H8762=Listas!$X$3,Acompanhamento!I8762,0)","v":0},{"$f":"IF(H8762=Listas!$X$4,Acompanhamento!I8762,0)","v":0},null,0,null,0,null,0,null,0]
[null,null,null,null,null,null,null,null,null,{"$f":"IF(H8763=Listas!$X$3,Acompanhamento!I8763,0)","v":0},{"$f":"IF(H8763=Listas!$X$4,Acompanhamento!I8763,0)","v":0},null,0,null,0,null,0,null,0]
[null,null,null,null,null,null,null,null,null,{"$f":"IF(H8764=Listas!$X$3,Acompanhamento!I8764,0)","v":0},{"$f":"IF(H8764=Listas!$X$4,Acompanhamento!I8764,0)","v":0},null,0,null,0,null,0,null,0]
[null,null,null,null,null,null,null,null,null,{"$f":"IF(H8765=Listas!$X$3,Acompanhamento!I8765,0)","v":0},{"$f":"IF(H8765=Listas!$X$4,Acompanhamento!I8765,0)","v":0},null,0,null,0,null,0,null,0]
[null,null,null,null,null,null,null,null,null,{"$f":"IF(H8766=Listas!$X$3,Acompanhamento!I8766,0)","v":0},{"$f":"IF(H8766=Listas!$X$4,Acompanhamento!I8766,0)","v":0},null,0,null,0,null,0,null,0]
[null,null,null,null,null,null,null,null,null,{"$f":"IF(H8767=Listas!$X$3,Acompanhamento!I8767,0)","v":0},{"$f":"IF(H8767=Listas!$X$4,Acompanhamento!I8767,0)","v":0},null,0,null,0,null,0,null,0]
[null,null,null,null,null,null,null,null,null,{"$f":"IF(H8768=Listas!$X$3,Acompanhamento!I8768,0)","v":0},{"$f":"IF(H8768=Listas!$X$4,Acompanhamento!I8768,0)","v":0},null,0,null,0,null,0,null,0]
[null,null,null,null,null,null,null,null,null,{"$f":"IF(H8769=Listas!$X$3,Acompanhamento!I8769,0)","v":0},{"$f":"IF(H8769=Listas!$X$4,Acompanhamento!I8769,0)","v":0},null,0,null,0,null,0,null,0]
[null,null,null,null,null,null,null,null,null,{"$f":"IF(H8770=Listas!$X$3,Acompanhamento!I8770,0)","v":0},{"$f":"IF(H8770=Listas!$X$4,Acompanhamento!I8770,0)","v":0},null,0,null,0,null,0,null,0]
[null,null,null,null,null,null,null,null,null,{"$f":"IF(H8771=Listas!$X$3,Acompanhamento!I8771,0)","v":0},{"$f":"IF(H8771=Listas!$X$4,Acompanhamento!I8771,0)","v":0},null,0,null,0,null,0,null,0]
[null,null,null,null,null,null,null,null,null,{"$f":"IF(H8772=Listas!$X$3,Acompanhamento!I8772,0)","v":0},{"$f":"IF(H8772=Listas!$X$4,Acompanhamento!I8772,0)","v":0},null,0,null,0,null,0,null,0]
[null,null,null,null,null,null,null,null,null,{"$f":"IF(H8773=Listas!$X$3,Acompanhamento!I8773,0)","v":0},{"$f":"IF(H8773=Listas!$X$4,Acompanhamento!I8773,0)","v":0},null,0,null,0,null,0,null,0]
[null,null,null,null,null,null,null,null,null,{"$f":"IF(H8774=Listas!$X$3,Acompanhamento!I8774,0)","v":0},{"$f":"IF(H8774=Listas!$X$4,Acompanhamento!I8774,0)","v":0},null,0,null,0,null,0,null,0]
[null,null,null,null,null,null,null,null,null,{"$f":"IF(H8775=Listas!$X$3,Acompanhamento!I8775,0)","v":0},{"$f":"IF(H8775=Listas!$X$4,Acompanhamento!I8775,0)","v":0},null,0,null,0,null,0,null,0]
[null,null,null,null,null,null,null,null,null,{"$f":"IF(H8776=Listas!$X$3,Acompanhamento!I8776,0)","v":0},{"$f":"IF(H8776=Listas!$X$4,Acompanhamento!I8776,0)","v":0},null,0,null,0,null,0,null,0]
[null,null,null,null,null,null,null,null,null,{"$f":"IF(H8777=Listas!$X$3,Acompanhamento!I8777,0)","v":0},{"$f":"IF(H8777=Listas!$X$4,Acompanhamento!I8777,0)","v":0},null,0,null,0,null,0,null,0]
[null,null,null,null,null,null,null,null,null,{"$f":"IF(H8778=Listas!$X$3,Acompanhamento!I8778,0)","v":0},{"$f":"IF(H8778=Listas!$X$4,Acompanhamento!I8778,0)","v":0},null,{"$f":"J8778-L8778","v":0},null,{"$f":"M8778-N8778","v":0},null,{"$f":"O8778-P8778","v":0},null,{"$f":"Q8778-R8778","v":0}]
[null,null,null,null,null,null,null,null,null,{"$f":"IF(H8779=Listas!$X$3,Acompanhamento!I8779,0)","v":0},{"$f":"IF(H8779=Listas!$X$4,Acompanhamento!I8779,0)","v":0},null,0,null,0,null,0,null,0]
[null,null,null,null,null,null,null,null,null,{"$f":"IF(H8780=Listas!$X$3,Acompanhamento!I8780,0)","v":0},{"$f":"IF(H8780=Listas!$X$4,Acompanhamento!I8780,0)","v":0},null,0,null,0,null,0,null,0]
[null,null,null,null,null,null,null,null,null,{"$f":"IF(H8781=Listas!$X$3,Acompanhamento!I8781,0)","v":0},{"$f":"IF(H8781=Listas!$X$4,Acompanhamento!I8781,0)","v":0},null,0,null,0,null,0,null,0]
[null,null,null,null,null,null,null,null,null,{"$f":"IF(H8782=Listas!$X$3,Acompanhamento!I8782,0)","v":0},{"$f":"IF(H8782=Listas!$X$4,Acompanhamento!I8782,0)","v":0},null,0,null,0,null,0,null,0]
[null,null,null,null,null,null,null,null,null,{"$f":"IF(H8783=Listas!$X$3,Acompanhamento!I8783,0)","v":0},{"$f":"IF(H8783=Listas!$X$4,Acompanhamento!I8783,0)","v":0},null,0,null,0,null,0,null,0]
[null,null,null,null,null,null,null,null,null,{"$f":"IF(H8784=Listas!$X$3,Acompanhamento!I8784,0)","v":0},{"$f":"IF(H8784=Listas!$X$4,Acompanhamento!I8784,0)","v":0},null,0,null,0,null,0,null,0]
[null,null,null,null,null,null,null,null,null,{"$f":"IF(H8785=Listas!$X$3,Acompanhamento!I8785,0)","v":0},{"$f":"IF(H8785=Listas!$X$4,Acompanhamento!I8785,0)","v":0},null,0,null,0,null,0,null,0]
[null,null,null,null,null,null,null,null,null,{"$f":"IF(H8786=Listas!$X$3,Acompanhamento!I8786,0)","v":0},{"$f":"IF(H8786=Listas!$X$4,Acompanhamento!I8786,0)","v":0},null,0,null,0,null,0,null,0]
[null,null,null,null,null,null,null,null,null,{"$f":"IF(H8787=Listas!$X$3,Acompanhamento!I8787,0)","v":0},{"$f":"IF(H8787=Listas!$X$4,Acompanhamento!I8787,0)","v":0},null,0,null,0,null,0,null,0]
[null,null,null,null,null,null,null,null,null,{"$f":"IF(H8788=Listas!$X$3,Acompanhamento!I8788,0)","v":0},{"$f":"IF(H8788=Listas!$X$4,Acompanhamento!I8788,0)","v":0},null,0,null,0,null,0,null,0]
[null,null,null,null,null,null,null,null,null,{"$f":"IF(H8789=Listas!$X$3,Acompanhamento!I8789,0)","v":0},{"$f":"IF(H8789=Listas!$X$4,Acompanhamento!I8789,0)","v":0},null,0,null,0,null,0,null,0]
[null,null,null,null,null,null,null,null,null,{"$f":"IF(H8790=Listas!$X$3,Acompanhamento!I8790,0)","v":0},{"$f":"IF(H8790=Listas!$X$4,Acompanhamento!I8790,0)","v":0},null,0,null,0,null,0,null,0]
[null,null,null,null,null,null,null,null,null,{"$f":"IF(H8791=Listas!$X$3,Acompanhamento!I8791,0)","v":0},{"$f":"IF(H8791=Listas!$X$4,Acompanhamento!I8791,0)","v":0},null,0,null,0,null,0,null,0]
[null,null,null,null,null,null,null,null,null,{"$f":"IF(H8792=Listas!$X$3,Acompanhamento!I8792,0)","v":0},{"$f":"IF(H8792=Listas!$X$4,Acompanhamento!I8792,0)","v":0},null,0,null,0,null,0,null,0]
[null,null,null,null,null,null,null,null,null,{"$f":"IF(H8793=Listas!$X$3,Acompanhamento!I8793,0)","v":0},{"$f":"IF(H8793=Listas!$X$4,Acompanhamento!I8793,0)","v":0},null,0,null,0,null,0,null,0]
[null,null,null,null,null,null,null,null,null,{"$f":"IF(H8794=Listas!$X$3,Acompanhamento!I8794,0)","v":0},{"$f":"IF(H8794=Listas!$X$4,Acompanhamento!I8794,0)","v":0},null,0,null,0,null,0,null,0]
[null,null,null,null,null,null,null,null,null,{"$f":"IF(H8795=Listas!$X$3,Acompanhamento!I8795,0)","v":0},{"$f":"IF(H8795=Listas!$X$4,Acompanhamento!I8795,0)","v":0},null,0,null,0,null,0,null,0]
[null,null,null,null,null,null,null,null,null,{"$f":"IF(H8796=Listas!$X$3,Acompanhamento!I8796,0)","v":0},{"$f":"IF(H8796=Listas!$X$4,Acompanhamento!I8796,0)","v":0},null,0,null,0,null,0,null,0]
[null,null,null,null,null,null,null,null,null,{"$f":"IF(H8797=Listas!$X$3,Acompanhamento!I8797,0)","v":0},{"$f":"IF(H8797=Listas!$X$4,Acompanhamento!I8797,0)","v":0},null,0,null,0,null,0,null,0]
[null,null,null,null,null,null,null,null,null,{"$f":"IF(H8798=Listas!$X$3,Acompanhamento!I8798,0)","v":0},{"$f":"IF(H8798=Listas!$X$4,Acompanhamento!I8798,0)","v":0},null,0,null,0,null,0,null,0]
[null,null,null,null,null,null,null,null,null,{"$f":"IF(H8799=Listas!$X$3,Acompanhamento!I8799,0)","v":0},{"$f":"IF(H8799=Listas!$X$4,Acompanhamento!I8799,0)","v":0},null,0,null,0,null,0,null,0]
[null,null,null,null,null,null,null,null,null,{"$f":"IF(H8800=Listas!$X$3,Acompanhamento!I8800,0)","v":0},{"$f":"IF(H8800=Listas!$X$4,Acompanhamento!I8800,0)","v":0},null,0,null,0,null,0,null,0]
[null,null,null,null,null,null,null,null,null,{"$f":"IF(H8801=Listas!$X$3,Acompanhamento!I8801,0)","v":0},{"$f":"IF(H8801=Listas!$X$4,Acompanhamento!I8801,0)","v":0},null,0,null,0,null,0,null,0]
[null,null,null,null,null,null,null,null,null,{"$f":"IF(H8802=Listas!$X$3,Acompanhamento!I8802,0)","v":0},{"$f":"IF(H8802=Listas!$X$4,Acompanhamento!I8802,0)","v":0},null,0,null,0,null,0,null,0]
[null,null,null,null,null,null,null,null,null,{"$f":"IF(H8803=Listas!$X$3,Acompanhamento!I8803,0)","v":0},{"$f":"IF(H8803=Listas!$X$4,Acompanhamento!I8803,0)","v":0},null,0,null,0,null,0,null,0]
[null,null,null,null,null,null,null,null,null,{"$f":"IF(H8804=Listas!$X$3,Acompanhamento!I8804,0)","v":0},{"$f":"IF(H8804=Listas!$X$4,Acompanhamento!I8804,0)","v":0},null,0,null,0,null,0,null,0]
[null,null,null,null,null,null,null,null,null,{"$f":"IF(H8805=Listas!$X$3,Acompanhamento!I8805,0)","v":0},{"$f":"IF(H8805=Listas!$X$4,Acompanhamento!I8805,0)","v":0},null,0,null,0,null,0,null,0]
[null,null,null,null,null,null,null,null,null,{"$f":"IF(H8806=Listas!$X$3,Acompanhamento!I8806,0)","v":0},{"$f":"IF(H8806=Listas!$X$4,Acompanhamento!I8806,0)","v":0},null,0,null,0,null,0,null,0]
[null,null,null,null,null,null,null,null,null,{"$f":"IF(H8807=Listas!$X$3,Acompanhamento!I8807,0)","v":0},{"$f":"IF(H8807=Listas!$X$4,Acompanhamento!I8807,0)","v":0},null,0,null,0,null,0,null,0]
[null,null,null,null,null,null,null,null,null,{"$f":"IF(H8808=Listas!$X$3,Acompanhamento!I8808,0)","v":0},{"$f":"IF(H8808=Listas!$X$4,Acompanhamento!I8808,0)","v":0},null,0,null,0,null,0,null,0]
[null,null,null,null,null,null,null,null,null,{"$f":"IF(H8809=Listas!$X$3,Acompanhamento!I8809,0)","v":0},{"$f":"IF(H8809=Listas!$X$4,Acompanhamento!I8809,0)","v":0},null,0,null,0,null,0,null,0]
[null,null,null,null,null,null,null,null,null,{"$f":"IF(H8810=Listas!$X$3,Acompanhamento!I8810,0)","v":0},{"$f":"IF(H8810=Listas!$X$4,Acompanhamento!I8810,0)","v":0},null,0,null,0,null,0,null,0]
[null,null,null,null,null,null,null,null,null,{"$f":"IF(H8811=Listas!$X$3,Acompanhamento!I8811,0)","v":0},{"$f":"IF(H8811=Listas!$X$4,Acompanhamento!I8811,0)","v":0},null,0,null,0,null,0,null,0]
[null,null,null,null,null,null,null,null,null,{"$f":"IF(H8812=Listas!$X$3,Acompanhamento!I8812,0)","v":0},{"$f":"IF(H8812=Listas!$X$4,Acompanhamento!I8812,0)","v":0},null,0,null,0,null,0,null,0]
[null,null,null,null,null,null,null,null,null,{"$f":"IF(H8813=Listas!$X$3,Acompanhamento!I8813,0)","v":0},{"$f":"IF(H8813=Listas!$X$4,Acompanhamento!I8813,0)","v":0},null,0,null,0,null,0,null,0]
[null,null,null,null,null,null,null,null,null,{"$f":"IF(H8814=Listas!$X$3,Acompanhamento!I8814,0)","v":0},{"$f":"IF(H8814=Listas!$X$4,Acompanhamento!I8814,0)","v":0},null,0,null,0,null,0,null,0]
[null,null,null,null,null,null,null,null,null,{"$f":"IF(H8815=Listas!$X$3,Acompanhamento!I8815,0)","v":0},{"$f":"IF(H8815=Listas!$X$4,Acompanhamento!I8815,0)","v":0},null,0,null,0,null,0,null,0]
[null,null,null,null,null,null,null,null,null,{"$f":"IF(H8816=Listas!$X$3,Acompanhamento!I8816,0)","v":0},{"$f":"IF(H8816=Listas!$X$4,Acompanhamento!I8816,0)","v":0},null,0,null,0,null,0,null,0]
[null,null,null,null,null,null,null,null,null,{"$f":"IF(H8817=Listas!$X$3,Acompanhamento!I8817,0)","v":0},{"$f":"IF(H8817=Listas!$X$4,Acompanhamento!I8817,0)","v":0},null,0,null,0,null,0,null,0]
[null,null,null,null,null,null,null,null,null,{"$f":"IF(H8818=Listas!$X$3,Acompanhamento!I8818,0)","v":0},{"$f":"IF(H8818=Listas!$X$4,Acompanhamento!I8818,0)","v":0},null,0,null,0,null,0,null,0]
[null,null,null,null,null,null,null,null,null,{"$f":"IF(H8819=Listas!$X$3,Acompanhamento!I8819,0)","v":0},{"$f":"IF(H8819=Listas!$X$4,Acompanhamento!I8819,0)","v":0},null,0,null,0,null,0,null,0]
[null,null,null,null,null,null,null,null,null,{"$f":"IF(H8820=Listas!$X$3,Acompanhamento!I8820,0)","v":0},{"$f":"IF(H8820=Listas!$X$4,Acompanhamento!I8820,0)","v":0},null,0,null,0,null,0,null,0]
[null,null,null,null,null,null,null,null,null,{"$f":"IF(H8821=Listas!$X$3,Acompanhamento!I8821,0)","v":0},{"$f":"IF(H8821=Listas!$X$4,Acompanhamento!I8821,0)","v":0},null,0,null,0,null,0,null,0]
[null,null,null,null,null,null,null,null,null,{"$f":"IF(H8822=Listas!$X$3,Acompanhamento!I8822,0)","v":0},{"$f":"IF(H8822=Listas!$X$4,Acompanhamento!I8822,0)","v":0},null,0,null,0,null,0,null,0]
[null,null,null,null,null,null,null,null,null,{"$f":"IF(H8823=Listas!$X$3,Acompanhamento!I8823,0)","v":0},{"$f":"IF(H8823=Listas!$X$4,Acompanhamento!I8823,0)","v":0},null,0,null,0,null,0,null,0]
[null,null,null,null,null,null,null,null,null,{"$f":"IF(H8824=Listas!$X$3,Acompanhamento!I8824,0)","v":0},{"$f":"IF(H8824=Listas!$X$4,Acompanhamento!I8824,0)","v":0},null,0,null,0,null,0,null,0]
[null,null,null,null,null,null,null,null,null,{"$f":"IF(H8825=Listas!$X$3,Acompanhamento!I8825,0)","v":0},{"$f":"IF(H8825=Listas!$X$4,Acompanhamento!I8825,0)","v":0},null,0,null,0,null,0,null,0]
[null,null,null,null,null,null,null,null,null,{"$f":"IF(H8826=Listas!$X$3,Acompanhamento!I8826,0)","v":0},{"$f":"IF(H8826=Listas!$X$4,Acompanhamento!I8826,0)","v":0},null,0,null,0,null,0,null,0]
[null,null,null,null,null,null,null,null,null,{"$f":"IF(H8827=Listas!$X$3,Acompanhamento!I8827,0)","v":0},{"$f":"IF(H8827=Listas!$X$4,Acompanhamento!I8827,0)","v":0},null,0,null,0,null,0,null,0]
[null,null,null,null,null,null,null,null,null,{"$f":"IF(H8828=Listas!$X$3,Acompanhamento!I8828,0)","v":0},{"$f":"IF(H8828=Listas!$X$4,Acompanhamento!I8828,0)","v":0},null,0,null,0,null,0,null,0]
[null,null,null,null,null,null,null,null,null,{"$f":"IF(H8829=Listas!$X$3,Acompanhamento!I8829,0)","v":0},{"$f":"IF(H8829=Listas!$X$4,Acompanhamento!I8829,0)","v":0},null,0,null,0,null,0,null,0]
[null,null,null,null,null,null,null,null,null,{"$f":"IF(H8830=Listas!$X$3,Acompanhamento!I8830,0)","v":0},{"$f":"IF(H8830=Listas!$X$4,Acompanhamento!I8830,0)","v":0},null,0,null,0,null,0,null,0]
[null,null,null,null,null,null,null,null,null,{"$f":"IF(H8831=Listas!$X$3,Acompanhamento!I8831,0)","v":0},{"$f":"IF(H8831=Listas!$X$4,Acompanhamento!I8831,0)","v":0},null,0,null,0,null,0,null,0]
[null,null,null,null,null,null,null,null,null,{"$f":"IF(H8832=Listas!$X$3,Acompanhamento!I8832,0)","v":0},{"$f":"IF(H8832=Listas!$X$4,Acompanhamento!I8832,0)","v":0},null,0,null,0,null,0,null,0]
[null,null,null,null,null,null,null,null,null,{"$f":"IF(H8833=Listas!$X$3,Acompanhamento!I8833,0)","v":0},{"$f":"IF(H8833=Listas!$X$4,Acompanhamento!I8833,0)","v":0},null,0,null,0,null,0,null,0]
[null,null,null,null,null,null,null,null,null,{"$f":"IF(H8834=Listas!$X$3,Acompanhamento!I8834,0)","v":0},{"$f":"IF(H8834=Listas!$X$4,Acompanhamento!I8834,0)","v":0},null,0,null,0,null,0,null,0]
[null,null,null,null,null,null,null,null,null,{"$f":"IF(H8835=Listas!$X$3,Acompanhamento!I8835,0)","v":0},{"$f":"IF(H8835=Listas!$X$4,Acompanhamento!I8835,0)","v":0},null,0,null,0,null,0,null,0]
[null,null,null,null,null,null,null,null,null,{"$f":"IF(H8836=Listas!$X$3,Acompanhamento!I8836,0)","v":0},{"$f":"IF(H8836=Listas!$X$4,Acompanhamento!I8836,0)","v":0},null,0,null,0,null,0,null,0]
[null,null,null,null,null,null,null,null,null,{"$f":"IF(H8837=Listas!$X$3,Acompanhamento!I8837,0)","v":0},{"$f":"IF(H8837=Listas!$X$4,Acompanhamento!I8837,0)","v":0},null,0,null,0,null,0,null,0]
[null,null,null,null,null,null,null,null,null,{"$f":"IF(H8838=Listas!$X$3,Acompanhamento!I8838,0)","v":0},{"$f":"IF(H8838=Listas!$X$4,Acompanhamento!I8838,0)","v":0},null,0,null,0,null,0,null,0]
[null,null,null,null,null,null,null,null,null,{"$f":"IF(H8839=Listas!$X$3,Acompanhamento!I8839,0)","v":0},{"$f":"IF(H8839=Listas!$X$4,Acompanhamento!I8839,0)","v":0},null,0,null,0,null,0,null,0]
[null,null,null,null,null,null,null,null,null,{"$f":"IF(H8840=Listas!$X$3,Acompanhamento!I8840,0)","v":0},{"$f":"IF(H8840=Listas!$X$4,Acompanhamento!I8840,0)","v":0},null,0,null,0,null,0,null,0]
[null,null,null,null,null,null,null,null,null,{"$f":"IF(H8841=Listas!$X$3,Acompanhamento!I8841,0)","v":0},{"$f":"IF(H8841=Listas!$X$4,Acompanhamento!I8841,0)","v":0},null,0,null,0,null,0,null,0]
[null,null,null,null,null,null,null,null,null,{"$f":"IF(H8842=Listas!$X$3,Acompanhamento!I8842,0)","v":0},{"$f":"IF(H8842=Listas!$X$4,Acompanhamento!I8842,0)","v":0},null,{"$f":"J8842-L8842","v":0},null,{"$f":"M8842-N8842","v":0},null,{"$f":"O8842-P8842","v":0},null,{"$f":"Q8842-R8842","v":0}]
[null,null,null,null,null,null,null,null,null,{"$f":"IF(H8843=Listas!$X$3,Acompanhamento!I8843,0)","v":0},{"$f":"IF(H8843=Listas!$X$4,Acompanhamento!I8843,0)","v":0},null,0,null,0,null,0,null,0]
[null,null,null,null,null,null,null,null,null,{"$f":"IF(H8844=Listas!$X$3,Acompanhamento!I8844,0)","v":0},{"$f":"IF(H8844=Listas!$X$4,Acompanhamento!I8844,0)","v":0},null,0,null,0,null,0,null,0]
[null,null,null,null,null,null,null,null,null,{"$f":"IF(H8845=Listas!$X$3,Acompanhamento!I8845,0)","v":0},{"$f":"IF(H8845=Listas!$X$4,Acompanhamento!I8845,0)","v":0},null,0,null,0,null,0,null,0]
[null,null,null,null,null,null,null,null,null,{"$f":"IF(H8846=Listas!$X$3,Acompanhamento!I8846,0)","v":0},{"$f":"IF(H8846=Listas!$X$4,Acompanhamento!I8846,0)","v":0},null,0,null,0,null,0,null,0]
[null,null,null,null,null,null,null,null,null,{"$f":"IF(H8847=Listas!$X$3,Acompanhamento!I8847,0)","v":0},{"$f":"IF(H8847=Listas!$X$4,Acompanhamento!I8847,0)","v":0},null,0,null,0,null,0,null,0]
[null,null,null,null,null,null,null,null,null,{"$f":"IF(H8848=Listas!$X$3,Acompanhamento!I8848,0)","v":0},{"$f":"IF(H8848=Listas!$X$4,Acompanhamento!I8848,0)","v":0},null,0,null,0,null,0,null,0]
[null,null,null,null,null,null,null,null,null,{"$f":"IF(H8849=Listas!$X$3,Acompanhamento!I8849,0)","v":0},{"$f":"IF(H8849=Listas!$X$4,Acompanhamento!I8849,0)","v":0},null,0,null,0,null,0,null,0]
[null,null,null,null,null,null,null,null,null,{"$f":"IF(H8850=Listas!$X$3,Acompanhamento!I8850,0)","v":0},{"$f":"IF(H8850=Listas!$X$4,Acompanhamento!I8850,0)","v":0},null,0,null,0,null,0,null,0]
[null,null,null,null,null,null,null,null,null,{"$f":"IF(H8851=Listas!$X$3,Acompanhamento!I8851,0)","v":0},{"$f":"IF(H8851=Listas!$X$4,Acompanhamento!I8851,0)","v":0},null,0,null,0,null,0,null,0]
[null,null,null,null,null,null,null,null,null,{"$f":"IF(H8852=Listas!$X$3,Acompanhamento!I8852,0)","v":0},{"$f":"IF(H8852=Listas!$X$4,Acompanhamento!I8852,0)","v":0},null,0,null,0,null,0,null,0]
[null,null,null,null,null,null,null,null,null,{"$f":"IF(H8853=Listas!$X$3,Acompanhamento!I8853,0)","v":0},{"$f":"IF(H8853=Listas!$X$4,Acompanhamento!I8853,0)","v":0},null,0,null,0,null,0,null,0]
[null,null,null,null,null,null,null,null,null,{"$f":"IF(H8854=Listas!$X$3,Acompanhamento!I8854,0)","v":0},{"$f":"IF(H8854=Listas!$X$4,Acompanhamento!I8854,0)","v":0},null,0,null,0,null,0,null,0]
[null,null,null,null,null,null,null,null,null,{"$f":"IF(H8855=Listas!$X$3,Acompanhamento!I8855,0)","v":0},{"$f":"IF(H8855=Listas!$X$4,Acompanhamento!I8855,0)","v":0},null,0,null,0,null,0,null,0]
[null,null,null,null,null,null,null,null,null,{"$f":"IF(H8856=Listas!$X$3,Acompanhamento!I8856,0)","v":0},{"$f":"IF(H8856=Listas!$X$4,Acompanhamento!I8856,0)","v":0},null,0,null,0,null,0,null,0]
[null,null,null,null,null,null,null,null,null,{"$f":"IF(H8857=Listas!$X$3,Acompanhamento!I8857,0)","v":0},{"$f":"IF(H8857=Listas!$X$4,Acompanhamento!I8857,0)","v":0},null,0,null,0,null,0,null,0]
[null,null,null,null,null,null,null,null,null,{"$f":"IF(H8858=Listas!$X$3,Acompanhamento!I8858,0)","v":0},{"$f":"IF(H8858=Listas!$X$4,Acompanhamento!I8858,0)","v":0},null,0,null,0,null,0,null,0]
[null,null,null,null,null,null,null,null,null,{"$f":"IF(H8859=Listas!$X$3,Acompanhamento!I8859,0)","v":0},{"$f":"IF(H8859=Listas!$X$4,Acompanhamento!I8859,0)","v":0},null,0,null,0,null,0,null,0]
[null,null,null,null,null,null,null,null,null,{"$f":"IF(H8860=Listas!$X$3,Acompanhamento!I8860,0)","v":0},{"$f":"IF(H8860=Listas!$X$4,Acompanhamento!I8860,0)","v":0},null,0,null,0,null,0,null,0]
[null,null,null,null,null,null,null,null,null,{"$f":"IF(H8861=Listas!$X$3,Acompanhamento!I8861,0)","v":0},{"$f":"IF(H8861=Listas!$X$4,Acompanhamento!I8861,0)","v":0},null,0,null,0,null,0,null,0]
[null,null,null,null,null,null,null,null,null,{"$f":"IF(H8862=Listas!$X$3,Acompanhamento!I8862,0)","v":0},{"$f":"IF(H8862=Listas!$X$4,Acompanhamento!I8862,0)","v":0},null,0,null,0,null,0,null,0]
[null,null,null,null,null,null,null,null,null,{"$f":"IF(H8863=Listas!$X$3,Acompanhamento!I8863,0)","v":0},{"$f":"IF(H8863=Listas!$X$4,Acompanhamento!I8863,0)","v":0},null,0,null,0,null,0,null,0]
[null,null,null,null,null,null,null,null,null,{"$f":"IF(H8864=Listas!$X$3,Acompanhamento!I8864,0)","v":0},{"$f":"IF(H8864=Listas!$X$4,Acompanhamento!I8864,0)","v":0},null,0,null,0,null,0,null,0]
[null,null,null,null,null,null,null,null,null,{"$f":"IF(H8865=Listas!$X$3,Acompanhamento!I8865,0)","v":0},{"$f":"IF(H8865=Listas!$X$4,Acompanhamento!I8865,0)","v":0},null,0,null,0,null,0,null,0]
[null,null,null,null,null,null,null,null,null,{"$f":"IF(H8866=Listas!$X$3,Acompanhamento!I8866,0)","v":0},{"$f":"IF(H8866=Listas!$X$4,Acompanhamento!I8866,0)","v":0},null,0,null,0,null,0,null,0]
[null,null,null,null,null,null,null,null,null,{"$f":"IF(H8867=Listas!$X$3,Acompanhamento!I8867,0)","v":0},{"$f":"IF(H8867=Listas!$X$4,Acompanhamento!I8867,0)","v":0},null,0,null,0,null,0,null,0]
[null,null,null,null,null,null,null,null,null,{"$f":"IF(H8868=Listas!$X$3,Acompanhamento!I8868,0)","v":0},{"$f":"IF(H8868=Listas!$X$4,Acompanhamento!I8868,0)","v":0},null,0,null,0,null,0,null,0]
[null,null,null,null,null,null,null,null,null,{"$f":"IF(H8869=Listas!$X$3,Acompanhamento!I8869,0)","v":0},{"$f":"IF(H8869=Listas!$X$4,Acompanhamento!I8869,0)","v":0},null,0,null,0,null,0,null,0]
[null,null,null,null,null,null,null,null,null,{"$f":"IF(H8870=Listas!$X$3,Acompanhamento!I8870,0)","v":0},{"$f":"IF(H8870=Listas!$X$4,Acompanhamento!I8870,0)","v":0},null,0,null,0,null,0,null,0]
[null,null,null,null,null,null,null,null,null,{"$f":"IF(H8871=Listas!$X$3,Acompanhamento!I8871,0)","v":0},{"$f":"IF(H8871=Listas!$X$4,Acompanhamento!I8871,0)","v":0},null,0,null,0,null,0,null,0]
[null,null,null,null,null,null,null,null,null,{"$f":"IF(H8872=Listas!$X$3,Acompanhamento!I8872,0)","v":0},{"$f":"IF(H8872=Listas!$X$4,Acompanhamento!I8872,0)","v":0},null,0,null,0,null,0,null,0]
[null,null,null,null,null,null,null,null,null,{"$f":"IF(H8873=Listas!$X$3,Acompanhamento!I8873,0)","v":0},{"$f":"IF(H8873=Listas!$X$4,Acompanhamento!I8873,0)","v":0},null,0,null,0,null,0,null,0]
[null,null,null,null,null,null,null,null,null,{"$f":"IF(H8874=Listas!$X$3,Acompanhamento!I8874,0)","v":0},{"$f":"IF(H8874=Listas!$X$4,Acompanhamento!I8874,0)","v":0},null,0,null,0,null,0,null,0]
[null,null,null,null,null,null,null,null,null,{"$f":"IF(H8875=Listas!$X$3,Acompanhamento!I8875,0)","v":0},{"$f":"IF(H8875=Listas!$X$4,Acompanhamento!I8875,0)","v":0},null,0,null,0,null,0,null,0]
[null,null,null,null,null,null,null,null,null,{"$f":"IF(H8876=Listas!$X$3,Acompanhamento!I8876,0)","v":0},{"$f":"IF(H8876=Listas!$X$4,Acompanhamento!I8876,0)","v":0},null,0,null,0,null,0,null,0]
[null,null,null,null,null,null,null,null,null,{"$f":"IF(H8877=Listas!$X$3,Acompanhamento!I8877,0)","v":0},{"$f":"IF(H8877=Listas!$X$4,Acompanhamento!I8877,0)","v":0},null,0,null,0,null,0,null,0]
[null,null,null,null,null,null,null,null,null,{"$f":"IF(H8878=Listas!$X$3,Acompanhamento!I8878,0)","v":0},{"$f":"IF(H8878=Listas!$X$4,Acompanhamento!I8878,0)","v":0},null,0,null,0,null,0,null,0]
[null,null,null,null,null,null,null,null,null,{"$f":"IF(H8879=Listas!$X$3,Acompanhamento!I8879,0)","v":0},{"$f":"IF(H8879=Listas!$X$4,Acompanhamento!I8879,0)","v":0},null,0,null,0,null,0,null,0]
[null,null,null,null,null,null,null,null,null,{"$f":"IF(H8880=Listas!$X$3,Acompanhamento!I8880,0)","v":0},{"$f":"IF(H8880=Listas!$X$4,Acompanhamento!I8880,0)","v":0},null,0,null,0,null,0,null,0]
[null,null,null,null,null,null,null,null,null,{"$f":"IF(H8881=Listas!$X$3,Acompanhamento!I8881,0)","v":0},{"$f":"IF(H8881=Listas!$X$4,Acompanhamento!I8881,0)","v":0},null,0,null,0,null,0,null,0]
[null,null,null,null,null,null,null,null,null,{"$f":"IF(H8882=Listas!$X$3,Acompanhamento!I8882,0)","v":0},{"$f":"IF(H8882=Listas!$X$4,Acompanhamento!I8882,0)","v":0},null,0,null,0,null,0,null,0]
[null,null,null,null,null,null,null,null,null,{"$f":"IF(H8883=Listas!$X$3,Acompanhamento!I8883,0)","v":0},{"$f":"IF(H8883=Listas!$X$4,Acompanhamento!I8883,0)","v":0},null,0,null,0,null,0,null,0]
[null,null,null,null,null,null,null,null,null,{"$f":"IF(H8884=Listas!$X$3,Acompanhamento!I8884,0)","v":0},{"$f":"IF(H8884=Listas!$X$4,Acompanhamento!I8884,0)","v":0},null,0,null,0,null,0,null,0]
[null,null,null,null,null,null,null,null,null,{"$f":"IF(H8885=Listas!$X$3,Acompanhamento!I8885,0)","v":0},{"$f":"IF(H8885=Listas!$X$4,Acompanhamento!I8885,0)","v":0},null,0,null,0,null,0,null,0]
[null,null,null,null,null,null,null,null,null,{"$f":"IF(H8886=Listas!$X$3,Acompanhamento!I8886,0)","v":0},{"$f":"IF(H8886=Listas!$X$4,Acompanhamento!I8886,0)","v":0},null,0,null,0,null,0,null,0]
[null,null,null,null,null,null,null,null,null,{"$f":"IF(H8887=Listas!$X$3,Acompanhamento!I8887,0)","v":0},{"$f":"IF(H8887=Listas!$X$4,Acompanhamento!I8887,0)","v":0},null,0,null,0,null,0,null,0]
[null,null,null,null,null,null,null,null,null,{"$f":"IF(H8888=Listas!$X$3,Acompanhamento!I8888,0)","v":0},{"$f":"IF(H8888=Listas!$X$4,Acompanhamento!I8888,0)","v":0},null,0,null,0,null,0,null,0]
[null,null,null,null,null,null,null,null,null,{"$f":"IF(H8889=Listas!$X$3,Acompanhamento!I8889,0)","v":0},{"$f":"IF(H8889=Listas!$X$4,Acompanhamento!I8889,0)","v":0},null,0,null,0,null,0,null,0]
[null,null,null,null,null,null,null,null,null,{"$f":"IF(H8890=Listas!$X$3,Acompanhamento!I8890,0)","v":0},{"$f":"IF(H8890=Listas!$X$4,Acompanhamento!I8890,0)","v":0},null,0,null,0,null,0,null,0]
[null,null,null,null,null,null,null,null,null,{"$f":"IF(H8891=Listas!$X$3,Acompanhamento!I8891,0)","v":0},{"$f":"IF(H8891=Listas!$X$4,Acompanhamento!I8891,0)","v":0},null,0,null,0,null,0,null,0]
[null,null,null,null,null,null,null,null,null,{"$f":"IF(H8892=Listas!$X$3,Acompanhamento!I8892,0)","v":0},{"$f":"IF(H8892=Listas!$X$4,Acompanhamento!I8892,0)","v":0},null,0,null,0,null,0,null,0]
[null,null,null,null,null,null,null,null,null,{"$f":"IF(H8893=Listas!$X$3,Acompanhamento!I8893,0)","v":0},{"$f":"IF(H8893=Listas!$X$4,Acompanhamento!I8893,0)","v":0},null,0,null,0,null,0,null,0]
[null,null,null,null,null,null,null,null,null,{"$f":"IF(H8894=Listas!$X$3,Acompanhamento!I8894,0)","v":0},{"$f":"IF(H8894=Listas!$X$4,Acompanhamento!I8894,0)","v":0},null,0,null,0,null,0,null,0]
[null,null,null,null,null,null,null,null,null,{"$f":"IF(H8895=Listas!$X$3,Acompanhamento!I8895,0)","v":0},{"$f":"IF(H8895=Listas!$X$4,Acompanhamento!I8895,0)","v":0},null,0,null,0,null,0,null,0]
[null,null,null,null,null,null,null,null,null,{"$f":"IF(H8896=Listas!$X$3,Acompanhamento!I8896,0)","v":0},{"$f":"IF(H8896=Listas!$X$4,Acompanhamento!I8896,0)","v":0},null,0,null,0,null,0,null,0]
[null,null,null,null,null,null,null,null,null,{"$f":"IF(H8897=Listas!$X$3,Acompanhamento!I8897,0)","v":0},{"$f":"IF(H8897=Listas!$X$4,Acompanhamento!I8897,0)","v":0},null,0,null,0,null,0,null,0]
[null,null,null,null,null,null,null,null,null,{"$f":"IF(H8898=Listas!$X$3,Acompanhamento!I8898,0)","v":0},{"$f":"IF(H8898=Listas!$X$4,Acompanhamento!I8898,0)","v":0},null,0,null,0,null,0,null,0]
[null,null,null,null,null,null,null,null,null,{"$f":"IF(H8899=Listas!$X$3,Acompanhamento!I8899,0)","v":0},{"$f":"IF(H8899=Listas!$X$4,Acompanhamento!I8899,0)","v":0},null,0,null,0,null,0,null,0]
[null,null,null,null,null,null,null,null,null,{"$f":"IF(H8900=Listas!$X$3,Acompanhamento!I8900,0)","v":0},{"$f":"IF(H8900=Listas!$X$4,Acompanhamento!I8900,0)","v":0},null,0,null,0,null,0,null,0]
[null,null,null,null,null,null,null,null,null,{"$f":"IF(H8901=Listas!$X$3,Acompanhamento!I8901,0)","v":0},{"$f":"IF(H8901=Listas!$X$4,Acompanhamento!I8901,0)","v":0},null,0,null,0,null,0,null,0]
[null,null,null,null,null,null,null,null,null,{"$f":"IF(H8902=Listas!$X$3,Acompanhamento!I8902,0)","v":0},{"$f":"IF(H8902=Listas!$X$4,Acompanhamento!I8902,0)","v":0},null,0,null,0,null,0,null,0]
[null,null,null,null,null,null,null,null,null,{"$f":"IF(H8903=Listas!$X$3,Acompanhamento!I8903,0)","v":0},{"$f":"IF(H8903=Listas!$X$4,Acompanhamento!I8903,0)","v":0},null,0,null,0,null,0,null,0]
[null,null,null,null,null,null,null,null,null,{"$f":"IF(H8904=Listas!$X$3,Acompanhamento!I8904,0)","v":0},{"$f":"IF(H8904=Listas!$X$4,Acompanhamento!I8904,0)","v":0},null,0,null,0,null,0,null,0]
[null,null,null,null,null,null,null,null,null,{"$f":"IF(H8905=Listas!$X$3,Acompanhamento!I8905,0)","v":0},{"$f":"IF(H8905=Listas!$X$4,Acompanhamento!I8905,0)","v":0},null,0,null,0,null,0,null,0]
[null,null,null,null,null,null,null,null,null,{"$f":"IF(H8906=Listas!$X$3,Acompanhamento!I8906,0)","v":0},{"$f":"IF(H8906=Listas!$X$4,Acompanhamento!I8906,0)","v":0},null,{"$f":"J8906-L8906","v":0},null,{"$f":"M8906-N8906","v":0},null,{"$f":"O8906-P8906","v":0},null,{"$f":"Q8906-R8906","v":0}]
[null,null,null,null,null,null,null,null,null,{"$f":"IF(H8907=Listas!$X$3,Acompanhamento!I8907,0)","v":0},{"$f":"IF(H8907=Listas!$X$4,Acompanhamento!I8907,0)","v":0},null,0,null,0,null,0,null,0]
[null,null,null,null,null,null,null,null,null,{"$f":"IF(H8908=Listas!$X$3,Acompanhamento!I8908,0)","v":0},{"$f":"IF(H8908=Listas!$X$4,Acompanhamento!I8908,0)","v":0},null,0,null,0,null,0,null,0]
[null,null,null,null,null,null,null,null,null,{"$f":"IF(H8909=Listas!$X$3,Acompanhamento!I8909,0)","v":0},{"$f":"IF(H8909=Listas!$X$4,Acompanhamento!I8909,0)","v":0},null,0,null,0,null,0,null,0]
[null,null,null,null,null,null,null,null,null,{"$f":"IF(H8910=Listas!$X$3,Acompanhamento!I8910,0)","v":0},{"$f":"IF(H8910=Listas!$X$4,Acompanhamento!I8910,0)","v":0},null,0,null,0,null,0,null,0]
[null,null,null,null,null,null,null,null,null,{"$f":"IF(H8911=Listas!$X$3,Acompanhamento!I8911,0)","v":0},{"$f":"IF(H8911=Listas!$X$4,Acompanhamento!I8911,0)","v":0},null,0,null,0,null,0,null,0]
[null,null,null,null,null,null,null,null,null,{"$f":"IF(H8912=Listas!$X$3,Acompanhamento!I8912,0)","v":0},{"$f":"IF(H8912=Listas!$X$4,Acompanhamento!I8912,0)","v":0},null,0,null,0,null,0,null,0]
[null,null,null,null,null,null,null,null,null,{"$f":"IF(H8913=Listas!$X$3,Acompanhamento!I8913,0)","v":0},{"$f":"IF(H8913=Listas!$X$4,Acompanhamento!I8913,0)","v":0},null,0,null,0,null,0,null,0]
[null,null,null,null,null,null,null,null,null,{"$f":"IF(H8914=Listas!$X$3,Acompanhamento!I8914,0)","v":0},{"$f":"IF(H8914=Listas!$X$4,Acompanhamento!I8914,0)","v":0},null,0,null,0,null,0,null,0]
[null,null,null,null,null,null,null,null,null,{"$f":"IF(H8915=Listas!$X$3,Acompanhamento!I8915,0)","v":0},{"$f":"IF(H8915=Listas!$X$4,Acompanhamento!I8915,0)","v":0},null,0,null,0,null,0,null,0]
[null,null,null,null,null,null,null,null,null,{"$f":"IF(H8916=Listas!$X$3,Acompanhamento!I8916,0)","v":0},{"$f":"IF(H8916=Listas!$X$4,Acompanhamento!I8916,0)","v":0},null,0,null,0,null,0,null,0]
[null,null,null,null,null,null,null,null,null,{"$f":"IF(H8917=Listas!$X$3,Acompanhamento!I8917,0)","v":0},{"$f":"IF(H8917=Listas!$X$4,Acompanhamento!I8917,0)","v":0},null,0,null,0,null,0,null,0]
[null,null,null,null,null,null,null,null,null,{"$f":"IF(H8918=Listas!$X$3,Acompanhamento!I8918,0)","v":0},{"$f":"IF(H8918=Listas!$X$4,Acompanhamento!I8918,0)","v":0},null,0,null,0,null,0,null,0]
[null,null,null,null,null,null,null,null,null,{"$f":"IF(H8919=Listas!$X$3,Acompanhamento!I8919,0)","v":0},{"$f":"IF(H8919=Listas!$X$4,Acompanhamento!I8919,0)","v":0},null,0,null,0,null,0,null,0]
[null,null,null,null,null,null,null,null,null,{"$f":"IF(H8920=Listas!$X$3,Acompanhamento!I8920,0)","v":0},{"$f":"IF(H8920=Listas!$X$4,Acompanhamento!I8920,0)","v":0},null,0,null,0,null,0,null,0]
[null,null,null,null,null,null,null,null,null,{"$f":"IF(H8921=Listas!$X$3,Acompanhamento!I8921,0)","v":0},{"$f":"IF(H8921=Listas!$X$4,Acompanhamento!I8921,0)","v":0},null,0,null,0,null,0,null,0]
[null,null,null,null,null,null,null,null,null,{"$f":"IF(H8922=Listas!$X$3,Acompanhamento!I8922,0)","v":0},{"$f":"IF(H8922=Listas!$X$4,Acompanhamento!I8922,0)","v":0},null,0,null,0,null,0,null,0]
[null,null,null,null,null,null,null,null,null,{"$f":"IF(H8923=Listas!$X$3,Acompanhamento!I8923,0)","v":0},{"$f":"IF(H8923=Listas!$X$4,Acompanhamento!I8923,0)","v":0},null,0,null,0,null,0,null,0]
[null,null,null,null,null,null,null,null,null,{"$f":"IF(H8924=Listas!$X$3,Acompanhamento!I8924,0)","v":0},{"$f":"IF(H8924=Listas!$X$4,Acompanhamento!I8924,0)","v":0},null,0,null,0,null,0,null,0]
[null,null,null,null,null,null,null,null,null,{"$f":"IF(H8925=Listas!$X$3,Acompanhamento!I8925,0)","v":0},{"$f":"IF(H8925=Listas!$X$4,Acompanhamento!I8925,0)","v":0},null,0,null,0,null,0,null,0]
[null,null,null,null,null,null,null,null,null,{"$f":"IF(H8926=Listas!$X$3,Acompanhamento!I8926,0)","v":0},{"$f":"IF(H8926=Listas!$X$4,Acompanhamento!I8926,0)","v":0},null,0,null,0,null,0,null,0]
[null,null,null,null,null,null,null,null,null,{"$f":"IF(H8927=Listas!$X$3,Acompanhamento!I8927,0)","v":0},{"$f":"IF(H8927=Listas!$X$4,Acompanhamento!I8927,0)","v":0},null,0,null,0,null,0,null,0]
[null,null,null,null,null,null,null,null,null,{"$f":"IF(H8928=Listas!$X$3,Acompanhamento!I8928,0)","v":0},{"$f":"IF(H8928=Listas!$X$4,Acompanhamento!I8928,0)","v":0},null,0,null,0,null,0,null,0]
[null,null,null,null,null,null,null,null,null,{"$f":"IF(H8929=Listas!$X$3,Acompanhamento!I8929,0)","v":0},{"$f":"IF(H8929=Listas!$X$4,Acompanhamento!I8929,0)","v":0},null,0,null,0,null,0,null,0]
[null,null,null,null,null,null,null,null,null,{"$f":"IF(H8930=Listas!$X$3,Acompanhamento!I8930,0)","v":0},{"$f":"IF(H8930=Listas!$X$4,Acompanhamento!I8930,0)","v":0},null,0,null,0,null,0,null,0]
[null,null,null,null,null,null,null,null,null,{"$f":"IF(H8931=Listas!$X$3,Acompanhamento!I8931,0)","v":0},{"$f":"IF(H8931=Listas!$X$4,Acompanhamento!I8931,0)","v":0},null,0,null,0,null,0,null,0]
[null,null,null,null,null,null,null,null,null,{"$f":"IF(H8932=Listas!$X$3,Acompanhamento!I8932,0)","v":0},{"$f":"IF(H8932=Listas!$X$4,Acompanhamento!I8932,0)","v":0},null,0,null,0,null,0,null,0]
[null,null,null,null,null,null,null,null,null,{"$f":"IF(H8933=Listas!$X$3,Acompanhamento!I8933,0)","v":0},{"$f":"IF(H8933=Listas!$X$4,Acompanhamento!I8933,0)","v":0},null,0,null,0,null,0,null,0]
[null,null,null,null,null,null,null,null,null,{"$f":"IF(H8934=Listas!$X$3,Acompanhamento!I8934,0)","v":0},{"$f":"IF(H8934=Listas!$X$4,Acompanhamento!I8934,0)","v":0},null,0,null,0,null,0,null,0]
[null,null,null,null,null,null,null,null,null,{"$f":"IF(H8935=Listas!$X$3,Acompanhamento!I8935,0)","v":0},{"$f":"IF(H8935=Listas!$X$4,Acompanhamento!I8935,0)","v":0},null,0,null,0,null,0,null,0]
[null,null,null,null,null,null,null,null,null,{"$f":"IF(H8936=Listas!$X$3,Acompanhamento!I8936,0)","v":0},{"$f":"IF(H8936=Listas!$X$4,Acompanhamento!I8936,0)","v":0},null,0,null,0,null,0,null,0]
[null,null,null,null,null,null,null,null,null,{"$f":"IF(H8937=Listas!$X$3,Acompanhamento!I8937,0)","v":0},{"$f":"IF(H8937=Listas!$X$4,Acompanhamento!I8937,0)","v":0},null,0,null,0,null,0,null,0]
[null,null,null,null,null,null,null,null,null,{"$f":"IF(H8938=Listas!$X$3,Acompanhamento!I8938,0)","v":0},{"$f":"IF(H8938=Listas!$X$4,Acompanhamento!I8938,0)","v":0},null,0,null,0,null,0,null,0]
[null,null,null,null,null,null,null,null,null,{"$f":"IF(H8939=Listas!$X$3,Acompanhamento!I8939,0)","v":0},{"$f":"IF(H8939=Listas!$X$4,Acompanhamento!I8939,0)","v":0},null,0,null,0,null,0,null,0]
[null,null,null,null,null,null,null,null,null,{"$f":"IF(H8940=Listas!$X$3,Acompanhamento!I8940,0)","v":0},{"$f":"IF(H8940=Listas!$X$4,Acompanhamento!I8940,0)","v":0},null,0,null,0,null,0,null,0]
[null,null,null,null,null,null,null,null,null,{"$f":"IF(H8941=Listas!$X$3,Acompanhamento!I8941,0)","v":0},{"$f":"IF(H8941=Listas!$X$4,Acompanhamento!I8941,0)","v":0},null,0,null,0,null,0,null,0]
[null,null,null,null,null,null,null,null,null,{"$f":"IF(H8942=Listas!$X$3,Acompanhamento!I8942,0)","v":0},{"$f":"IF(H8942=Listas!$X$4,Acompanhamento!I8942,0)","v":0},null,0,null,0,null,0,null,0]
[null,null,null,null,null,null,null,null,null,{"$f":"IF(H8943=Listas!$X$3,Acompanhamento!I8943,0)","v":0},{"$f":"IF(H8943=Listas!$X$4,Acompanhamento!I8943,0)","v":0},null,0,null,0,null,0,null,0]
[null,null,null,null,null,null,null,null,null,{"$f":"IF(H8944=Listas!$X$3,Acompanhamento!I8944,0)","v":0},{"$f":"IF(H8944=Listas!$X$4,Acompanhamento!I8944,0)","v":0},null,0,null,0,null,0,null,0]
[null,null,null,null,null,null,null,null,null,{"$f":"IF(H8945=Listas!$X$3,Acompanhamento!I8945,0)","v":0},{"$f":"IF(H8945=Listas!$X$4,Acompanhamento!I8945,0)","v":0},null,0,null,0,null,0,null,0]
[null,null,null,null,null,null,null,null,null,{"$f":"IF(H8946=Listas!$X$3,Acompanhamento!I8946,0)","v":0},{"$f":"IF(H8946=Listas!$X$4,Acompanhamento!I8946,0)","v":0},null,0,null,0,null,0,null,0]
[null,null,null,null,null,null,null,null,null,{"$f":"IF(H8947=Listas!$X$3,Acompanhamento!I8947,0)","v":0},{"$f":"IF(H8947=Listas!$X$4,Acompanhamento!I8947,0)","v":0},null,0,null,0,null,0,null,0]
[null,null,null,null,null,null,null,null,null,{"$f":"IF(H8948=Listas!$X$3,Acompanhamento!I8948,0)","v":0},{"$f":"IF(H8948=Listas!$X$4,Acompanhamento!I8948,0)","v":0},null,0,null,0,null,0,null,0]
[null,null,null,null,null,null,null,null,null,{"$f":"IF(H8949=Listas!$X$3,Acompanhamento!I8949,0)","v":0},{"$f":"IF(H8949=Listas!$X$4,Acompanhamento!I8949,0)","v":0},null,0,null,0,null,0,null,0]
[null,null,null,null,null,null,null,null,null,{"$f":"IF(H8950=Listas!$X$3,Acompanhamento!I8950,0)","v":0},{"$f":"IF(H8950=Listas!$X$4,Acompanhamento!I8950,0)","v":0},null,0,null,0,null,0,null,0]
[null,null,null,null,null,null,null,null,null,{"$f":"IF(H8951=Listas!$X$3,Acompanhamento!I8951,0)","v":0},{"$f":"IF(H8951=Listas!$X$4,Acompanhamento!I8951,0)","v":0},null,0,null,0,null,0,null,0]
[null,null,null,null,null,null,null,null,null,{"$f":"IF(H8952=Listas!$X$3,Acompanhamento!I8952,0)","v":0},{"$f":"IF(H8952=Listas!$X$4,Acompanhamento!I8952,0)","v":0},null,0,null,0,null,0,null,0]
[null,null,null,null,null,null,null,null,null,{"$f":"IF(H8953=Listas!$X$3,Acompanhamento!I8953,0)","v":0},{"$f":"IF(H8953=Listas!$X$4,Acompanhamento!I8953,0)","v":0},null,0,null,0,null,0,null,0]
[null,null,null,null,null,null,null,null,null,{"$f":"IF(H8954=Listas!$X$3,Acompanhamento!I8954,0)","v":0},{"$f":"IF(H8954=Listas!$X$4,Acompanhamento!I8954,0)","v":0},null,0,null,0,null,0,null,0]
[null,null,null,null,null,null,null,null,null,{"$f":"IF(H8955=Listas!$X$3,Acompanhamento!I8955,0)","v":0},{"$f":"IF(H8955=Listas!$X$4,Acompanhamento!I8955,0)","v":0},null,0,null,0,null,0,null,0]
[null,null,null,null,null,null,null,null,null,{"$f":"IF(H8956=Listas!$X$3,Acompanhamento!I8956,0)","v":0},{"$f":"IF(H8956=Listas!$X$4,Acompanhamento!I8956,0)","v":0},null,0,null,0,null,0,null,0]
[null,null,null,null,null,null,null,null,null,{"$f":"IF(H8957=Listas!$X$3,Acompanhamento!I8957,0)","v":0},{"$f":"IF(H8957=Listas!$X$4,Acompanhamento!I8957,0)","v":0},null,0,null,0,null,0,null,0]
[null,null,null,null,null,null,null,null,null,{"$f":"IF(H8958=Listas!$X$3,Acompanhamento!I8958,0)","v":0},{"$f":"IF(H8958=Listas!$X$4,Acompanhamento!I8958,0)","v":0},null,0,null,0,null,0,null,0]
[null,null,null,null,null,null,null,null,null,{"$f":"IF(H8959=Listas!$X$3,Acompanhamento!I8959,0)","v":0},{"$f":"IF(H8959=Listas!$X$4,Acompanhamento!I8959,0)","v":0},null,0,null,0,null,0,null,0]
[null,null,null,null,null,null,null,null,null,{"$f":"IF(H8960=Listas!$X$3,Acompanhamento!I8960,0)","v":0},{"$f":"IF(H8960=Listas!$X$4,Acompanhamento!I8960,0)","v":0},null,0,null,0,null,0,null,0]
[null,null,null,null,null,null,null,null,null,{"$f":"IF(H8961=Listas!$X$3,Acompanhamento!I8961,0)","v":0},{"$f":"IF(H8961=Listas!$X$4,Acompanhamento!I8961,0)","v":0},null,0,null,0,null,0,null,0]
[null,null,null,null,null,null,null,null,null,{"$f":"IF(H8962=Listas!$X$3,Acompanhamento!I8962,0)","v":0},{"$f":"IF(H8962=Listas!$X$4,Acompanhamento!I8962,0)","v":0},null,0,null,0,null,0,null,0]
[null,null,null,null,null,null,null,null,null,{"$f":"IF(H8963=Listas!$X$3,Acompanhamento!I8963,0)","v":0},{"$f":"IF(H8963=Listas!$X$4,Acompanhamento!I8963,0)","v":0},null,0,null,0,null,0,null,0]
[null,null,null,null,null,null,null,null,null,{"$f":"IF(H8964=Listas!$X$3,Acompanhamento!I8964,0)","v":0},{"$f":"IF(H8964=Listas!$X$4,Acompanhamento!I8964,0)","v":0},null,0,null,0,null,0,null,0]
[null,null,null,null,null,null,null,null,null,{"$f":"IF(H8965=Listas!$X$3,Acompanhamento!I8965,0)","v":0},{"$f":"IF(H8965=Listas!$X$4,Acompanhamento!I8965,0)","v":0},null,0,null,0,null,0,null,0]
[null,null,null,null,null,null,null,null,null,{"$f":"IF(H8966=Listas!$X$3,Acompanhamento!I8966,0)","v":0},{"$f":"IF(H8966=Listas!$X$4,Acompanhamento!I8966,0)","v":0},null,0,null,0,null,0,null,0]
[null,null,null,null,null,null,null,null,null,{"$f":"IF(H8967=Listas!$X$3,Acompanhamento!I8967,0)","v":0},{"$f":"IF(H8967=Listas!$X$4,Acompanhamento!I8967,0)","v":0},null,0,null,0,null,0,null,0]
[null,null,null,null,null,null,null,null,null,{"$f":"IF(H8968=Listas!$X$3,Acompanhamento!I8968,0)","v":0},{"$f":"IF(H8968=Listas!$X$4,Acompanhamento!I8968,0)","v":0},null,0,null,0,null,0,null,0]
[null,null,null,null,null,null,null,null,null,{"$f":"IF(H8969=Listas!$X$3,Acompanhamento!I8969,0)","v":0},{"$f":"IF(H8969=Listas!$X$4,Acompanhamento!I8969,0)","v":0},null,0,null,0,null,0,null,0]
[null,null,null,null,null,null,null,null,null,{"$f":"IF(H8970=Listas!$X$3,Acompanhamento!I8970,0)","v":0},{"$f":"IF(H8970=Listas!$X$4,Acompanhamento!I8970,0)","v":0},null,{"$f":"J8970-L8970","v":0},null,{"$f":"M8970-N8970","v":0},null,{"$f":"O8970-P8970","v":0},null,{"$f":"Q8970-R8970","v":0}]
[null,null,null,null,null,null,null,null,null,{"$f":"IF(H8971=Listas!$X$3,Acompanhamento!I8971,0)","v":0},{"$f":"IF(H8971=Listas!$X$4,Acompanhamento!I8971,0)","v":0},null,0,null,0,null,0,null,0]
[null,null,null,null,null,null,null,null,null,{"$f":"IF(H8972=Listas!$X$3,Acompanhamento!I8972,0)","v":0},{"$f":"IF(H8972=Listas!$X$4,Acompanhamento!I8972,0)","v":0},null,0,null,0,null,0,null,0]
[null,null,null,null,null,null,null,null,null,{"$f":"IF(H8973=Listas!$X$3,Acompanhamento!I8973,0)","v":0},{"$f":"IF(H8973=Listas!$X$4,Acompanhamento!I8973,0)","v":0},null,0,null,0,null,0,null,0]
[null,null,null,null,null,null,null,null,null,{"$f":"IF(H8974=Listas!$X$3,Acompanhamento!I8974,0)","v":0},{"$f":"IF(H8974=Listas!$X$4,Acompanhamento!I8974,0)","v":0},null,0,null,0,null,0,null,0]
[null,null,null,null,null,null,null,null,null,{"$f":"IF(H8975=Listas!$X$3,Acompanhamento!I8975,0)","v":0},{"$f":"IF(H8975=Listas!$X$4,Acompanhamento!I8975,0)","v":0},null,0,null,0,null,0,null,0]
[null,null,null,null,null,null,null,null,null,{"$f":"IF(H8976=Listas!$X$3,Acompanhamento!I8976,0)","v":0},{"$f":"IF(H8976=Listas!$X$4,Acompanhamento!I8976,0)","v":0},null,0,null,0,null,0,null,0]
[null,null,null,null,null,null,null,null,null,{"$f":"IF(H8977=Listas!$X$3,Acompanhamento!I8977,0)","v":0},{"$f":"IF(H8977=Listas!$X$4,Acompanhamento!I8977,0)","v":0},null,0,null,0,null,0,null,0]
[null,null,null,null,null,null,null,null,null,{"$f":"IF(H8978=Listas!$X$3,Acompanhamento!I8978,0)","v":0},{"$f":"IF(H8978=Listas!$X$4,Acompanhamento!I8978,0)","v":0},null,0,null,0,null,0,null,0]
[null,null,null,null,null,null,null,null,null,{"$f":"IF(H8979=Listas!$X$3,Acompanhamento!I8979,0)","v":0},{"$f":"IF(H8979=Listas!$X$4,Acompanhamento!I8979,0)","v":0},null,0,null,0,null,0,null,0]
[null,null,null,null,null,null,null,null,null,{"$f":"IF(H8980=Listas!$X$3,Acompanhamento!I8980,0)","v":0},{"$f":"IF(H8980=Listas!$X$4,Acompanhamento!I8980,0)","v":0},null,0,null,0,null,0,null,0]
[null,null,null,null,null,null,null,null,null,{"$f":"IF(H8981=Listas!$X$3,Acompanhamento!I8981,0)","v":0},{"$f":"IF(H8981=Listas!$X$4,Acompanhamento!I8981,0)","v":0},null,0,null,0,null,0,null,0]
[null,null,null,null,null,null,null,null,null,{"$f":"IF(H8982=Listas!$X$3,Acompanhamento!I8982,0)","v":0},{"$f":"IF(H8982=Listas!$X$4,Acompanhamento!I8982,0)","v":0},null,0,null,0,null,0,null,0]
[null,null,null,null,null,null,null,null,null,{"$f":"IF(H8983=Listas!$X$3,Acompanhamento!I8983,0)","v":0},{"$f":"IF(H8983=Listas!$X$4,Acompanhamento!I8983,0)","v":0},null,0,null,0,null,0,null,0]
[null,null,null,null,null,null,null,null,null,{"$f":"IF(H8984=Listas!$X$3,Acompanhamento!I8984,0)","v":0},{"$f":"IF(H8984=Listas!$X$4,Acompanhamento!I8984,0)","v":0},null,0,null,0,null,0,null,0]
[null,null,null,null,null,null,null,null,null,{"$f":"IF(H8985=Listas!$X$3,Acompanhamento!I8985,0)","v":0},{"$f":"IF(H8985=Listas!$X$4,Acompanhamento!I8985,0)","v":0},null,0,null,0,null,0,null,0]
[null,null,null,null,null,null,null,null,null,{"$f":"IF(H8986=Listas!$X$3,Acompanhamento!I8986,0)","v":0},{"$f":"IF(H8986=Listas!$X$4,Acompanhamento!I8986,0)","v":0},null,0,null,0,null,0,null,0]
[null,null,null,null,null,null,null,null,null,{"$f":"IF(H8987=Listas!$X$3,Acompanhamento!I8987,0)","v":0},{"$f":"IF(H8987=Listas!$X$4,Acompanhamento!I8987,0)","v":0},null,0,null,0,null,0,null,0]
[null,null,null,null,null,null,null,null,null,{"$f":"IF(H8988=Listas!$X$3,Acompanhamento!I8988,0)","v":0},{"$f":"IF(H8988=Listas!$X$4,Acompanhamento!I8988,0)","v":0},null,0,null,0,null,0,null,0]
[null,null,null,null,null,null,null,null,null,{"$f":"IF(H8989=Listas!$X$3,Acompanhamento!I8989,0)","v":0},{"$f":"IF(H8989=Listas!$X$4,Acompanhamento!I8989,0)","v":0},null,0,null,0,null,0,null,0]
[null,null,null,null,null,null,null,null,null,{"$f":"IF(H8990=Listas!$X$3,Acompanhamento!I8990,0)","v":0},{"$f":"IF(H8990=Listas!$X$4,Acompanhamento!I8990,0)","v":0},null,0,null,0,null,0,null,0]
[null,null,null,null,null,null,null,null,null,{"$f":"IF(H8991=Listas!$X$3,Acompanhamento!I8991,0)","v":0},{"$f":"IF(H8991=Listas!$X$4,Acompanhamento!I8991,0)","v":0},null,0,null,0,null,0,null,0]
[null,null,null,null,null,null,null,null,null,{"$f":"IF(H8992=Listas!$X$3,Acompanhamento!I8992,0)","v":0},{"$f":"IF(H8992=Listas!$X$4,Acompanhamento!I8992,0)","v":0},null,0,null,0,null,0,null,0]
[null,null,null,null,null,null,null,null,null,{"$f":"IF(H8993=Listas!$X$3,Acompanhamento!I8993,0)","v":0},{"$f":"IF(H8993=Listas!$X$4,Acompanhamento!I8993,0)","v":0},null,0,null,0,null,0,null,0]
[null,null,null,null,null,null,null,null,null,{"$f":"IF(H8994=Listas!$X$3,Acompanhamento!I8994,0)","v":0},{"$f":"IF(H8994=Listas!$X$4,Acompanhamento!I8994,0)","v":0},null,0,null,0,null,0,null,0]
[null,null,null,null,null,null,null,null,null,{"$f":"IF(H8995=Listas!$X$3,Acompanhamento!I8995,0)","v":0},{"$f":"IF(H8995=Listas!$X$4,Acompanhamento!I8995,0)","v":0},null,0,null,0,null,0,null,0]
[null,null,null,null,null,null,null,null,null,{"$f":"IF(H8996=Listas!$X$3,Acompanhamento!I8996,0)","v":0},{"$f":"IF(H8996=Listas!$X$4,Acompanhamento!I8996,0)","v":0},null,0,null,0,null,0,null,0]
[null,null,null,null,null,null,null,null,null,{"$f":"IF(H8997=Listas!$X$3,Acompanhamento!I8997,0)","v":0},{"$f":"IF(H8997=Listas!$X$4,Acompanhamento!I8997,0)","v":0},null,0,null,0,null,0,null,0]
[null,null,null,null,null,null,null,null,null,{"$f":"IF(H8998=Listas!$X$3,Acompanhamento!I8998,0)","v":0},{"$f":"IF(H8998=Listas!$X$4,Acompanhamento!I8998,0)","v":0},null,0,null,0,null,0,null,0]
[null,null,null,null,null,null,null,null,null,{"$f":"IF(H8999=Listas!$X$3,Acompanhamento!I8999,0)","v":0},{"$f":"IF(H8999=Listas!$X$4,Acompanhamento!I8999,0)","v":0},null,0,null,0,null,0,null,0]

{"sheet":"Plan3","index":12,"n_rows":0,"n_cols":0,"rows_kept":0,"cut":false,"hidden":true,"merged":[]}